{"text_format":"1","workbook":"xlsx","n_sheets":7,"sheets":["Validation","Matrix","GDP Deflator 1960-2011","CPI 1960-2011","Update Form","Report1 - Graphs","Report2 - Scatter Plots"],"not_rendered":{"charts":2,"images":1,"macros":1,"external_links":0,"defined_names":11,"comments":1,"pivot_tables":0},"unopened":[],"bounds":{"document_bytes":16777216,"sheet_cells":100000,"rows_first":2000,"rows_last":500,"rows_between":2000,"halvings":0,"cell_chars":16384,"cell_head_chars":4096},"cells_cut":0,"cells_raw":0,"read":"whole","date_system":"1900"}

{"sheet":"Validation","index":0,"n_rows":112,"n_cols":2,"rows_kept":112,"cut":false,"hidden":true,"merged":[]}
["Cities","Categories"]
["Abidjan","Air Quality"]
["Accra","Demand"]
["Addis Ababa","Demographic"]
["Agadir","Energy"]
["Agra","Geographic"]
["Ahmedabad","Safety"]
["Algiers","Supply"]
["Almaty"]
["Amritsar"]
["Amsterdam"]
["Athens"]
["Bangalore"]
["Bangkok"]
["Barcelona"]
["Beijing"]
["Belo Horizonte"]
["Berlin"]
["Bhopal"]
["Bhuvaneshwar"]
["Bogota"]
["Bologna"]
["Budapest"]
["Buenos Aires"]
["Busan"]
["Cairo"]
["Casablanca"]
["Cebu"]
["Chandigarh"]
["Chennai"]
["Chicago"]
["Cochin"]
["Copenhagen"]
["Curitiba"]
["Dakar"]
["Danang"]
["Delhi"]
["Dubai"]
["Dublin"]
["Geneva"]
["Glasgow"]
["Guangzhou"]
["Guwahati"]
["Hamburg"]
["Hanoi"]
["Helsinki"]
["Ho Chi Minh City"]
["Hong Kong"]
["Hubli-Dharwad"]
["Hyderabad"]
["Istanbul"]
["Jaipur"]
["Jakarta"]
["Johannesburg"]
["Kanpur"]
["Kolkata"]
["Krakow"]
["Kuala Lumpur"]
["Kunming"]
["Leon"]
["Lisbon"]
["London"]
["Lyon"]
["Madrid"]
["Madurai"]
["Manchester"]
["Manila"]
["Marseille"]
["Medellin"]
["Melbourne"]
["Mexico city"]
["Milan"]
["Moscow"]
["Mumbai"]
["Munich"]
["Nagpur"]
["Nairobi"]
["Nantes"]
["New York"]
["Newcastle upon Tyne"]
["Oran"]
["Paris"]
["Patna"]
["Pune"]
["Rabat"]
["Rome"]
["Rotterdam"]
["Saint Petersburg"]
["Santiago"]
["Sao Paulo"]
["Seoul"]
["Seville"]
["Shanghai"]
["Singapore"]
["Stockholm"]
["Stuttgart"]
["Surabaya"]
["Surat"]
["Tallinn"]
["Tokyo"]
["Toronto"]
["Tunis"]
["Turin"]
["Valencia"]
["Valparaiso"]
["Vancouver"]
["Varanasi"]
["Vienna"]
["Warsaw"]
["Washington DC"]
["Wuhan"]
["Zurich"]

{"sheet":"Matrix","index":1,"n_rows":150,"n_cols":197,"rows_kept":150,"cut":false,"hidden":false,"merged":[[0,142,0,151],[1,189,1,195],[1,183,1,188],[2,180,4,180],[2,181,4,181],[2,182,4,182],[2,123,4,123],[2,151,4,151],[2,129,2,131],[3,126,3,127],[3,136,4,136],[2,149,4,149],[2,141,4,141],[2,144,4,144],[2,148,4,148],[2,145,4,145],[2,147,4,147],[2,143,4,143],[1,153,1,161],[1,179,1,182],[1,162,1,170],[1,171,1,172],[2,171,4,171],[2,172,4,172],[1,1,1,3],[2,1,4,1],[2,2,4,2],[2,3,4,3],[3,137,4,137],[2,132,3,132],[2,46,2,51],[3,47,4,47],[3,48,4,48],[3,49,4,49],[3,50,4,50],[3,51,4,51],[2,116,2,122],[3,98,3,102],[2,17,4,17],[3,28,3,29],[3,39,4,39],[2,4,3,5],[1,38,1,123],[1,124,1,131],[1,132,1,135],[1,136,1,141],[2,6,3,7],[2,18,2,25],[2,26,4,26],[2,27,4,27],[3,18,4,18],[3,70,4,70],[3,114,3,115],[2,98,2,115],[3,23,3,24],[3,31,4,31],[3,15,4,15],[3,20,4,20],[2,16,4,16],[3,36,4,36],[3,33,4,33],[3,42,4,42],[3,46,4,46],[3,44,4,44],[2,38,4,38],[3,68,4,68],[3,66,4,66],[3,69,4,69],[3,61,4,61],[3,65,4,65],[3,110,3,113],[3,63,4,63],[2,10,3,11],[2,196,4,196],[2,187,4,187],[2,188,4,188],[2,183,4,183],[2,184,4,184],[2,185,4,185],[2,186,4,186],[2,174,4,174],[2,176,4,176],[2,179,4,179],[2,161,4,161],[2,177,4,177],[2,155,4,155],[2,156,4,156],[2,159,4,159],[3,43,4,43],[3,45,4,45],[2,39,2,45],[2,146,4,146],[2,150,4,150],[2,64,2,70],[2,173,4,173],[2,170,4,170],[1,4,1,12],[2,12,3,12],[3,52,3,56],[3,34,4,34],[2,133,3,135],[3,73,4,73],[3,74,4,74],[3,121,4,121],[3,129,3,130],[3,30,4,30],[3,22,4,22],[3,76,4,76],[3,77,4,77],[2,28,2,37],[3,37,4,37],[3,40,4,40],[2,13,4,13],[3,14,4,14],[3,60,4,60],[2,8,3,9],[2,14,2,15],[3,41,4,41],[3,57,4,57],[3,62,4,62],[1,173,1,178],[2,178,4,178],[2,167,4,167],[2,162,4,162],[2,163,4,163],[2,164,4,164],[2,165,4,165],[2,166,4,166],[2,169,4,169],[2,175,4,175],[2,158,4,158],[2,160,4,160],[3,140,4,140],[3,120,4,120],[3,71,4,71],[3,72,4,72],[1,13,1,37],[3,119,4,119],[3,103,3,109],[3,58,4,58],[3,19,4,19],[3,21,4,21],[3,35,4,35],[3,64,4,64],[3,67,4,67],[3,118,4,118],[2,78,2,97],[3,78,3,84],[3,116,4,116],[2,71,2,77],[3,25,4,25],[3,32,4,32],[3,75,4,75],[3,117,4,117],[2,157,4,157],[2,52,2,63],[3,59,4,59],[3,194,4,194],[2,189,2,195],[3,122,4,122],[3,189,4,189],[3,190,4,190],[3,191,4,191],[3,192,4,192],[3,193,4,193],[3,85,3,91],[3,92,3,95],[3,96,3,97],[3,195,4,195],[3,138,4,138],[2,168,4,168],[2,124,2,125],[2,126,2,128],[2,153,4,153],[2,154,4,154],[2,142,4,142],[3,139,4,139],[2,136,2,140]]}
[null,null,null,null,null,null,null,null,null,null,null,null,null,null,null,null,null,null,null,null,null,null,null,null,null,null,null,null,null,null,null,null,null,null,null,null,null,null,null,null,null,null,null,null,null,null,null,null,null,null,null,null,null,null,null,null,null,null,null,null,null,null,null,null,null,null,null,null,null,null,null,null,null,null,null,null,null,null,null,null,null,null,null,null,null,null,null,null,null,null,null,null,null,null,null,null,null,null,null,null,null,null,null,null,null,null,null,null,null,null,null,null,null,null,null,null,null,null,null,null,null,null,null,null,null,null,null,null,null,null,null,null,null,null,null,null,null,null,null,null,null,null,"Macroeconomic Indicators"]
[null,"Geographic",null,null,"Demographic",null,null,null,null,null,null,null,null,"Demand",null,null,null,null,null,null,null,null,null,null,null,null,null,null,null,null,null,null,null,null,null,null,null,null,"Supply",null,null,null,null,null,null,null,null,null,null,null,null,null,null,null,null,null,null,null,null,null,null,null,null,null,null,null,null,null,null,null,null,null,null,null,null,null,null,null,null,null,null,null,null,null,null,null,null,null,null,null,null,null,null,null,null,null,null,null,null,null,null,null,null,null,null,null,null,null,null,null,null,null,null,null,null,null,null,null,null,null,null,null,null,null,"Energy",null,null,null,null,null,null,null,"Safety",null,null,null,"Air Quality",null,null,null,null,null,null,null,null,null,null,null,null,null,null,null,null,"Supply of Vehicles and Road",null,null,null,null,null,null,null,null,"Affordability",null,null,null,null,null,null,null,null,"Travel Distance and Time",null,"Mass Transit Supply and Use",null,null,null,null,null,"Safety",null,null,null,"Air Quality and Energy Use",null,null,null,null,null,"Fares"]
[null,"CITY","Country","Region","Population (City)",null,"Population (Metropolitan Area) ",null,"Municipal area (City) Km2",null,"Urbanized Area (Metropolitan Area)",null,"Population Density","Number of people employed","Total number of registered private vehicles",null,"Total number of registered motor vehicles (Private)","Total number of registered motor vehicles (Private + Public)","Share of trips to work by mode of transport (%)",null,null,null,null,null,null,null,"Average trip length by car (km)","Average time of journey to work (minutes)","Daily public transport boardings on different public transport systems in the city (million)",null,null,null,null,null,null,null,null,null,"Length of paved roads (km)","Length of mass transit (km)",null,null,null,null,null,null,"Stations for Mass transit",null,null,null,null,null,"Public transport vehicles available (Fleet or Number in use in peak service where available)",null,null,null,null,null,null,null,null,null,null,null,"Peak Time fares for 10 km of journey for each mode of public transport  (Local currency)",null,null,null,null,null,null,"Fares for 10 km of journey for each mode of public transport  (2007 US$ PPP)",null,null,null,null,null,null,"Operating Costs/Revenue/Subsidies (LC million)",null,null,null,null,null,null,null,null,null,null,null,null,null,null,null,null,null,null,null,"Operating Costs/Revenue/Subsidies ($ million in 2007 PPP)",null,null,null,null,null,null,null,null,null,null,null,null,null,null,null,null,null,"Manpower strength for each mode",null,null,null,null,null,null,"Age profile of bus fleet (years)","Energy Usage",null,"Fuel prices by type of fuel (Local Currency)",null,null,"Fuel prices by type of fuel (PPP $ in 2007)",null,null,"Number of road accidents injuries  (per 100,000 population)","Number of road accident deaths  (per 100,000 population)",null,null," Emission levels ",null,null,null,null,"Vehicle emission standards in force ","Disposable Income (LC)","City Per Capita GDP (LC)","City Per Capita GDP (PPP US$ in 2015)","City GDP (LC Billion)","City GDP (PPP$ billion 2015)","Median Annual household income   (LC)","Median Annual household income   ($ PPP in 2015)","Minimum Hourly* wage rate (LC) ","Minimum Hourly* wage rate (PPP$ in 2014)"," PPP exchange rate with the US$ (2016)",null,"2-wheelers/1000 population","4-wheelers/1000 population","Bus/1000 population","2-wheelers/total motor vehicles","Passenger Car Unit (PCU) per Length of road",{"$f":"AM3","v":"Length of paved roads (km)"},"Length of road/1M population","Length of road/City area (Sq. Km.)","Manpower / Bus Fleet","Cost-Coverage - Bus","Cost-coverage -metro","Cost-coverage - LRT","Cost-coverage - tram","Cost-coverage - Trolley bus","PT Fare as share of Income = Avg fare for 10km*40*12/per capita GDP","MT Fare as share of Income = Avg fare for 10km*40*12/per capita GDP","MT Fare for avg. trip length as share of minimum daily wage","Fuel Price Index = Cost of 100L of fuel*12/per capita GDP","Average Trip Length","Average Journey Time","Length of mass transit","Daily Ridership on Mass Transit","Daily Ridership/Length","Mass Transit Ridership to Population Ratio","Mass Transit Coverage = Length of MT / City area","Mass Transit Unit Coverage = mass transit length / City area","No. of Road Accident Deaths","No. of Road Accident Deaths / Mill. Population","No. of Road Accident Deaths / Km of Road","No. of Road Accident Deaths / 10K Motor Vehicles","C02 emissions/Mill population","Sulphur dioxide emissions/Mill population","Nitrogen dioxide emissions/Mill population","Particulate matter emissions/Mill population","Public Transport Energy Use","Private Transport Energy Use","Fares for Average Length of journey for each mode of public transport  (2007 US$ PPP)",null,null,null,null,null,null,"Notes"]
[null,null,null,null,null,null,null,null,null,null,null,null,null,null,"Two- wheelers","Four wheelers",null,null,"Car","Motorcycle","Bicycle","Foot","Three-Wheeler (India) / Taxi","Public Transport",null,"Others",null,null,"Bus",null,"Regional Rail","Metro","LRT","Tram","BRT","Trolley Buses","Public Transport Ridership","Mass Transit Ridership",null,"Bus","Regional Rail/Commuter Rail","Metro Rail","Light Rail","Tram","BRT","Trolley Bus","Regional Rail/Commuter Rail","Metro Rail","Light Rail","Tram","Trolley Bus","BRT","Bus",null,null,null,null,"Metro Coaches","Suburban/Regional Rail Coaches","LRT Coaches","Tram cars","BRT Buses","Trolley Buses","Paratransit","Bus","Regional Rail/Commuter trains","Metro","LRT","Tram","BRT","Trolley Buses","Bus","Regional Rail/Commuter trains","Metro","LRT","Tram","BRT","Trolley Buses","Operating costs  ",null,null,null,null,null,null,"Fare revenue",null,null,null,null,null,null,"Non fare earnings ",null,null,null,null,null,"Operating costs  ",null,null,null,null,"Fare revenue",null,null,null,null,null,null,"Non fare earnings ",null,null,null,null,null,"Bus","Regional Rail","Metro","LRT","Tram","BRT","Trolley Buses",null,"Public Transport ","Private Transport","Petrol (95 unleaded)",null,"Diesel","Petrol (95 unleaded)",null,"Diesel",null,null,null,null,"Sulphur dioxide  (Mg/m3)","Nitrogen dioxide (Mg/m3)","Particulate matter (Weighted PM10)","Carbon dioxide (Tonnes per year)","GHG (Mega tonne CO2-equivalent)",null,null,null,null,null,null,null,null,null,null,null,null,null,null,null,null,null,null,null,null,null,null,null,null,null,null,null,null,null,null,null,null,null,null,null,null,null,null,null,null,null,null,null,null,null,null,null,null,"Bus","Regional Rail/Commuter trains","Metro","LRT","Tram","BRT","Trolley Buses"]
[null,null,null,null,"Current  (2016)","Year (-10)","Current (2016) ","Year (-10)","Current  ","Year (-10)","Current  ","Year (-10)","Municipal - Current",null,null,null,null,null,null,null,null,null,null,"Bus/BRT","Rail",null,null,null,"Standard","Mini",null,null,null,null,null,null,null,null,null,null,null,null,null,null,null,null,null,null,null,null,null,null,"Articulated ","Double-deck","Standard","Mini","Midi",null,null,null,null,null,null,null,null,null,null,null,null,null,null,null,null,null,null,null,null,null,"Bus","Regional Rail","Metro","LRT","Tram","BRT","Trolley Buses","Bus","Regional Rail","Metro","LRT","Tram","BRT","Trolley Buses","Bus","Regional Rail","Metro","LRT","Metro","LRT","Bus","Metro","LRT","Tram","Trolley Buses","Bus","Regional Rail","Metro","LRT","Tram","BRT","Trolley Buses","Bus","Regional Rail","Metro","LRT","Metro","LRT",null,null,null,null,null,null,null,null,"(MJ/Passenger Km)","(MJ/Passenger Km)","Current","Year (-5)","Current","Current 2016","Year (-5)","Current","Current","Current","Year (-5)","Year (-10)"]
[null,null,null,null,null,null,null,null,null,null,null,null,null,null,null,null,null,null,null,null,null,null,null,null,null,null,null,null,null,null,null,null,null,null,null,null,null,null,null,null,null,null,null,null,null,null,null,null,null,null,null,null,null,null,null,null,null,null,null,null,null,null,null,null,null,null,null,null,null,null,null,null,null,null,null,null,null,null,null,null,null,null,null,null,null,null,null,null,null,null,null,null,null,null,null,null,null,null,null,null,null,null,null,null,null,null,null,null,null,null,null,null,null,null,null,null,null,null,null,null,null,null,null,null,null,null,2016,2012,2016,2016,null,2016,null,null,null,null,null,null,null,null,null,null,null,null,null,null,null,null,null,null,null,null,null,"M2W / 1K pop","M4W / 1K pop","Bus / 1K pop","M2W / Ttl Vehs","PCU per KM of road","LOR","LOR / 1M pop","LOR / Sq. KM.",null,null,null,null,null,null,null,null,null,"FPI","Avg. Trip Length","Avg. Journey Time","LOMT","Ridership MT",null,"MTRP","MTC",null,"RAD","RAD / Pop (Mill)","RAD / Km","RAD / 10K MV",null,null,null,null,"Pub Tr Energy Use","Priv Tr Energy Use"]
[null,"CITY","Country","Region","City Population - Current (2016)","City Population - Yr (-10)","Metro Population - Current (2016)","Metro Population - Yr (-10)","(City) Municipal area (Km2) - Current","(City) Municipal area (Km2) - Yr (-10)","Metro Urban Area (Km2) - Current","Metro Urban Area (Km2) - Yr (-10)","Population Density","Number of people employed","Registered Private Vehicles - 2Wheelers","Registered Private Vehicles - 4Wheelers","Registered Private Vehicles - Total","Total Registered Motor Vehicles","Share of trips to work by car (%)","Share of trips to work by motorcycle (%)","Share of trips to work by bycicle (%)","Share of trips to work by foot (%)","Share of trips to work by 3wheeler (India) / Taxi (%)","Share of trips to work by public Bus/BRT (%)","Share of trips to work by public rail (%)","Share of trips to work by Others (%)","Average trip length by car (km)","Average time of journey to work by car (minutes)","Daily public transport boardings (million) - Standard Bus","Daily public transport boardings (million) - Mini Bus","Daily public transport boardings (million) - Regional Rail","Daily public transport boardings (million) - Metro","Daily public transport boardings (million) - LRT","Daily public transport boardings (million) - Tram","Daily public transport boardings (million) - BRT","Daily public transport boardings (million) - Trolley Bus","Daily public transport boardings (million) - Total","Daily mass transit boardings (mill) - Total","Length of roads in km","Length of mass transit (km) - Bus","Length of mass transit (km) - Regional/Commuter rail","Length of mass transit (km) - Metro rail","Length of mass transit (km) - Light rail","Length of mass transit (km) - Tram","Length of mass transit (km) - BRT","Length of mass transit (km) - Trolley Bus2","Stations - Regional/Commuter rail","Stations - Metro rail","Stations - Light rail","Stations - Tram","Stations - Trolley Bus","Stations - BRT","Public vehicles available - Articulated bus","Public vehicles available - Double-decker bus","Public vehicles available - Standard bus","Public vehicles available - Mini bus","Public vehicles available - Midi bus","Public vehicles available - Metro coaches","Public vehicles available - Suburban/Regional rail coaches","Public vehicles available - LRT coaches","Public vehicles available -Tram","Public vehicles available - BRT","Public vehicles available - Trolley","Public vehicles available - Taxi","Fares for 10 km of journey (Local currency) - Bus","Fares for 10 km of journey (Local currency) - Regional/Commuter rail","Fares for 10 km of journey (Local currency) - Metro","Fares for 10 km of journey (Local currency) - LRT","Fares for 10 km of journey (Local currency) - Tram","Fares for 10 km of journey (Local currency) - BRT","Fares for 10 km of journey (Local currency) - Trolley Bus","Fares for 10 km of journey (2007 US$ PPP) - Bus","Fares for 10 km of journey (2007 US$ PPP) - Regional/Commuter Rail","Fares for 10 km of journey (2007 US$ PPP) - Metro","Fares for 10 km of journey (2007 US$ PPP) - LRT","Fares for 10 km of journey (2007 US$ PPP) - Tram","Fares for 10 km of journey (2007 US$ PPP) - BRT","Fares for 10 km of journey (2007 US$ PPP) - Trolley Bus","Operating Costs (LC) - Bus","Operating Costs (LC) - Regional Rail","Operating Costs (LC) - Metro","Operating Costs (LC) - LRT","Operating Costs (LC) - Tram","Operating Costs (LC) - BRT","Operating Costs (LC) - Trolley Bus","Fare revenue (LC) - Bus","Fare revenue (LC) - Regional Rail","Fare revenue (LC) - Metro","Fare revenue (LC) - LRT","Fare revenue (LC) - Tram","Fare revenue (LC) - BRT","Fare revenue (LC) - Trolley Buses","Non fare earnings (LC) - Bus","Non fare earnings (LC) - Regional Rail","Non fare earnings (LC) - Metro","Non fare earnings (LC) - LRT","Public Subsidy (LC) - Metro","Public Subsidy (LC) - LRT","Operating Costs US$ - Bus","Operating Costs US$ - Metro","Operating Costs US$- LRT","Operating Costs US$- Tram","Operating Costs US$ - Trolley Bus","Fare revenue US$- Bus","Fare revenue US$- Regional Rail","Fare revenue US$- Metro","Fare revenue US$- LRT","Fare revenue US$- Tram","Fare revenue US$- BRT","Fare revenue US$- Trolley Buses","Non fare earnings US$ - Bus","Non fare earnings US$- Regional Rail","Non fare earnings US$- Metro","Non fare earnings US$ - LRT","Public Subsidy US$- Metro","Public Subsidy US$- LRT","Manpower strength - Bus","Manpower strength - Regional Rail","Manpower strength - Metro","Manpower strength - LRT","Manpower strength - Tram","Manpower strength - BRT","Manpower strength - Trolley Bus","Age profile of bus fleet (Yrs)","Public Transport Energy Usage - (MJ/Passenger Km)","Private Transport Energy Usage - (MJ/Passenger Km)","Petrol price (LC) - Current","Petrol price (LC) - Year (-5)","Diesel price (LC) - Current","Petrol price (US$)-current","Petrol price (US$) - Year (-5)","Diesel price (US$) - Current","Road accident injuries per 100k pop - Current","Road accident deaths per 100k pop - Current","Road accident deaths per 100k pop - Yr (-5)","Road accident deaths per 100k pop - Yr (-10)","Emission levels - Sulphur oxides (Mg/m3)","Emission levels - Nitrogen dioxide (Mg/m3)","Emission levels - Particulate matter (Weighted PM10)","Emission levels - CO2 (Tonnes per year)","GHG (MtCO2e)","Vehicle emission standards in force ","Disposable Income (LC)","City Per Capita GDP (LC)","City Per Capita GDP (PPP US$ in 2015)","City GDP (LC Billion)","City GDP (PPP US$ billion 2015)","Median Annual household income (LC)","Median Annual household income ($ PPP 2015)","Minimum Hourly Wage Rate (LC)","Minimum Hourly Wage rate (PPP $ 2007)","PPP Exchange rate with the US$ (2016)","D","2-whls per 1K pop.","4-whls per 1k pop.","Buses per 1k pop.","2-whls per Ttl vehicles","PCU per Length of road","Length of roads (km)","Length of roads  (km) per 1M pop.","Length of road (km) per city area (Km2)","Manpower per Bus","Cost-coverage -bus","Cost-coverage -metro","Cost-coverage - LRT","Cost-coverage - tram","Cost-coverage - Trolley bus","PT Fare as share of Income","MT Fare as share of Income","MRT Fare for avg. trip length as share of minimum daily wage","Fuel Cost as share of Income","Avg. Trip Length (Km)","Avg. Journey Time (Min)","Length of Mass Transit (Km)","Daily Ridership on Mass Transit (Mill)","Daily Ridership per MT Length","Daily MT Ridership per pop.","Mass Transit Coverage","Mass Transit Unit Coverage (km)","Road Accident Deaths","Road Accident Deaths per Mill. Pop.","Road Accident Deaths per Km of Road","Road Accident Deaths per 10K Motor Vehicles","C02 emissions (Tonn per yr) per Mill pop.","SO2 emissions (Mg/ m3) per Mill pop.","NO2 emissions (Mg/m3) per Mill pop.","Particulate Matter emissions (PM10) per Mill pop.","Public Transport Energy Use (MJ/ Pax km)","Private Transport Energy (MJ/Pax km)","Fares for avg. length of journey (2007 US$ PPP) - Bus","Fares for avg. length of journey (2007 US$ PPP) - Regional/Commuter Rail","Fares for avg. length of journey (2007 US$ PPP) - Metro","Fares for avg. length of journey (2007 US$ PPP) - LRT5","Fares for avg. length of journey (2007 US$ PPP) - Tram","Fares for avg. length of journey (2007 US$ PPP) - BRT","Fares for avg. length of journey (2007 US$ PPP) - Trolley Bus","Notes"]
[null,"Buenos Aires","Argentina","LAC",3059122,2768772,16841135,12768000,202,200,4758,null,{"$f":"E8/I8","v":15144.168316831683},5485314,470000,4285311.55,4755311.55,4811600.55,32.14,3.57,7.14,7.14,0,14.29,25,10.719999999999999,22.06,52.33,936261.5,null,33.42,0.94,0,null,0.98899999999999999,0,0.82568600000000003,0.82568600000000003,44994,null,892,51.5,22.9,null,56.3,0,222,78,68,null,0,97,0,null,9931,null,null,1095,40,null,12,20,0,45500,2.0499999999999998,null,2.5,0,1,0.47,0,0.78153687698714702,0,1.1164812528387813,0,0.44659250113551252,0.78153687698714702,0,null,null,null,0,null,null,0,5577.28,null,152,0,null,97.27,0,null,null,null,0,863,0,null,null,0,null,0,null,null,295.45,0,null,1354.79375,0,null,null,null,0,1677.4562499999997,0,54116,10182,4500,0,null,null,0,4,null,null,17,null,15.83,1.21,0.94599999999999995,1.08,null,null,null,null,null,null,26,11.4,11.4,"Euro 5a",null,{"$f":"25000*3.95","v":98750},40850,{"$f":"192*3.95","v":758.40000000000009},313.73,{"$f":"13583*12","v":162996},{"$f":"Table37[[#This Row],[Median Annual household income (LC)]]*'GDP Deflator 1960-2011'!AZ3/'GDP Deflator 1960-2011'!BA3*1/Table37[[#This Row],[PPP Exchange rate with the US$ (2016)]]","v":14879.639799179648},76,{"$f":"IF(ISERROR(Table37[[#This Row],[Minimum Hourly Wage Rate (LC)]]*'CPI 1960-2011'!AY3/'CPI 1960-2011'!BC3*1/Table37[[#This Row],[PPP Exchange rate with the US$ (2016)]]), \"n/a\", Table37[[#This Row],[Minimum Hourly Wage Rate (LC)]]*'GDP Deflator 1960-2011'!AZ3/'GDP Deflator 1960-2011'!BD3*1/Table37[[#This Row],[PPP Exchange rate with the US$ (2016)]])","v":4.6621193706060859},9.1999999999999993,null,{"$f":"IFERROR(O8/G8*1000, O8/E8*1000)","v":27.907857754242812},{"$f":"IFERROR(P8/G8*1000,P8/E8*1000)","v":254.45503227662502},{"$f":"IFERROR(SUM(BA8:BE8)/G8*1000, SUM(BA8:BE8)/E8*1000)","v":0.58968709650507523},{"$f":"IFERROR(O8/R8, \"\")","v":9.7680594038505542E-2},{"$f":"IFERROR(((O8*0.5)+((P8+BL8)*1)+(SUM(BA8:BE8)*2.5))/AM8, \"\")","v":102.02780481842024},{"$f":"AM8","v":44994},{"$f":"IFERROR(AM8/G8*10^6,AM8/E8*10^6)","v":2671.6726633923427},{"$f":"IFERROR(AM8/K8, \"\")","v":9.4564943253467852},{"$f":"IFERROR(DM8/SUM(BA8:BE8), \"\")","v":5.4491994763870704},{"$f":"IFERROR(Table37[[#This Row],[Operating Costs US$ - Bus]]/Table37[[#This Row],[Fare revenue US$- Bus]], \"\")","v":""},{"$f":"IFERROR(Table37[[#This Row],[Operating Costs US$ - Metro]]/Table37[[#This Row],[Fare revenue US$- Metro]], \"\")","v":0},{"$f":"IFERROR(Table37[[#This Row],[Operating Costs US$- LRT]]/Table37[[#This Row],[Fare revenue US$- LRT]], \"\")","v":""},{"$f":"IFERROR(Table37[[#This Row],[Operating Costs US$- Tram]]/Table37[[#This Row],[Fare revenue US$- Tram]], \"\")","v":""},{"$f":"IFERROR(Table37[[#This Row],[Operating Costs US$ - Trolley Bus]]/Table37[[#This Row],[Fare revenue US$- Trolley Buses]], \"\")","v":""},{"$f":"IFERROR((AVERAGEIF(Table37[[#This Row],[Fares for 10 km of journey (2007 US$ PPP) - Bus]:[Fares for 10 km of journey (2007 US$ PPP) - Trolley Bus]], \"<>0\")*40*12)/EO8, \"\")","v":9.1832974529701475E-3},{"$f":"IFERROR((AVERAGEIF(Table37[[#This Row],[Fares for 10 km of journey (2007 US$ PPP) - Regional/Commuter Rail]:[Fares for 10 km of journey (2007 US$ PPP) - BRT]], \"<>0\")*40*12)/EO8, \"\")","v":9.1832974529701475E-3},{"$f":"IFERROR(2*(AVERAGEIF(Table37[[#This Row],[Fares for avg. length of journey (2007 US$ PPP) - Metro]:[Fares for avg. length of journey (2007 US$ PPP) - BRT]], \"<>0\"))/(Table37[[#This Row],[Minimum Hourly Wage rate (PPP $ 2007)]]*8), \"\")","v":9.2450997796390239E-2},{"$f":"IFERROR(DZ8*100*12/EO8, \"\")","v":3.5544675642594857E-2},{"$f":"AA8","v":22.06},{"$f":"AB8","v":52.33},{"$f":"SUM(AP8:AQ8)+Table37[[#This Row],[Length of mass transit (km) - BRT]]","v":130.69999999999999},{"$f":"SUM(AF8:AI8)","v":1.9289999999999998},{"$f":"IFERROR(FS8*10^6/(AP8+AR8+AQ8+AS8), \"\")","v":14758.990053557765},{"$f":"IFERROR(FS8*10^6/G8, FS8*10^6/E8)","v":0.11454097363390292},{"$f":"IFERROR(FR8/I8, \"\")","v":0.64702970297029694},{"$f":"IFERROR(((AP20*4)+((AR20+AS20)*0.5)+((AQ20+AS20)*1))/I8, \"\")","v":8.9950495049504955},{"$f":"IFERROR(ED8*E8/10^5, \"\")","v":0},{"$f":"ED8*10","v":0},{"$f":"IFERROR(FX8/AM8, \"\")","v":0},{"$f":"IFERROR(FX8/(R8/10^4), \"\")","v":0},{"$f":"IFERROR(EJ8/G8*10^6, EJ8/E8*10^6)","v":0.67691399659227247},{"$f":"IFERROR(EG8/G8*10^6, EG8/E8*10^6)","v":0},{"$f":"IFERROR(EH8/G8*10^6, EH8/E8*10^6)","v":0},{"$f":"IFERROR(EI8/G8*10^6, EI8/E8*10^6)","v":1.5438389395964107},{"$f":"DU8","v":0},{"$f":"DV8","v":0},{"$f":"Table37[[#This Row],[Fares for 10 km of journey (2007 US$ PPP) - Bus]]/10*Table37[[#This Row],[Average trip length by car (km)]]","v":1.7240703506336461},{"$f":"Table37[[#This Row],[Fares for 10 km of journey (2007 US$ PPP) - Regional/Commuter Rail]]/10*Table37[[#This Row],[Average trip length by car (km)]]","v":0},{"$f":"Table37[[#This Row],[Fares for 10 km of journey (2007 US$ PPP) - Metro]]/10*Table37[[#This Row],[Average trip length by car (km)]]","v":2.4629576437623513},{"$f":"Table37[[#This Row],[Fares for 10 km of journey (2007 US$ PPP) - LRT]]/10*Table37[[#This Row],[Average trip length by car (km)]]","v":0},{"$f":"Table37[[#This Row],[Fares for 10 km of journey (2007 US$ PPP) - Tram]]/10*Table37[[#This Row],[Average trip length by car (km)]]","v":0.98518305750494051},{"$f":"Table37[[#This Row],[Fares for 10 km of journey (2007 US$ PPP) - BRT]]/10*Table37[[#This Row],[Average trip length by car (km)]]","v":1.7240703506336461},{"$f":"Table37[[#This Row],[Fares for 10 km of journey (2007 US$ PPP) - Trolley Bus]]/10*Table37[[#This Row],[Average trip length by car (km)]]","v":0}]
[null,"Melbourne","Australia","OECD",132271,98859,4628199,3472207,37.6,null,7693.7,null,{"$f":"E9/I9","v":3517.8457446808511},1927952,2630,76877,79507,95350,49.5,3.39,10.17,15.25,0,0,16.95,4.7399999999999949,19.66,35.659999999999997,0.21637616438356164,null,0.49138889000000002,0.64,0,0.49,3.6200000000000003E-2,0,1.2929049315068493,1.0765287671232877,342,null,830,0,null,250,233,0,218,0,0,1763,950,56,null,null,950,null,null,null,1218,0,495,122,0,null,0,0,0,0,0,null,0,0,0,0,0,0,0,0,null,"not available",0,0,null,null,0,null,"not available",0,0,null,null,0,null,"not available",null,0,"not available",0,null,null,0,null,0,null,null,null,0,null,null,0,null,null,null,0,null,0,1600,3700,0,0,1800,null,0,null,0.72,2.62,1.19,1.42,1.2,0.9,0.87713452728030006,0.9,{"$f":"5193/G9*10000","v":11.220347266831007},{"$f":"167/G9*100000","v":3.6083150270764075},{"$f":"146/3592590 *100000","v":4.0639204584992994},7.68,7,14,25,5.8,5.8,"Euro 6b",{"$f":"481*52","v":25012},58375,{"$f":"Table37[[#This Row],[City Per Capita GDP (LC)]]*('GDP Deflator 1960-2011'!AZ4/'GDP Deflator 1960-2011'!BC4)*1/Table37[[#This Row],[PPP Exchange rate with the US$ (2016)]]","v":38160.768957530432},{"$f":"0.205*1317.9","v":270.16950000000003},{"$f":"Table37[[#This Row],[City GDP (LC Billion)]]*'GDP Deflator 1960-2011'!AZ4/'GDP Deflator 1960-2011'!BC4*1/Table37[[#This Row],[PPP Exchange rate with the US$ (2016)]]","v":176.61457591214594},85720,{"$f":"Table37[[#This Row],[Median Annual household income (LC)]]*'GDP Deflator 1960-2011'!AZ4/'GDP Deflator 1960-2011'!AY4*1/Table37[[#This Row],[PPP Exchange rate with the US$ (2016)]]","v":64446.047342588157},15.51,{"$f":"IF(ISERROR(Table37[[#This Row],[Minimum Hourly Wage Rate (LC)]]*'CPI 1960-2011'!AY4/'CPI 1960-2011'!BC4*1/Table37[[#This Row],[PPP Exchange rate with the US$ (2016)]]), \"n/a\", Table37[[#This Row],[Minimum Hourly Wage Rate (LC)]]*'GDP Deflator 1960-2011'!AZ4/'GDP Deflator 1960-2011'!BD4*1/Table37[[#This Row],[PPP Exchange rate with the US$ (2016)]])","v":9.5356799893696547},1.4,null,0.56825560007251197,16.610564930332512,0.20526342968398723,2.7582590456213949E-2,235.57602339181287,342,73.894834686235413,{"$f":"IFERROR(AM9/I9, \"\")","v":9.0957446808510642},1.6842105263157894,{"$f":"IFERROR(Table37[[#This Row],[Operating Costs US$ - Bus]]/Table37[[#This Row],[Fare revenue US$- Bus]], \"\")","v":""},{"$f":"IFERROR(Table37[[#This Row],[Operating Costs US$ - Metro]]/Table37[[#This Row],[Fare revenue US$- Metro]], \"\")","v":""},{"$f":"IFERROR(Table37[[#This Row],[Operating Costs US$- LRT]]/Table37[[#This Row],[Fare revenue US$- LRT]], \"\")","v":""},{"$f":"IFERROR(Table37[[#This Row],[Operating Costs US$- Tram]]/Table37[[#This Row],[Fare revenue US$- Tram]], \"\")","v":""},{"$f":"IFERROR(Table37[[#This Row],[Operating Costs US$ - Trolley Bus]]/Table37[[#This Row],[Fare revenue US$- Trolley Buses]], \"\")","v":""},{"$f":"IFERROR((AVERAGEIF(Table37[[#This Row],[Fares for 10 km of journey (2007 US$ PPP) - Bus]:[Fares for 10 km of journey (2007 US$ PPP) - Trolley Bus]], \"<>0\")*40*12)/EO9, \"\")","v":""},{"$f":"IFERROR((AVERAGEIF(Table37[[#This Row],[Fares for 10 km of journey (2007 US$ PPP) - Regional/Commuter Rail]:[Fares for 10 km of journey (2007 US$ PPP) - BRT]], \"<>0\")*40*12)/EO9, \"\")","v":""},{"$f":"IFERROR(2*(AVERAGEIF(Table37[[#This Row],[Fares for avg. length of journey (2007 US$ PPP) - Metro]:[Fares for avg. length of journey (2007 US$ PPP) - BRT]], \"<>0\"))/(Table37[[#This Row],[Minimum Hourly Wage rate (PPP $ 2007)]]*8), \"\")","v":""},{"$f":"IFERROR(DZ9*100*12/EO9, \"\")","v":2.8301316496057632E-2},19.66,35.659999999999997,{"$f":"SUM(AP9:AQ9)+Table37[[#This Row],[Length of mass transit (km) - BRT]]","v":233},{"$f":"SUM(AE9:AI9)","v":1.65758889},{"$f":"IFERROR(FS9*10^6/(AO9+AR9+AQ9+AS9), \"\")","v":1262.4439375476009},0.35814987428155098,6.1968085106382977,22.146276595744681,4.7727543694642351,36.083150270764072,1.395542213293636E-2,0.500551061296721,1.2531872549127641,1.5124673766188532,3.0249347532377064,5.4016692022101909,0.72,2.62,{"$f":"Table37[[#This Row],[Fares for 10 km of journey (2007 US$ PPP) - Bus]]/10*Table37[[#This Row],[Average trip length by car (km)]]","v":0},{"$f":"Table37[[#This Row],[Fares for 10 km of journey (2007 US$ PPP) - Regional/Commuter Rail]]/10*Table37[[#This Row],[Average trip length by car (km)]]","v":0},{"$f":"Table37[[#This Row],[Fares for 10 km of journey (2007 US$ PPP) - Metro]]/10*Table37[[#This Row],[Average trip length by car (km)]]","v":0},{"$f":"Table37[[#This Row],[Fares for 10 km of journey (2007 US$ PPP) - LRT]]/10*Table37[[#This Row],[Average trip length by car (km)]]","v":0},{"$f":"Table37[[#This Row],[Fares for 10 km of journey (2007 US$ PPP) - Tram]]/10*Table37[[#This Row],[Average trip length by car (km)]]","v":0},{"$f":"Table37[[#This Row],[Fares for 10 km of journey (2007 US$ PPP) - BRT]]/10*Table37[[#This Row],[Average trip length by car (km)]]","v":0},{"$f":"Table37[[#This Row],[Fares for 10 km of journey (2007 US$ PPP) - Trolley Bus]]/10*Table37[[#This Row],[Average trip length by car (km)]]","v":0}]
[null,"Vienna","Austria","OECD",1797337,1660534,2600000,2165357,414.65,415,553.44000000000005,395.26,4334.5882069215004,913944,81076,674526,755602,829790,8.33,0,8.33,28,0,4.17,41.67,9.5,26.5,22,0.31342465753424659,null,2.72,1.22,0.35,8.4000000000000005E-2,0,0,2.6031697108066969,2.2897450532724504,2823,826.5,null,79.099999999999994,17.399999999999999,174.6,0,0,null,104,24,1065,4132,0,null,null,456,null,null,738,null,172,853,0,0,null,1.7,1.7,1.7,1.7,1.7,0,0,1.7318068808545153,1.7318068808545153,1.7318068808545153,1.7318068808545153,1.7318068808545153,0,0,null,null,null,null,null,0,0,null,null,null,null,null,null,0,null,null,null,null,0,null,null,null,null,null,0,null,null,null,null,null,null,0,null,null,null,null,null,null,null,75,null,null,null,0,0,6.5,0.87,3.13,1.1100000000000001,null,1.07,1.21,null,1.17,0.98,{"$f":"22/E10*100000","v":1.2240331112084155},3,7.4089999999999998,14,21.7,25,null,null,"Euro 6b",26307,47300,{"$f":"Table37[[#This Row],[City Per Capita GDP (LC)]]*('GDP Deflator 1960-2011'!AZ5/'GDP Deflator 1960-2011'!BB5)*1/Table37[[#This Row],[PPP Exchange rate with the US$ (2016)]]","v":57498.853865566067},72.063000000000002,{"$f":"Table37[[#This Row],[City GDP (LC Billion)]]*'GDP Deflator 1960-2011'!AZ5/'GDP Deflator 1960-2011'!BB5*1/Table37[[#This Row],[PPP Exchange rate with the US$ (2016)]]","v":87.601266514044141},43938,{"$f":"Table37[[#This Row],[Median Annual household income (LC)]]*'GDP Deflator 1960-2011'!AZ5/'GDP Deflator 1960-2011'!BB5*1/Table37[[#This Row],[PPP Exchange rate with the US$ (2016)]]","v":53411.937444931122},7.06,{"$f":"IF(ISERROR(Table37[[#This Row],[Minimum Hourly Wage Rate (LC)]]*'CPI 1960-2011'!AY5/'CPI 1960-2011'!BC5*1/Table37[[#This Row],[PPP Exchange rate with the US$ (2016)]]), \"n/a\", Table37[[#This Row],[Minimum Hourly Wage Rate (LC)]]*'GDP Deflator 1960-2011'!AZ5/'GDP Deflator 1960-2011'!BD5*1/Table37[[#This Row],[PPP Exchange rate with the US$ (2016)]])","v":8.2578061126807132},0.8,null,31.183076923076925,259.43307692307695,0.17538461538461539,9.770664867014546E-2,253.7031526744598,2823,1085.7692307692309,{"$f":"IFERROR(AM10/I10, \"\")","v":6.8081514530326785},0,{"$f":"IFERROR(Table37[[#This Row],[Operating Costs US$ - Bus]]/Table37[[#This Row],[Fare revenue US$- Bus]], \"\")","v":""},{"$f":"IFERROR(Table37[[#This Row],[Operating Costs US$ - Metro]]/Table37[[#This Row],[Fare revenue US$- Metro]], \"\")","v":""},{"$f":"IFERROR(Table37[[#This Row],[Operating Costs US$- LRT]]/Table37[[#This Row],[Fare revenue US$- LRT]], \"\")","v":""},{"$f":"IFERROR(Table37[[#This Row],[Operating Costs US$- Tram]]/Table37[[#This Row],[Fare revenue US$- Tram]], \"\")","v":""},{"$f":"IFERROR(Table37[[#This Row],[Operating Costs US$ - Trolley Bus]]/Table37[[#This Row],[Fare revenue US$- Trolley Buses]], \"\")","v":""},{"$f":"IFERROR((AVERAGEIF(Table37[[#This Row],[Fares for 10 km of journey (2007 US$ PPP) - Bus]:[Fares for 10 km of journey (2007 US$ PPP) - Trolley Bus]], \"<>0\")*40*12)/EO10, \"\")","v":1.4457110827873085E-2},{"$f":"IFERROR((AVERAGEIF(Table37[[#This Row],[Fares for 10 km of journey (2007 US$ PPP) - Regional/Commuter Rail]:[Fares for 10 km of journey (2007 US$ PPP) - BRT]], \"<>0\")*40*12)/EO10, \"\")","v":1.4457110827873085E-2},{"$f":"IFERROR(2*(AVERAGEIF(Table37[[#This Row],[Fares for avg. length of journey (2007 US$ PPP) - Metro]:[Fares for avg. length of journey (2007 US$ PPP) - BRT]], \"<>0\"))/(Table37[[#This Row],[Minimum Hourly Wage rate (PPP $ 2007)]]*8), \"\")","v":0.138937878040547},2.5252677268921164E-2,26.5,22,{"$f":"SUM(AP10:AQ10)+Table37[[#This Row],[Length of mass transit (km) - BRT]]","v":96.5},{"$f":"SUM(AF10:AI10)","v":1.6539999999999999},{"$f":"IFERROR(FS10*10^6/(AP10+AR10+AQ10+AS10), \"\")","v":6101.0697159719666},0.63615384615384618,0.23272639575545642,0.40877848788134574,22,12.240331112084155,7.7931278781438185E-3,0.26512732137046724,0,5.384615384615385,8.3461538461538449,9.615384615384615,0.87,3.13,{"$f":"Table37[[#This Row],[Fares for 10 km of journey (2007 US$ PPP) - Bus]]/10*Table37[[#This Row],[Average trip length by car (km)]]","v":4.5892882342644654},{"$f":"Table37[[#This Row],[Fares for 10 km of journey (2007 US$ PPP) - Regional/Commuter Rail]]/10*Table37[[#This Row],[Average trip length by car (km)]]","v":4.5892882342644654},{"$f":"Table37[[#This Row],[Fares for 10 km of journey (2007 US$ PPP) - Metro]]/10*Table37[[#This Row],[Average trip length by car (km)]]","v":4.5892882342644654},{"$f":"Table37[[#This Row],[Fares for 10 km of journey (2007 US$ PPP) - LRT]]/10*Table37[[#This Row],[Average trip length by car (km)]]","v":4.5892882342644654},{"$f":"Table37[[#This Row],[Fares for 10 km of journey (2007 US$ PPP) - Tram]]/10*Table37[[#This Row],[Average trip length by car (km)]]","v":4.5892882342644654},{"$f":"Table37[[#This Row],[Fares for 10 km of journey (2007 US$ PPP) - BRT]]/10*Table37[[#This Row],[Average trip length by car (km)]]","v":0},{"$f":"Table37[[#This Row],[Fares for 10 km of journey (2007 US$ PPP) - Trolley Bus]]/10*Table37[[#This Row],[Average trip length by car (km)]]","v":0}]
[null,"Curitiba","Brazil","LAC",1879355,1879355,3400000,2872486,430.9,430.9,15416.9,15416.9,4361.4643768855885,1548269.9540000004,124522,774738,{"$f":"O11+P11","v":899260},{"$f":"Q11+SUM(BA11:BE11)+BL11","v":906771},59,0,9.09,4.55,0,13.64,0,{"$f":"100-SUM(S11:Y11)","v":13.719999999999999},15.38,32.380000000000003,2.04,null,null,0,0,0,0.61950000000000005,0,2.5449999999999999,0.505,6677,455,null,0,0,0,77,0,null,0,0,0,0,380,565,null,2144,91,null,0,null,0,0,179,0,4711,null,0,0,0,0,null,0,0,0,0,0,0,0,0,null,null,0,0,0,null,0,351,null,0,0,0,168.52,0,null,null,0,0,0,0,null,0,0,0,0,389.87302834689871,null,0,0,0,96.512685938815608,0,null,null,0,0,0,0,13787,null,0,0,0,null,0,4.7,0.59,2.15,3.49,null,3.01,1.1100000000000001,1.8984285714285716,0.93,null,{"$f":"320/E11*100000","v":17.027118346453971},4.2,38.119999999999997,null,null,24,3.036,null,"PROCONVE P7/PROCONVE L6",null,23696.43,{"$f":"Table37[[#This Row],[City Per Capita GDP (LC)]]*('GDP Deflator 1960-2011'!AZ6/'GDP Deflator 1960-2011'!BA6)*1/Table37[[#This Row],[PPP Exchange rate with the US$ (2016)]]","v":10936.8596745826},58,36.5,98300,{"$f":"Table37[[#This Row],[Median Annual household income (LC)]]*'GDP Deflator 1960-2011'!AZ6/'GDP Deflator 1960-2011'!AY6*1/Table37[[#This Row],[PPP Exchange rate with the US$ (2016)]]","v":52034.332308879595},2.83,{"$f":"IF(ISERROR(Table37[[#This Row],[Minimum Hourly Wage Rate (LC)]]*'CPI 1960-2011'!AY6/'CPI 1960-2011'!BC6*1/Table37[[#This Row],[PPP Exchange rate with the US$ (2016)]]), \"n/a\", Table37[[#This Row],[Minimum Hourly Wage Rate (LC)]]*'GDP Deflator 1960-2011'!AZ6/'GDP Deflator 1960-2011'!BD6*1/Table37[[#This Row],[PPP Exchange rate with the US$ (2016)]])","v":1.0525974164344714},2,null,36.624117647058824,227.86411764705883,0.82352941176470595,0.13732463874561493,127.10948030552643,6677,1963.8235294117649,{"$f":"IFERROR(AM11/K11, \"\")","v":0.43309614773398025},4.9239285714285712,{"$f":"IFERROR(Table37[[#This Row],[Operating Costs US$ - Bus]]/Table37[[#This Row],[Fare revenue US$- Bus]], \"\")","v":0},{"$f":"IFERROR(Table37[[#This Row],[Operating Costs US$ - Metro]]/Table37[[#This Row],[Fare revenue US$- Metro]], \"\")","v":""},{"$f":"IFERROR(Table37[[#This Row],[Operating Costs US$- LRT]]/Table37[[#This Row],[Fare revenue US$- LRT]], \"\")","v":""},{"$f":"IFERROR(Table37[[#This Row],[Operating Costs US$- Tram]]/Table37[[#This Row],[Fare revenue US$- Tram]], \"\")","v":""},{"$f":"IFERROR(Table37[[#This Row],[Operating Costs US$ - Trolley Bus]]/Table37[[#This Row],[Fare revenue US$- Trolley Buses]], \"\")","v":""},{"$f":"IFERROR((AVERAGEIF(Table37[[#This Row],[Fares for 10 km of journey (2007 US$ PPP) - Bus]:[Fares for 10 km of journey (2007 US$ PPP) - Trolley Bus]], \"<>0\")*40*12)/EO11, \"\")","v":""},{"$f":"IFERROR((AVERAGEIF(Table37[[#This Row],[Fares for 10 km of journey (2007 US$ PPP) - Regional/Commuter Rail]:[Fares for 10 km of journey (2007 US$ PPP) - BRT]], \"<>0\")*40*12)/EO11, \"\")","v":""},{"$f":"IFERROR(2*(AVERAGEIF(Table37[[#This Row],[Fares for avg. length of journey (2007 US$ PPP) - Metro]:[Fares for avg. length of journey (2007 US$ PPP) - BRT]], \"<>0\"))/(Table37[[#This Row],[Minimum Hourly Wage rate (PPP $ 2007)]]*8), \"\")","v":""},0.12178998722051679,15.38,32.380000000000003,{"$f":"SUM(AP11:AQ11)+Table37[[#This Row],[Length of mass transit (km) - BRT]]","v":77},0.61950000000000005,8045.454545454545,0.18220588235294119,0.17869575307495938,{"$f":"IFERROR(((#REF!*4)+((#REF!+#REF!)*0.5)+((#REF!+#REF!)*1))/I11, \"\")","v":""},320.00000000000006,170.27118346453972,4.7925715141530635E-2,3.5290056695681717,0.89294117647058824,0,0,7.0588235294117645,0.59,2.15,{"$f":"Table37[[#This Row],[Fares for 10 km of journey (2007 US$ PPP) - Bus]]/10*Table37[[#This Row],[Average trip length by car (km)]]","v":0},{"$f":"Table37[[#This Row],[Fares for 10 km of journey (2007 US$ PPP) - Regional/Commuter Rail]]/10*Table37[[#This Row],[Average trip length by car (km)]]","v":0},{"$f":"Table37[[#This Row],[Fares for 10 km of journey (2007 US$ PPP) - Metro]]/10*Table37[[#This Row],[Average trip length by car (km)]]","v":0},{"$f":"Table37[[#This Row],[Fares for 10 km of journey (2007 US$ PPP) - LRT]]/10*Table37[[#This Row],[Average trip length by car (km)]]","v":0},{"$f":"Table37[[#This Row],[Fares for 10 km of journey (2007 US$ PPP) - Tram]]/10*Table37[[#This Row],[Average trip length by car (km)]]","v":0},{"$f":"Table37[[#This Row],[Fares for 10 km of journey (2007 US$ PPP) - BRT]]/10*Table37[[#This Row],[Average trip length by car (km)]]","v":0},{"$f":"Table37[[#This Row],[Fares for 10 km of journey (2007 US$ PPP) - Trolley Bus]]/10*Table37[[#This Row],[Average trip length by car (km)]]","v":0}]
[null,"Sao Paulo","Brazil","LAC",12040000,10744060,21242939,19000000,1509,1509,2119.08,null,{"$f":"E12/I12","v":7978.7939032471832},9608000,797405,4617635,5415040,5474429,40.32,8.06,8.06,12.9,0,14.52,11.29,4.8499999999999943,15.74,46.88,10.5,null,2.319,3.75,0,0,2.11,null,16.36,5.8599999999999994,37728,21240,258.60000000000002,74.3,0,0,129.80000000000001,200,95,67,0,0,null,null,552,null,15002,2700,null,756,785,0,0,null,null,38639,3,null,3,0,0,3,null,1.726228383571875,0,1.726228383571875,0,0,1.726228383571875,0,null,null,null,0,0,null,null,2968,null,833,0,0,null,null,null,null,null,0,296,0,null,null,0,0,null,3424.6153846153852,441.064705882353,713.23529411764707,0,0,776.84,null,null,null,null,0,253.44255349198502,0,108696,5920,7417,0,0,null,null,5,0.37,2.59,3.37,null,3.05,1.1000000000000001,1.5029999999999999,0.95,null,{"$f":"1225/E12*100000","v":10.174418604651164},14.2,24.085000000000001,43,83,38,15.7,15.115,"PROCONVE P7/PROCONVE L6",null,32493.96,{"$f":"Table37[[#This Row],[City Per Capita GDP (LC)]]*('GDP Deflator 1960-2011'!AZ7/'GDP Deflator 1960-2011'!BA7)*1/Table37[[#This Row],[PPP Exchange rate with the US$ (2016)]]","v":14997.275150370751},477,{"$f":"Table37[[#This Row],[City GDP (LC Billion)]]*'GDP Deflator 1960-2011'!AZ7/'GDP Deflator 1960-2011'!BA7*1/Table37[[#This Row],[PPP Exchange rate with the US$ (2016)]]","v":220.15476866244833},128873,{"$f":"Table37[[#This Row],[Median Annual household income (LC)]]*'GDP Deflator 1960-2011'!AZ7/'GDP Deflator 1960-2011'!BB7*1/Table37[[#This Row],[PPP Exchange rate with the US$ (2016)]]","v":55492.852649447377},3.08,{"$f":"IF(ISERROR(Table37[[#This Row],[Minimum Hourly Wage Rate (LC)]]*'CPI 1960-2011'!AY7/'CPI 1960-2011'!BC7*1/Table37[[#This Row],[PPP Exchange rate with the US$ (2016)]]), \"n/a\", Table37[[#This Row],[Minimum Hourly Wage Rate (LC)]]*'GDP Deflator 1960-2011'!AZ7/'GDP Deflator 1960-2011'!BD7*1/Table37[[#This Row],[PPP Exchange rate with the US$ (2016)]])","v":1.1455830539286826},2,null,37.537414196783217,217.37269970035692,0.85929729403261956,0.14565994005950209,135.19432516963528,37728,1776.0254360284139,{"$f":"IFERROR(AM12/K12, \"\")","v":17.803952658700947},5.9546400788868192,{"$f":"IFERROR(Table37[[#This Row],[Operating Costs US$ - Bus]]/Table37[[#This Row],[Fare revenue US$- Bus]], \"\")","v":0},{"$f":"IFERROR(Table37[[#This Row],[Operating Costs US$ - Metro]]/Table37[[#This Row],[Fare revenue US$- Metro]], \"\")","v":0},{"$f":"IFERROR(Table37[[#This Row],[Operating Costs US$- LRT]]/Table37[[#This Row],[Fare revenue US$- LRT]], \"\")","v":""},{"$f":"IFERROR(Table37[[#This Row],[Operating Costs US$- Tram]]/Table37[[#This Row],[Fare revenue US$- Tram]], \"\")","v":""},{"$f":"IFERROR(Table37[[#This Row],[Operating Costs US$ - Trolley Bus]]/Table37[[#This Row],[Fare revenue US$- Trolley Buses]], \"\")","v":""},{"$f":"IFERROR((AVERAGEIF(Table37[[#This Row],[Fares for 10 km of journey (2007 US$ PPP) - Bus]:[Fares for 10 km of journey (2007 US$ PPP) - Trolley Bus]], \"<>0\")*40*12)/EO12, \"\")","v":5.5249344684725352E-2},{"$f":"IFERROR((AVERAGEIF(Table37[[#This Row],[Fares for 10 km of journey (2007 US$ PPP) - Regional/Commuter Rail]:[Fares for 10 km of journey (2007 US$ PPP) - BRT]], \"<>0\")*40*12)/EO12, \"\")","v":5.5249344684725366E-2},{"$f":"IFERROR(2*(AVERAGEIF(Table37[[#This Row],[Fares for avg. length of journey (2007 US$ PPP) - Metro]:[Fares for avg. length of journey (2007 US$ PPP) - BRT]], \"<>0\"))/(Table37[[#This Row],[Minimum Hourly Wage rate (PPP $ 2007)]]*8), \"\")","v":0.59294772788933059},8.8015988688943156E-2,15.74,46.88,{"$f":"SUM(AP12:AQ12)+Table37[[#This Row],[Length of mass transit (km) - BRT]]","v":204.10000000000002},5.8599999999999994,28711.415972562463,0.27585636808541414,0.13525513585155735,{"$f":"IFERROR(((AP23*4)+((AR23+AS23)*0.5)+((AQ23+AS23)*1))/I12, \"\")","v":5.4340622929092114E-2},1225.0000000000002,101.74418604651164,3.2469253604749795E-2,2.2376762946418709,0.73906910903430068,2.0242020183741998,3.9071806401176405,1.7888296906562693,0.37,2.59,{"$f":"Table37[[#This Row],[Fares for 10 km of journey (2007 US$ PPP) - Bus]]/10*Table37[[#This Row],[Average trip length by car (km)]]","v":2.7170834757421312},{"$f":"Table37[[#This Row],[Fares for 10 km of journey (2007 US$ PPP) - Regional/Commuter Rail]]/10*Table37[[#This Row],[Average trip length by car (km)]]","v":0},{"$f":"Table37[[#This Row],[Fares for 10 km of journey (2007 US$ PPP) - Metro]]/10*Table37[[#This Row],[Average trip length by car (km)]]","v":2.7170834757421312},{"$f":"Table37[[#This Row],[Fares for 10 km of journey (2007 US$ PPP) - LRT]]/10*Table37[[#This Row],[Average trip length by car (km)]]","v":0},{"$f":"Table37[[#This Row],[Fares for 10 km of journey (2007 US$ PPP) - Tram]]/10*Table37[[#This Row],[Average trip length by car (km)]]","v":0},{"$f":"Table37[[#This Row],[Fares for 10 km of journey (2007 US$ PPP) - BRT]]/10*Table37[[#This Row],[Average trip length by car (km)]]","v":2.7170834757421312},{"$f":"Table37[[#This Row],[Fares for 10 km of journey (2007 US$ PPP) - Trolley Bus]]/10*Table37[[#This Row],[Average trip length by car (km)]]","v":0}]
[null,"Toronto","Canada","OECD",2826497,2481494,5928040,5113149,630,null,5903.63,null,4486.5031746031746,1291200,null,2694617.32,2694617.32,2696436.32,44,1,10,12,0,5,15,13,37.18,44,0.77,null,0.13,0.22,0.43,".",0,0,1.5820000000000001,0.876,5617,9797,450,68.3,368,null,0,0,62,69,691,null,0,0,null,null,2350,null,null,704,653,247,null,0,0,null,2.8875000000000002,3.95,2.8875000000000002,2.8875000000000002,2.8875000000000002,0,0,2.2374461169436257,3.0607488006674703,2.2374461169436257,2.2374461169436257,2.2374461169436257,0,0,1385.86,null,null,null,null,0,0,929.79,null,null,null,null,null,0,57.71,null,null,null,null,null,433.21903338220403,null,611.94750406512185,null,0,330.88743346459148,null,null,410.56287778326077,null,0,0,20.537448010025461,null,null,25.482725859465017,null,83.996998766216024,null,null,null,null,null,0,0,4,0.98,5.0599999999999996,1.05,1.286,0.90400000000000003,0.79,1.0065999999999999,0.68300000000000005,null,null,null,6.1349999999999998,17,43,14,18.32,20.661999999999999,"US-EPA",null,56000,38611,330,{"$f":"Table37[[#This Row],[City GDP (LC Billion)]]*'GDP Deflator 1960-2011'!AZ8/'GDP Deflator 1960-2011'!BD8*1/Table37[[#This Row],[PPP Exchange rate with the US$ (2016)]]","v":253.38884786271393},67197,{"$f":"Table37[[#This Row],[Median Annual household income (LC)]]*'GDP Deflator 1960-2011'!AZ8/'GDP Deflator 1960-2011'!BC8*1/Table37[[#This Row],[PPP Exchange rate with the US$ (2016)]]","v":53274.523417140765},11.4,{"$f":"IF(ISERROR(Table37[[#This Row],[Minimum Hourly Wage Rate (LC)]]*'CPI 1960-2011'!AY8/'CPI 1960-2011'!BC8*1/Table37[[#This Row],[PPP Exchange rate with the US$ (2016)]]), \"n/a\", Table37[[#This Row],[Minimum Hourly Wage Rate (LC)]]*'GDP Deflator 1960-2011'!AZ8/'GDP Deflator 1960-2011'!BD8*1/Table37[[#This Row],[PPP Exchange rate with the US$ (2016)]])","v":8.7534329261664805},1.2,null,0,454.55451042840463,0.39642107678085842,0,480.77128716396652,5617,947.53071841620499,{"$f":"IFERROR(AM13/I13, \"\")","v":8.9158730158730162},0,{"$f":"IFERROR(Table37[[#This Row],[Operating Costs US$ - Bus]]/Table37[[#This Row],[Fare revenue US$- Bus]], \"\")","v":1.3092640867201841},{"$f":"IFERROR(Table37[[#This Row],[Operating Costs US$ - Metro]]/Table37[[#This Row],[Fare revenue US$- Metro]], \"\")","v":""},{"$f":"IFERROR(Table37[[#This Row],[Operating Costs US$- LRT]]/Table37[[#This Row],[Fare revenue US$- LRT]], \"\")","v":1.4905086094709554},{"$f":"IFERROR(Table37[[#This Row],[Operating Costs US$- Tram]]/Table37[[#This Row],[Fare revenue US$- Tram]], \"\")","v":""},{"$f":"IFERROR(Table37[[#This Row],[Operating Costs US$ - Trolley Bus]]/Table37[[#This Row],[Fare revenue US$- Trolley Buses]], \"\")","v":""},{"$f":"IFERROR((AVERAGEIF(Table37[[#This Row],[Fares for 10 km of journey (2007 US$ PPP) - Bus]:[Fares for 10 km of journey (2007 US$ PPP) - Trolley Bus]], \"<>0\")*40*12)/EO13, \"\")","v":2.9862246348720044E-2},{"$f":"IFERROR((AVERAGEIF(Table37[[#This Row],[Fares for 10 km of journey (2007 US$ PPP) - Regional/Commuter Rail]:[Fares for 10 km of journey (2007 US$ PPP) - BRT]], \"<>0\")*40*12)/EO13, \"\")","v":3.0373998554292861E-2},{"$f":"IFERROR(2*(AVERAGEIF(Table37[[#This Row],[Fares for avg. length of journey (2007 US$ PPP) - Metro]:[Fares for avg. length of journey (2007 US$ PPP) - BRT]], \"<>0\"))/(Table37[[#This Row],[Minimum Hourly Wage rate (PPP $ 2007)]]*8), \"\")","v":0.23758749090111511},2.4552588640542852E-2,37.18,44,{"$f":"SUM(AP13:AQ13)+Table37[[#This Row],[Length of mass transit (km) - BRT]]","v":436.3},0.65,1489.8005959202383,0.10964838293938638,0.69253968253968257,0.48253968253968255,0,0,0,0,3.090397500691628,2.8677269384147208,7.2536622559901751,2.3616574786944757,0.98,5.0599999999999996,{"$f":"Table37[[#This Row],[Fares for 10 km of journey (2007 US$ PPP) - Bus]]/10*Table37[[#This Row],[Average trip length by car (km)]]","v":8.3188246627964002},{"$f":"Table37[[#This Row],[Fares for 10 km of journey (2007 US$ PPP) - Regional/Commuter Rail]]/10*Table37[[#This Row],[Average trip length by car (km)]]","v":11.379864040881655},{"$f":"Table37[[#This Row],[Fares for 10 km of journey (2007 US$ PPP) - Metro]]/10*Table37[[#This Row],[Average trip length by car (km)]]","v":8.3188246627964002},{"$f":"Table37[[#This Row],[Fares for 10 km of journey (2007 US$ PPP) - LRT]]/10*Table37[[#This Row],[Average trip length by car (km)]]","v":8.3188246627964002},{"$f":"Table37[[#This Row],[Fares for 10 km of journey (2007 US$ PPP) - Tram]]/10*Table37[[#This Row],[Average trip length by car (km)]]","v":8.3188246627964002},{"$f":"Table37[[#This Row],[Fares for 10 km of journey (2007 US$ PPP) - BRT]]/10*Table37[[#This Row],[Average trip length by car (km)]]","v":0},{"$f":"Table37[[#This Row],[Fares for 10 km of journey (2007 US$ PPP) - Trolley Bus]]/10*Table37[[#This Row],[Average trip length by car (km)]]","v":0}]
[null,"Vancouver","Canada","OECD",14557000,10513000,14657434,13160068,1539,1539,5612,4343,9458.7394411955811,378000,null,1070989.986,1070989.986,1072105.986,48.78,0,7.32,12.2,0,17.07,2.44,12.189999999999998,25.38,43.05,0.59,null,0.65,0,0.23,0,0.2,null,0.71971939452054789,0.31582624383561642,null,106,65,0,68.7,0,27,null,8,0,47,0,null,null,null,null,1500,null,null,0,37,258,0,null,261,null,2.75,3.3624999999999998,0,2.75,0,2.08,null,2.1309010637558337,2.6055108461378147,0,2.1309010637558337,0,2.1309010637558337,0,574.57899999999995,17.931000000000001,0,190.55500000000001,0,null,null,444.73200000000003,null,0,null,0,null,null,{"$error":"#REF!"},null,0,null,0,null,445.2258190224594,0,147.65594625599743,0,null,222.38698612478322,3.3881276808342307,0,118.83575597120418,0,43.64,null,360.02797497371546,5.4851264866671983,0,192.38624220923018,0,5.7901207831683426,3890,null,0,540,0,null,null,null,1.05,3.28,1.2,1.375,1.1339999999999999,0.91,1.1437239792564466,0.85699999999999998,null,null,null,6.4779999999999998,14,37,12,2.4430000000000001,2.6,"US-EPA",null,34938.75,{"$f":"Table37[[#This Row],[City Per Capita GDP (LC)]]*('GDP Deflator 1960-2011'!AZ9/'GDP Deflator 1960-2011'!AU9)*1/Table37[[#This Row],[PPP Exchange rate with the US$ (2016)]]","v":33963.470042649802},119.98,{"$f":"Table37[[#This Row],[City GDP (LC Billion)]]*'GDP Deflator 1960-2011'!AZ9/'GDP Deflator 1960-2011'!AU9*1/Table37[[#This Row],[PPP Exchange rate with the US$ (2016)]]","v":116.63087934505738},66200,{"$f":"Table37[[#This Row],[Median Annual household income (LC)]]*'GDP Deflator 1960-2011'!AZ9/'GDP Deflator 1960-2011'!BC9*1/Table37[[#This Row],[PPP Exchange rate with the US$ (2016)]]","v":52484.090810820708},10.85,{"$f":"IF(ISERROR(Table37[[#This Row],[Minimum Hourly Wage Rate (LC)]]*'CPI 1960-2011'!AY9/'CPI 1960-2011'!BC9*1/Table37[[#This Row],[PPP Exchange rate with the US$ (2016)]]), \"n/a\", Table37[[#This Row],[Minimum Hourly Wage Rate (LC)]]*'GDP Deflator 1960-2011'!AZ9/'GDP Deflator 1960-2011'!BD9*1/Table37[[#This Row],[PPP Exchange rate with the US$ (2016)]])","v":8.3311181797286231},1.2,null,0,73.068040831703556,0.10233714850771287,0,"",0,0,{"$f":"IFERROR(AM14/I14, \"\")","v":0},2.5933333333333333,{"$f":"IFERROR(Table37[[#This Row],[Operating Costs US$ - Bus]]/Table37[[#This Row],[Fare revenue US$- Bus]], \"\")","v":2.0020318040221987},{"$f":"IFERROR(Table37[[#This Row],[Operating Costs US$ - Metro]]/Table37[[#This Row],[Fare revenue US$- Metro]], \"\")","v":""},{"$f":"IFERROR(Table37[[#This Row],[Operating Costs US$- LRT]]/Table37[[#This Row],[Fare revenue US$- LRT]], \"\")","v":1.2425212012096498},{"$f":"IFERROR(Table37[[#This Row],[Operating Costs US$- Tram]]/Table37[[#This Row],[Fare revenue US$- Tram]], \"\")","v":""},{"$f":"IFERROR(Table37[[#This Row],[Operating Costs US$ - Trolley Bus]]/Table37[[#This Row],[Fare revenue US$- Trolley Buses]], \"\")","v":""},{"$f":"IFERROR((AVERAGEIF(Table37[[#This Row],[Fares for 10 km of journey (2007 US$ PPP) - Bus]:[Fares for 10 km of journey (2007 US$ PPP) - Trolley Bus]], \"<>0\")*40*12)/EO14, \"\")","v":3.1792560746375195E-2},{"$f":"IFERROR((AVERAGEIF(Table37[[#This Row],[Fares for 10 km of journey (2007 US$ PPP) - Regional/Commuter Rail]:[Fares for 10 km of journey (2007 US$ PPP) - BRT]], \"<>0\")*40*12)/EO14, \"\")","v":3.2351525754115547E-2},{"$f":"IFERROR(2*(AVERAGEIF(Table37[[#This Row],[Fares for avg. length of journey (2007 US$ PPP) - Metro]:[Fares for avg. length of journey (2007 US$ PPP) - BRT]], \"<>0\"))/(Table37[[#This Row],[Minimum Hourly Wage rate (PPP $ 2007)]]*8), \"\")","v":0.16228994665360971},3.2152191711527577E-2,25.38,43.05,{"$f":"SUM(AP14:AQ14)+Table37[[#This Row],[Length of mass transit (km) - BRT]]","v":95.7},0.43000000000000005,4493.2079414838045,2.9336649238877695E-2,6.2183235867446396E-2,2.1442495126705652E-2,0,0,"",0,0.16667310253622836,0.95514671940532025,2.5243163298569176,0.818697188061703,1.05,3.28,{"$f":"Table37[[#This Row],[Fares for 10 km of journey (2007 US$ PPP) - Bus]]/10*Table37[[#This Row],[Average trip length by car (km)]]","v":5.4082268998123055},{"$f":"Table37[[#This Row],[Fares for 10 km of journey (2007 US$ PPP) - Regional/Commuter Rail]]/10*Table37[[#This Row],[Average trip length by car (km)]]","v":6.6127865274977733},{"$f":"Table37[[#This Row],[Fares for 10 km of journey (2007 US$ PPP) - Metro]]/10*Table37[[#This Row],[Average trip length by car (km)]]","v":0},{"$f":"Table37[[#This Row],[Fares for 10 km of journey (2007 US$ PPP) - LRT]]/10*Table37[[#This Row],[Average trip length by car (km)]]","v":5.4082268998123055},{"$f":"Table37[[#This Row],[Fares for 10 km of journey (2007 US$ PPP) - Tram]]/10*Table37[[#This Row],[Average trip length by car (km)]]","v":0},{"$f":"Table37[[#This Row],[Fares for 10 km of journey (2007 US$ PPP) - BRT]]/10*Table37[[#This Row],[Average trip length by car (km)]]","v":5.4082268998123055},{"$f":"Table37[[#This Row],[Fares for 10 km of journey (2007 US$ PPP) - Trolley Bus]]/10*Table37[[#This Row],[Average trip length by car (km)]]","v":0}]
[null,"Santiago","Chile","LAC",3390000,3384569,6150000,4567857,527,527,527,null,6432.6375711574956,3471265,22634,819174,841808,885928,20.69,3.45,13.79,20.29,0,13.79,20.69,7.3000000000000114,19.5,35,0.11,null,1.6E-2,2.2000000000000002,0,0,0.34079999999999999,0,2.0940575342465753,2.0940575342465753,11396,18334,null,103,0,0,91.85,0,18,108,0,0,0,127,1031,null,6385,null,null,967,13,0,0,null,0,37645,null,900,670,0,0,1.19,0,0,2.0927378679275082,1.5579270794571447,0,0,0.97,0,null,null,null,0,0,null,0,null,null,290,0,0,539,0,null,null,null,0,0,0,null,null,0,0,0,null,4.5120686945985193,402.71251441459992,0,0,69.44,0,null,null,null,0,0,0,1334,null,3266,0,0,null,0,5,0.71,null,736,null,612,1.1000000000000001,1.1040000000000001,0.90100000000000002,null,null,5.35,9.5890000000000004,29,81,64,null,19.591999999999999," Euro V ",157767,null,{"$f":"Table37[[#This Row],[City Per Capita GDP (LC)]]*('GDP Deflator 1960-2011'!AZ10/'GDP Deflator 1960-2011'!BB10)*1/Table37[[#This Row],[PPP Exchange rate with the US$ (2016)]]","v":0},null,{"$f":"Table37[[#This Row],[City GDP (LC Billion)]]*'GDP Deflator 1960-2011'!AZ10/'GDP Deflator 1960-2011'!BD10*1/Table37[[#This Row],[PPP Exchange rate with the US$ (2016)]]","v":0},28257709,{"$f":"Table37[[#This Row],[Median Annual household income (LC)]]*'GDP Deflator 1960-2011'!AZ10/'GDP Deflator 1960-2011'!AY10*1/Table37[[#This Row],[PPP Exchange rate with the US$ (2016)]]","v":75945.765076674827},1466.6659999999999,{"$f":"IF(ISERROR(Table37[[#This Row],[Minimum Hourly Wage Rate (LC)]]*'CPI 1960-2011'!AY10/'CPI 1960-2011'!BC10*1/Table37[[#This Row],[PPP Exchange rate with the US$ (2016)]]), \"n/a\", Table37[[#This Row],[Minimum Hourly Wage Rate (LC)]]*'GDP Deflator 1960-2011'!AZ10/'GDP Deflator 1960-2011'!BD10*1/Table37[[#This Row],[PPP Exchange rate with the US$ (2016)]])","v":3.2504012995149294},390.1,null,3.6803252032520324,133.19902439024389,1.2058536585365853,2.5548351559043173E-2,77.805896805896808,11396,1853.0081300813008,{"$f":"IFERROR(AM15/K15, \"\")","v":21.624288425047439},0.17988133764832795,{"$f":"IFERROR(Table37[[#This Row],[Operating Costs US$ - Bus]]/Table37[[#This Row],[Fare revenue US$- Bus]], \"\")","v":""},{"$f":"IFERROR(Table37[[#This Row],[Operating Costs US$ - Metro]]/Table37[[#This Row],[Fare revenue US$- Metro]], \"\")","v":0},{"$f":"IFERROR(Table37[[#This Row],[Operating Costs US$- LRT]]/Table37[[#This Row],[Fare revenue US$- LRT]], \"\")","v":""},{"$f":"IFERROR(Table37[[#This Row],[Operating Costs US$- Tram]]/Table37[[#This Row],[Fare revenue US$- Tram]], \"\")","v":""},{"$f":"IFERROR(Table37[[#This Row],[Operating Costs US$ - Trolley Bus]]/Table37[[#This Row],[Fare revenue US$- Trolley Buses]], \"\")","v":""},{"$f":"IFERROR((AVERAGEIF(Table37[[#This Row],[Fares for 10 km of journey (2007 US$ PPP) - Bus]:[Fares for 10 km of journey (2007 US$ PPP) - Trolley Bus]], \"<>0\")*40*12)/EO15, \"\")","v":""},{"$f":"IFERROR((AVERAGEIF(Table37[[#This Row],[Fares for 10 km of journey (2007 US$ PPP) - Regional/Commuter Rail]:[Fares for 10 km of journey (2007 US$ PPP) - BRT]], \"<>0\")*40*12)/EO15, \"\")","v":""},{"$f":"IFERROR(2*(AVERAGEIF(Table37[[#This Row],[Fares for avg. length of journey (2007 US$ PPP) - Metro]:[Fares for avg. length of journey (2007 US$ PPP) - BRT]], \"<>0\"))/(Table37[[#This Row],[Minimum Hourly Wage rate (PPP $ 2007)]]*8), \"\")","v":0.18957112332856696},"",19.5,35,{"$f":"SUM(AP15:AQ15)+Table37[[#This Row],[Length of mass transit (km) - BRT]]","v":194.85},2.5407999999999999,13039.774185270722,0.41313821138211382,0.36973434535104366,0.32950664136622393,0,0,0,0,0,4.7154471544715442,13.170731707317074,10.40650406504065,0.71,0,{"$f":"Table37[[#This Row],[Fares for 10 km of journey (2007 US$ PPP) - Bus]]/10*Table37[[#This Row],[Average trip length by car (km)]]","v":0},{"$f":"Table37[[#This Row],[Fares for 10 km of journey (2007 US$ PPP) - Regional/Commuter Rail]]/10*Table37[[#This Row],[Average trip length by car (km)]]","v":4.0808388424586415},{"$f":"Table37[[#This Row],[Fares for 10 km of journey (2007 US$ PPP) - Metro]]/10*Table37[[#This Row],[Average trip length by car (km)]]","v":3.0379578049414322},{"$f":"Table37[[#This Row],[Fares for 10 km of journey (2007 US$ PPP) - LRT]]/10*Table37[[#This Row],[Average trip length by car (km)]]","v":0},{"$f":"Table37[[#This Row],[Fares for 10 km of journey (2007 US$ PPP) - Tram]]/10*Table37[[#This Row],[Average trip length by car (km)]]","v":0},{"$f":"Table37[[#This Row],[Fares for 10 km of journey (2007 US$ PPP) - BRT]]/10*Table37[[#This Row],[Average trip length by car (km)]]","v":1.8915},{"$f":"Table37[[#This Row],[Fares for 10 km of journey (2007 US$ PPP) - Trolley Bus]]/10*Table37[[#This Row],[Average trip length by car (km)]]","v":0}]
[null,"Beijing","China","EAP",12265000,11223000,12265000,11223000,16410.54,16808,4556.84,null,747.38552174395227,9427000,265000,3291000,3556000,4100000,47.62,4.76,0,19.05,0,9.52,14.29,4.7600000000000193,28.3,54.5,13.839561643835616,null,null,5.0587671232876712,0,0,0.30499999999999999,0,19.098328767123288,5.2587671232876714,25765,18743,null,450,9.4,0,74.5,0,null,281,0,0,0,77,null,null,21548,null,null,2463,null,0,0,187,0,66646,1,null,2,0,0,0.3,0,0.2426412153977496,0,0.48528243079549921,0,0,0.4006006466216846,0,null,null,null,0,0,null,0,null,null,null,0,0,11.39,0,null,null,null,0,null,0,null,null,0,0,0,null,null,null,0,0,52603,0,null,null,null,0,null,0,99180,null,null,0,0,null,0,null,0.13,1.38,6.31,null,5.0999999999999996,0.92,0.98,0.76,null,null,{"$f":"1515/15380000*100000","v":9.8504551365409618},3.8220000000000001,100,34,68,null,109.58499999999999,"China 6",null,{"$f":"EP16*10^9/G16","v":115072.15654300856},{"$f":"Table37[[#This Row],[City Per Capita GDP (LC)]]*('GDP Deflator 1960-2011'!AZ11/'GDP Deflator 1960-2011'!BC11)*1/Table37[[#This Row],[PPP Exchange rate with the US$ (2016)]]","v":28759.206173687086},1411.36,{"$f":"Table37[[#This Row],[City GDP (LC Billion)]]*'GDP Deflator 1960-2011'!AZ11/'GDP Deflator 1960-2011'!BC11*1/Table37[[#This Row],[PPP Exchange rate with the US$ (2016)]]","v":352.73166372027208},310398,{"$f":"Table37[[#This Row],[Median Annual household income (LC)]]*'GDP Deflator 1960-2011'!AZ11/'GDP Deflator 1960-2011'!AY11*1/Table37[[#This Row],[PPP Exchange rate with the US$ (2016)]]","v":95426.962008677176},9.08,{"$f":"IF(ISERROR(Table37[[#This Row],[Minimum Hourly Wage Rate (LC)]]*'CPI 1960-2011'!AY11/'CPI 1960-2011'!BC11*1/Table37[[#This Row],[PPP Exchange rate with the US$ (2016)]]), \"n/a\", Table37[[#This Row],[Minimum Hourly Wage Rate (LC)]]*'GDP Deflator 1960-2011'!AZ11/'GDP Deflator 1960-2011'!BD11*1/Table37[[#This Row],[PPP Exchange rate with the US$ (2016)]])","v":2.1080275318191624},3.5,null,21.60619649408887,268.32450061149615,1.756869139828781,6.4634146341463417E-2,137.55156219677858,25765,2100.6930289441498,{"$f":"IFERROR(AM16/I16, \"\")","v":1.570027555461307},4.6027473547428999,{"$f":"IFERROR(Table37[[#This Row],[Operating Costs US$ - Bus]]/Table37[[#This Row],[Fare revenue US$- Bus]], \"\")","v":""},{"$f":"IFERROR(Table37[[#This Row],[Operating Costs US$ - Metro]]/Table37[[#This Row],[Fare revenue US$- Metro]], \"\")","v":""},{"$f":"IFERROR(Table37[[#This Row],[Operating Costs US$- LRT]]/Table37[[#This Row],[Fare revenue US$- LRT]], \"\")","v":""},{"$f":"IFERROR(Table37[[#This Row],[Operating Costs US$- Tram]]/Table37[[#This Row],[Fare revenue US$- Tram]], \"\")","v":""},{"$f":"IFERROR(Table37[[#This Row],[Operating Costs US$ - Trolley Bus]]/Table37[[#This Row],[Fare revenue US$- Trolley Buses]], \"\")","v":""},{"$f":"IFERROR((AVERAGEIF(Table37[[#This Row],[Fares for 10 km of journey (2007 US$ PPP) - Bus]:[Fares for 10 km of journey (2007 US$ PPP) - Trolley Bus]], \"<>0\")*40*12)/EO16, \"\")","v":6.2784725614434466E-3},{"$f":"IFERROR((AVERAGEIF(Table37[[#This Row],[Fares for 10 km of journey (2007 US$ PPP) - Regional/Commuter Rail]:[Fares for 10 km of journey (2007 US$ PPP) - BRT]], \"<>0\")*40*12)/EO16, \"\")","v":7.3928305703601449E-3},{"$f":"IFERROR(2*(AVERAGEIF(Table37[[#This Row],[Fares for avg. length of journey (2007 US$ PPP) - Metro]:[Fares for avg. length of journey (2007 US$ PPP) - BRT]], \"<>0\"))/(Table37[[#This Row],[Minimum Hourly Wage rate (PPP $ 2007)]]*8), \"\")","v":0.14866083763426494},3.8387707690280146E-2,28.3,54.5,{"$f":"SUM(AP16:AQ16)+Table37[[#This Row],[Length of mass transit (km) - BRT]]","v":533.9},5.3637671232876709,10046.389067779868,0.43732304307278203,3.2533969022347828E-2,5.5909190069309113E-3,0,0,0,0,0,8.1532816958825922,2.7721157766000815,5.5442315532001629,0.13,1.38,{"$f":"Table37[[#This Row],[Fares for 10 km of journey (2007 US$ PPP) - Bus]]/10*Table37[[#This Row],[Average trip length by car (km)]]","v":0.68667463957563135},{"$f":"Table37[[#This Row],[Fares for 10 km of journey (2007 US$ PPP) - Regional/Commuter Rail]]/10*Table37[[#This Row],[Average trip length by car (km)]]","v":0},{"$f":"Table37[[#This Row],[Fares for 10 km of journey (2007 US$ PPP) - Metro]]/10*Table37[[#This Row],[Average trip length by car (km)]]","v":1.3733492791512627},{"$f":"Table37[[#This Row],[Fares for 10 km of journey (2007 US$ PPP) - LRT]]/10*Table37[[#This Row],[Average trip length by car (km)]]","v":0},{"$f":"Table37[[#This Row],[Fares for 10 km of journey (2007 US$ PPP) - Tram]]/10*Table37[[#This Row],[Average trip length by car (km)]]","v":0},{"$f":"Table37[[#This Row],[Fares for 10 km of journey (2007 US$ PPP) - BRT]]/10*Table37[[#This Row],[Average trip length by car (km)]]","v":1.1336998299393675},{"$f":"Table37[[#This Row],[Fares for 10 km of journey (2007 US$ PPP) - Trolley Bus]]/10*Table37[[#This Row],[Average trip length by car (km)]]","v":0}]
[null,"Guangzhou","China","EAP",14043500,7126000,44259000,30000000,7434,7434,5082.59,3843.42,1889.0906645143934,null,933000,1610000,2543000,{"$f":"Q17+SUM(BA17:BE17)+BL17","v":2568188},40,null,null,null,11,35,14,0,7,48,null,null,null,4.493150684931507,0,0,0.85,null,5.2931506849315069,5.2931506849315069,5208,6852,null,236,0,0,23,154.55000000000001,null,123,0,0,null,26,null,null,9164,null,null,450,null,0,0,800,279,16024,1.9,0,3.8,0,0,0.6,2,0.46101830925572423,0,0.92203661851144847,0,0,0.3,0.48528243079549921,null,null,null,0,0,null,null,null,null,null,0,0,175.2,null,null,null,null,0,null,0,null,null,0,0,null,null,null,null,0,0,53.5,null,null,null,null,0,null,0,17400,null,6312,0,0,null,null,null,0.56000000000000005,1.63,8,null,5.55,1.1499999999999999,null,0.82,null,null,{"$f":"1738/6172800*100000","v":28.155780196993263},13.727,57,136,72,null,59.256,"China IV",null,139644,{"$f":"Table37[[#This Row],[City Per Capita GDP (LC)]]*('GDP Deflator 1960-2011'!AZ12/'GDP Deflator 1960-2011'!BC12)*1/Table37[[#This Row],[PPP Exchange rate with the US$ (2016)]]","v":34900.280898249686},1960.3,{"$f":"Table37[[#This Row],[City GDP (LC Billion)]]*'GDP Deflator 1960-2011'!AZ12/'GDP Deflator 1960-2011'!BC12*1/Table37[[#This Row],[PPP Exchange rate with the US$ (2016)]]","v":489.9245269745843},262000,{"$f":"Table37[[#This Row],[Median Annual household income (LC)]]*'GDP Deflator 1960-2011'!AZ12/'GDP Deflator 1960-2011'!AY12*1/Table37[[#This Row],[PPP Exchange rate with the US$ (2016)]]","v":80547.761410426028},9.11,{"$f":"IF(ISERROR(Table37[[#This Row],[Minimum Hourly Wage Rate (LC)]]*'CPI 1960-2011'!AY12/'CPI 1960-2011'!BC12*1/Table37[[#This Row],[PPP Exchange rate with the US$ (2016)]]), \"n/a\", Table37[[#This Row],[Minimum Hourly Wage Rate (LC)]]*'GDP Deflator 1960-2011'!AZ12/'GDP Deflator 1960-2011'!BD12*1/Table37[[#This Row],[PPP Exchange rate with the US$ (2016)]])","v":2.1149923804925734},3.5,null,21.080458211889106,36.376782123409924,0.20705393253349602,0.36329116092747105,406.18932411674348,5208,117.67098217311734,{"$f":"IFERROR(AM17/I17, \"\")","v":0.70056497175141241},1.8987341772151898,{"$f":"IFERROR(Table37[[#This Row],[Operating Costs US$ - Bus]]/Table37[[#This Row],[Fare revenue US$- Bus]], \"\")","v":""},{"$f":"IFERROR(Table37[[#This Row],[Operating Costs US$ - Metro]]/Table37[[#This Row],[Fare revenue US$- Metro]], \"\")","v":""},{"$f":"IFERROR(Table37[[#This Row],[Operating Costs US$- LRT]]/Table37[[#This Row],[Fare revenue US$- LRT]], \"\")","v":""},{"$f":"IFERROR(Table37[[#This Row],[Operating Costs US$- Tram]]/Table37[[#This Row],[Fare revenue US$- Tram]], \"\")","v":""},{"$f":"IFERROR(Table37[[#This Row],[Operating Costs US$ - Trolley Bus]]/Table37[[#This Row],[Fare revenue US$- Trolley Buses]], \"\")","v":""},{"$f":"IFERROR((AVERAGEIF(Table37[[#This Row],[Fares for 10 km of journey (2007 US$ PPP) - Bus]:[Fares for 10 km of journey (2007 US$ PPP) - Trolley Bus]], \"<>0\")*40*12)/EO17, \"\")","v":7.4555412257604533E-3},{"$f":"IFERROR((AVERAGEIF(Table37[[#This Row],[Fares for 10 km of journey (2007 US$ PPP) - Regional/Commuter Rail]:[Fares for 10 km of journey (2007 US$ PPP) - BRT]], \"<>0\")*40*12)/EO17, \"\")","v":8.4036225753545898E-3},{"$f":"IFERROR(2*(AVERAGEIF(Table37[[#This Row],[Fares for avg. length of journey (2007 US$ PPP) - Metro]:[Fares for avg. length of journey (2007 US$ PPP) - BRT]], \"<>0\"))/(Table37[[#This Row],[Minimum Hourly Wage rate (PPP $ 2007)]]*8), \"\")","v":5.0557252643552583E-2},3.9541229024010791E-2,7,48,{"$f":"SUM(AP17:AQ17)+Table37[[#This Row],[Length of mass transit (km) - BRT]]","v":259},5.3431506849315067,20629.92542444597,0.12072461386229934,3.4839924670433148E-2,4.2372881355932203E-3,0,0,0,0,0,1.2878736528163763,3.0728213470706525,1.6267877719785806,0.56000000000000005,1.63,{"$f":"Table37[[#This Row],[Fares for 10 km of journey (2007 US$ PPP) - Bus]]/10*Table37[[#This Row],[Average trip length by car (km)]]","v":0.32271281647900696},{"$f":"Table37[[#This Row],[Fares for 10 km of journey (2007 US$ PPP) - Regional/Commuter Rail]]/10*Table37[[#This Row],[Average trip length by car (km)]]","v":0},{"$f":"Table37[[#This Row],[Fares for 10 km of journey (2007 US$ PPP) - Metro]]/10*Table37[[#This Row],[Average trip length by car (km)]]","v":0.64542563295801392},{"$f":"Table37[[#This Row],[Fares for 10 km of journey (2007 US$ PPP) - LRT]]/10*Table37[[#This Row],[Average trip length by car (km)]]","v":0},{"$f":"Table37[[#This Row],[Fares for 10 km of journey (2007 US$ PPP) - Tram]]/10*Table37[[#This Row],[Average trip length by car (km)]]","v":0},{"$f":"Table37[[#This Row],[Fares for 10 km of journey (2007 US$ PPP) - BRT]]/10*Table37[[#This Row],[Average trip length by car (km)]]","v":0.21},{"$f":"Table37[[#This Row],[Fares for 10 km of journey (2007 US$ PPP) - Trolley Bus]]/10*Table37[[#This Row],[Average trip length by car (km)]]","v":0.33969770155684942}]
[null,"Hong Kong","China","EAP",{"$f":"16320*I18","v":1315392},1268122,7331699,6813000,80.599999999999994,80.5,122.78,110.4,16320.000000000002,null,38617,434843,473460,690089,13.89,2.78,0,11.11,0,36.11,27.78,8.3299999999999983,24,39,2.7,null,null,4.0999999999999996,0.44,0.2,0,0,7.4023150684931505,4.6318876712328771,2086,175,null,221.1,16,30,0,0,null,154,68,120,0,0,null,null,6883,4350,null,1731,670,119,164,0,0,18138,5.2,7.3,7.3,4,2.2999999999999998,0,0,0.83663807890223107,1.1745111492281319,1.1745111492281319,0.64356775300171609,0.37005145797598671,0,0,6221.84,null,10288,null,"not available",0,0,6177.1350000000002,null,13357,null,"not available",0,0,1018.88,null,20066,null,0,null,1640.4144839021021,913.90502646029972,101.98064744206121,"not available",0,1823.9516242412449,null,1186.5308552128911,132.40236274140858,"not available",0,0,1410.9756701024364,null,1782.5056630008139,198.90587787445568,0,null,12000,null,9244,null,700,0,0,11,0.64,3.05,14.54,null,11.2,1.85,1.8149999999999999,1.67,null,null,2.1,2.57,16,61,49,19.600000000000001,19.600000000000001,"Euro 4",null,285146,{"$f":"Table37[[#This Row],[City Per Capita GDP (LC)]]*('GDP Deflator 1960-2011'!AZ13/'GDP Deflator 1960-2011'!BC13)*1/Table37[[#This Row],[PPP Exchange rate with the US$ (2016)]]","v":80402.343710316476},2138,{"$f":"Table37[[#This Row],[City GDP (LC Billion)]]*'GDP Deflator 1960-2011'!AZ13/'GDP Deflator 1960-2011'!BD13*1/Table37[[#This Row],[PPP Exchange rate with the US$ (2016)]]","v":582.88859303998458},322182,{"$f":"Table37[[#This Row],[Median Annual household income (LC)]]*'GDP Deflator 1960-2011'!AZ13/'GDP Deflator 1960-2011'!AY13*1/Table37[[#This Row],[PPP Exchange rate with the US$ (2016)]]","v":94746.869900550941},28,{"$f":"IF(ISERROR(Table37[[#This Row],[Minimum Hourly Wage Rate (LC)]]*'CPI 1960-2011'!AY13/'CPI 1960-2011'!BC13*1/Table37[[#This Row],[PPP Exchange rate with the US$ (2016)]]), \"n/a\", Table37[[#This Row],[Minimum Hourly Wage Rate (LC)]]*'GDP Deflator 1960-2011'!AZ13/'GDP Deflator 1960-2011'!BD13*1/Table37[[#This Row],[PPP Exchange rate with the US$ (2016)]])","v":7.6337140341999845},3.5,null,5.26712839684226,59.309990767487868,1.5321141798101641,5.5959448708789737E-2,239.87152444870566,2086,284.5179541604204,{"$f":"IFERROR(AM18/K18, \"\")","v":16.989737742303305},1.0682809578919257,{"$f":"IFERROR(Table37[[#This Row],[Operating Costs US$ - Bus]]/Table37[[#This Row],[Fare revenue US$- Bus]], \"\")","v":0.8993738990114426},{"$f":"IFERROR(Table37[[#This Row],[Operating Costs US$ - Metro]]/Table37[[#This Row],[Fare revenue US$- Metro]], \"\")","v":0.77023283671483123},{"$f":"IFERROR(Table37[[#This Row],[Operating Costs US$- LRT]]/Table37[[#This Row],[Fare revenue US$- LRT]], \"\")","v":0.77023283671483123},{"$f":"IFERROR(Table37[[#This Row],[Operating Costs US$- Tram]]/Table37[[#This Row],[Fare revenue US$- Tram]], \"\")","v":""},{"$f":"IFERROR(Table37[[#This Row],[Operating Costs US$ - Trolley Bus]]/Table37[[#This Row],[Fare revenue US$- Trolley Buses]], \"\")","v":""},{"$f":"IFERROR((AVERAGEIF(Table37[[#This Row],[Fares for 10 km of journey (2007 US$ PPP) - Bus]:[Fares for 10 km of journey (2007 US$ PPP) - Trolley Bus]], \"<>0\")*40*12)/EO18, \"\")","v":5.0139190212256093E-3},{"$f":"IFERROR((AVERAGEIF(Table37[[#This Row],[Fares for 10 km of journey (2007 US$ PPP) - Regional/Commuter Rail]:[Fares for 10 km of journey (2007 US$ PPP) - BRT]], \"<>0\")*40*12)/EO18, \"\")","v":5.0187216256520695E-3},{"$f":"IFERROR(2*(AVERAGEIF(Table37[[#This Row],[Fares for avg. length of journey (2007 US$ PPP) - Metro]:[Fares for avg. length of journey (2007 US$ PPP) - BRT]], \"<>0\"))/(Table37[[#This Row],[Minimum Hourly Wage rate (PPP $ 2007)]]*8), \"\")","v":5.7328067318286741E-2},2.7611135416630277E-2,24,39,{"$f":"SUM(AP18:AQ18)+Table37[[#This Row],[Length of mass transit (km) - BRT]]","v":237.1},4.74,17746.162485960314,0.64650771942492458,2.9416873449131513,11.53225806451613,0,0,0,0,2.6733230592254267,2.1823045381432054,8.3200360516709697,6.6833076480635665,0.64,3.05,{"$f":"Table37[[#This Row],[Fares for 10 km of journey (2007 US$ PPP) - Bus]]/10*Table37[[#This Row],[Average trip length by car (km)]]","v":2.0079313893653548},{"$f":"Table37[[#This Row],[Fares for 10 km of journey (2007 US$ PPP) - Regional/Commuter Rail]]/10*Table37[[#This Row],[Average trip length by car (km)]]","v":2.8188267581475168},{"$f":"Table37[[#This Row],[Fares for 10 km of journey (2007 US$ PPP) - Metro]]/10*Table37[[#This Row],[Average trip length by car (km)]]","v":2.8188267581475168},{"$f":"Table37[[#This Row],[Fares for 10 km of journey (2007 US$ PPP) - LRT]]/10*Table37[[#This Row],[Average trip length by car (km)]]","v":1.5445626072041188},{"$f":"Table37[[#This Row],[Fares for 10 km of journey (2007 US$ PPP) - Tram]]/10*Table37[[#This Row],[Average trip length by car (km)]]","v":0.8881234991423681},{"$f":"Table37[[#This Row],[Fares for 10 km of journey (2007 US$ PPP) - BRT]]/10*Table37[[#This Row],[Average trip length by car (km)]]","v":0},{"$f":"Table37[[#This Row],[Fares for 10 km of journey (2007 US$ PPP) - Trolley Bus]]/10*Table37[[#This Row],[Average trip length by car (km)]]","v":0}]
[null,"Kunming","China","EAP",3780000,2990000,6626000,6120000,2081,null,21473,null,1816.4344065353196,null,null,1300000,1300000,{"$f":"Q19+SUM(BA19:BE19)+BL19","v":1300450},10.77,4.9000000000000004,31.02,33.83,2.1,14.63,null,2.7500000000000142,null,null,null,null,null,null,0,0,0.156,0,{"$f":"SUM(AC19:AD19, AF19:AJ19)","v":0.156},{"$f":"SUM(AF19:AJ19)","v":0.156},null,null,null,null,0,0,46.7,0,null,null,0,0,0,63,null,null,450,null,null,null,null,0,0,156,0,null,1,0,null,0,0,0.19,0,0.2426412153977496,0,0,0,0,0.29274662637738491,0,null,null,null,0,0,null,0,null,null,null,0,0,10.82,0,null,null,null,0,null,0,null,null,0,0,0,null,null,null,0,0,22.812166666666666,0,null,null,null,0,null,0,null,null,null,0,0,null,0,null,null,null,8,null,5.55,1.1200000000000001,null,0.82,null,null,{"$f":"431/2298800*100000","v":18.748912476074473},null,19,33,82,null,null,"China IV",null,{"$f":"EP19*10^9/G19","v":32001.207364926049},{"$f":"Table37[[#This Row],[City Per Capita GDP (LC)]]*('GDP Deflator 1960-2011'!AZ14/'GDP Deflator 1960-2011'!BC14)*1/Table37[[#This Row],[PPP Exchange rate with the US$ (2016)]]","v":7997.8454220665099},212.04,{"$f":"Table37[[#This Row],[City GDP (LC Billion)]]*'GDP Deflator 1960-2011'!AZ14/'GDP Deflator 1960-2011'!BC14*1/Table37[[#This Row],[PPP Exchange rate with the US$ (2016)]]","v":52.993723766612682},262000,{"$f":"Table37[[#This Row],[Median Annual household income (LC)]]*'GDP Deflator 1960-2011'!AZ14/'GDP Deflator 1960-2011'!AY14*1/Table37[[#This Row],[PPP Exchange rate with the US$ (2016)]]","v":80547.761410426028},{"$f":"950/(20*8)","v":5.9375},{"$f":"IF(ISERROR(Table37[[#This Row],[Minimum Hourly Wage Rate (LC)]]*'CPI 1960-2011'!AY14/'CPI 1960-2011'!BC14*1/Table37[[#This Row],[PPP Exchange rate with the US$ (2016)]]), \"n/a\", Table37[[#This Row],[Minimum Hourly Wage Rate (LC)]]*'GDP Deflator 1960-2011'!AZ14/'GDP Deflator 1960-2011'!BD14*1/Table37[[#This Row],[PPP Exchange rate with the US$ (2016)]])","v":1.3784596332793255},3.5,null,0,196.19680048294597,6.7914277090250524E-2,0,"",0,0,{"$f":"IFERROR(AM19/I19, \"\")","v":0},0,{"$f":"IFERROR(Table37[[#This Row],[Operating Costs US$ - Bus]]/Table37[[#This Row],[Fare revenue US$- Bus]], \"\")","v":""},{"$f":"IFERROR(Table37[[#This Row],[Operating Costs US$ - Metro]]/Table37[[#This Row],[Fare revenue US$- Metro]], \"\")","v":""},{"$f":"IFERROR(Table37[[#This Row],[Operating Costs US$- LRT]]/Table37[[#This Row],[Fare revenue US$- LRT]], \"\")","v":""},{"$f":"IFERROR(Table37[[#This Row],[Operating Costs US$- Tram]]/Table37[[#This Row],[Fare revenue US$- Tram]], \"\")","v":""},{"$f":"IFERROR(Table37[[#This Row],[Operating Costs US$ - Trolley Bus]]/Table37[[#This Row],[Fare revenue US$- Trolley Buses]], \"\")","v":""},{"$f":"IFERROR((AVERAGEIF(Table37[[#This Row],[Fares for 10 km of journey (2007 US$ PPP) - Bus]:[Fares for 10 km of journey (2007 US$ PPP) - Trolley Bus]], \"<>0\")*40*12)/EO19, \"\")","v":1.6065962174201639E-2},{"$f":"IFERROR((AVERAGEIF(Table37[[#This Row],[Fares for 10 km of journey (2007 US$ PPP) - Regional/Commuter Rail]:[Fares for 10 km of journey (2007 US$ PPP) - BRT]], \"<>0\")*40*12)/EO19, \"\")","v":1.7569529447699322E-2},{"$f":"IFERROR(2*(AVERAGEIF(Table37[[#This Row],[Fares for avg. length of journey (2007 US$ PPP) - Metro]:[Fares for avg. length of journey (2007 US$ PPP) - BRT]], \"<>0\"))/(Table37[[#This Row],[Minimum Hourly Wage rate (PPP $ 2007)]]*8), \"\")","v":""},0.16804525832567704,0,0,{"$f":"SUM(AP19:AQ19)+Table37[[#This Row],[Length of mass transit (km) - BRT]]","v":46.7},0.156,3340.4710920770876,2.3543616057953517E-2,2.2441134070158578E-2,{"$f":"IFERROR(((AP34*4)+((AR34+AS34)*0.5)+((AQ34+AS34)*1))/I19, \"\")","v":0},0,0,"",0,0,2.8674916993661337,4.9803803199517054,12.375490492001209,0,0,{"$f":"Table37[[#This Row],[Fares for 10 km of journey (2007 US$ PPP) - Bus]]/10*Table37[[#This Row],[Average trip length by car (km)]]","v":0},{"$f":"Table37[[#This Row],[Fares for 10 km of journey (2007 US$ PPP) - Regional/Commuter Rail]]/10*Table37[[#This Row],[Average trip length by car (km)]]","v":0},{"$f":"Table37[[#This Row],[Fares for 10 km of journey (2007 US$ PPP) - Metro]]/10*Table37[[#This Row],[Average trip length by car (km)]]","v":0},{"$f":"Table37[[#This Row],[Fares for 10 km of journey (2007 US$ PPP) - LRT]]/10*Table37[[#This Row],[Average trip length by car (km)]]","v":0},{"$f":"Table37[[#This Row],[Fares for 10 km of journey (2007 US$ PPP) - Tram]]/10*Table37[[#This Row],[Average trip length by car (km)]]","v":0},{"$f":"Table37[[#This Row],[Fares for 10 km of journey (2007 US$ PPP) - BRT]]/10*Table37[[#This Row],[Average trip length by car (km)]]","v":0},{"$f":"Table37[[#This Row],[Fares for 10 km of journey (2007 US$ PPP) - Trolley Bus]]/10*Table37[[#This Row],[Average trip length by car (km)]]","v":0}]
[null,"Shanghai","China","EAP",24260000,13271400,24387272,16760000,6341,6218.65,4688.72,3885,3825.8949692477527,8283500,1201300,1190000,2391300,{"$f":"Q20+SUM(BA20:BE20)+BL20","v":2458762},40,0,0,15,0,15,20,10,24.9,25.33,7.6920000000000002,null,null,5.1618356164383563,0,null,0,null,12.853835616438356,5.1618356164383563,14619,23130,null,453,0,10,0,null,null,282,0,15,328.04232804232805,0,null,null,17455,null,null,2842,null,0,27,0,null,50007,2,null,4,0,2,0,null,0.48528243079549921,0,0.97056486159099842,0,0.48528243079549921,0,0,null,null,null,0,null,0,null,null,null,null,0,null,null,null,null,null,null,0,null,0,null,null,0,null,null,null,null,null,0,null,null,null,null,null,null,0,null,0,74000,null,2700,0,null,0,null,null,0.15,2.0699999999999998,6.27,null,5.0999999999999996,0.87,null,0.76,null,null,{"$f":"1393/17784200*100000","v":7.8327954026607891},8.234,53,73,84,null,147.77000000000001,"China IV",null,{"$f":"EP20*10^9/G20","v":70389.176780412337},{"$f":"Table37[[#This Row],[City Per Capita GDP (LC)]]*('GDP Deflator 1960-2011'!AZ15/'GDP Deflator 1960-2011'!BC15)*1/Table37[[#This Row],[PPP Exchange rate with the US$ (2016)]]","v":17591.891107623276},1716.6,{"$f":"Table37[[#This Row],[City GDP (LC Billion)]]*'GDP Deflator 1960-2011'!AZ15/'GDP Deflator 1960-2011'!BC15*1/Table37[[#This Row],[PPP Exchange rate with the US$ (2016)]]","v":429.01823343599011},262000,{"$f":"Table37[[#This Row],[Median Annual household income (LC)]]*'GDP Deflator 1960-2011'!AZ15/'GDP Deflator 1960-2011'!AY15*1/Table37[[#This Row],[PPP Exchange rate with the US$ (2016)]]","v":80547.761410426028},12.5,{"$f":"IF(ISERROR(Table37[[#This Row],[Minimum Hourly Wage Rate (LC)]]*'CPI 1960-2011'!AY15/'CPI 1960-2011'!BC15*1/Table37[[#This Row],[PPP Exchange rate with the US$ (2016)]]), \"n/a\", Table37[[#This Row],[Minimum Hourly Wage Rate (LC)]]*'GDP Deflator 1960-2011'!AZ15/'GDP Deflator 1960-2011'!BD15*1/Table37[[#This Row],[PPP Exchange rate with the US$ (2016)]])","v":2.9020202805880539},3.5,null,49.259302147448068,48.79594568839024,0.71574221175701813,0.4885792118147263,128.89352896914974,14619,599.45204203241758,{"$f":"IFERROR(AM20/I20, \"\")","v":2.3054723229774483},4.2394729303924379,{"$f":"IFERROR(Table37[[#This Row],[Operating Costs US$ - Bus]]/Table37[[#This Row],[Fare revenue US$- Bus]], \"\")","v":""},{"$f":"IFERROR(Table37[[#This Row],[Operating Costs US$ - Metro]]/Table37[[#This Row],[Fare revenue US$- Metro]], \"\")","v":""},{"$f":"IFERROR(Table37[[#This Row],[Operating Costs US$- LRT]]/Table37[[#This Row],[Fare revenue US$- LRT]], \"\")","v":""},{"$f":"IFERROR(Table37[[#This Row],[Operating Costs US$- Tram]]/Table37[[#This Row],[Fare revenue US$- Tram]], \"\")","v":""},{"$f":"IFERROR(Table37[[#This Row],[Operating Costs US$ - Trolley Bus]]/Table37[[#This Row],[Fare revenue US$- Trolley Buses]], \"\")","v":""},{"$f":"IFERROR((AVERAGEIF(Table37[[#This Row],[Fares for 10 km of journey (2007 US$ PPP) - Bus]:[Fares for 10 km of journey (2007 US$ PPP) - Trolley Bus]], \"<>0\")*40*12)/EO20, \"\")","v":1.7654767972872021E-2},{"$f":"IFERROR((AVERAGEIF(Table37[[#This Row],[Fares for 10 km of journey (2007 US$ PPP) - Regional/Commuter Rail]:[Fares for 10 km of journey (2007 US$ PPP) - BRT]], \"<>0\")*40*12)/EO20, \"\")","v":1.986161396948102E-2},{"$f":"IFERROR(2*(AVERAGEIF(Table37[[#This Row],[Fares for avg. length of journey (2007 US$ PPP) - Metro]:[Fares for avg. length of journey (2007 US$ PPP) - BRT]], \"<>0\"))/(Table37[[#This Row],[Minimum Hourly Wage rate (PPP $ 2007)]]*8), \"\")","v":0.15614379843805792},5.9345524231194942E-2,24.9,25.33,{"$f":"SUM(AP20:AQ20)+Table37[[#This Row],[Length of mass transit (km) - BRT]]","v":453},5.1618356164383563,11148.673037663837,0.21166105074968436,7.1439835988014511E-2,{"$f":"IFERROR(((AP30*4)+((AR30+AS30)*0.5)+((AQ30+AS30)*1))/I20, \"\")","v":9.5694685380854752E-2},0,0,0,0,0,2.1732648079703214,2.993364735506292,3.4444196956510758,0.15,2.0699999999999998,{"$f":"Table37[[#This Row],[Fares for 10 km of journey (2007 US$ PPP) - Bus]]/10*Table37[[#This Row],[Average trip length by car (km)]]","v":1.208353252680793},{"$f":"Table37[[#This Row],[Fares for 10 km of journey (2007 US$ PPP) - Regional/Commuter Rail]]/10*Table37[[#This Row],[Average trip length by car (km)]]","v":0},{"$f":"Table37[[#This Row],[Fares for 10 km of journey (2007 US$ PPP) - Metro]]/10*Table37[[#This Row],[Average trip length by car (km)]]","v":2.4167065053615859},{"$f":"Table37[[#This Row],[Fares for 10 km of journey (2007 US$ PPP) - LRT]]/10*Table37[[#This Row],[Average trip length by car (km)]]","v":0},{"$f":"Table37[[#This Row],[Fares for 10 km of journey (2007 US$ PPP) - Tram]]/10*Table37[[#This Row],[Average trip length by car (km)]]","v":1.208353252680793},{"$f":"Table37[[#This Row],[Fares for 10 km of journey (2007 US$ PPP) - BRT]]/10*Table37[[#This Row],[Average trip length by car (km)]]","v":0},{"$f":"Table37[[#This Row],[Fares for 10 km of journey (2007 US$ PPP) - Trolley Bus]]/10*Table37[[#This Row],[Average trip length by car (km)]]","v":0}]
[null,"Wuhan","China","EAP",8370000,7582300,8174063,7582300,8494.41,8494,1837.23,null,985.3538974454965,4686000,232670,318195,550865,{"$f":"Q21+SUM(BA21:BE21)+BL21","v":557862},15.6,null,20.5,40.5,0,23.4,null,0," ",null,4.5372602739726027,null,null,1.9450000000000001,0,0,0,null,4.7372602739726029,0.2,2542,1092,null,184.3,95.5,0,0,null,null,130,74,0,null,0,null,null,6997,null,null,null,null,302,0,0,244,null,2,null,null,0,0,0,null,0.48528243079549921,0,0,0,0,0,0,1910,null,null,0,0,0,null,1630,null,null,0,0,null,null,null,null,null,0,null,0,501.1652993189133,null,0,0,null,427.6960407800151,null,null,0,0,null,null,null,null,null,0,null,0,null,null,null,0,0,0,null,null,null,null,7,null,5.4,0.99,null,0.8,{"$f":"2988/835.55*10","v":35.760876069654721},{"$f":"371/835.55*10","v":4.4401890970019746},{"$f":"413/818.84*10","v":5.0437203849347858},{"$f":"569/781.19*10","v":7.2837593927213611},40,43,124,null,null,"China IV",null,{"$f":"EP21*10^9/G21","v":68092.208244541296},{"$f":"Table37[[#This Row],[City Per Capita GDP (LC)]]*('GDP Deflator 1960-2011'!AZ16/'GDP Deflator 1960-2011'!BC16)*1/Table37[[#This Row],[PPP Exchange rate with the US$ (2016)]]","v":17017.825289426},556.59,{"$f":"Table37[[#This Row],[City GDP (LC Billion)]]*'GDP Deflator 1960-2011'!AZ16/'GDP Deflator 1960-2011'!BC16*1/Table37[[#This Row],[PPP Exchange rate with the US$ (2016)]]","v":139.10477603876137},250000,{"$f":"Table37[[#This Row],[Median Annual household income (LC)]]*'GDP Deflator 1960-2011'!AZ16/'GDP Deflator 1960-2011'!BB16*1/Table37[[#This Row],[PPP Exchange rate with the US$ (2016)]]","v":66657.095807901089},7.45,{"$f":"IF(ISERROR(Table37[[#This Row],[Minimum Hourly Wage Rate (LC)]]*'CPI 1960-2011'!AY16/'CPI 1960-2011'!BC16*1/Table37[[#This Row],[PPP Exchange rate with the US$ (2016)]]), \"n/a\", Table37[[#This Row],[Minimum Hourly Wage Rate (LC)]]*'GDP Deflator 1960-2011'!AZ16/'GDP Deflator 1960-2011'!BD16*1/Table37[[#This Row],[PPP Exchange rate with the US$ (2016)]])","v":1.7296040872304801},3.5,null,28.4644246074443,38.927397550031117,0.85600025348471132,0.41707447361533856,177.82159716758457,2542,310.98365647536605,{"$f":"IFERROR(AM21/I21, \"\")","v":0.29925562811307671},0,{"$f":"IFERROR(Table37[[#This Row],[Operating Costs US$ - Bus]]/Table37[[#This Row],[Fare revenue US$- Bus]], \"\")","v":1.1717791411042942},{"$f":"IFERROR(Table37[[#This Row],[Operating Costs US$ - Metro]]/Table37[[#This Row],[Fare revenue US$- Metro]], \"\")","v":""},{"$f":"IFERROR(Table37[[#This Row],[Operating Costs US$- LRT]]/Table37[[#This Row],[Fare revenue US$- LRT]], \"\")","v":""},{"$f":"IFERROR(Table37[[#This Row],[Operating Costs US$- Tram]]/Table37[[#This Row],[Fare revenue US$- Tram]], \"\")","v":""},{"$f":"IFERROR(Table37[[#This Row],[Operating Costs US$ - Trolley Bus]]/Table37[[#This Row],[Fare revenue US$- Trolley Buses]], \"\")","v":""},{"$f":"IFERROR((AVERAGEIF(Table37[[#This Row],[Fares for 10 km of journey (2007 US$ PPP) - Bus]:[Fares for 10 km of journey (2007 US$ PPP) - Trolley Bus]], \"<>0\")*40*12)/EO21, \"\")","v":1.3687739932703022E-2},{"$f":"IFERROR((AVERAGEIF(Table37[[#This Row],[Fares for 10 km of journey (2007 US$ PPP) - Regional/Commuter Rail]:[Fares for 10 km of journey (2007 US$ PPP) - BRT]], \"<>0\")*40*12)/EO21, \"\")","v":""},{"$f":"IFERROR(2*(AVERAGEIF(Table37[[#This Row],[Fares for avg. length of journey (2007 US$ PPP) - Metro]:[Fares for avg. length of journey (2007 US$ PPP) - BRT]], \"<>0\"))/(Table37[[#This Row],[Minimum Hourly Wage rate (PPP $ 2007)]]*8), \"\")","v":""},6.9809154800652584E-2," ",0,{"$f":"SUM(AP21:AQ21)+Table37[[#This Row],[Length of mass transit (km) - BRT]]","v":279.8},1.9450000000000001,6951.3938527519658,0.23794776233067938,3.2939309498835119E-2,{"$f":"IFERROR(((AP31*4)+((AR31+AS31)*0.5)+((AQ31+AS31)*1))/I21, \"\")","v":5.0068221336149306E-2},371.6438274190653,44.40189097001975,0.14620134831591869,6.6619312198906773,0,4.8935272458751538,5.2605417893157904,15.169934462212977,0,0,{"$f":"Table37[[#This Row],[Fares for 10 km of journey (2007 US$ PPP) - Bus]]/10*Table37[[#This Row],[Average trip length by car (km)]]","v":{"$error":"#VALUE!"}},{"$f":"Table37[[#This Row],[Fares for 10 km of journey (2007 US$ PPP) - Regional/Commuter Rail]]/10*Table37[[#This Row],[Average trip length by car (km)]]","v":{"$error":"#VALUE!"}},{"$f":"Table37[[#This Row],[Fares for 10 km of journey (2007 US$ PPP) - Metro]]/10*Table37[[#This Row],[Average trip length by car (km)]]","v":{"$error":"#VALUE!"}},{"$f":"Table37[[#This Row],[Fares for 10 km of journey (2007 US$ PPP) - LRT]]/10*Table37[[#This Row],[Average trip length by car (km)]]","v":{"$error":"#VALUE!"}},{"$f":"Table37[[#This Row],[Fares for 10 km of journey (2007 US$ PPP) - Tram]]/10*Table37[[#This Row],[Average trip length by car (km)]]","v":{"$error":"#VALUE!"}},{"$f":"Table37[[#This Row],[Fares for 10 km of journey (2007 US$ PPP) - BRT]]/10*Table37[[#This Row],[Average trip length by car (km)]]","v":{"$error":"#VALUE!"}},{"$f":"Table37[[#This Row],[Fares for 10 km of journey (2007 US$ PPP) - Trolley Bus]]/10*Table37[[#This Row],[Average trip length by car (km)]]","v":{"$error":"#VALUE!"}}]
[null,"Bogota","Colombia","LAC",7760500,6302881,9155100,6840116,null,null,307,null,{"$error":"#DIV/0!"},3293000,116197,958281,1074478,1139309,18.75,3.12,15.62,18.75,0,37.5,0,6.2599999999999909,11.67,30.5,1.9,null,null,0,0,0,2.2132360000000002,null,2.7388520583333333,2.09,7749,663,null,0,0,0,113,null,null,0,0,0,null,189,1390,null,null,null,null,0,null,0,0,1392,null,48907,null,0,0,0,0,1700,0,0,0,0,0,0,0.66,0,null,null,0,0,0,null,null,2295,null,0,0,0,262.39,null,null,null,0,0,0,0,null,0,0,0,null,966.97670262606312,null,0,0,0,3114.7027778252614,null,null,null,0,0,0,0,21235,null,0,0,0,null,null,6.5,1.31,2.08,2.1139999999999999,null,3346.63,0.72,1.5827411877897315,1.1499999999999999,null,null,6.94,20.45,21.7,32.9,52,12.359,15.757,"Euro 4",null,{"$f":"(EP22*10^9/G22)","v":14622163.493571889},{"$f":"Table37[[#This Row],[City Per Capita GDP (LC)]]*('GDP Deflator 1960-2011'!AZ17/'GDP Deflator 1960-2011'!BC17)*1/Table37[[#This Row],[PPP Exchange rate with the US$ (2016)]]","v":10093.848685052228},{"$f":"70.3*1904.23","v":133867.36900000001},{"$f":"Table37[[#This Row],[City GDP (LC Billion)]]*'GDP Deflator 1960-2011'!AZ17/'GDP Deflator 1960-2011'!BC17*1/Table37[[#This Row],[PPP Exchange rate with the US$ (2016)]]","v":92.410194096521664},70199310,{"$f":"Table37[[#This Row],[Median Annual household income (LC)]]*'GDP Deflator 1960-2011'!AZ17/'GDP Deflator 1960-2011'!AY17*1/Table37[[#This Row],[PPP Exchange rate with the US$ (2016)]]","v":59141.149240335551},15369.1,{"$f":"IF(ISERROR(Table37[[#This Row],[Minimum Hourly Wage Rate (LC)]]*'CPI 1960-2011'!AY17/'CPI 1960-2011'!BC17*1/Table37[[#This Row],[PPP Exchange rate with the US$ (2016)]]), \"n/a\", Table37[[#This Row],[Minimum Hourly Wage Rate (LC)]]*'GDP Deflator 1960-2011'!AZ17/'GDP Deflator 1960-2011'!BD17*1/Table37[[#This Row],[PPP Exchange rate with the US$ (2016)]])","v":10.059108080995966},1246.8,null,12.692051424888859,104.67182226300095,0.15182794289521687,0.10198901263836238,137.9225061298232,7749,846.41347445686017,{"$f":"IFERROR(AM22/K22, \"\")","v":25.241042345276874},15.276978417266188,{"$f":"IFERROR(Table37[[#This Row],[Operating Costs US$ - Bus]]/Table37[[#This Row],[Fare revenue US$- Bus]], \"\")","v":0},{"$f":"IFERROR(Table37[[#This Row],[Operating Costs US$ - Metro]]/Table37[[#This Row],[Fare revenue US$- Metro]], \"\")","v":""},{"$f":"IFERROR(Table37[[#This Row],[Operating Costs US$- LRT]]/Table37[[#This Row],[Fare revenue US$- LRT]], \"\")","v":""},{"$f":"IFERROR(Table37[[#This Row],[Operating Costs US$- Tram]]/Table37[[#This Row],[Fare revenue US$- Tram]], \"\")","v":""},{"$f":"IFERROR(Table37[[#This Row],[Operating Costs US$ - Trolley Bus]]/Table37[[#This Row],[Fare revenue US$- Trolley Buses]], \"\")","v":""},{"$f":"IFERROR((AVERAGEIF(Table37[[#This Row],[Fares for 10 km of journey (2007 US$ PPP) - Bus]:[Fares for 10 km of journey (2007 US$ PPP) - Trolley Bus]], \"<>0\")*40*12)/EO22, \"\")","v":3.1385451663164178E-2},{"$f":"IFERROR((AVERAGEIF(Table37[[#This Row],[Fares for 10 km of journey (2007 US$ PPP) - Regional/Commuter Rail]:[Fares for 10 km of journey (2007 US$ PPP) - BRT]], \"<>0\")*40*12)/EO22, \"\")","v":3.1385451663164178E-2},{"$f":"IFERROR(2*(AVERAGEIF(Table37[[#This Row],[Fares for avg. length of journey (2007 US$ PPP) - Metro]:[Fares for avg. length of journey (2007 US$ PPP) - BRT]], \"<>0\"))/(Table37[[#This Row],[Minimum Hourly Wage rate (PPP $ 2007)]]*8), \"\")","v":1.9142353223521074E-2},8.5596686354084128E-2,11.67,30.5,{"$f":"SUM(AP22:AQ22)+Table37[[#This Row],[Length of mass transit (km) - BRT]]","v":113},2.2132360000000002,19586.159292035398,0.24174897051916419,"",{"$f":"IFERROR(((AP32*4)+((AR32+AS32)*0.5)+((AQ32+AS32)*1))/I22, \"\")","v":""},0,0,0,0,1.34995794693668,2.3702635689397167,3.5936254109731189,5.6798942665836529,1.31,2.08,{"$f":"Table37[[#This Row],[Fares for 10 km of journey (2007 US$ PPP) - Bus]]/10*Table37[[#This Row],[Average trip length by car (km)]]","v":0},{"$f":"Table37[[#This Row],[Fares for 10 km of journey (2007 US$ PPP) - Regional/Commuter Rail]]/10*Table37[[#This Row],[Average trip length by car (km)]]","v":0},{"$f":"Table37[[#This Row],[Fares for 10 km of journey (2007 US$ PPP) - Metro]]/10*Table37[[#This Row],[Average trip length by car (km)]]","v":0},{"$f":"Table37[[#This Row],[Fares for 10 km of journey (2007 US$ PPP) - LRT]]/10*Table37[[#This Row],[Average trip length by car (km)]]","v":0},{"$f":"Table37[[#This Row],[Fares for 10 km of journey (2007 US$ PPP) - Tram]]/10*Table37[[#This Row],[Average trip length by car (km)]]","v":0},{"$f":"Table37[[#This Row],[Fares for 10 km of journey (2007 US$ PPP) - BRT]]/10*Table37[[#This Row],[Average trip length by car (km)]]","v":0.77022000000000002},{"$f":"Table37[[#This Row],[Fares for 10 km of journey (2007 US$ PPP) - Trolley Bus]]/10*Table37[[#This Row],[Average trip length by car (km)]]","v":0}]
[null,"Copenhagen","Denmark","OECD",602481,500531,2036717,1713624,74.7,88.25,2546.3000000000002,2561.27,8065.3413654618471,308374,{"$f":"7364+2092","v":9456},120113,129569,174145,16.13,0,41.94,12.9,0,9.68,12.9,6.4499999999999886,23.2,35.200000000000003,{"$f":"199/365","v":0.54520547945205478},null,{"$f":"89.7/365","v":0.24575342465753425},0.13700000000000001,0,0,0,null,0.68220547945205479,0.13700000000000001,700,4500,169,20.5,0,0,0,null,85,22,0,0,null,0,15,31,{"$f":"624+238+30+2","v":894},null,null,{"$f":"34*3","v":102},{"$f":"162","v":162},0,0,0,null,{"$f":"476+1625","v":2101},{"$f":"145/10","v":14.5},{"$f":"145/10","v":14.5},{"$f":"145/10","v":14.5},0,0,0,0,1.530921744809933,1.530921744809933,1.530921744809933,0,0,0,0,null,null,"not available",0,0,0,null,null,null,"not available",0,0,null,null,null,null,"not available",0,"not available",0,null,null,0,0,null,null,null,null,0,0,null,null,null,null,null,0,null,0,3000,{"$f":"2136","v":2136},250,0,0,0,null,null,0.78,1.8,10.3,13.54,9.6999999999999993,1.54,null,1.45,{"$f":"204/528208*100000","v":38.621149244237117},{"$f":"(14/528208)*100000","v":2.6504710265652927},{"$f":"(19/501158)*100000","v":3.7912195355556531},{"$f":"31/495699*100000","v":6.2537951458445544},7,19.8,27,1.4,2.1240000000000001,"Euro 6b",188400,323734,{"$f":"Table37[[#This Row],[City Per Capita GDP (LC)]]*('GDP Deflator 1960-2011'!AZ19/'GDP Deflator 1960-2011'!BD19)*1/Table37[[#This Row],[PPP Exchange rate with the US$ (2016)]]","v":40782.563716766468},391.4,{"$f":"Table37[[#This Row],[City GDP (LC Billion)]]*'GDP Deflator 1960-2011'!AZ18/'GDP Deflator 1960-2011'!BC18*1/Table37[[#This Row],[PPP Exchange rate with the US$ (2016)]]","v":53.239617489179381},456613,{"$f":"Table37[[#This Row],[Median Annual household income (LC)]]*'GDP Deflator 1960-2011'!AZ19/'GDP Deflator 1960-2011'!AY19*1/Table37[[#This Row],[PPP Exchange rate with the US$ (2016)]]","v":64863.676242546899},110,{"$f":"IF(ISERROR(Table37[[#This Row],[Minimum Hourly Wage Rate (LC)]]*'CPI 1960-2011'!AY18/'CPI 1960-2011'!BC18*1/Table37[[#This Row],[PPP Exchange rate with the US$ (2016)]]), \"n/a\", Table37[[#This Row],[Minimum Hourly Wage Rate (LC)]]*'GDP Deflator 1960-2011'!AZ18/'GDP Deflator 1960-2011'!BD18*1/Table37[[#This Row],[PPP Exchange rate with the US$ (2016)]])","v":15.074152018423089},7.2,null,4.6427657843480468,58.97382896101913,0.46152705555067297,5.4299577937925295E-2,184.70285714285714,700,343.69036051645861,{"$f":"IFERROR(AM23/I23, \"\")","v":9.3708165997322617},3.1914893617021276,{"$f":"IFERROR(Table37[[#This Row],[Operating Costs US$ - Bus]]/Table37[[#This Row],[Fare revenue US$- Bus]], \"\")","v":""},{"$f":"IFERROR(Table37[[#This Row],[Operating Costs US$ - Metro]]/Table37[[#This Row],[Fare revenue US$- Metro]], \"\")","v":""},{"$f":"IFERROR(Table37[[#This Row],[Operating Costs US$- LRT]]/Table37[[#This Row],[Fare revenue US$- LRT]], \"\")","v":""},{"$f":"IFERROR(Table37[[#This Row],[Operating Costs US$- Tram]]/Table37[[#This Row],[Fare revenue US$- Tram]], \"\")","v":""},{"$f":"IFERROR(Table37[[#This Row],[Operating Costs US$ - Trolley Bus]]/Table37[[#This Row],[Fare revenue US$- Trolley Buses]], \"\")","v":""},{"$f":"IFERROR((AVERAGEIF(Table37[[#This Row],[Fares for 10 km of journey (2007 US$ PPP) - Bus]:[Fares for 10 km of journey (2007 US$ PPP) - Trolley Bus]], \"<>0\")*40*12)/EO23, \"\")","v":1.80185444596427E-2},{"$f":"IFERROR((AVERAGEIF(Table37[[#This Row],[Fares for 10 km of journey (2007 US$ PPP) - Regional/Commuter Rail]:[Fares for 10 km of journey (2007 US$ PPP) - BRT]], \"<>0\")*40*12)/EO23, \"\")","v":1.80185444596427E-2},{"$f":"IFERROR(2*(AVERAGEIF(Table37[[#This Row],[Fares for avg. length of journey (2007 US$ PPP) - Metro]:[Fares for avg. length of journey (2007 US$ PPP) - BRT]], \"<>0\"))/(Table37[[#This Row],[Minimum Hourly Wage rate (PPP $ 2007)]]*8), \"\")","v":5.8904448549050005E-2},4.5313482811779507E-2,23.2,35.200000000000003,{"$f":"SUM(AP23:AQ23)+Table37[[#This Row],[Length of mass transit (km) - BRT]]","v":20.5},0.13700000000000001,6682.9268292682927,6.7265113415364036E-2,0.27443105756358765,{"$f":"IFERROR(((AP35*4)+((AR35+AS35)*0.5)+((AQ35+AS35)*1))/I23, \"\")","v":2.9491298527443108},15.96858434556084,26.504710265652925,2.28122633508012E-2,0.91697059034487582,0.68738072103291714,3.436903605164586,9.7215273403226874,13.256628191349117,0.78,1.8,{"$f":"Table37[[#This Row],[Fares for 10 km of journey (2007 US$ PPP) - Bus]]/10*Table37[[#This Row],[Average trip length by car (km)]]","v":3.5517384479590444},{"$f":"Table37[[#This Row],[Fares for 10 km of journey (2007 US$ PPP) - Regional/Commuter Rail]]/10*Table37[[#This Row],[Average trip length by car (km)]]","v":3.5517384479590444},{"$f":"Table37[[#This Row],[Fares for 10 km of journey (2007 US$ PPP) - Metro]]/10*Table37[[#This Row],[Average trip length by car (km)]]","v":3.5517384479590444},{"$f":"Table37[[#This Row],[Fares for 10 km of journey (2007 US$ PPP) - LRT]]/10*Table37[[#This Row],[Average trip length by car (km)]]","v":0},{"$f":"Table37[[#This Row],[Fares for 10 km of journey (2007 US$ PPP) - Tram]]/10*Table37[[#This Row],[Average trip length by car (km)]]","v":0},{"$f":"Table37[[#This Row],[Fares for 10 km of journey (2007 US$ PPP) - BRT]]/10*Table37[[#This Row],[Average trip length by car (km)]]","v":0},{"$f":"Table37[[#This Row],[Fares for 10 km of journey (2007 US$ PPP) - Trolley Bus]]/10*Table37[[#This Row],[Average trip length by car (km)]]","v":0}]
[null,"Cairo","Egypt","MENA",9500000,7216387,20439541,17290000,214,null,3974,null,44392.523364485984,null,175687,1017223,1192910,1494725,61.54,0,0,6.62,0,16.920000000000002,3.08,11.840000000000003,28.71,52.75,2.65,0.33600000000000002,1.4,2.1452054794520548,0,null,0,null,3.7506849315068491,2.1452054794520548,24609,1450,null,76,0,null,0,null,null,55,0,null,null,0,null,null,1788,499,null,87,null,0,91,0,null,71075,null,null,1,0,null,0,0,0,0,0.34309641189637663,0,0,0,0,null,null,null,0,null,0,null,null,null,null,0,null,null,null,null,null,null,0,null,0,null,null,0,null,null,null,null,null,0,null,null,null,null,null,null,0,null,0,29860,null,6000,0,null,0,null,null,0.73,1.66,2.9,null,1.8,0.33,0.309,118.83,null,null,null,11.412000000000001,13.4,76,179,8.23,43.279000000000003,"Euro 3",null,null,{"$f":"Table37[[#This Row],[City Per Capita GDP (LC)]]*('GDP Deflator 1960-2011'!AZ20/'GDP Deflator 1960-2011'!BB20)*1/Table37[[#This Row],[PPP Exchange rate with the US$ (2016)]]","v":0},null,{"$f":"Table37[[#This Row],[City GDP (LC Billion)]]*'GDP Deflator 1960-2011'!AZ20/'GDP Deflator 1960-2011'!BC20*1/Table37[[#This Row],[PPP Exchange rate with the US$ (2016)]]","v":0},106325,{"$f":"Table37[[#This Row],[Median Annual household income (LC)]]*'GDP Deflator 1960-2011'!AZ20/'GDP Deflator 1960-2011'!AY20*1/Table37[[#This Row],[PPP Exchange rate with the US$ (2016)]]","v":66509.678119897624},{"$f":"700/(20*8)","v":4.375},{"$f":"IF(ISERROR(Table37[[#This Row],[Minimum Hourly Wage Rate (LC)]]*'CPI 1960-2011'!AY20/'CPI 1960-2011'!BC20*1/Table37[[#This Row],[PPP Exchange rate with the US$ (2016)]]), \"n/a\", Table37[[#This Row],[Minimum Hourly Wage Rate (LC)]]*'GDP Deflator 1960-2011'!AZ20/'GDP Deflator 1960-2011'!BD20*1/Table37[[#This Row],[PPP Exchange rate with the US$ (2016)]])","v":1.5913994728301557},1.8,null,8.5954474222292951,49.767409160509033,0.11189096663178492,0.11753800866380103,48.025478483481656,24609,1203.9898547623941,{"$f":"IFERROR(AM24/K24, \"\")","v":6.192501258178158},13.056405771753388,{"$f":"IFERROR(Table37[[#This Row],[Operating Costs US$ - Bus]]/Table37[[#This Row],[Fare revenue US$- Bus]], \"\")","v":""},{"$f":"IFERROR(Table37[[#This Row],[Operating Costs US$ - Metro]]/Table37[[#This Row],[Fare revenue US$- Metro]], \"\")","v":""},{"$f":"IFERROR(Table37[[#This Row],[Operating Costs US$- LRT]]/Table37[[#This Row],[Fare revenue US$- LRT]], \"\")","v":""},{"$f":"IFERROR(Table37[[#This Row],[Operating Costs US$- Tram]]/Table37[[#This Row],[Fare revenue US$- Tram]], \"\")","v":""},{"$f":"IFERROR(Table37[[#This Row],[Operating Costs US$ - Trolley Bus]]/Table37[[#This Row],[Fare revenue US$- Trolley Buses]], \"\")","v":""},{"$f":"IFERROR((AVERAGEIF(Table37[[#This Row],[Fares for 10 km of journey (2007 US$ PPP) - Bus]:[Fares for 10 km of journey (2007 US$ PPP) - Trolley Bus]], \"<>0\")*40*12)/EO24, \"\")","v":""},{"$f":"IFERROR((AVERAGEIF(Table37[[#This Row],[Fares for 10 km of journey (2007 US$ PPP) - Regional/Commuter Rail]:[Fares for 10 km of journey (2007 US$ PPP) - BRT]], \"<>0\")*40*12)/EO24, \"\")","v":""},{"$f":"IFERROR(2*(AVERAGEIF(Table37[[#This Row],[Fares for avg. length of journey (2007 US$ PPP) - Metro]:[Fares for avg. length of journey (2007 US$ PPP) - BRT]], \"<>0\"))/(Table37[[#This Row],[Minimum Hourly Wage rate (PPP $ 2007)]]*8), \"\")","v":0.15474269901615487},"",28.71,52.75,{"$f":"SUM(AP24:AQ24)+Table37[[#This Row],[Length of mass transit (km) - BRT]]","v":76},2.1452054794520548,28226.387887527038,0.10495370123292176,0.35514018691588783,1.0132009345794393,0,0,0,0,0.40265092058574115,0.65559202136682027,3.718283106259578,8.7575352107955844,0.73,1.66,{"$f":"Table37[[#This Row],[Fares for 10 km of journey (2007 US$ PPP) - Bus]]/10*Table37[[#This Row],[Average trip length by car (km)]]","v":0},{"$f":"Table37[[#This Row],[Fares for 10 km of journey (2007 US$ PPP) - Regional/Commuter Rail]]/10*Table37[[#This Row],[Average trip length by car (km)]]","v":0},{"$f":"Table37[[#This Row],[Fares for 10 km of journey (2007 US$ PPP) - Metro]]/10*Table37[[#This Row],[Average trip length by car (km)]]","v":0.98502979855449724},{"$f":"Table37[[#This Row],[Fares for 10 km of journey (2007 US$ PPP) - LRT]]/10*Table37[[#This Row],[Average trip length by car (km)]]","v":0},{"$f":"Table37[[#This Row],[Fares for 10 km of journey (2007 US$ PPP) - Tram]]/10*Table37[[#This Row],[Average trip length by car (km)]]","v":0},{"$f":"Table37[[#This Row],[Fares for 10 km of journey (2007 US$ PPP) - BRT]]/10*Table37[[#This Row],[Average trip length by car (km)]]","v":0},{"$f":"Table37[[#This Row],[Fares for 10 km of journey (2007 US$ PPP) - Trolley Bus]]/10*Table37[[#This Row],[Average trip length by car (km)]]","v":0}]
[null,"Tallinn","Estonia","OECD",411603,401646,530530,531095,148.19999999999999,158.30000000000001,4333.1000000000004,4298.8,2777.3481781376522,212259,2637,190712,193349,239841.0681,40,0,7,17,0,30.8,5.2,0,8,11,0.1745205479452055,null,1.7000000000000001E-2,0,0,7.1780821917808213E-2,0,9.2876712328767125E-2,0.33917808219178081,0.16465753424657534,3452,522.1,795,0,0,66,0,134.30000000000001,126,0,0,null,null,0,null,null,335,null,null,0,38,0,113,0,129,null,0.46250000000000002,null,0,0,0.46250000000000002,0,0.46250000000000002,0.43109488889191394,0,0,0,0.43109488889191394,0,0.43109488889191394,null,null,0,0,null,0,null,null,null,0,0,null,null,null,null,null,0,0,0,0,null,0,0,null,null,null,null,0,0,null,null,null,null,null,0,0,0,0,1072,285,0,0,171,0,454,10,1.1599999999999999,null,1.04,null,1.119,1.1599999999999999,0.945125206959883,1.25,134,4,5,7,null,10.1,14,null,null,"Euro 5",{"$f":"3573/2.4","v":1488.75},15400,{"$f":"Table37[[#This Row],[City Per Capita GDP (LC)]]*('GDP Deflator 1960-2011'!AZ21/'GDP Deflator 1960-2011'!BB21)*1/Table37[[#This Row],[PPP Exchange rate with the US$ (2016)]]","v":29537.97763618343},20.5,{"$f":"Table37[[#This Row],[City GDP (LC Billion)]]*'GDP Deflator 1960-2011'!AZ21/'GDP Deflator 1960-2011'!BB21*1/Table37[[#This Row],[PPP Exchange rate with the US$ (2016)]]","v":39.320035165049369},23595,{"$f":"Table37[[#This Row],[Median Annual household income (LC)]]*'GDP Deflator 1960-2011'!AZ21/'GDP Deflator 1960-2011'!BB21*1/Table37[[#This Row],[PPP Exchange rate with the US$ (2016)]]","v":45256.401449723897},2.44,{"$f":"IF(ISERROR(Table37[[#This Row],[Minimum Hourly Wage Rate (LC)]]*'CPI 1960-2011'!AY20/'CPI 1960-2011'!BC20*1/Table37[[#This Row],[PPP Exchange rate with the US$ (2016)]]), \"n/a\", Table37[[#This Row],[Minimum Hourly Wage Rate (LC)]]*'GDP Deflator 1960-2011'!AZ20/'GDP Deflator 1960-2011'!BD20*1/Table37[[#This Row],[PPP Exchange rate with the US$ (2016)]])","v":3.1951663929920202},0.5,null,4.9705011969162909,359.47448777637459,0.63144402767044272,1.099478092259213E-2,55.871378910776365,3452,6506.7008463234879,{"$f":"IFERROR(AM25/I25, \"\")","v":23.292847503373821},3.2,{"$f":"IFERROR(Table37[[#This Row],[Operating Costs US$ - Bus]]/Table37[[#This Row],[Fare revenue US$- Bus]], \"\")","v":""},{"$f":"IFERROR(Table37[[#This Row],[Operating Costs US$ - Metro]]/Table37[[#This Row],[Fare revenue US$- Metro]], \"\")","v":""},{"$f":"IFERROR(Table37[[#This Row],[Operating Costs US$- LRT]]/Table37[[#This Row],[Fare revenue US$- LRT]], \"\")","v":""},{"$f":"IFERROR(Table37[[#This Row],[Operating Costs US$- Tram]]/Table37[[#This Row],[Fare revenue US$- Tram]], \"\")","v":""},{"$f":"IFERROR(Table37[[#This Row],[Operating Costs US$ - Trolley Bus]]/Table37[[#This Row],[Fare revenue US$- Trolley Buses]], \"\")","v":""},{"$f":"IFERROR((AVERAGEIF(Table37[[#This Row],[Fares for 10 km of journey (2007 US$ PPP) - Bus]:[Fares for 10 km of journey (2007 US$ PPP) - Trolley Bus]], \"<>0\")*40*12)/EO25, \"\")","v":7.0054067078254888E-3},{"$f":"IFERROR((AVERAGEIF(Table37[[#This Row],[Fares for 10 km of journey (2007 US$ PPP) - Regional/Commuter Rail]:[Fares for 10 km of journey (2007 US$ PPP) - BRT]], \"<>0\")*40*12)/EO25, \"\")","v":7.0054067078254888E-3},{"$f":"IFERROR(2*(AVERAGEIF(Table37[[#This Row],[Fares for avg. length of journey (2007 US$ PPP) - Metro]:[Fares for avg. length of journey (2007 US$ PPP) - BRT]], \"<>0\"))/(Table37[[#This Row],[Minimum Hourly Wage rate (PPP $ 2007)]]*8), \"\")","v":2.6984190234188569E-2},4.7125772019504401E-2,8,11,{"$f":"SUM(AP25:AQ25)+Table37[[#This Row],[Length of mass transit (km) - BRT]]","v":0},7.1780821917808213E-2,1087.5882108758819,0.13530021283962868,0,0,16.464120000000001,40,4.7694438006952496E-3,0.68645958469195134,0,0,19.037566207377527,26.388705633988653,1.1599999999999999,0,{"$f":"Table37[[#This Row],[Fares for 10 km of journey (2007 US$ PPP) - Bus]]/10*Table37[[#This Row],[Average trip length by car (km)]]","v":0.34487591111353116},{"$f":"Table37[[#This Row],[Fares for 10 km of journey (2007 US$ PPP) - Regional/Commuter Rail]]/10*Table37[[#This Row],[Average trip length by car (km)]]","v":0},{"$f":"Table37[[#This Row],[Fares for 10 km of journey (2007 US$ PPP) - Metro]]/10*Table37[[#This Row],[Average trip length by car (km)]]","v":0},{"$f":"Table37[[#This Row],[Fares for 10 km of journey (2007 US$ PPP) - LRT]]/10*Table37[[#This Row],[Average trip length by car (km)]]","v":0},{"$f":"Table37[[#This Row],[Fares for 10 km of journey (2007 US$ PPP) - Tram]]/10*Table37[[#This Row],[Average trip length by car (km)]]","v":0.34487591111353116},{"$f":"Table37[[#This Row],[Fares for 10 km of journey (2007 US$ PPP) - BRT]]/10*Table37[[#This Row],[Average trip length by car (km)]]","v":0},{"$f":"Table37[[#This Row],[Fares for 10 km of journey (2007 US$ PPP) - Trolley Bus]]/10*Table37[[#This Row],[Average trip length by car (km)]]","v":0.34487591111353116}]
[null,"Helsinki","Finland","OECD",628208,560905,1092404,1022139,213,null,769.5,null,2949.3333333333335,319286,12696,240175,252871,253468,37.9,1,9.5,12.5,0,null,37.799999999999997,1.3000000000000114,13,26,0.246,null,0.28599999999999998,0.152,0,0.158,0.03,null,0.4472054794520548,0.30172602739726029,null,450,173,21.1,0,96,27.5,null,52,17,0,288,null,0,null,null,447,null,null,74,277,0,132,0,null,1077,1.395,1.395,1.395,0,1.395,3.52,0,1.4220663827287501,1.4220663827287501,1.4220663827287501,0,1.4220663827287501,0,0,null,null,"not available",0,"not available",0,null,null,null,"not available",0,"not available",null,null,null,null,"not available",0,"not available",0,null,null,0,null,null,null,null,null,0,null,22.16,null,null,null,null,0,null,0,1068,9500,110,0,540,0,null,6.9,1.23,1.82,1.4,null,1.3839999999999999,1.55,null,1.54,null,null,2,4.7140000000000004,4,19.2,19,2.7890000000000001,null,"Euro 6b",28966,50200,{"$f":"Table37[[#This Row],[City Per Capita GDP (LC)]]*('GDP Deflator 1960-2011'!AZ22/'GDP Deflator 1960-2011'!BB22)*1/Table37[[#This Row],[PPP Exchange rate with the US$ (2016)]]","v":53440.936606393603},80.959999999999994,{"$f":"Table37[[#This Row],[City GDP (LC Billion)]]*'GDP Deflator 1960-2011'!AZ22/'GDP Deflator 1960-2011'!BB22*1/Table37[[#This Row],[PPP Exchange rate with the US$ (2016)]]","v":86.18681728393679},44200,{"$f":"Table37[[#This Row],[Median Annual household income (LC)]]*'GDP Deflator 1960-2011'!AZ22/'GDP Deflator 1960-2011'!BC22*1/Table37[[#This Row],[PPP Exchange rate with the US$ (2016)]]","v":46853.168201691318},"No universal minimum wage in Finland",{"$f":"IF(ISERROR(Table37[[#This Row],[Minimum Hourly Wage Rate (LC)]]*'CPI 1960-2011'!AY22/'CPI 1960-2011'!BC22*1/Table37[[#This Row],[PPP Exchange rate with the US$ (2016)]]), \"n/a\", Table37[[#This Row],[Minimum Hourly Wage Rate (LC)]]*'GDP Deflator 1960-2011'!AZ22/'GDP Deflator 1960-2011'!BD22*1/Table37[[#This Row],[PPP Exchange rate with the US$ (2016)]])","v":"n/a"},0.9,null,11.622073884753261,219.85913636346993,0.40918927429778723,5.0089163129073494E-2,"",0,0,0,2.3892617449664431,{"$f":"IFERROR(Table37[[#This Row],[Operating Costs US$ - Bus]]/Table37[[#This Row],[Fare revenue US$- Bus]], \"\")","v":""},{"$f":"IFERROR(Table37[[#This Row],[Operating Costs US$ - Metro]]/Table37[[#This Row],[Fare revenue US$- Metro]], \"\")","v":""},{"$f":"IFERROR(Table37[[#This Row],[Operating Costs US$- LRT]]/Table37[[#This Row],[Fare revenue US$- LRT]], \"\")","v":""},{"$f":"IFERROR(Table37[[#This Row],[Operating Costs US$- Tram]]/Table37[[#This Row],[Fare revenue US$- Tram]], \"\")","v":""},{"$f":"IFERROR(Table37[[#This Row],[Operating Costs US$ - Trolley Bus]]/Table37[[#This Row],[Fare revenue US$- Trolley Buses]], \"\")","v":""},{"$f":"IFERROR((AVERAGEIF(Table37[[#This Row],[Fares for 10 km of journey (2007 US$ PPP) - Bus]:[Fares for 10 km of journey (2007 US$ PPP) - Trolley Bus]], \"<>0\")*40*12)/EO26, \"\")","v":1.2772827481248441E-2},{"$f":"IFERROR((AVERAGEIF(Table37[[#This Row],[Fares for 10 km of journey (2007 US$ PPP) - Regional/Commuter Rail]:[Fares for 10 km of journey (2007 US$ PPP) - BRT]], \"<>0\")*40*12)/EO26, \"\")","v":1.2772827481248441E-2},{"$f":"IFERROR(2*(AVERAGEIF(Table37[[#This Row],[Fares for avg. length of journey (2007 US$ PPP) - Metro]:[Fares for avg. length of journey (2007 US$ PPP) - BRT]], \"<>0\"))/(Table37[[#This Row],[Minimum Hourly Wage rate (PPP $ 2007)]]*8), \"\")","v":""},3.4804779221954581E-2,13,26,{"$f":"SUM(AP26:AQ26)+Table37[[#This Row],[Length of mass transit (km) - BRT]]","v":48.6},0.33999999999999997,2351.3139695712307,0.31124016389540859,0.22816901408450704,0.27464788732394368,0,0,"",0,2.5530847561891021,3.6616489870048081,17.575915137623078,17.39283268827284,1.23,1.82,{"$f":"Table37[[#This Row],[Fares for 10 km of journey (2007 US$ PPP) - Bus]]/10*Table37[[#This Row],[Average trip length by car (km)]]","v":1.848686297547375},{"$f":"Table37[[#This Row],[Fares for 10 km of journey (2007 US$ PPP) - Regional/Commuter Rail]]/10*Table37[[#This Row],[Average trip length by car (km)]]","v":1.848686297547375},{"$f":"Table37[[#This Row],[Fares for 10 km of journey (2007 US$ PPP) - Metro]]/10*Table37[[#This Row],[Average trip length by car (km)]]","v":1.848686297547375},{"$f":"Table37[[#This Row],[Fares for 10 km of journey (2007 US$ PPP) - LRT]]/10*Table37[[#This Row],[Average trip length by car (km)]]","v":0},{"$f":"Table37[[#This Row],[Fares for 10 km of journey (2007 US$ PPP) - Tram]]/10*Table37[[#This Row],[Average trip length by car (km)]]","v":1.848686297547375},{"$f":"Table37[[#This Row],[Fares for 10 km of journey (2007 US$ PPP) - BRT]]/10*Table37[[#This Row],[Average trip length by car (km)]]","v":0},{"$f":"Table37[[#This Row],[Fares for 10 km of journey (2007 US$ PPP) - Trolley Bus]]/10*Table37[[#This Row],[Average trip length by car (km)]]","v":0},"1,930 staff at HKL/HST that operates bus, metro, tram, train and ferry."]
[null,"Marseille","France","OECD",855393,"797,491  \n",1831500,1846878,240.62,240.62,3179.51,3179.51,3554.9538691713074,458747,null,456994,456994,457589,57.67,2.7,4.01,11.7,0,null,10.8,13.11999999999999,8,30,0.191,null,null,0.20399999999999999,0,4.2575342465753424E-2,0,1.8082191780821918E-2,0.49863013698630143,0.26465753424657534,null,673,null,21.5,0,11.5,0,null,null,28,0,28,null,0,null,null,595,null,null,144,null,0,26,0,null,null,1.6,null,0.6,0,0.6,0,0,1.7,0,0.62485824704648529,0,0.62485824704648529,0,0,null,null,null,0,null,0,null,null,null,null,0,null,null,null,null,null,null,0,null,0,null,null,0,null,null,null,null,null,0,null,null,null,null,null,null,0,null,0,3600,null,118,0,90,0,null,7.6,1.22,3.73,1.44,null,1.323,1.61,null,1.47,12,null,6,9.3930000000000007,null,34.700000000000003,29,null,null,"Euro 6b",24947,30500,{"$f":"Table37[[#This Row],[City Per Capita GDP (LC)]]*('GDP Deflator 1960-2011'!AZ23/'GDP Deflator 1960-2011'!BB23)*1/Table37[[#This Row],[PPP Exchange rate with the US$ (2016)]]","v":42189.206093564651},152.77000000000001,{"$f":"Table37[[#This Row],[City GDP (LC Billion)]]*'GDP Deflator 1960-2011'!AZ23/'GDP Deflator 1960-2011'!BB23*1/Table37[[#This Row],[PPP Exchange rate with the US$ (2016)]]","v":211.31950868570073},{"$f":"4450*12","v":53400},{"$f":"Table37[[#This Row],[Median Annual household income (LC)]]*'GDP Deflator 1960-2011'!AZ23/'GDP Deflator 1960-2011'!AT23*1/Table37[[#This Row],[PPP Exchange rate with the US$ (2016)]]","v":86355.383053190788},9.76,{"$f":"IF(ISERROR(Table37[[#This Row],[Minimum Hourly Wage Rate (LC)]]*'CPI 1960-2011'!AY23/'CPI 1960-2011'!BC23*1/Table37[[#This Row],[PPP Exchange rate with the US$ (2016)]]), \"n/a\", Table37[[#This Row],[Minimum Hourly Wage Rate (LC)]]*'GDP Deflator 1960-2011'!AZ23/'GDP Deflator 1960-2011'!BD23*1/Table37[[#This Row],[PPP Exchange rate with the US$ (2016)]])","v":13.183337183691425},0.7,null,0,249.5189735189735,0.32487032487032486,0,"",0,0,0,6.0504201680672267,{"$f":"IFERROR(Table37[[#This Row],[Operating Costs US$ - Bus]]/Table37[[#This Row],[Fare revenue US$- Bus]], \"\")","v":""},{"$f":"IFERROR(Table37[[#This Row],[Operating Costs US$ - Metro]]/Table37[[#This Row],[Fare revenue US$- Metro]], \"\")","v":""},{"$f":"IFERROR(Table37[[#This Row],[Operating Costs US$- LRT]]/Table37[[#This Row],[Fare revenue US$- LRT]], \"\")","v":""},{"$f":"IFERROR(Table37[[#This Row],[Operating Costs US$- Tram]]/Table37[[#This Row],[Fare revenue US$- Tram]], \"\")","v":""},{"$f":"IFERROR(Table37[[#This Row],[Operating Costs US$ - Trolley Bus]]/Table37[[#This Row],[Fare revenue US$- Trolley Buses]], \"\")","v":""},{"$f":"IFERROR((AVERAGEIF(Table37[[#This Row],[Fares for 10 km of journey (2007 US$ PPP) - Bus]:[Fares for 10 km of journey (2007 US$ PPP) - Trolley Bus]], \"<>0\")*40*12)/EO27, \"\")","v":1.1186620530573699E-2},{"$f":"IFERROR((AVERAGEIF(Table37[[#This Row],[Fares for 10 km of journey (2007 US$ PPP) - Regional/Commuter Rail]:[Fares for 10 km of journey (2007 US$ PPP) - BRT]], \"<>0\")*40*12)/EO27, \"\")","v":7.1092107757880557E-3},{"$f":"IFERROR(2*(AVERAGEIF(Table37[[#This Row],[Fares for avg. length of journey (2007 US$ PPP) - Metro]:[Fares for avg. length of journey (2007 US$ PPP) - BRT]], \"<>0\"))/(Table37[[#This Row],[Minimum Hourly Wage rate (PPP $ 2007)]]*8), \"\")","v":9.4795155178079224E-3},4.5793703624460912E-2,8,30,{"$f":"SUM(AP27:AQ27)+Table37[[#This Row],[Length of mass transit (km) - BRT]]","v":21.5},0.24657534246575341,7471.9800747198005,0.13463027161657298,8.9352506026099246E-2,0,0,0,"",0,0,0,18.946218946218949,15.834015834015835,1.22,3.73,{"$f":"Table37[[#This Row],[Fares for 10 km of journey (2007 US$ PPP) - Bus]]/10*Table37[[#This Row],[Average trip length by car (km)]]","v":1.3599999999999999},{"$f":"Table37[[#This Row],[Fares for 10 km of journey (2007 US$ PPP) - Regional/Commuter Rail]]/10*Table37[[#This Row],[Average trip length by car (km)]]","v":0},{"$f":"Table37[[#This Row],[Fares for 10 km of journey (2007 US$ PPP) - Metro]]/10*Table37[[#This Row],[Average trip length by car (km)]]","v":0.49988659763718823},{"$f":"Table37[[#This Row],[Fares for 10 km of journey (2007 US$ PPP) - LRT]]/10*Table37[[#This Row],[Average trip length by car (km)]]","v":0},{"$f":"Table37[[#This Row],[Fares for 10 km of journey (2007 US$ PPP) - Tram]]/10*Table37[[#This Row],[Average trip length by car (km)]]","v":0.49988659763718823},{"$f":"Table37[[#This Row],[Fares for 10 km of journey (2007 US$ PPP) - BRT]]/10*Table37[[#This Row],[Average trip length by car (km)]]","v":0},{"$f":"Table37[[#This Row],[Fares for 10 km of journey (2007 US$ PPP) - Trolley Bus]]/10*Table37[[#This Row],[Average trip length by car (km)]]","v":0},"To translate: http://www.rtm.fr/ for financials"]
[null,"Nantes","France","OECD",609199,579131,1277320,1146058,64,null,551.20000000000005,null,4406.984375,299833,null,323447,323447,323769,61.03,2.57,4.0999999999999996,9.35,0,null,9.4,13.549999999999997,10.199999999999999,18.5,0.11780821917808219,null,null,0,null,0.18219178082191781,2.5000000000000001E-2,null,0.32100000000000001,0.2031917808219178,null,624,null,0,null,42,7,null,null,0,null,79,null,15,20,null,234,1,3,0,null,null,283,20,null,null,1.3625,null,0,1.3625,1.3625,1.5,0,1.4189489360013938,0,0,1.4189489360013938,1.4189489360013938,1.1872306693883223,0,null,null,0,null,null,null,null,null,null,0,null,null,13.69,null,null,null,0,null,0,null,null,0,null,null,null,null,null,0,null,null,11.11628,null,null,null,0,null,0,null,1450,null,0,null,null,null,null,null,0.57999999999999996,2.79,1.37,null,1.28,1.54,null,1.42,19,3,null,8.8010000000000002,null,19.899999999999999,19,null,null,"Euro 6b",24940,27800,{"$f":"Table37[[#This Row],[City Per Capita GDP (LC)]]*('GDP Deflator 1960-2011'!AZ24/'GDP Deflator 1960-2011'!BB24)*1/Table37[[#This Row],[PPP Exchange rate with the US$ (2016)]]","v":38454.423914790073},91.94,{"$f":"Table37[[#This Row],[City GDP (LC Billion)]]*'GDP Deflator 1960-2011'!AZ24/'GDP Deflator 1960-2011'!BB24*1/Table37[[#This Row],[PPP Exchange rate with the US$ (2016)]]","v":127.17624945056833},{"$f":"4250*12","v":51000},{"$f":"Table37[[#This Row],[Median Annual household income (LC)]]*'GDP Deflator 1960-2011'!AZ24/'GDP Deflator 1960-2011'!AT24*1/Table37[[#This Row],[PPP Exchange rate with the US$ (2016)]]","v":82474.242241811415},9.2200000000000006,{"$f":"IF(ISERROR(Table37[[#This Row],[Minimum Hourly Wage Rate (LC)]]*'CPI 1960-2011'!AY24/'CPI 1960-2011'!BC24*1/Table37[[#This Row],[PPP Exchange rate with the US$ (2016)]]), \"n/a\", Table37[[#This Row],[Minimum Hourly Wage Rate (LC)]]*'GDP Deflator 1960-2011'!AZ24/'GDP Deflator 1960-2011'!BD24*1/Table37[[#This Row],[PPP Exchange rate with the US$ (2016)]])","v":12.4539312329544},0.7,null,0,253.22315473021638,0.20198540694579276,0,"",0,0,0,5.6201550387596901,{"$f":"IFERROR(Table37[[#This Row],[Operating Costs US$ - Bus]]/Table37[[#This Row],[Fare revenue US$- Bus]], \"\")","v":""},{"$f":"IFERROR(Table37[[#This Row],[Operating Costs US$ - Metro]]/Table37[[#This Row],[Fare revenue US$- Metro]], \"\")","v":""},{"$f":"IFERROR(Table37[[#This Row],[Operating Costs US$- LRT]]/Table37[[#This Row],[Fare revenue US$- LRT]], \"\")","v":""},{"$f":"IFERROR(Table37[[#This Row],[Operating Costs US$- Tram]]/Table37[[#This Row],[Fare revenue US$- Tram]], \"\")","v":""},{"$f":"IFERROR(Table37[[#This Row],[Operating Costs US$ - Trolley Bus]]/Table37[[#This Row],[Fare revenue US$- Trolley Buses]], \"\")","v":""},{"$f":"IFERROR((AVERAGEIF(Table37[[#This Row],[Fares for 10 km of journey (2007 US$ PPP) - Bus]:[Fares for 10 km of journey (2007 US$ PPP) - Trolley Bus]], \"<>0\")*40*12)/EO28, \"\")","v":1.6988664262262861E-2},{"$f":"IFERROR((AVERAGEIF(Table37[[#This Row],[Fares for 10 km of journey (2007 US$ PPP) - Regional/Commuter Rail]:[Fares for 10 km of journey (2007 US$ PPP) - BRT]], \"<>0\")*40*12)/EO28, \"\")","v":1.6747632679393203E-2},{"$f":"IFERROR(2*(AVERAGEIF(Table37[[#This Row],[Fares for avg. length of journey (2007 US$ PPP) - Metro]:[Fares for avg. length of journey (2007 US$ PPP) - BRT]], \"<>0\"))/(Table37[[#This Row],[Minimum Hourly Wage rate (PPP $ 2007)]]*8), \"\")","v":2.7472122626863157E-2},4.8056889477656045E-2,10.199999999999999,18.5,{"$f":"SUM(AP28:AQ28)+Table37[[#This Row],[Length of mass transit (km) - BRT]]","v":7},0.2071917808219178,4228.4036902432208,0.16220820219045956,0.109375,2.6437499999999998,18.275970000000001,30,"",0.56447559834326333,0,0,15.579494566749132,14.874894309961482,0.57999999999999996,2.79,{"$f":"Table37[[#This Row],[Fares for 10 km of journey (2007 US$ PPP) - Bus]]/10*Table37[[#This Row],[Average trip length by car (km)]]","v":1.4473279147214215},{"$f":"Table37[[#This Row],[Fares for 10 km of journey (2007 US$ PPP) - Regional/Commuter Rail]]/10*Table37[[#This Row],[Average trip length by car (km)]]","v":0},{"$f":"Table37[[#This Row],[Fares for 10 km of journey (2007 US$ PPP) - Metro]]/10*Table37[[#This Row],[Average trip length by car (km)]]","v":0},{"$f":"Table37[[#This Row],[Fares for 10 km of journey (2007 US$ PPP) - LRT]]/10*Table37[[#This Row],[Average trip length by car (km)]]","v":1.4473279147214215},{"$f":"Table37[[#This Row],[Fares for 10 km of journey (2007 US$ PPP) - Tram]]/10*Table37[[#This Row],[Average trip length by car (km)]]","v":1.4473279147214215},{"$f":"Table37[[#This Row],[Fares for 10 km of journey (2007 US$ PPP) - BRT]]/10*Table37[[#This Row],[Average trip length by car (km)]]","v":1.2109752827760887},{"$f":"Table37[[#This Row],[Fares for 10 km of journey (2007 US$ PPP) - Trolley Bus]]/10*Table37[[#This Row],[Average trip length by car (km)]]","v":0},"To translate: https://www.tan.fr/ for financials"]
[null,"Paris","France","OECD",2246995,2181374,12089098,11659260,105.8,105.8,2778.48,null,21238.13799621928,1239950,null,495313,495313,499553,12.89,3.67,3.12,10.96,0,null,69.349999999999994,1.0000000000005116E-2,21.15,37.69,0.9506849315068493,null,3.117808219178082,4.1260273972602741,0,0.28399999999999997,8.9499999999999996E-2,null,5.4257123287671236,4.4750273972602743,1700,2650,366,213,0,31.4,41.2,null,158,300,0,56,null,54,59,null,3600,164,null,3532,4831,0,82,12,null,null,1.27,1.27,1.27,0,1.27,null,0,1.3226166229150607,1.3226166229150607,1.3226166229150607,0,1.3226166229150607,2.2000000000000002,0,null,null,4159.07,0,null,null,null,null,null,3940.9470000000001,0,null,null,null,null,null,553.22,0,0.23899999999999999,0,636.08470824308699,2760.6442957178356,0,190.01884973048527,null,602.72515795513641,792.48804990498843,2615.8619247274796,0,180.05328493841333,41.33,null,84.609006891983185,111.24743341345057,367.20796651102802,0,0.15863978886543453,0,12398,2896,9250,0,null,null,null,null,0.56999999999999995,2.68,1.28,{"$f":"5.54/3.79","v":1.4617414248021108},1.42,1.4,1.595,1.58,25,2,null,8.56,14,39.200000000000003,28,5.1950000000000003,7.4,"Euro 6b",24940,54600,{"$f":"Table37[[#This Row],[City Per Capita GDP (LC)]]*('GDP Deflator 1960-2011'!AZ25/'GDP Deflator 1960-2011'!BB25)*1/Table37[[#This Row],[PPP Exchange rate with the US$ (2016)]]","v":75525.595170774759},659.9,{"$f":"Table37[[#This Row],[City GDP (LC Billion)]]*'GDP Deflator 1960-2011'!AZ25/'GDP Deflator 1960-2011'!BB25*1/Table37[[#This Row],[PPP Exchange rate with the US$ (2016)]]","v":912.80842954568232},{"$f":"4500*12","v":54000},{"$f":"Table37[[#This Row],[Median Annual household income (LC)]]*'GDP Deflator 1960-2011'!AZ25/'GDP Deflator 1960-2011'!AT25*1/Table37[[#This Row],[PPP Exchange rate with the US$ (2016)]]","v":87325.668256035628},9.8000000000000007,{"$f":"IF(ISERROR(Table37[[#This Row],[Minimum Hourly Wage Rate (LC)]]*'CPI 1960-2011'!AY24/'CPI 1960-2011'!BC24*1/Table37[[#This Row],[PPP Exchange rate with the US$ (2016)]]), \"n/a\", Table37[[#This Row],[Minimum Hourly Wage Rate (LC)]]*'GDP Deflator 1960-2011'!AZ24/'GDP Deflator 1960-2011'!BD24*1/Table37[[#This Row],[PPP Exchange rate with the US$ (2016)]])","v":13.237367254116391},0.7,null,0,40.971873997547213,0.31623533864974868,0,296.98264705882355,1700,140.6225675397784,16.068052930056712,3.2430028773214752,{"$f":"IFERROR(Table37[[#This Row],[Operating Costs US$ - Bus]]/Table37[[#This Row],[Fare revenue US$- Bus]], \"\")","v":1.0553478643584904},{"$f":"IFERROR(Table37[[#This Row],[Operating Costs US$ - Metro]]/Table37[[#This Row],[Fare revenue US$- Metro]], \"\")","v":1.0553478643584904},{"$f":"IFERROR(Table37[[#This Row],[Operating Costs US$- LRT]]/Table37[[#This Row],[Fare revenue US$- LRT]], \"\")","v":""},{"$f":"IFERROR(Table37[[#This Row],[Operating Costs US$- Tram]]/Table37[[#This Row],[Fare revenue US$- Tram]], \"\")","v":1.0553478643584906},{"$f":"IFERROR(Table37[[#This Row],[Operating Costs US$ - Trolley Bus]]/Table37[[#This Row],[Fare revenue US$- Trolley Buses]], \"\")","v":""},{"$f":"IFERROR((AVERAGEIF(Table37[[#This Row],[Fares for 10 km of journey (2007 US$ PPP) - Bus]:[Fares for 10 km of journey (2007 US$ PPP) - Trolley Bus]], \"<>0\")*40*12)/EO29, \"\")","v":9.5210740355428404E-3},{"$f":"IFERROR((AVERAGEIF(Table37[[#This Row],[Fares for 10 km of journey (2007 US$ PPP) - Regional/Commuter Rail]:[Fares for 10 km of journey (2007 US$ PPP) - BRT]], \"<>0\")*40*12)/EO29, \"\")","v":9.799882842046451E-3},{"$f":"IFERROR(2*(AVERAGEIF(Table37[[#This Row],[Fares for avg. length of journey (2007 US$ PPP) - Metro]:[Fares for avg. length of journey (2007 US$ PPP) - BRT]], \"<>0\"))/(Table37[[#This Row],[Minimum Hourly Wage rate (PPP $ 2007)]]*8), \"\")","v":6.4512251052942671E-2},2.2244114676637325E-2,21.15,37.69,{"$f":"SUM(AP29:AQ29)+Table37[[#This Row],[Length of mass transit (km) - BRT]]","v":254.2},4.4995273972602741,15754.647749510761,0.37219711489312718,2.4026465028355388,0.3402646502835539,44.939900000000002,20,2.6435235294117648E-2,0.89960224440649939,0.42972602257008757,1.1580682032687633,3.2425909691525372,2.3161364065375265,0.56999999999999995,2.68,{"$f":"Table37[[#This Row],[Fares for 10 km of journey (2007 US$ PPP) - Bus]]/10*Table37[[#This Row],[Average trip length by car (km)]]","v":2.7973341574653534},{"$f":"Table37[[#This Row],[Fares for 10 km of journey (2007 US$ PPP) - Regional/Commuter Rail]]/10*Table37[[#This Row],[Average trip length by car (km)]]","v":2.7973341574653534},{"$f":"Table37[[#This Row],[Fares for 10 km of journey (2007 US$ PPP) - Metro]]/10*Table37[[#This Row],[Average trip length by car (km)]]","v":2.7973341574653534},{"$f":"Table37[[#This Row],[Fares for 10 km of journey (2007 US$ PPP) - LRT]]/10*Table37[[#This Row],[Average trip length by car (km)]]","v":0},{"$f":"Table37[[#This Row],[Fares for 10 km of journey (2007 US$ PPP) - Tram]]/10*Table37[[#This Row],[Average trip length by car (km)]]","v":2.7973341574653534},{"$f":"Table37[[#This Row],[Fares for 10 km of journey (2007 US$ PPP) - BRT]]/10*Table37[[#This Row],[Average trip length by car (km)]]","v":4.6530000000000005},{"$f":"Table37[[#This Row],[Fares for 10 km of journey (2007 US$ PPP) - Trolley Bus]]/10*Table37[[#This Row],[Average trip length by car (km)]]","v":0}]
[null,"Berlin","Germany","OECD",3469849,3387828,5055116,6754282,891.85,891.7,5370,null,3890.6194987946401,1786400,93465,1018214,1111679,{"$f":"Q30+SUM(BA30:BE30)+BL30","v":1113290},38.200000000000003,0,10.8,6.5,0,8,36.36,0.14000000000000057,12.6,32.200000000000003,{"$f":"404.7/365","v":1.1087671232876712},null,{"$f":"291/365","v":0.79726027397260268},{"$f":"464/365","v":1.2712328767123289},0,{"$f":"167.5/365+1/365+1.2/365+0.87/365","v":0.46731506849315069},0,null,2.8473150684931507,1.7385479452054795,5317,null,324,151.69999999999999,0,null,0,null,161,170,0,377,null,0,{"$f":"459+9","v":468},357,{"$f":"395+117+39+235","v":786},null,null,1278,1516,0,{"$f":"600+7+6+94","v":707},0,null,null,{"$f":"895/(12*20*2)","v":1.8645833333333333},{"$f":"895/(12*20*2)","v":1.8645833333333333},{"$f":"895/(12*20*2)","v":1.8645833333333333},0,{"$f":"895/(12*20*2)","v":1.8645833333333333},0,0,1.9449359569644187,1.9449359569644187,1.9449359569644187,0,1.9449359569644187,0,0,null,null,"not available",0,null,0,null,null,null,"not available",0,null,null,null,null,null,"not available",0,"not available",0,null,null,0,null,null,null,null,null,0,null,null,null,null,null,null,0,null,0,{"$f":"523","v":523},4416,null,0,null,0,null,5.9,0.59,2.91,1.28,null,1.31,1.39,1.802,1.46,53,2,2,7.6340000000000003,18,30,24,21.3,20.167999999999999,"Euro 6b",27992,35600,{"$f":"Table37[[#This Row],[City Per Capita GDP (LC)]]*('GDP Deflator 1960-2011'!AZ26/'GDP Deflator 1960-2011'!BB26)*1/Table37[[#This Row],[PPP Exchange rate with the US$ (2016)]]","v":49881.489903096342},124.45,{"$f":"Table37[[#This Row],[City GDP (LC Billion)]]*'GDP Deflator 1960-2011'!AZ26/'GDP Deflator 1960-2011'!BB26*1/Table37[[#This Row],[PPP Exchange rate with the US$ (2016)]]","v":174.3750398438298},{"$f":"4102*12","v":49224},{"$f":"Table37[[#This Row],[Median Annual household income (LC)]]*'GDP Deflator 1960-2011'!AZ26/'GDP Deflator 1960-2011'!BB26*1/Table37[[#This Row],[PPP Exchange rate with the US$ (2016)]]","v":68970.967949157712},9.35,{"$f":"IF(ISERROR(Table37[[#This Row],[Minimum Hourly Wage Rate (LC)]]*'CPI 1960-2011'!AY26/'CPI 1960-2011'!BC26*1/Table37[[#This Row],[PPP Exchange rate with the US$ (2016)]]), \"n/a\", Table37[[#This Row],[Minimum Hourly Wage Rate (LC)]]*'GDP Deflator 1960-2011'!AZ26/'GDP Deflator 1960-2011'!BD26*1/Table37[[#This Row],[PPP Exchange rate with the US$ (2016)]])","v":12.922957339001623},0.7,null,18.489189961219484,201.42247972153359,0.31868704892231947,8.3953866467856533E-2,201.04833552755312,5317,1051.8057350217086,5.9617648707742328,0.32464307883302296,{"$f":"IFERROR(Table37[[#This Row],[Operating Costs US$ - Bus]]/Table37[[#This Row],[Fare revenue US$- Bus]], \"\")","v":""},{"$f":"IFERROR(Table37[[#This Row],[Operating Costs US$ - Metro]]/Table37[[#This Row],[Fare revenue US$- Metro]], \"\")","v":""},{"$f":"IFERROR(Table37[[#This Row],[Operating Costs US$- LRT]]/Table37[[#This Row],[Fare revenue US$- LRT]], \"\")","v":""},{"$f":"IFERROR(Table37[[#This Row],[Operating Costs US$- Tram]]/Table37[[#This Row],[Fare revenue US$- Tram]], \"\")","v":""},{"$f":"IFERROR(Table37[[#This Row],[Operating Costs US$ - Trolley Bus]]/Table37[[#This Row],[Fare revenue US$- Trolley Buses]], \"\")","v":""},{"$f":"IFERROR((AVERAGEIF(Table37[[#This Row],[Fares for 10 km of journey (2007 US$ PPP) - Bus]:[Fares for 10 km of journey (2007 US$ PPP) - Trolley Bus]], \"<>0\")*40*12)/EO30, \"\")","v":1.871574528259972E-2},{"$f":"IFERROR((AVERAGEIF(Table37[[#This Row],[Fares for 10 km of journey (2007 US$ PPP) - Regional/Commuter Rail]:[Fares for 10 km of journey (2007 US$ PPP) - BRT]], \"<>0\")*40*12)/EO30, \"\")","v":1.871574528259972E-2},{"$f":"IFERROR(2*(AVERAGEIF(Table37[[#This Row],[Fares for avg. length of journey (2007 US$ PPP) - Metro]:[Fares for avg. length of journey (2007 US$ PPP) - BRT]], \"<>0\"))/(Table37[[#This Row],[Minimum Hourly Wage rate (PPP $ 2007)]]*8), \"\")","v":4.7408252644678558E-2},3.3439257793630189E-2,12.6,32.200000000000003,{"$f":"SUM(AP30:AQ30)+Table37[[#This Row],[Length of mass transit (km) - BRT]]","v":151.69999999999999},1.7385479452054795,11460.43470801239,0.34391850655958822,0.17009586813926106,{"$f":"IFERROR(((AP43*4)+((AR43+AS43)*0.5)+((AQ43+AS43)*1))/I30, \"\")","v":0},69.396979999999999,20,1.3051905209704721E-2,0.62335042980714817,4.2135531607978924,3.5607491499700501,5.9345819166167502,4.7476655332934001,0.59,2.91,{"$f":"Table37[[#This Row],[Fares for 10 km of journey (2007 US$ PPP) - Bus]]/10*Table37[[#This Row],[Average trip length by car (km)]]","v":2.4506193057751675},{"$f":"Table37[[#This Row],[Fares for 10 km of journey (2007 US$ PPP) - Regional/Commuter Rail]]/10*Table37[[#This Row],[Average trip length by car (km)]]","v":2.4506193057751675},{"$f":"Table37[[#This Row],[Fares for 10 km of journey (2007 US$ PPP) - Metro]]/10*Table37[[#This Row],[Average trip length by car (km)]]","v":2.4506193057751675},{"$f":"Table37[[#This Row],[Fares for 10 km of journey (2007 US$ PPP) - LRT]]/10*Table37[[#This Row],[Average trip length by car (km)]]","v":0},{"$f":"Table37[[#This Row],[Fares for 10 km of journey (2007 US$ PPP) - Tram]]/10*Table37[[#This Row],[Average trip length by car (km)]]","v":2.4506193057751675},{"$f":"Table37[[#This Row],[Fares for 10 km of journey (2007 US$ PPP) - BRT]]/10*Table37[[#This Row],[Average trip length by car (km)]]","v":0},{"$f":"Table37[[#This Row],[Fares for 10 km of journey (2007 US$ PPP) - Trolley Bus]]/10*Table37[[#This Row],[Average trip length by car (km)]]","v":0},"To translate: http://www.hochbahn.de/wps/portal/de/home/hochbahn AND http://www.s-bahn-hamburg.de/s_hamburg/view/index.shtml for financials and tariffs"]
[null,"Hamburg","Germany","OECD",1762791,1716634,3008841,2956742,755.3,755.3,7304.1,7303.7,2333.8951410035747,934700,48138,604460,652598,653345,43.5,1,8.6999999999999993,6,0,null,40.799999999999997,{"$f":"100-SUM(S31:Y31)","v":0},11.7,29.5,{"$f":"219.394/365","v":0.60107945205479452},null,{"$f":"176/365+13.5/365","v":0.51917808219178085},{"$f":"199.304/365","v":0.54603835616438356},0,0,0.06,null,1.207117808219178,0.60603835616438362,3900,11680,null,100.7,0,0,15,null,59,89,0,0,null,30,24,null,723,null,null,749,528,0,0,24,null,null,1.2025000000000001,1.2025000000000001,1.2025000000000001,0,0,null,0,1.2543207087819694,1.2543207087819694,1.2543207087819694,0,0,"3,52",0,null,null,492.65100000000001,0,0,null,null,null,null,352.44,0,0,null,null,null,null,51.703000000000003,0,"Not disclosed",0,275.47101418526319,250.24601862940503,0,0,null,179.02471893033302,null,179.02471893033302,0,0,null,null,28.910278973189261,null,26.262952680896067,0,"not disclosed",0,2789,1357,1551,0,0,null,null,6.8,0.64,2.33,1.27,null,1.3,1.5,null,1.42,46,2,3,3.4550000000000001,null,24.9,21,18.399999999999999,18.2,"Euro 6b",27992,61700,{"$f":"Table37[[#This Row],[City Per Capita GDP (LC)]]*('GDP Deflator 1960-2011'!AZ27/'GDP Deflator 1960-2011'!BB27)*1/Table37[[#This Row],[PPP Exchange rate with the US$ (2016)]]","v":86451.908062388888},109.52,{"$f":"Table37[[#This Row],[City GDP (LC Billion)]]*'GDP Deflator 1960-2011'!AZ27/'GDP Deflator 1960-2011'!BB27*1/Table37[[#This Row],[PPP Exchange rate with the US$ (2016)]]","v":153.45563972435707},49500,{"$f":"Table37[[#This Row],[Median Annual household income (LC)]]*'GDP Deflator 1960-2011'!AZ27/'GDP Deflator 1960-2011'!BB27*1/Table37[[#This Row],[PPP Exchange rate with the US$ (2016)]]","v":69357.689612451373},7.89,{"$f":"IF(ISERROR(Table37[[#This Row],[Minimum Hourly Wage Rate (LC)]]*'CPI 1960-2011'!AY27/'CPI 1960-2011'!BC27*1/Table37[[#This Row],[PPP Exchange rate with the US$ (2016)]]), \"n/a\", Table37[[#This Row],[Minimum Hourly Wage Rate (LC)]]*'GDP Deflator 1960-2011'!AZ27/'GDP Deflator 1960-2011'!BD27*1/Table37[[#This Row],[PPP Exchange rate with the US$ (2016)]])","v":10.905041005852707},0.7,null,15.9988513849685,200.89463019149235,0.24826835316322798,7.3679296543173969E-2,161.64012820512821,3900,1296.1801570770938,5.1635111876075737,3.7336010709504683,{"$f":"IFERROR(Table37[[#This Row],[Operating Costs US$ - Bus]]/Table37[[#This Row],[Fare revenue US$- Bus]], \"\")","v":1.5387317228100885},{"$f":"IFERROR(Table37[[#This Row],[Operating Costs US$ - Metro]]/Table37[[#This Row],[Fare revenue US$- Metro]], \"\")","v":1.3978294177732382},{"$f":"IFERROR(Table37[[#This Row],[Operating Costs US$- LRT]]/Table37[[#This Row],[Fare revenue US$- LRT]], \"\")","v":""},{"$f":"IFERROR(Table37[[#This Row],[Operating Costs US$- Tram]]/Table37[[#This Row],[Fare revenue US$- Tram]], \"\")","v":""},{"$f":"IFERROR(Table37[[#This Row],[Operating Costs US$ - Trolley Bus]]/Table37[[#This Row],[Fare revenue US$- Trolley Buses]], \"\")","v":""},{"$f":"IFERROR((AVERAGEIF(Table37[[#This Row],[Fares for 10 km of journey (2007 US$ PPP) - Bus]:[Fares for 10 km of journey (2007 US$ PPP) - Trolley Bus]], \"<>0\")*40*12)/EO31, \"\")","v":6.9642643373568191E-3},{"$f":"IFERROR((AVERAGEIF(Table37[[#This Row],[Fares for 10 km of journey (2007 US$ PPP) - Regional/Commuter Rail]:[Fares for 10 km of journey (2007 US$ PPP) - BRT]], \"<>0\")*40*12)/EO31, \"\")","v":6.9642643373568191E-3},{"$f":"IFERROR(2*(AVERAGEIF(Table37[[#This Row],[Fares for avg. length of journey (2007 US$ PPP) - Metro]:[Fares for avg. length of journey (2007 US$ PPP) - BRT]], \"<>0\"))/(Table37[[#This Row],[Minimum Hourly Wage rate (PPP $ 2007)]]*8), \"\")","v":""},2.0820824436876651E-2,11.7,29.5,{"$f":"SUM(AP31:AQ31)+Table37[[#This Row],[Length of mass transit (km) - BRT]]","v":115.7},0.60603835616438362,5238.015178603142,0.201419202996896,0.153184165232358,{"$f":"IFERROR(((AP44*4)+((AR44+AS44)*0.5)+((AQ44+AS44)*1))/I31, \"\")","v":0.23855951277638027},35.25582,20,9.0399538461538465E-3,0.53962026188307854,6.1153115103124422,0,8.2756117721075988,6.9794316150305047,0.64,2.33,{"$f":"Table37[[#This Row],[Fares for 10 km of journey (2007 US$ PPP) - Bus]]/10*Table37[[#This Row],[Average trip length by car (km)]]","v":1.4675552292749041},{"$f":"Table37[[#This Row],[Fares for 10 km of journey (2007 US$ PPP) - Regional/Commuter Rail]]/10*Table37[[#This Row],[Average trip length by car (km)]]","v":1.4675552292749041},{"$f":"Table37[[#This Row],[Fares for 10 km of journey (2007 US$ PPP) - Metro]]/10*Table37[[#This Row],[Average trip length by car (km)]]","v":1.4675552292749041},{"$f":"Table37[[#This Row],[Fares for 10 km of journey (2007 US$ PPP) - LRT]]/10*Table37[[#This Row],[Average trip length by car (km)]]","v":0},{"$f":"Table37[[#This Row],[Fares for 10 km of journey (2007 US$ PPP) - Tram]]/10*Table37[[#This Row],[Average trip length by car (km)]]","v":0},{"$f":"Table37[[#This Row],[Fares for 10 km of journey (2007 US$ PPP) - BRT]]/10*Table37[[#This Row],[Average trip length by car (km)]]","v":{"$error":"#VALUE!"}},{"$f":"Table37[[#This Row],[Fares for 10 km of journey (2007 US$ PPP) - Trolley Bus]]/10*Table37[[#This Row],[Average trip length by car (km)]]","v":0}]
[null,"Munich","Germany","OECD",1429879,1276686,2965871,2702323,310.39999999999998,310.5,5503.6,5503.8,4606.5689432989693,764300,51984,478637,530621,531044,35.799999999999997,0.5,10.7,6,0,7,40,0,15.4,26.6,{"$f":"32.3/365+156.1/365175/365","v":8.8494321825433653E-2},null,{"$f":"218/365","v":0.59726027397260273},{"$f":"360/365","v":0.98630136986301364},0,{"$f":"98/365","v":0.26849315068493151},0,null,1.3432888423733789,1.2547945205479452,2350,454,null,95,0,79,0,null,null,100,0,164,null,0,186,null,{"$f":"50+187","v":237},null,null,574,{"$f":"234*4","v":936},0,104,0,null,null,{"$f":"107.3/(20*2)","v":2.6825000000000001},{"$f":"107.3/(20*2)","v":2.6825000000000001},{"$f":"107.3/(20*2)","v":2.6825000000000001},0,{"$f":"107.3/(20*2)","v":2.6825000000000001},0,0,2.7981000426674703,2.7981000426674703,2.7981000426674703,0,2.7981000426674703,0,0,"not available",null,"not available",0,"not available",0,null,"not available",null,"not available",0,"not available",null,null,"not available",null,"not available",0,"not available",0,null,null,0,null,null,null,null,null,0,null,null,null,null,null,null,0,null,0,2694,1100,null,0,null,0,null,null,0.57999999999999996,2.5499999999999998,1.3,null,1.28,1.46,null,1.42,1.35,2,2,5.6639999999999997,8,35.299999999999997,26,17.754999999999999,null,"Euro 6b",27992,53200,{"$f":"Table37[[#This Row],[City Per Capita GDP (LC)]]*('GDP Deflator 1960-2011'!AZ28/'GDP Deflator 1960-2011'!BB28)*1/Table37[[#This Row],[PPP Exchange rate with the US$ (2016)]]","v":74542.001765301276},204.41,{"$f":"Table37[[#This Row],[City GDP (LC Billion)]]*'GDP Deflator 1960-2011'!AZ28/'GDP Deflator 1960-2011'!BB28*1/Table37[[#This Row],[PPP Exchange rate with the US$ (2016)]]","v":286.41222896325627},24200,{"$f":"Table37[[#This Row],[Median Annual household income (LC)]]*'GDP Deflator 1960-2011'!AZ28/'GDP Deflator 1960-2011'!BB28*1/Table37[[#This Row],[PPP Exchange rate with the US$ (2016)]]","v":33908.203810531784},7.89,{"$f":"IF(ISERROR(Table37[[#This Row],[Minimum Hourly Wage Rate (LC)]]*'CPI 1960-2011'!AY28/'CPI 1960-2011'!BC28*1/Table37[[#This Row],[PPP Exchange rate with the US$ (2016)]]), \"n/a\", Table37[[#This Row],[Minimum Hourly Wage Rate (LC)]]*'GDP Deflator 1960-2011'!AZ28/'GDP Deflator 1960-2011'!BD28*1/Table37[[#This Row],[PPP Exchange rate with the US$ (2016)]])","v":10.905041005852707},0.7,null,17.527397516614847,161.38159751385007,0.14262252134364575,9.7890193656269539E-2,215.18574468085106,2350,792.34734079803206,7.570876288659794,6.3687943262411348,{"$f":"IFERROR(Table37[[#This Row],[Operating Costs US$ - Bus]]/Table37[[#This Row],[Fare revenue US$- Bus]], \"\")","v":""},{"$f":"IFERROR(Table37[[#This Row],[Operating Costs US$ - Metro]]/Table37[[#This Row],[Fare revenue US$- Metro]], \"\")","v":""},{"$f":"IFERROR(Table37[[#This Row],[Operating Costs US$- LRT]]/Table37[[#This Row],[Fare revenue US$- LRT]], \"\")","v":""},{"$f":"IFERROR(Table37[[#This Row],[Operating Costs US$- Tram]]/Table37[[#This Row],[Fare revenue US$- Tram]], \"\")","v":""},{"$f":"IFERROR(Table37[[#This Row],[Operating Costs US$ - Trolley Bus]]/Table37[[#This Row],[Fare revenue US$- Trolley Buses]], \"\")","v":""},{"$f":"IFERROR((AVERAGEIF(Table37[[#This Row],[Fares for 10 km of journey (2007 US$ PPP) - Bus]:[Fares for 10 km of journey (2007 US$ PPP) - Trolley Bus]], \"<>0\")*40*12)/EO32, \"\")","v":1.8017868968815146E-2},{"$f":"IFERROR((AVERAGEIF(Table37[[#This Row],[Fares for 10 km of journey (2007 US$ PPP) - Regional/Commuter Rail]:[Fares for 10 km of journey (2007 US$ PPP) - BRT]], \"<>0\")*40*12)/EO32, \"\")","v":1.8017868968815142E-2},{"$f":"IFERROR(2*(AVERAGEIF(Table37[[#This Row],[Fares for avg. length of journey (2007 US$ PPP) - Metro]:[Fares for avg. length of journey (2007 US$ PPP) - BRT]], \"<>0\"))/(Table37[[#This Row],[Minimum Hourly Wage rate (PPP $ 2007)]]*8), \"\")","v":9.8786287538837197E-2},2.3503527655673213E-2,15.4,26.6,{"$f":"SUM(AP32:AQ32)+Table37[[#This Row],[Length of mass transit (km) - BRT]]","v":95},1.2547945205479452,7211.4627617697988,0.42307791557621521,0.30605670103092786,{"$f":"IFERROR(((AP45*4)+((AR45+AS45)*0.5)+((AQ45+AS45)*1))/I32, \"\")","v":0},28.597580000000001,20,1.2169182978723405E-2,0.53851620581345427,5.9864370365400239,2.6973526495252154,11.902068566030012,8.7663961109569488,0.57999999999999996,2.5499999999999998,{"$f":"Table37[[#This Row],[Fares for 10 km of journey (2007 US$ PPP) - Bus]]/10*Table37[[#This Row],[Average trip length by car (km)]]","v":4.3090740657079039},{"$f":"Table37[[#This Row],[Fares for 10 km of journey (2007 US$ PPP) - Regional/Commuter Rail]]/10*Table37[[#This Row],[Average trip length by car (km)]]","v":4.3090740657079039},{"$f":"Table37[[#This Row],[Fares for 10 km of journey (2007 US$ PPP) - Metro]]/10*Table37[[#This Row],[Average trip length by car (km)]]","v":4.3090740657079039},{"$f":"Table37[[#This Row],[Fares for 10 km of journey (2007 US$ PPP) - LRT]]/10*Table37[[#This Row],[Average trip length by car (km)]]","v":0},{"$f":"Table37[[#This Row],[Fares for 10 km of journey (2007 US$ PPP) - Tram]]/10*Table37[[#This Row],[Average trip length by car (km)]]","v":4.3090740657079039},{"$f":"Table37[[#This Row],[Fares for 10 km of journey (2007 US$ PPP) - BRT]]/10*Table37[[#This Row],[Average trip length by car (km)]]","v":0},{"$f":"Table37[[#This Row],[Fares for 10 km of journey (2007 US$ PPP) - Trolley Bus]]/10*Table37[[#This Row],[Average trip length by car (km)]]","v":0},"Staff for SSB  that operates bus and lightrail/tram is 2,646. "]
[null,"Stuttgart","Germany","OECD",612441,590657,1965942,1941517,207.4,207.4,3654,3653.9,2952.9459980713596,305200,19750,210152,229902,230178,47.4,0,4.7,10.5,0,null,36.700000000000003,0.69999999999998863,12.1,25.3,{"$f":"0.56-AG33","v":0.20000000000000007},null,null,0,0.36,null,0,null,0.56000000000000005,0.36,1427,388,177,0,{"$f":"888-AN33","v":500},null,0,null,10,0,193,null,null,0,null,null,276,null,null,0,{"$f":"90*3+58*3","v":444},195,null,0,null,null,{"$f":"9.7/(3*2)","v":1.6166666666666665},{"$f":"9.7/(3*2)","v":1.6166666666666665},0,{"$f":"9.7/(3*2)","v":1.6166666666666665},{"$f":"9.7/(3*2)","v":1.6166666666666665},0,null,1.0739757028020009,1.0739757028020009,0,1.0739757028020009,1.0739757028020009,0,0,264.60000000000002,null,0,null,null,0,null,168.6,null,0,null,null,null,null,117.9,null,0,null,0,null,75.564853556485616,0,136.01673640167405,null,null,48.149033672046386,null,0,86.668260609683472,null,null,null,33.670053795576926,null,0,60.606096832038446,0,9.6126718469814989,2920,550,0,null,null,0,null,5.6,0.69,2.19,1.32,null,1.3,1.48,null,1.45,48,1,2,4.0979999999999999,null,33.5,24,null,null,"Euro 6b",27900,48400,{"$f":"Table37[[#This Row],[City Per Capita GDP (LC)]]*('GDP Deflator 1960-2011'!AZ29/'GDP Deflator 1960-2011'!BB29)*1/Table37[[#This Row],[PPP Exchange rate with the US$ (2016)]]","v":67816.407621063569},195,{"$f":"Table37[[#This Row],[City GDP (LC Billion)]]*'GDP Deflator 1960-2011'!AZ29/'GDP Deflator 1960-2011'!BB29*1/Table37[[#This Row],[PPP Exchange rate with the US$ (2016)]]","v":273.22726210965692},23300,{"$f":"Table37[[#This Row],[Median Annual household income (LC)]]*'GDP Deflator 1960-2011'!AZ29/'GDP Deflator 1960-2011'!BB29*1/Table37[[#This Row],[PPP Exchange rate with the US$ (2016)]]","v":32647.154908487217},7.89,{"$f":"IF(ISERROR(Table37[[#This Row],[Minimum Hourly Wage Rate (LC)]]*'CPI 1960-2011'!AY29/'CPI 1960-2011'!BC29*1/Table37[[#This Row],[PPP Exchange rate with the US$ (2016)]]), \"n/a\", Table37[[#This Row],[Minimum Hourly Wage Rate (LC)]]*'GDP Deflator 1960-2011'!AZ29/'GDP Deflator 1960-2011'!BD29*1/Table37[[#This Row],[PPP Exchange rate with the US$ (2016)]])","v":10.905041005852707},0.7,null,10.046074604438992,106.89633773529434,0.14039071345950185,8.5803161031897057E-2,154.67203924316749,1427,725.86068154604766,6.8804243008678876,10.579710144927537,{"$f":"IFERROR(Table37[[#This Row],[Operating Costs US$ - Bus]]/Table37[[#This Row],[Fare revenue US$- Bus]], \"\")","v":1.5693950177935945},{"$f":"IFERROR(Table37[[#This Row],[Operating Costs US$ - Metro]]/Table37[[#This Row],[Fare revenue US$- Metro]], \"\")","v":""},{"$f":"IFERROR(Table37[[#This Row],[Operating Costs US$- LRT]]/Table37[[#This Row],[Fare revenue US$- LRT]], \"\")","v":1.5693950177935942},{"$f":"IFERROR(Table37[[#This Row],[Operating Costs US$- Tram]]/Table37[[#This Row],[Fare revenue US$- Tram]], \"\")","v":""},{"$f":"IFERROR(Table37[[#This Row],[Operating Costs US$ - Trolley Bus]]/Table37[[#This Row],[Fare revenue US$- Trolley Buses]], \"\")","v":""},{"$f":"IFERROR((AVERAGEIF(Table37[[#This Row],[Fares for 10 km of journey (2007 US$ PPP) - Bus]:[Fares for 10 km of journey (2007 US$ PPP) - Trolley Bus]], \"<>0\")*40*12)/EO33, \"\")","v":7.6015282352532793E-3},{"$f":"IFERROR((AVERAGEIF(Table37[[#This Row],[Fares for 10 km of journey (2007 US$ PPP) - Regional/Commuter Rail]:[Fares for 10 km of journey (2007 US$ PPP) - BRT]], \"<>0\")*40*12)/EO33, \"\")","v":7.6015282352532793E-3},{"$f":"IFERROR(2*(AVERAGEIF(Table37[[#This Row],[Fares for avg. length of journey (2007 US$ PPP) - Metro]:[Fares for avg. length of journey (2007 US$ PPP) - BRT]], \"<>0\"))/(Table37[[#This Row],[Minimum Hourly Wage rate (PPP $ 2007)]]*8), \"\")","v":2.9791511093194816E-2},2.6188352676003144E-2,12.1,25.3,{"$f":"SUM(AP33:AQ33)+Table37[[#This Row],[Length of mass transit (km) - BRT]]","v":500},0.36,720,0.18311832190369806,2.4108003857280615,{"$f":"IFERROR(((AP46*4)+((AR46+AS46)*0.5)+((AQ46+AS46)*1))/I33, \"\")","v":3.6999999999999993},6.1244100000000001,10,4.2918079887876662E-3,0.26607277845841043,0,0,17.04017717714968,12.207888126913206,0.69,2.19,{"$f":"Table37[[#This Row],[Fares for 10 km of journey (2007 US$ PPP) - Bus]]/10*Table37[[#This Row],[Average trip length by car (km)]]","v":1.2995106003904211},{"$f":"Table37[[#This Row],[Fares for 10 km of journey (2007 US$ PPP) - Regional/Commuter Rail]]/10*Table37[[#This Row],[Average trip length by car (km)]]","v":1.2995106003904211},{"$f":"Table37[[#This Row],[Fares for 10 km of journey (2007 US$ PPP) - Metro]]/10*Table37[[#This Row],[Average trip length by car (km)]]","v":0},{"$f":"Table37[[#This Row],[Fares for 10 km of journey (2007 US$ PPP) - LRT]]/10*Table37[[#This Row],[Average trip length by car (km)]]","v":1.2995106003904211},{"$f":"Table37[[#This Row],[Fares for 10 km of journey (2007 US$ PPP) - Tram]]/10*Table37[[#This Row],[Average trip length by car (km)]]","v":1.2995106003904211},{"$f":"Table37[[#This Row],[Fares for 10 km of journey (2007 US$ PPP) - BRT]]/10*Table37[[#This Row],[Average trip length by car (km)]]","v":0},{"$f":"Table37[[#This Row],[Fares for 10 km of journey (2007 US$ PPP) - Trolley Bus]]/10*Table37[[#This Row],[Average trip length by car (km)]]","v":0}]
[null,"Accra","Ghana","AFR",1848614,null,3832680,2905726,139.67400000000001,null,872.12,null,{"$f":"E34/I34","v":13235.204834113722},{"$f":"531670+183934","v":715604},null,53806,{"$f":"O34+P34","v":53806},121895,13,null,null,null,9,62,null,16,null,null,{"$f":"12.437145/365","v":3.4074369863013695E-2},{"$f":"1458.103/365","v":3.9948027397260275},null,0,0,0,0,null,{"$f":"SUM(AC34:AD34, AF34:AJ34)","v":4.0288771095890414},{"$f":"SUM(AF34:AJ34)","v":0},2355,null,null,0,0,0,0,null,null,0,0,0,null,0,null,null,107,45883,null,0,null,0,0,0,null,22099,null,null,0,0,0,0,0,0,0,0,0,0,0,0,{"$f":"5.010436+128.2","v":133.21043599999999},null,0,0,0,0,null,{"$f":"2.45+410.56","v":413.01},null,0,0,0,null,null,null,null,0,0,0,0,143.76819674249461,0,0,0,null,445.74362729822235,null,0,0,0,null,null,null,null,0,0,0,0,null,null,0,0,0,0,null,null,null,null,3.49,null,3.62,0.89,null,1.28,null,{"$f":"286/G34*100000","v":7.4621413736602067},null,null,null,null,98,null,null,"Euro 3",null,{"$f":"1562*2.03","v":3170.8599999999997},{"$f":"Table37[[#This Row],[City Per Capita GDP (LC)]]*('GDP Deflator 1960-2011'!AZ30/'GDP Deflator 1960-2011'!BB30)*1/Table37[[#This Row],[PPP Exchange rate with the US$ (2016)]]","v":4524.0586882740836},12.15,{"$f":"Table37[[#This Row],[City GDP (LC Billion)]]*'GDP Deflator 1960-2011'!AZ30/'GDP Deflator 1960-2011'!BB30*1/Table37[[#This Row],[PPP Exchange rate with the US$ (2016)]]","v":17.335143482377056},1217,{"$f":"Table37[[#This Row],[Median Annual household income (LC)]]*'GDP Deflator 1960-2011'!AZ30/'GDP Deflator 1960-2011'!AY30*1/Table37[[#This Row],[PPP Exchange rate with the US$ (2016)]]","v":2830.173679559261},1.1000000000000001,{"$f":"IF(ISERROR(Table37[[#This Row],[Minimum Hourly Wage Rate (LC)]]*'CPI 1960-2011'!AY29/'CPI 1960-2011'!BC29*1/Table37[[#This Row],[PPP Exchange rate with the US$ (2016)]]), \"n/a\", Table37[[#This Row],[Minimum Hourly Wage Rate (LC)]]*'GDP Deflator 1960-2011'!AZ29/'GDP Deflator 1960-2011'!BD29*1/Table37[[#This Row],[PPP Exchange rate with the US$ (2016)]])","v":2.1284870911296792},0.5,null,0,14.038740515774863,11.999436425686463,0,81.053078556263273,2355,614.45255017376883,{"$f":"IFERROR(AM34/K34, \"\")","v":2.7003164702105216},0,{"$f":"IFERROR(Table37[[#This Row],[Operating Costs US$ - Bus]]/Table37[[#This Row],[Fare revenue US$- Bus]], \"\")","v":0.32253561899227623},{"$f":"IFERROR(Table37[[#This Row],[Operating Costs US$ - Metro]]/Table37[[#This Row],[Fare revenue US$- Metro]], \"\")","v":""},{"$f":"IFERROR(Table37[[#This Row],[Operating Costs US$- LRT]]/Table37[[#This Row],[Fare revenue US$- LRT]], \"\")","v":""},{"$f":"IFERROR(Table37[[#This Row],[Operating Costs US$- Tram]]/Table37[[#This Row],[Fare revenue US$- Tram]], \"\")","v":""},{"$f":"IFERROR(Table37[[#This Row],[Operating Costs US$ - Trolley Bus]]/Table37[[#This Row],[Fare revenue US$- Trolley Buses]], \"\")","v":""},{"$f":"IFERROR((AVERAGEIF(Table37[[#This Row],[Fares for 10 km of journey (2007 US$ PPP) - Bus]:[Fares for 10 km of journey (2007 US$ PPP) - Trolley Bus]], \"<>0\")*40*12)/EO34, \"\")","v":""},{"$f":"IFERROR((AVERAGEIF(Table37[[#This Row],[Fares for 10 km of journey (2007 US$ PPP) - Regional/Commuter Rail]:[Fares for 10 km of journey (2007 US$ PPP) - BRT]], \"<>0\")*40*12)/EO34, \"\")","v":""},{"$f":"IFERROR(2*(AVERAGEIF(Table37[[#This Row],[Fares for avg. length of journey (2007 US$ PPP) - Metro]:[Fares for avg. length of journey (2007 US$ PPP) - BRT]], \"<>0\"))/(Table37[[#This Row],[Minimum Hourly Wage rate (PPP $ 2007)]]*8), \"\")","v":""},0.23607120808758544,0,0,{"$f":"SUM(AP34:AQ34)+Table37[[#This Row],[Length of mass transit (km) - BRT]]","v":0},0,"",0,0,{"$f":"IFERROR(((AP42*4)+((AR42+AS42)*0.5)+((AQ42+AS42)*1))/I34, \"\")","v":0},137.94619013327488,74.621413736602065,5.8575876914341775E-2,11.316804637866596,0,0,0,25.569575336318191,0,0,{"$f":"Table37[[#This Row],[Fares for 10 km of journey (2007 US$ PPP) - Bus]]/10*Table37[[#This Row],[Average trip length by car (km)]]","v":0},{"$f":"Table37[[#This Row],[Fares for 10 km of journey (2007 US$ PPP) - Regional/Commuter Rail]]/10*Table37[[#This Row],[Average trip length by car (km)]]","v":0},{"$f":"Table37[[#This Row],[Fares for 10 km of journey (2007 US$ PPP) - Metro]]/10*Table37[[#This Row],[Average trip length by car (km)]]","v":0},{"$f":"Table37[[#This Row],[Fares for 10 km of journey (2007 US$ PPP) - LRT]]/10*Table37[[#This Row],[Average trip length by car (km)]]","v":0},{"$f":"Table37[[#This Row],[Fares for 10 km of journey (2007 US$ PPP) - Tram]]/10*Table37[[#This Row],[Average trip length by car (km)]]","v":0},{"$f":"Table37[[#This Row],[Fares for 10 km of journey (2007 US$ PPP) - BRT]]/10*Table37[[#This Row],[Average trip length by car (km)]]","v":0},{"$f":"Table37[[#This Row],[Fares for 10 km of journey (2007 US$ PPP) - Trolley Bus]]/10*Table37[[#This Row],[Average trip length by car (km)]]","v":0},"Staff numbers in most cases were combined for bus, metro and tramways. To translate: http://www.s-bahn-berlin.de/ for financials"]
[null,"Athens","Greece","OECD",2715595,2897123,664046,798216,38.9,38.9,3806.9,3806.9,69809.640102827761,323247,null,null,0,1973,40.229999999999997,10.34,1.1499999999999999,19.54,0,9.1999999999999993,14.94,4.6000000000000085,19.399999999999999,38.06,{"$f":"379/365","v":1.0383561643835617},null,null,0.77500000000000002,0,6.5000000000000002E-2,0,{"$f":"77.5/365","v":0.21232876712328766},2.0906849315068494,1.0523287671232877,2380,{"$f":"6984/2","v":3492},null,51.7,0,27,0,{"$f":"356/2","v":178},null,34,0,48,null,0,null,null,1973,null,null,{"$f":"28*6","v":168},null,0,{"$f":"35*5","v":175},0,366,null,{"$f":"45/(20*2)","v":1.125},{"$f":"45/(20*2)","v":1.125},{"$f":"45/(20*2)","v":1.125},0,{"$f":"45/(20*2)","v":1.125},0,{"$f":"45/(20*2)","v":1.125},1.4090726846964741,1.4090726846964741,1.4090726846964741,0,1.4090726846964741,0,1.4090726846964741,null,null,"Not available",0,null,0,null,null,null,"Not available",0,null,null,null,null,null,"Not available",0,"Not available",0,null,null,0,null,null,null,null,null,0,null,null,null,null,null,null,0,null,0,6683,null,{"$f":"1270+350","v":1620},0,500,0,1509,9,0.63,2.37,1.37,null,1.1200000000000001,1.53,null,1.25,30,null,7,22.093,34,64,40,4.7110000000000003,4.4710000000000001,"Euro 5",15037,22100,{"$f":"Table37[[#This Row],[City Per Capita GDP (LC)]]*('GDP Deflator 1960-2011'!AZ31/'GDP Deflator 1960-2011'!BB31)*1/Table37[[#This Row],[PPP Exchange rate with the US$ (2016)]]","v":34217.558631420856},84.367999999999995,{"$f":"Table37[[#This Row],[City GDP (LC Billion)]]*'GDP Deflator 1960-2011'!AZ31/'GDP Deflator 1960-2011'!BC31*1/Table37[[#This Row],[PPP Exchange rate with the US$ (2016)]]","v":128.43114677132073},null,{"$f":"Table37[[#This Row],[Median Annual household income (LC)]]*'GDP Deflator 1960-2011'!AZ31/'GDP Deflator 1960-2011'!AY31*1/Table37[[#This Row],[PPP Exchange rate with the US$ (2016)]]","v":0},{"$f":"585.78/(20*8)","v":3.6611249999999997},{"$f":"IF(ISERROR(Table37[[#This Row],[Minimum Hourly Wage Rate (LC)]]*'CPI 1960-2011'!AY31/'CPI 1960-2011'!BC31*1/Table37[[#This Row],[PPP Exchange rate with the US$ (2016)]]), \"n/a\", Table37[[#This Row],[Minimum Hourly Wage Rate (LC)]]*'GDP Deflator 1960-2011'!AZ31/'GDP Deflator 1960-2011'!BD31*1/Table37[[#This Row],[PPP Exchange rate with the US$ (2016)]])","v":5.4832752966753864},0.6,null,0,0,2.9711797074299069,0,2.0724789915966388,2380,3584.0890540715554,{"$f":"IFERROR(AM35/K35, \"\")","v":0.6251805931335207},3.3872275722250382,{"$f":"IFERROR(Table37[[#This Row],[Operating Costs US$ - Bus]]/Table37[[#This Row],[Fare revenue US$- Bus]], \"\")","v":""},{"$f":"IFERROR(Table37[[#This Row],[Operating Costs US$ - Metro]]/Table37[[#This Row],[Fare revenue US$- Metro]], \"\")","v":""},{"$f":"IFERROR(Table37[[#This Row],[Operating Costs US$- LRT]]/Table37[[#This Row],[Fare revenue US$- LRT]], \"\")","v":""},{"$f":"IFERROR(Table37[[#This Row],[Operating Costs US$- Tram]]/Table37[[#This Row],[Fare revenue US$- Tram]], \"\")","v":""},{"$f":"IFERROR(Table37[[#This Row],[Operating Costs US$ - Trolley Bus]]/Table37[[#This Row],[Fare revenue US$- Trolley Buses]], \"\")","v":""},{"$f":"IFERROR((AVERAGEIF(Table37[[#This Row],[Fares for 10 km of journey (2007 US$ PPP) - Bus]:[Fares for 10 km of journey (2007 US$ PPP) - Trolley Bus]], \"<>0\")*40*12)/EO35, \"\")","v":1.9766310505660481E-2},{"$f":"IFERROR((AVERAGEIF(Table37[[#This Row],[Fares for 10 km of journey (2007 US$ PPP) - Regional/Commuter Rail]:[Fares for 10 km of journey (2007 US$ PPP) - BRT]], \"<>0\")*40*12)/EO35, \"\")","v":1.9766310505660481E-2},{"$f":"IFERROR(2*(AVERAGEIF(Table37[[#This Row],[Fares for avg. length of journey (2007 US$ PPP) - Metro]:[Fares for avg. length of journey (2007 US$ PPP) - BRT]], \"<>0\"))/(Table37[[#This Row],[Minimum Hourly Wage rate (PPP $ 2007)]]*8), \"\")","v":0.1246335839625175},5.3656662644367088E-2,19.399999999999999,38.06,{"$f":"SUM(AP35:AQ35)+Table37[[#This Row],[Length of mass transit (km) - BRT]]","v":51.7},0.84000000000000008,10673.443456162644,1.2649726073193726,1.3290488431876608,{"$f":"IFERROR(((AP47*4)+((AR47+AS47)*0.5)+((AQ47+AS47)*1))/I35, \"\")","v":0},0,0,0,0,7.0943880393828147,51.201272201022221,96.378865319571233,60.236790824732026,0.63,2.37,{"$f":"Table37[[#This Row],[Fares for 10 km of journey (2007 US$ PPP) - Bus]]/10*Table37[[#This Row],[Average trip length by car (km)]]","v":2.7336010083111595},{"$f":"Table37[[#This Row],[Fares for 10 km of journey (2007 US$ PPP) - Regional/Commuter Rail]]/10*Table37[[#This Row],[Average trip length by car (km)]]","v":2.7336010083111595},{"$f":"Table37[[#This Row],[Fares for 10 km of journey (2007 US$ PPP) - Metro]]/10*Table37[[#This Row],[Average trip length by car (km)]]","v":2.7336010083111595},{"$f":"Table37[[#This Row],[Fares for 10 km of journey (2007 US$ PPP) - LRT]]/10*Table37[[#This Row],[Average trip length by car (km)]]","v":0},{"$f":"Table37[[#This Row],[Fares for 10 km of journey (2007 US$ PPP) - Tram]]/10*Table37[[#This Row],[Average trip length by car (km)]]","v":2.7336010083111595},{"$f":"Table37[[#This Row],[Fares for 10 km of journey (2007 US$ PPP) - BRT]]/10*Table37[[#This Row],[Average trip length by car (km)]]","v":0},{"$f":"Table37[[#This Row],[Fares for 10 km of journey (2007 US$ PPP) - Trolley Bus]]/10*Table37[[#This Row],[Average trip length by car (km)]]","v":2.7336010083111595},"To translate: http://www.tramsa.gr/download/oikonomikes_katastaseis_2009.pdf for tram financials"]
[null,"Budapest","Hungary","OECD",1692974,1751339,2879601,2812571,525.16,525.1,757.15,2538,3223.7299108843022,954000,22438,565563,588001,589372,21.05,3.51,3.51,14.04,0,22.81,22.81,12.269999999999996,17.399999999999999,30,{"$f":"548.621/365","v":1.5030712328767122},null,{"$f":"69.505/365","v":0.19042465753424656},{"$f":"301.556/365","v":0.82618082191780817},0,{"$f":"386.411/365","v":1.0586602739726028},0,{"$f":"67.84/365","v":0.18586301369863015},3.573775342465753,2.0707041095890411,null,998.25,97.9,34.6,0,156.85,0,56.7,139,78,0,677,283,0,null,null,1371,null,null,{"$f":"368+23","v":391},294,0,604,0,160,null,{"$f":"2800/10","v":280},{"$f":"2800/10","v":280},260,0,{"$f":"2800/10","v":280},0,{"$f":"2800/10","v":280},1.7235829221400902,1.7235829221400902,1.6004698562729409,0,1.7235829221400902,0,1.7235829221400902,126217,null,null,0,null,0,null,49541,null,null,0,null,null,null,{"$f":"131417-CH36","v":81876},null,null,0,null,0,322.51783176346891,177.27572818988818,0,227.1594377348913,39.881101355642123,126.5903634486164,16.037780565264693,69.581885564189051,0,89.161568606639761,null,15.6535937493354,209.2148442243579,26.50550698535783,114.99740543092676,0,76.825053523142714,0,3400,139,330,0,913,0,319,14.3,0.35,2.5299999999999998,335.9,null,1.57,1.24,2.1597137794374932,1.75,59,5,6,13.792999999999999,39,27.3,29,null,null,"Euro 6b",13551,22200,{"$f":"Table37[[#This Row],[City Per Capita GDP (LC)]]*('GDP Deflator 1960-2011'!AZ32/'GDP Deflator 1960-2011'!BB32)*1/EV35","v":33936.002781392381},{"$f":"37.13","v":37.130000000000003},{"$f":"Table37[[#This Row],[City GDP (LC Billion)]]*'GDP Deflator 1960-2011'!AZ32/'GDP Deflator 1960-2011'!BB32*1/EV35","v":56.758728976265736},{"$f":"4639*247.445","v":1147897.355},{"$f":"Table37[[#This Row],[Median Annual household income (LC)]]*'GDP Deflator 1960-2011'!AZ32/'GDP Deflator 1960-2011'!AT32*1/Table37[[#This Row],[PPP Exchange rate with the US$ (2016)]]","v":11952.643310313966},{"$f":"92000/(20*8)","v":575},{"$f":"IF(ISERROR(Table37[[#This Row],[Minimum Hourly Wage Rate (LC)]]*'CPI 1960-2011'!AY32/'CPI 1960-2011'!BC32*1/Table37[[#This Row],[PPP Exchange rate with the US$ (2016)]]), \"n/a\", Table37[[#This Row],[Minimum Hourly Wage Rate (LC)]]*'GDP Deflator 1960-2011'!AZ32/'GDP Deflator 1960-2011'!BD32*1/Table37[[#This Row],[PPP Exchange rate with the US$ (2016)]])","v":3.8252785115321482},129.19999999999999,null,7.792051746057874,196.40325170049599,0.47610762741088086,3.8071031538654702E-2,"",0,0,{"$f":"IFERROR(AM36/I36, \"\")","v":0},2.4799416484318018,{"$f":"IFERROR(Table37[[#This Row],[Operating Costs US$ - Bus]]/Table37[[#This Row],[Fare revenue US$- Bus]], \"\")","v":2.5477281443652728},{"$f":"IFERROR(Table37[[#This Row],[Operating Costs US$ - Metro]]/Table37[[#This Row],[Fare revenue US$- Metro]], \"\")","v":2.5477281443652737},{"$f":"IFERROR(Table37[[#This Row],[Operating Costs US$- LRT]]/Table37[[#This Row],[Fare revenue US$- LRT]], \"\")","v":""},{"$f":"IFERROR(Table37[[#This Row],[Operating Costs US$- Tram]]/Table37[[#This Row],[Fare revenue US$- Tram]], \"\")","v":2.5477281443652728},{"$f":"IFERROR(Table37[[#This Row],[Operating Costs US$ - Trolley Bus]]/Table37[[#This Row],[Fare revenue US$- Trolley Buses]], \"\")","v":2.5477281443652737},{"$f":"IFERROR((AVERAGEIF(Table37[[#This Row],[Fares for 10 km of journey (2007 US$ PPP) - Bus]:[Fares for 10 km of journey (2007 US$ PPP) - Trolley Bus]], \"<>0\")*40*12)/EO36, \"\")","v":2.4030554027156915E-2},{"$f":"IFERROR((AVERAGEIF(Table37[[#This Row],[Fares for 10 km of journey (2007 US$ PPP) - Regional/Commuter Rail]:[Fares for 10 km of journey (2007 US$ PPP) - BRT]], \"<>0\")*40*12)/EO36, \"\")","v":2.3798374761194042E-2},{"$f":"IFERROR(2*(AVERAGEIF(Table37[[#This Row],[Fares for avg. length of journey (2007 US$ PPP) - Metro]:[Fares for avg. length of journey (2007 US$ PPP) - BRT]], \"<>0\"))/(Table37[[#This Row],[Minimum Hourly Wage rate (PPP $ 2007)]]*8), \"\")","v":0.18900100401192921},4.3847238273327017E-2,17.399999999999999,30,{"$f":"SUM(AP36:AQ36)+Table37[[#This Row],[Length of mass transit (km) - BRT]]","v":34.6},1.8848410958904109,9845.082767774411,0.65454939621510444,6.5884682763348315E-2,0,84.648700000000005,50,"",1.4362524856966399,0,13.543543011688078,9.4804801081816539,10.070839675357801,0.35,2.5299999999999998,{"$f":"Table37[[#This Row],[Fares for 10 km of journey (2007 US$ PPP) - Bus]]/10*Table37[[#This Row],[Average trip length by car (km)]]","v":2.999034284523757},{"$f":"Table37[[#This Row],[Fares for 10 km of journey (2007 US$ PPP) - Regional/Commuter Rail]]/10*Table37[[#This Row],[Average trip length by car (km)]]","v":2.999034284523757},{"$f":"Table37[[#This Row],[Fares for 10 km of journey (2007 US$ PPP) - Metro]]/10*Table37[[#This Row],[Average trip length by car (km)]]","v":2.7848175499149166},{"$f":"Table37[[#This Row],[Fares for 10 km of journey (2007 US$ PPP) - LRT]]/10*Table37[[#This Row],[Average trip length by car (km)]]","v":0},{"$f":"Table37[[#This Row],[Fares for 10 km of journey (2007 US$ PPP) - Tram]]/10*Table37[[#This Row],[Average trip length by car (km)]]","v":2.999034284523757},{"$f":"Table37[[#This Row],[Fares for 10 km of journey (2007 US$ PPP) - BRT]]/10*Table37[[#This Row],[Average trip length by car (km)]]","v":0},{"$f":"Table37[[#This Row],[Fares for 10 km of journey (2007 US$ PPP) - Trolley Bus]]/10*Table37[[#This Row],[Average trip length by car (km)]]","v":2.999034284523757}]
[null,"Agra","India","SAR",1574542,1275000,1746467,null,141,141,188.4,null,11166.964539007093,null,null,null,0,544,null,null,null,null,null,null,null,0,null,null,null,null,0,0,0,0,0,0,0,0,null,null,0,0,0,0,0,0,0,0,0,0,0,0,null,null,544,null,null,0,0,0,0,0,0,null,null,0,0,0,0,0,0,0,0,0,0,0,0,0,null,0,0,0,0,0,0,null,0,0,0,0,null,0,null,0,0,0,0,0,null,0,0,0,0,null,0,0,0,0,null,0,null,0,0,0,0,0,null,0,0,0,0,0,0,null,null,null,60,73.12,54.49,0.9,null,0.82,45.22,3.4609999999999999,null,null,null,null,196,null,null,"Euro 4 ",null,null,{"$f":"Table37[[#This Row],[City Per Capita GDP (LC)]]*('GDP Deflator 1960-2011'!AZ33/'GDP Deflator 1960-2011'!BB33)*1/Table37[[#This Row],[PPP Exchange rate with the US$ (2016)]]","v":0},null,{"$f":"Table37[[#This Row],[City GDP (LC Billion)]]*'GDP Deflator 1960-2011'!AZ33/'GDP Deflator 1960-2011'!BC33*1/Table37[[#This Row],[PPP Exchange rate with the US$ (2016)]]","v":0},null,{"$f":"Table37[[#This Row],[Median Annual household income (LC)]]*'GDP Deflator 1960-2011'!AZ33/'GDP Deflator 1960-2011'!AY33*1/Table37[[#This Row],[PPP Exchange rate with the US$ (2016)]]","v":0},29,{"$f":"IF(ISERROR(Table37[[#This Row],[Minimum Hourly Wage Rate (LC)]]*'CPI 1960-2011'!AY33/'CPI 1960-2011'!BC33*1/Table37[[#This Row],[PPP Exchange rate with the US$ (2016)]]), \"n/a\", Table37[[#This Row],[Minimum Hourly Wage Rate (LC)]]*'GDP Deflator 1960-2011'!AZ33/'GDP Deflator 1960-2011'!BD33*1/Table37[[#This Row],[PPP Exchange rate with the US$ (2016)]])","v":1.2498846772033525},17.2,null,0,0,0.31148598857006748,0,"",0,0,{"$f":"IFERROR(AM37/I37, \"\")","v":0},0,{"$f":"IFERROR(Table37[[#This Row],[Operating Costs US$ - Bus]]/Table37[[#This Row],[Fare revenue US$- Bus]], \"\")","v":""},{"$f":"IFERROR(Table37[[#This Row],[Operating Costs US$ - Metro]]/Table37[[#This Row],[Fare revenue US$- Metro]], \"\")","v":""},{"$f":"IFERROR(Table37[[#This Row],[Operating Costs US$- LRT]]/Table37[[#This Row],[Fare revenue US$- LRT]], \"\")","v":""},{"$f":"IFERROR(Table37[[#This Row],[Operating Costs US$- Tram]]/Table37[[#This Row],[Fare revenue US$- Tram]], \"\")","v":""},{"$f":"IFERROR(Table37[[#This Row],[Operating Costs US$ - Trolley Bus]]/Table37[[#This Row],[Fare revenue US$- Trolley Buses]], \"\")","v":""},{"$f":"IFERROR((AVERAGEIF(Table37[[#This Row],[Fares for 10 km of journey (2007 US$ PPP) - Bus]:[Fares for 10 km of journey (2007 US$ PPP) - Trolley Bus]], \"<>0\")*40*12)/EO37, \"\")","v":""},{"$f":"IFERROR((AVERAGEIF(Table37[[#This Row],[Fares for 10 km of journey (2007 US$ PPP) - Regional/Commuter Rail]:[Fares for 10 km of journey (2007 US$ PPP) - BRT]], \"<>0\")*40*12)/EO37, \"\")","v":""},{"$f":"IFERROR(2*(AVERAGEIF(Table37[[#This Row],[Fares for avg. length of journey (2007 US$ PPP) - Metro]:[Fares for avg. length of journey (2007 US$ PPP) - BRT]], \"<>0\"))/(Table37[[#This Row],[Minimum Hourly Wage rate (PPP $ 2007)]]*8), \"\")","v":""},"",0,0,{"$f":"SUM(AP37:AQ37)+Table37[[#This Row],[Length of mass transit (km) - BRT]]","v":0},0,"",0,0,0,54.494898620000001,34.61,"",1001.7444599264707,0,0,0,112.22656941127431,0,0,{"$f":"Table37[[#This Row],[Fares for 10 km of journey (2007 US$ PPP) - Bus]]/10*Table37[[#This Row],[Average trip length by car (km)]]","v":0},{"$f":"Table37[[#This Row],[Fares for 10 km of journey (2007 US$ PPP) - Regional/Commuter Rail]]/10*Table37[[#This Row],[Average trip length by car (km)]]","v":0},{"$f":"Table37[[#This Row],[Fares for 10 km of journey (2007 US$ PPP) - Metro]]/10*Table37[[#This Row],[Average trip length by car (km)]]","v":0},{"$f":"Table37[[#This Row],[Fares for 10 km of journey (2007 US$ PPP) - LRT]]/10*Table37[[#This Row],[Average trip length by car (km)]]","v":0},{"$f":"Table37[[#This Row],[Fares for 10 km of journey (2007 US$ PPP) - Tram]]/10*Table37[[#This Row],[Average trip length by car (km)]]","v":0},{"$f":"Table37[[#This Row],[Fares for 10 km of journey (2007 US$ PPP) - BRT]]/10*Table37[[#This Row],[Average trip length by car (km)]]","v":0},{"$f":"Table37[[#This Row],[Fares for 10 km of journey (2007 US$ PPP) - Trolley Bus]]/10*Table37[[#This Row],[Average trip length by car (km)]]","v":0}]
[null,"Ahmedabad","India","SAR",5570585,3520085,6352254,4525013,288.04000000000002,288.04000000000002,274.08999999999997,1719,19339.622969032076,{"$f":"355726-1300-507","v":353919},1235688,{"$f":"199777+13666","v":213443},1449131,1585526,44.44,5.56,11.11,22.22,5,10,null,1.6700000000000017,5.4,16,{"$f":"157.26/365+114.46/365","v":0.74443835616438347},null,0,0,0,0,0.115,0,0.85943835616438347,0.115,1873,null,0,0,0,0,39,0,0,0,0,0,0,57,null,null,{"$f":"572+320","v":892},null,null,0,0,0,0,70,0,{"$f":"6072+81923","v":87995},12,0,0,0,0,0.3,0,0.53550401883991405,0,0,0,0,0.72025290533968434,0,null,0,0,0,0,null,0,null,0,0,0,0,7.12,0,null,0,0,0,0,0,null,0,0,0,0,null,0,0,0,0,14.88576221437232,0,null,0,0,0,0,0,3828,0,0,0,0,null,0,10.54,null,null,66,71.8,58.45,1,null,0.88,null,{"$f":"222/E38*100000","v":3.9852187876138681},null,{"$f":"162/F38*100000","v":4.6021615955296529},30,21,83,null,6.4080000000000004,"Euro 4 ",null,null,49,null,{"$f":"Table37[[#This Row],[City GDP (LC Billion)]]*'GDP Deflator 1960-2011'!AZ34/'GDP Deflator 1960-2011'!BC34*1/Table37[[#This Row],[PPP Exchange rate with the US$ (2016)]]","v":0},null,{"$f":"Table37[[#This Row],[Median Annual household income (LC)]]*'GDP Deflator 1960-2011'!AZ34/'GDP Deflator 1960-2011'!AY34*1/Table37[[#This Row],[PPP Exchange rate with the US$ (2016)]]","v":0},{"$f":"(22.63+30)/2","v":26.314999999999998},{"$f":"IF(ISERROR(Table37[[#This Row],[Minimum Hourly Wage Rate (LC)]]*'CPI 1960-2011'!AY34/'CPI 1960-2011'!BC34*1/Table37[[#This Row],[PPP Exchange rate with the US$ (2016)]]), \"n/a\", Table37[[#This Row],[Minimum Hourly Wage Rate (LC)]]*'GDP Deflator 1960-2011'!AZ34/'GDP Deflator 1960-2011'!BD34*1/Table37[[#This Row],[PPP Exchange rate with the US$ (2016)]])","v":1.1341625958829729},17.2,null,194.52748583416218,33.601143782978454,0.14042259645159025,0.77935524236121012,491.99786438868125,1873,294.85596766124274,{"$f":"IFERROR(AM38/I38, \"\")","v":6.5025690876267177},4.2914798206278029,{"$f":"IFERROR(Table37[[#This Row],[Operating Costs US$ - Bus]]/Table37[[#This Row],[Fare revenue US$- Bus]], \"\")","v":""},{"$f":"IFERROR(Table37[[#This Row],[Operating Costs US$ - Metro]]/Table37[[#This Row],[Fare revenue US$- Metro]], \"\")","v":""},{"$f":"IFERROR(Table37[[#This Row],[Operating Costs US$- LRT]]/Table37[[#This Row],[Fare revenue US$- LRT]], \"\")","v":""},{"$f":"IFERROR(Table37[[#This Row],[Operating Costs US$- Tram]]/Table37[[#This Row],[Fare revenue US$- Tram]], \"\")","v":""},{"$f":"IFERROR(Table37[[#This Row],[Operating Costs US$ - Trolley Bus]]/Table37[[#This Row],[Fare revenue US$- Trolley Buses]], \"\")","v":""},{"$f":"IFERROR((AVERAGEIF(Table37[[#This Row],[Fares for 10 km of journey (2007 US$ PPP) - Bus]:[Fares for 10 km of journey (2007 US$ PPP) - Trolley Bus]], \"<>0\")*40*12)/EO38, \"\")","v":6.1506461592470121},{"$f":"IFERROR((AVERAGEIF(Table37[[#This Row],[Fares for 10 km of journey (2007 US$ PPP) - Regional/Commuter Rail]:[Fares for 10 km of journey (2007 US$ PPP) - BRT]], \"<>0\")*40*12)/EO38, \"\")","v":7.0555386645520102},{"$f":"IFERROR(2*(AVERAGEIF(Table37[[#This Row],[Fares for avg. length of journey (2007 US$ PPP) - Metro]:[Fares for avg. length of journey (2007 US$ PPP) - BRT]], \"<>0\"))/(Table37[[#This Row],[Minimum Hourly Wage rate (PPP $ 2007)]]*8), \"\")","v":8.5732101000172964E-2},24.489795918367346,5.4,16,{"$f":"SUM(AP38:AQ38)+Table37[[#This Row],[Length of mass transit (km) - BRT]]","v":39},0.115,2948.7179487179487,1.8103810080642241E-2,0.13539786140813775,3.6974031384529919E-2,222,39.852187876138679,0.11852642819006941,1.4001662539750215,0,4.7227330645153671,3.3059131451607571,13.066228145159183,0,0,{"$f":"Table37[[#This Row],[Fares for 10 km of journey (2007 US$ PPP) - Bus]]/10*Table37[[#This Row],[Average trip length by car (km)]]","v":0.28917217017355362},{"$f":"Table37[[#This Row],[Fares for 10 km of journey (2007 US$ PPP) - Regional/Commuter Rail]]/10*Table37[[#This Row],[Average trip length by car (km)]]","v":0},{"$f":"Table37[[#This Row],[Fares for 10 km of journey (2007 US$ PPP) - Metro]]/10*Table37[[#This Row],[Average trip length by car (km)]]","v":0},{"$f":"Table37[[#This Row],[Fares for 10 km of journey (2007 US$ PPP) - LRT]]/10*Table37[[#This Row],[Average trip length by car (km)]]","v":0},{"$f":"Table37[[#This Row],[Fares for 10 km of journey (2007 US$ PPP) - Tram]]/10*Table37[[#This Row],[Average trip length by car (km)]]","v":0},{"$f":"Table37[[#This Row],[Fares for 10 km of journey (2007 US$ PPP) - BRT]]/10*Table37[[#This Row],[Average trip length by car (km)]]","v":0.38893656888342953},{"$f":"Table37[[#This Row],[Fares for 10 km of journey (2007 US$ PPP) - Trolley Bus]]/10*Table37[[#This Row],[Average trip length by car (km)]]","v":0}]
[null,"Amritsar","India","SAR",1132761,1011327,1183705,null,139,139,null,null,{"$f":"E39/I39","v":8149.3597122302162},{"$f":"12260+1992+280770+16646","v":311668},306891,62685,{"$f":"O39+P39","v":369576},386217,null,33.33,66.67,null,null,null,null,0,15,31,null,null,0,0,0,0,0,0,0,0,525,null,0,0,0,0,0,0,0,0,0,0,0,0,null,null,1624,null,null,0,0,0,0,0,0,{"$f":"1958+7945","v":9903},null,0,0,0,0,0,0,0,0,0,0,0,0,0,null,0,0,0,0,0,0,null,0,0,0,0,null,0,null,0,0,0,0,0,null,0,0,0,0,null,0,0,0,0,null,0,null,0,0,0,0,0,null,0,0,0,0,0,0,null,null,null,75,75.83,53.26,1.1299999999999999,null,0.8,null,{"$f":"37/E39*100000","v":3.2663553918258135},null,null,null,null,202,null,null,"Euro 3",null,null,{"$f":"Table37[[#This Row],[City Per Capita GDP (LC)]]*('GDP Deflator 1960-2011'!AZ35/'GDP Deflator 1960-2011'!BB35)*1/Table37[[#This Row],[PPP Exchange rate with the US$ (2016)]]","v":0},null,{"$f":"Table37[[#This Row],[City GDP (LC Billion)]]*'GDP Deflator 1960-2011'!AZ35/'GDP Deflator 1960-2011'!BC35*1/Table37[[#This Row],[PPP Exchange rate with the US$ (2016)]]","v":0},267056,{"$f":"Table37[[#This Row],[Median Annual household income (LC)]]*'GDP Deflator 1960-2011'!AZ35/'GDP Deflator 1960-2011'!BA35*1/Table37[[#This Row],[PPP Exchange rate with the US$ (2016)]]","v":14288.467066631289},{"$f":"(20.25+24.75)/2","v":22.5},{"$f":"IF(ISERROR(Table37[[#This Row],[Minimum Hourly Wage Rate (LC)]]*'CPI 1960-2011'!AY35/'CPI 1960-2011'!BC35*1/Table37[[#This Row],[PPP Exchange rate with the US$ (2016)]]), \"n/a\", Table37[[#This Row],[Minimum Hourly Wage Rate (LC)]]*'GDP Deflator 1960-2011'!AZ35/'GDP Deflator 1960-2011'!BD35*1/Table37[[#This Row],[PPP Exchange rate with the US$ (2016)]])","v":0.96973811162329071},17.2,null,{"$f":"IFERROR(O39/G39*1000, O39/E39*1000)","v":259.26307652666833},{"$f":"IFERROR(P39/G39*1000,P39/E39*1000)","v":52.956606586945227},{"$f":"IFERROR(SUM(BA39:BE39)/G39*1000, SUM(BA39:BE39)/E39*1000)","v":1.3719634537321377},{"$f":"IFERROR(O39/R39, \"\")","v":0.79460769463798853},{"$f":"IFERROR(((O39*0.5)+((P39+BL39)*1)+(SUM(BA39:BE39)*2.5))/AM39, \"\")","v":438.27333333333331},{"$f":"AM39","v":525},{"$f":"IFERROR(AM39/G39*10^6,AM39/E39*10^6)","v":443.52266823237204},{"$f":"IFERROR(AM39/I39, \"\")","v":3.7769784172661871},{"$f":"IFERROR(DM39/SUM(BA39:BE39), \"\")","v":0},{"$f":"IFERROR(Table37[[#This Row],[Operating Costs US$ - Bus]]/Table37[[#This Row],[Fare revenue US$- Bus]], \"\")","v":""},{"$f":"IFERROR(Table37[[#This Row],[Operating Costs US$ - Metro]]/Table37[[#This Row],[Fare revenue US$- Metro]], \"\")","v":""},{"$f":"IFERROR(Table37[[#This Row],[Operating Costs US$- LRT]]/Table37[[#This Row],[Fare revenue US$- LRT]], \"\")","v":""},{"$f":"IFERROR(Table37[[#This Row],[Operating Costs US$- Tram]]/Table37[[#This Row],[Fare revenue US$- Tram]], \"\")","v":""},{"$f":"IFERROR(Table37[[#This Row],[Operating Costs US$ - Trolley Bus]]/Table37[[#This Row],[Fare revenue US$- Trolley Buses]], \"\")","v":""},{"$f":"IFERROR((AVERAGEIF(Table37[[#This Row],[Fares for 10 km of journey (2007 US$ PPP) - Bus]:[Fares for 10 km of journey (2007 US$ PPP) - Trolley Bus]], \"<>0\")*40*12)/EO39, \"\")","v":""},{"$f":"IFERROR((AVERAGEIF(Table37[[#This Row],[Fares for 10 km of journey (2007 US$ PPP) - Regional/Commuter Rail]:[Fares for 10 km of journey (2007 US$ PPP) - BRT]], \"<>0\")*40*12)/EO39, \"\")","v":""},{"$f":"IFERROR(2*(AVERAGEIF(Table37[[#This Row],[Fares for avg. length of journey (2007 US$ PPP) - Metro]:[Fares for avg. length of journey (2007 US$ PPP) - BRT]], \"<>0\"))/(Table37[[#This Row],[Minimum Hourly Wage rate (PPP $ 2007)]]*8), \"\")","v":""},"",{"$f":"AA39","v":15},{"$f":"AB39","v":31},{"$f":"SUM(AP39:AQ39)+Table37[[#This Row],[Length of mass transit (km) - BRT]]","v":0},0,"",{"$f":"IFERROR(FS39*10^6/G39, FS39*10^6/E39)","v":0},{"$f":"IFERROR(FR39/I39, \"\")","v":0},0,{"$f":"IFERROR(ED39*E39/10^5, \"\")","v":37.000000000000007},{"$f":"ED39*10","v":32.663553918258131},{"$f":"IFERROR(FX39/AM39, \"\")","v":7.0476190476190484E-2},{"$f":"IFERROR(FX39/(R39/10^4), \"\")","v":0.95801065204276381},{"$f":"IFERROR(EJ39/G39*10^6, EJ39/E39*10^6)","v":0},{"$f":"IFERROR(EG39/G39*10^6, EG39/E39*10^6)","v":0},{"$f":"IFERROR(EH39/G39*10^6, EH39/E39*10^6)","v":0},{"$f":"IFERROR(EI39/G39*10^6, EI39/E39*10^6)","v":170.65062663416981},{"$f":"DU39","v":0},{"$f":"DV39","v":0},{"$f":"Table37[[#This Row],[Fares for 10 km of journey (2007 US$ PPP) - Bus]]/10*Table37[[#This Row],[Average trip length by car (km)]]","v":0},{"$f":"Table37[[#This Row],[Fares for 10 km of journey (2007 US$ PPP) - Regional/Commuter Rail]]/10*Table37[[#This Row],[Average trip length by car (km)]]","v":0},{"$f":"Table37[[#This Row],[Fares for 10 km of journey (2007 US$ PPP) - Metro]]/10*Table37[[#This Row],[Average trip length by car (km)]]","v":0},{"$f":"Table37[[#This Row],[Fares for 10 km of journey (2007 US$ PPP) - LRT]]/10*Table37[[#This Row],[Average trip length by car (km)]]","v":0},{"$f":"Table37[[#This Row],[Fares for 10 km of journey (2007 US$ PPP) - Tram]]/10*Table37[[#This Row],[Average trip length by car (km)]]","v":0},{"$f":"Table37[[#This Row],[Fares for 10 km of journey (2007 US$ PPP) - BRT]]/10*Table37[[#This Row],[Average trip length by car (km)]]","v":0},{"$f":"Table37[[#This Row],[Fares for 10 km of journey (2007 US$ PPP) - Trolley Bus]]/10*Table37[[#This Row],[Average trip length by car (km)]]","v":0}]
[null,"Bangalore","India","SAR",8425970,5897267,8499399,null,709,709,8005,8002,11884.301833568406,null,2406036,634090,3040126,3472910,43.69,6.8,12.62,8.74,0,11.65,1,15.5,9.6,32,4.5,null,0,null,0,0,0,0,4.5,0,{"$f":"956+1066.18","v":2022.18},null,0,{"$f":"18.1+24.2","v":42.3},0,0,0,0,0,35,0,0,0,0,null,null,6381,null,null,null,0,0,0,0,0,{"$f":"104543+117261","v":221804},12,0,15,0,0,0,0,0.53550401883991405,0,0.66938002354989268,0,0,0,0,12789.95,0,null,0,0,0,0,{"$f":" (121123.53*10^5/10^6)","v":12112.352999999999},0,null,0,0,null,0,605.76300000000003,0,null,0,null,0,570.75580214679667,null,0,0,0,540.51780909230752,0,null,0,0,null,0,27.032376747043578,0,null,0,null,0,34278,0,null,0,0,0,0,4.05,null,null,69.290000000000006,75.17,56.65,1.04,null,0.86,48.05,10.199999999999999,null,null,7,50,118,null,21.43,"Euro 4 ",null,156967,{"$f":"Table37[[#This Row],[City Per Capita GDP (LC)]]*('GDP Deflator 1960-2011'!AZ36/'GDP Deflator 1960-2011'!BB36)*1/Table37[[#This Row],[PPP Exchange rate with the US$ (2016)]]","v":7925.5812973269813},1136.8043,{"$f":"Table37[[#This Row],[City GDP (LC Billion)]]*'GDP Deflator 1960-2011'!AZ36/'GDP Deflator 1960-2011'!BB36*1/Table37[[#This Row],[PPP Exchange rate with the US$ (2016)]]","v":57.399548305063433},300678,{"$f":"Table37[[#This Row],[Median Annual household income (LC)]]*'GDP Deflator 1960-2011'!AZ36/'GDP Deflator 1960-2011'!BA36*1/Table37[[#This Row],[PPP Exchange rate with the US$ (2016)]]","v":16087.366322646045},{"$f":"(22.63+30)/2","v":26.314999999999998},{"$f":"IF(ISERROR(Table37[[#This Row],[Minimum Hourly Wage Rate (LC)]]*'CPI 1960-2011'!AY36/'CPI 1960-2011'!BC36*1/Table37[[#This Row],[PPP Exchange rate with the US$ (2016)]]), \"n/a\", Table37[[#This Row],[Minimum Hourly Wage Rate (LC)]]*'GDP Deflator 1960-2011'!AZ36/'GDP Deflator 1960-2011'!BD36*1/Table37[[#This Row],[PPP Exchange rate with the US$ (2016)]])","v":1.1341625958829729},17.2,null,283.0830744620884,74.604098478021797,0.75075896542802623,0.69280113795059473,1026.053318695665,2022.18,237.92035178016707,{"$f":"IFERROR(AM40/K40, \"\")","v":0.25261461586508432},5.3718852844381759,{"$f":"IFERROR(Table37[[#This Row],[Operating Costs US$ - Bus]]/Table37[[#This Row],[Fare revenue US$- Bus]], \"\")","v":1.0559426397166596},{"$f":"IFERROR(Table37[[#This Row],[Operating Costs US$ - Metro]]/Table37[[#This Row],[Fare revenue US$- Metro]], \"\")","v":""},{"$f":"IFERROR(Table37[[#This Row],[Operating Costs US$- LRT]]/Table37[[#This Row],[Fare revenue US$- LRT]], \"\")","v":""},{"$f":"IFERROR(Table37[[#This Row],[Operating Costs US$- Tram]]/Table37[[#This Row],[Fare revenue US$- Tram]], \"\")","v":""},{"$f":"IFERROR(Table37[[#This Row],[Operating Costs US$ - Trolley Bus]]/Table37[[#This Row],[Fare revenue US$- Trolley Buses]], \"\")","v":""},{"$f":"IFERROR((AVERAGEIF(Table37[[#This Row],[Fares for 10 km of journey (2007 US$ PPP) - Bus]:[Fares for 10 km of journey (2007 US$ PPP) - Trolley Bus]], \"<>0\")*40*12)/EO40, \"\")","v":3.6485925678546902E-2},{"$f":"IFERROR((AVERAGEIF(Table37[[#This Row],[Fares for 10 km of journey (2007 US$ PPP) - Regional/Commuter Rail]:[Fares for 10 km of journey (2007 US$ PPP) - BRT]], \"<>0\")*40*12)/EO40, \"\")","v":4.0539917420607675E-2},{"$f":"IFERROR(2*(AVERAGEIF(Table37[[#This Row],[Fares for avg. length of journey (2007 US$ PPP) - Metro]:[Fares for avg. length of journey (2007 US$ PPP) - BRT]], \"<>0\"))/(Table37[[#This Row],[Minimum Hourly Wage rate (PPP $ 2007)]]*8), \"\")","v":0.14164742007463527},0.15746479067988442,9.6,32,{"$f":"SUM(AP40:AQ40)+Table37[[#This Row],[Length of mass transit (km) - BRT]]","v":42.3},0,0,0,5.9661495063469669E-2,0.14076163610719322,859.44893999999999,102,0.42501109693499095,2.4747227541168644,0,0.82358764425578801,5.8827688875413422,13.883334574597569,0,0,{"$f":"Table37[[#This Row],[Fares for 10 km of journey (2007 US$ PPP) - Bus]]/10*Table37[[#This Row],[Average trip length by car (km)]]","v":0.51408385808631751},{"$f":"Table37[[#This Row],[Fares for 10 km of journey (2007 US$ PPP) - Regional/Commuter Rail]]/10*Table37[[#This Row],[Average trip length by car (km)]]","v":0},{"$f":"Table37[[#This Row],[Fares for 10 km of journey (2007 US$ PPP) - Metro]]/10*Table37[[#This Row],[Average trip length by car (km)]]","v":0.64260482260789697},{"$f":"Table37[[#This Row],[Fares for 10 km of journey (2007 US$ PPP) - LRT]]/10*Table37[[#This Row],[Average trip length by car (km)]]","v":0},{"$f":"Table37[[#This Row],[Fares for 10 km of journey (2007 US$ PPP) - Tram]]/10*Table37[[#This Row],[Average trip length by car (km)]]","v":0},{"$f":"Table37[[#This Row],[Fares for 10 km of journey (2007 US$ PPP) - BRT]]/10*Table37[[#This Row],[Average trip length by car (km)]]","v":0},{"$f":"Table37[[#This Row],[Fares for 10 km of journey (2007 US$ PPP) - Trolley Bus]]/10*Table37[[#This Row],[Average trip length by car (km)]]","v":0}]
[null,"Bhopal","India","SAR",1843000,1437354,2995648,null,298.48,298.48,null,null,6174.6180648619666,null,463101,52953,516054,571088,null,null,null,null,null,null,null,0,3.1,15,0.1,null,0,0,0,0,7.0000000000000007E-2,0,0.1,0,null,null,0,0,0,0,24,0,0,0,0,0,0,41,null,null,3169,null,null,0,0,0,0,26,0,23303,10,0,0,0,0,0,0,0.4462533490332618,0,0,0,0,0.43,0,null,0,0,0,0,0,0,null,0,0,0,0,6.33,0,null,0,0,0,0,0,null,0,0,0,0,null,0,0,0,0,null,0,null,0,0,0,0,0,null,0,0,0,0,0,0,null,null,null,71.180000000000007,72.7,59.53,1.0780000000000001,null,0.9,null,{"$f":"147/E41*100000","v":7.9761258817145961},null,null,null,null,173,null,null,"Euro 3",null,null,{"$f":"Table37[[#This Row],[City Per Capita GDP (LC)]]*('GDP Deflator 1960-2011'!AZ37/'GDP Deflator 1960-2011'!BB37)*1/Table37[[#This Row],[PPP Exchange rate with the US$ (2016)]]","v":0},null,{"$f":"Table37[[#This Row],[City GDP (LC Billion)]]*'GDP Deflator 1960-2011'!AZ37/'GDP Deflator 1960-2011'!BC37*1/Table37[[#This Row],[PPP Exchange rate with the US$ (2016)]]","v":0},165210,{"$f":"Table37[[#This Row],[Median Annual household income (LC)]]*'GDP Deflator 1960-2011'!AZ37/'GDP Deflator 1960-2011'!BA37*1/Table37[[#This Row],[PPP Exchange rate with the US$ (2016)]]","v":8839.3357351198083},{"$f":"(20.5+27.5)/2","v":24},{"$f":"IF(ISERROR(Table37[[#This Row],[Minimum Hourly Wage Rate (LC)]]*'CPI 1960-2011'!AY37/'CPI 1960-2011'!BC37*1/Table37[[#This Row],[PPP Exchange rate with the US$ (2016)]]), \"n/a\", Table37[[#This Row],[Minimum Hourly Wage Rate (LC)]]*'GDP Deflator 1960-2011'!AZ37/'GDP Deflator 1960-2011'!BD37*1/Table37[[#This Row],[PPP Exchange rate with the US$ (2016)]])","v":1.0343873190648436},17.2,null,154.59126038840347,17.676642916657766,1.057867947101929,0.81091005239122516,"",0,0,{"$f":"IFERROR(AM41/I41, \"\")","v":0},0,{"$f":"IFERROR(Table37[[#This Row],[Operating Costs US$ - Bus]]/Table37[[#This Row],[Fare revenue US$- Bus]], \"\")","v":""},{"$f":"IFERROR(Table37[[#This Row],[Operating Costs US$ - Metro]]/Table37[[#This Row],[Fare revenue US$- Metro]], \"\")","v":""},{"$f":"IFERROR(Table37[[#This Row],[Operating Costs US$- LRT]]/Table37[[#This Row],[Fare revenue US$- LRT]], \"\")","v":""},{"$f":"IFERROR(Table37[[#This Row],[Operating Costs US$- Tram]]/Table37[[#This Row],[Fare revenue US$- Tram]], \"\")","v":""},{"$f":"IFERROR(Table37[[#This Row],[Operating Costs US$ - Trolley Bus]]/Table37[[#This Row],[Fare revenue US$- Trolley Buses]], \"\")","v":""},{"$f":"IFERROR((AVERAGEIF(Table37[[#This Row],[Fares for 10 km of journey (2007 US$ PPP) - Bus]:[Fares for 10 km of journey (2007 US$ PPP) - Trolley Bus]], \"<>0\")*40*12)/EO41, \"\")","v":""},{"$f":"IFERROR((AVERAGEIF(Table37[[#This Row],[Fares for 10 km of journey (2007 US$ PPP) - Regional/Commuter Rail]:[Fares for 10 km of journey (2007 US$ PPP) - BRT]], \"<>0\")*40*12)/EO41, \"\")","v":""},{"$f":"IFERROR(2*(AVERAGEIF(Table37[[#This Row],[Fares for avg. length of journey (2007 US$ PPP) - Metro]:[Fares for avg. length of journey (2007 US$ PPP) - BRT]], \"<>0\"))/(Table37[[#This Row],[Minimum Hourly Wage rate (PPP $ 2007)]]*8), \"\")","v":3.2217138963118827E-2},"",3.1,15,{"$f":"SUM(AP41:AQ41)+Table37[[#This Row],[Length of mass transit (km) - BRT]]","v":24},{"$f":"SUM(AF41:AI41)","v":7.0000000000000007E-2},{"$f":"IFERROR(FS41*10^6/(AP41+AR41+AQ41+AS41), \"\")","v":2916.6666666666665},2.3367231397013268E-2,8.0407397480568202E-2,0,147,79.761258817145958,"",2.5740341243381053,0,0,0,57.750443309761359,0,0,{"$f":"Table37[[#This Row],[Fares for 10 km of journey (2007 US$ PPP) - Bus]]/10*Table37[[#This Row],[Average trip length by car (km)]]","v":0.13833853820031117},{"$f":"Table37[[#This Row],[Fares for 10 km of journey (2007 US$ PPP) - Regional/Commuter Rail]]/10*Table37[[#This Row],[Average trip length by car (km)]]","v":0},{"$f":"Table37[[#This Row],[Fares for 10 km of journey (2007 US$ PPP) - Metro]]/10*Table37[[#This Row],[Average trip length by car (km)]]","v":0},{"$f":"Table37[[#This Row],[Fares for 10 km of journey (2007 US$ PPP) - LRT]]/10*Table37[[#This Row],[Average trip length by car (km)]]","v":0},{"$f":"Table37[[#This Row],[Fares for 10 km of journey (2007 US$ PPP) - Tram]]/10*Table37[[#This Row],[Average trip length by car (km)]]","v":0},{"$f":"Table37[[#This Row],[Fares for 10 km of journey (2007 US$ PPP) - BRT]]/10*Table37[[#This Row],[Average trip length by car (km)]]","v":0.1333},{"$f":"Table37[[#This Row],[Fares for 10 km of journey (2007 US$ PPP) - Trolley Bus]]/10*Table37[[#This Row],[Average trip length by car (km)]]","v":0}]
[null,"Bhuvaneshwar","India","SAR",837737,648032,881988,null,135,135,233,233,6205.4592592592589,{"$f":"4715+206667","v":211382},null,null,0,{"$f":"Q42+SUM(BA42:BE42)+BL42","v":0},16.670000000000002,null,33.33,16.670000000000002,null,null,null,33.33,null,null,null,null,0,0,0,0,0,0,0,0,{"$f":"900+700","v":1600},null,0,0,0,0,0,0,0,0,0,0,0,0,null,null,null,null,null,0,0,0,0,0,0,null,null,0,0,0,0,0,0,0,0,0,0,0,0,0,null,0,0,0,0,0,0,null,0,0,0,0,null,0,null,0,0,0,0,0,null,0,0,0,0,null,0,0,0,0,null,0,null,0,0,0,0,0,null,0,0,0,0,0,0,null,null,null,67.650000000000006,67.650000000000006,49.73,1.0249999999999999,null,0.75,null,null,null,null,null,null,81,null,null,"Euro 3",null,null,{"$f":"Table37[[#This Row],[City Per Capita GDP (LC)]]*('GDP Deflator 1960-2011'!AZ38/'GDP Deflator 1960-2011'!BB38)*1/Table37[[#This Row],[PPP Exchange rate with the US$ (2016)]]","v":0},null,{"$f":"Table37[[#This Row],[City GDP (LC Billion)]]*'GDP Deflator 1960-2011'!AZ38/'GDP Deflator 1960-2011'!BC38*1/Table37[[#This Row],[PPP Exchange rate with the US$ (2016)]]","v":0},null,{"$f":"Table37[[#This Row],[Median Annual household income (LC)]]*'GDP Deflator 1960-2011'!AZ38/'GDP Deflator 1960-2011'!AY38*1/Table37[[#This Row],[PPP Exchange rate with the US$ (2016)]]","v":0},{"$f":"(20.5+27.5)/2","v":24},{"$f":"IF(ISERROR(Table37[[#This Row],[Minimum Hourly Wage Rate (LC)]]*'CPI 1960-2011'!AY38/'CPI 1960-2011'!BC38*1/Table37[[#This Row],[PPP Exchange rate with the US$ (2016)]]), \"n/a\", Table37[[#This Row],[Minimum Hourly Wage Rate (LC)]]*'GDP Deflator 1960-2011'!AZ38/'GDP Deflator 1960-2011'!BD38*1/Table37[[#This Row],[PPP Exchange rate with the US$ (2016)]])","v":1.0343873190648436},17.2,null,0,0,0,"",0,1600,1814.0836383261449,11.851851851851851,"",{"$f":"IFERROR(Table37[[#This Row],[Operating Costs US$ - Bus]]/Table37[[#This Row],[Fare revenue US$- Bus]], \"\")","v":""},{"$f":"IFERROR(Table37[[#This Row],[Operating Costs US$ - Metro]]/Table37[[#This Row],[Fare revenue US$- Metro]], \"\")","v":""},{"$f":"IFERROR(Table37[[#This Row],[Operating Costs US$- LRT]]/Table37[[#This Row],[Fare revenue US$- LRT]], \"\")","v":""},{"$f":"IFERROR(Table37[[#This Row],[Operating Costs US$- Tram]]/Table37[[#This Row],[Fare revenue US$- Tram]], \"\")","v":""},{"$f":"IFERROR(Table37[[#This Row],[Operating Costs US$ - Trolley Bus]]/Table37[[#This Row],[Fare revenue US$- Trolley Buses]], \"\")","v":""},{"$f":"IFERROR((AVERAGEIF(Table37[[#This Row],[Fares for 10 km of journey (2007 US$ PPP) - Bus]:[Fares for 10 km of journey (2007 US$ PPP) - Trolley Bus]], \"<>0\")*40*12)/EO42, \"\")","v":""},{"$f":"IFERROR((AVERAGEIF(Table37[[#This Row],[Fares for 10 km of journey (2007 US$ PPP) - Regional/Commuter Rail]:[Fares for 10 km of journey (2007 US$ PPP) - BRT]], \"<>0\")*40*12)/EO42, \"\")","v":""},{"$f":"IFERROR(2*(AVERAGEIF(Table37[[#This Row],[Fares for avg. length of journey (2007 US$ PPP) - Metro]:[Fares for avg. length of journey (2007 US$ PPP) - BRT]], \"<>0\"))/(Table37[[#This Row],[Minimum Hourly Wage rate (PPP $ 2007)]]*8), \"\")","v":""},"",0,0,{"$f":"SUM(AP42:AQ42)+Table37[[#This Row],[Length of mass transit (km) - BRT]]","v":0},0,"",0,0,"",0,0,0,"",0,0,0,91.837984190261096,0,0,{"$f":"Table37[[#This Row],[Fares for 10 km of journey (2007 US$ PPP) - Bus]]/10*Table37[[#This Row],[Average trip length by car (km)]]","v":0},{"$f":"Table37[[#This Row],[Fares for 10 km of journey (2007 US$ PPP) - Regional/Commuter Rail]]/10*Table37[[#This Row],[Average trip length by car (km)]]","v":0},{"$f":"Table37[[#This Row],[Fares for 10 km of journey (2007 US$ PPP) - Metro]]/10*Table37[[#This Row],[Average trip length by car (km)]]","v":0},{"$f":"Table37[[#This Row],[Fares for 10 km of journey (2007 US$ PPP) - LRT]]/10*Table37[[#This Row],[Average trip length by car (km)]]","v":0},{"$f":"Table37[[#This Row],[Fares for 10 km of journey (2007 US$ PPP) - Tram]]/10*Table37[[#This Row],[Average trip length by car (km)]]","v":0},{"$f":"Table37[[#This Row],[Fares for 10 km of journey (2007 US$ PPP) - BRT]]/10*Table37[[#This Row],[Average trip length by car (km)]]","v":0},{"$f":"Table37[[#This Row],[Fares for 10 km of journey (2007 US$ PPP) - Trolley Bus]]/10*Table37[[#This Row],[Average trip length by car (km)]]","v":0}]
[null,"Chandigarh","India","SAR",960787,900635,1025682,null,114,null,null,null,8427.9561403508778,{"$f":"328989-124691","v":204298},415413,162263,577676,602729,null,null,null,null,null,null,null,0,null,null,null,null,0,0,0,0,0,0,0,0,{"$f":"1536+394","v":1930},null,0,0,0,0,0,0,0,0,0,0,0,0,null,null,417,null,null,0,0,0,0,0,0,null,null,0,0,0,0,0,0,0,0,0,0,0,0,0,null,0,0,0,0,0,0,null,0,0,0,0,null,0,null,0,0,0,0,0,null,0,0,0,0,null,0,0,0,0,null,0,null,0,0,0,0,0,null,0,0,0,0,0,0,null,null,null,64.59,69.290000000000006,53.45,0.97799999999999998,null,0.81,null,{"$f":"135/E43*100000","v":14.050981122767066},null,null,null,null,110,null,null,"Euro 3",null,null,{"$f":"Table37[[#This Row],[City Per Capita GDP (LC)]]*('GDP Deflator 1960-2011'!AZ39/'GDP Deflator 1960-2011'!BB39)*1/Table37[[#This Row],[PPP Exchange rate with the US$ (2016)]]","v":0},null,{"$f":"Table37[[#This Row],[City GDP (LC Billion)]]*'GDP Deflator 1960-2011'!AZ39/'GDP Deflator 1960-2011'!BC39*1/Table37[[#This Row],[PPP Exchange rate with the US$ (2016)]]","v":0},484775,{"$f":"Table37[[#This Row],[Median Annual household income (LC)]]*'GDP Deflator 1960-2011'!AZ39/'GDP Deflator 1960-2011'!BA39*1/Table37[[#This Row],[PPP Exchange rate with the US$ (2016)]]","v":25937.225234505804},{"$f":"341/8","v":42.625},{"$f":"IF(ISERROR(Table37[[#This Row],[Minimum Hourly Wage Rate (LC)]]*'CPI 1960-2011'!AY39/'CPI 1960-2011'!BC39*1/Table37[[#This Row],[PPP Exchange rate with the US$ (2016)]]), \"n/a\", Table37[[#This Row],[Minimum Hourly Wage Rate (LC)]]*'GDP Deflator 1960-2011'!AZ39/'GDP Deflator 1960-2011'!BD39*1/Table37[[#This Row],[PPP Exchange rate with the US$ (2016)]])","v":1.8371149781307894},17.2,null,405.01149479078316,158.20010490580901,0.40655875797761876,0.6892201968048659,192.23419689119171,1930,1881.6748270906578,16.92982456140351,0,{"$f":"IFERROR(Table37[[#This Row],[Operating Costs US$ - Bus]]/Table37[[#This Row],[Fare revenue US$- Bus]], \"\")","v":""},{"$f":"IFERROR(Table37[[#This Row],[Operating Costs US$ - Metro]]/Table37[[#This Row],[Fare revenue US$- Metro]], \"\")","v":""},{"$f":"IFERROR(Table37[[#This Row],[Operating Costs US$- LRT]]/Table37[[#This Row],[Fare revenue US$- LRT]], \"\")","v":""},{"$f":"IFERROR(Table37[[#This Row],[Operating Costs US$- Tram]]/Table37[[#This Row],[Fare revenue US$- Tram]], \"\")","v":""},{"$f":"IFERROR(Table37[[#This Row],[Operating Costs US$ - Trolley Bus]]/Table37[[#This Row],[Fare revenue US$- Trolley Buses]], \"\")","v":""},{"$f":"IFERROR((AVERAGEIF(Table37[[#This Row],[Fares for 10 km of journey (2007 US$ PPP) - Bus]:[Fares for 10 km of journey (2007 US$ PPP) - Trolley Bus]], \"<>0\")*40*12)/EO43, \"\")","v":""},{"$f":"IFERROR((AVERAGEIF(Table37[[#This Row],[Fares for 10 km of journey (2007 US$ PPP) - Regional/Commuter Rail]:[Fares for 10 km of journey (2007 US$ PPP) - BRT]], \"<>0\")*40*12)/EO43, \"\")","v":""},{"$f":"IFERROR(2*(AVERAGEIF(Table37[[#This Row],[Fares for avg. length of journey (2007 US$ PPP) - Metro]:[Fares for avg. length of journey (2007 US$ PPP) - BRT]], \"<>0\"))/(Table37[[#This Row],[Minimum Hourly Wage rate (PPP $ 2007)]]*8), \"\")","v":""},"",0,0,{"$f":"SUM(AP43:AQ43)+Table37[[#This Row],[Length of mass transit (km) - BRT]]","v":0},0,"",0,0,0,135.00000000000003,140.50981122767067,6.9948186528497422E-2,2.239812585755788,0,0,0,107.24571553366444,0,0,{"$f":"Table37[[#This Row],[Fares for 10 km of journey (2007 US$ PPP) - Bus]]/10*Table37[[#This Row],[Average trip length by car (km)]]","v":0},{"$f":"Table37[[#This Row],[Fares for 10 km of journey (2007 US$ PPP) - Regional/Commuter Rail]]/10*Table37[[#This Row],[Average trip length by car (km)]]","v":0},{"$f":"Table37[[#This Row],[Fares for 10 km of journey (2007 US$ PPP) - Metro]]/10*Table37[[#This Row],[Average trip length by car (km)]]","v":0},{"$f":"Table37[[#This Row],[Fares for 10 km of journey (2007 US$ PPP) - LRT]]/10*Table37[[#This Row],[Average trip length by car (km)]]","v":0},{"$f":"Table37[[#This Row],[Fares for 10 km of journey (2007 US$ PPP) - Tram]]/10*Table37[[#This Row],[Average trip length by car (km)]]","v":0},{"$f":"Table37[[#This Row],[Fares for 10 km of journey (2007 US$ PPP) - BRT]]/10*Table37[[#This Row],[Average trip length by car (km)]]","v":0},{"$f":"Table37[[#This Row],[Fares for 10 km of journey (2007 US$ PPP) - Trolley Bus]]/10*Table37[[#This Row],[Average trip length by car (km)]]","v":0}]
[null,"Chennai","India","SAR",4680000,4343645,8696010,null,426.7,null,1189,null,10967.893133348958,2284457,2813920,{"$f":"622130+10048","v":632178},3446098,3682601,25.49,17.649999999999999,7.84,15.69,null,19.61,5.88,7.8400000000000034,10.4,22.3,{"$f":"1320.5/365","v":3.617808219178082},null,{"$f":"123/365+118/365","v":0.66027397260273979},null,0,0,0,0,3.617808219178082,0,2847,null,147,{"$f":"23.085+21.961","v":45.045999999999999},0,0,0,0,63,{"$f":"18+18","v":36},0,0,0,0,100,null,3357,4,null,{"$f":"92+92","v":184},607,0,0,0,0,{"$f":"53818+75209","v":129027},6,null,14,0,0,0,0,0.26775200941995703,0,0.62475468864656647,0,0,0,0,null,null,null,0,0,0,0,null,null,null,0,0,null,0,null,null,null,0,null,0,null,null,0,0,0,null,null,null,0,0,null,0,null,null,null,0,null,0,22320,null,null,0,0,0,0,2.72,0.14000000000000001,1.86,63.76,71.48,54.1,0.96599999999999997,3.1032679738562088,0.82,156.41,18.93,null,5.819,15,17,57,null,19.28,"Euro 4 ",null,null,{"$f":"Table37[[#This Row],[City Per Capita GDP (LC)]]*('GDP Deflator 1960-2011'!AZ40/'GDP Deflator 1960-2011'!BB40)*1/Table37[[#This Row],[PPP Exchange rate with the US$ (2016)]]","v":0},null,{"$f":"Table37[[#This Row],[City GDP (LC Billion)]]*'GDP Deflator 1960-2011'!AZ40/'GDP Deflator 1960-2011'!BC40*1/Table37[[#This Row],[PPP Exchange rate with the US$ (2016)]]","v":0},337059,{"$f":"Table37[[#This Row],[Median Annual household income (LC)]]*'GDP Deflator 1960-2011'!AZ40/'GDP Deflator 1960-2011'!BA40*1/Table37[[#This Row],[PPP Exchange rate with the US$ (2016)]]","v":18033.882110911851},{"$f":"(22.63+30)/2","v":26.314999999999998},{"$f":"IF(ISERROR(Table37[[#This Row],[Minimum Hourly Wage Rate (LC)]]*'CPI 1960-2011'!AY40/'CPI 1960-2011'!BC40*1/Table37[[#This Row],[PPP Exchange rate with the US$ (2016)]]), \"n/a\", Table37[[#This Row],[Minimum Hourly Wage Rate (LC)]]*'GDP Deflator 1960-2011'!AZ40/'GDP Deflator 1960-2011'!BD40*1/Table37[[#This Row],[PPP Exchange rate with the US$ (2016)]])","v":1.1341625958829729},17.2,null,323.58748437501794,72.697478498759779,0.39799862235669003,0.76411210446095024,764.60045662100458,2847,327.39152783862943,6.6721349894539488,6.449003178272176,{"$f":"IFERROR(Table37[[#This Row],[Operating Costs US$ - Bus]]/Table37[[#This Row],[Fare revenue US$- Bus]], \"\")","v":""},{"$f":"IFERROR(Table37[[#This Row],[Operating Costs US$ - Metro]]/Table37[[#This Row],[Fare revenue US$- Metro]], \"\")","v":""},{"$f":"IFERROR(Table37[[#This Row],[Operating Costs US$- LRT]]/Table37[[#This Row],[Fare revenue US$- LRT]], \"\")","v":""},{"$f":"IFERROR(Table37[[#This Row],[Operating Costs US$- Tram]]/Table37[[#This Row],[Fare revenue US$- Tram]], \"\")","v":""},{"$f":"IFERROR(Table37[[#This Row],[Operating Costs US$ - Trolley Bus]]/Table37[[#This Row],[Fare revenue US$- Trolley Buses]], \"\")","v":""},{"$f":"IFERROR((AVERAGEIF(Table37[[#This Row],[Fares for 10 km of journey (2007 US$ PPP) - Bus]:[Fares for 10 km of journey (2007 US$ PPP) - Trolley Bus]], \"<>0\")*40*12)/EO44, \"\")","v":""},{"$f":"IFERROR((AVERAGEIF(Table37[[#This Row],[Fares for 10 km of journey (2007 US$ PPP) - Regional/Commuter Rail]:[Fares for 10 km of journey (2007 US$ PPP) - BRT]], \"<>0\")*40*12)/EO44, \"\")","v":""},{"$f":"IFERROR(2*(AVERAGEIF(Table37[[#This Row],[Fares for avg. length of journey (2007 US$ PPP) - Metro]:[Fares for avg. length of journey (2007 US$ PPP) - BRT]], \"<>0\"))/(Table37[[#This Row],[Minimum Hourly Wage rate (PPP $ 2007)]]*8), \"\")","v":0.14322128029768677},"",10.4,22.3,{"$f":"SUM(AP44:AQ44)+Table37[[#This Row],[Length of mass transit (km) - BRT]]","v":45.045999999999999},0,0,0,0.10556831497539255,0,885.92399999999998,189.3,0.31117808219178084,2.4057018395422145,0,1.7249290191708611,1.9549195550603091,6.5547302728492722,0.14000000000000001,1.86,{"$f":"Table37[[#This Row],[Fares for 10 km of journey (2007 US$ PPP) - Bus]]/10*Table37[[#This Row],[Average trip length by car (km)]]","v":0.2784620897967553},{"$f":"Table37[[#This Row],[Fares for 10 km of journey (2007 US$ PPP) - Regional/Commuter Rail]]/10*Table37[[#This Row],[Average trip length by car (km)]]","v":0},{"$f":"Table37[[#This Row],[Fares for 10 km of journey (2007 US$ PPP) - Metro]]/10*Table37[[#This Row],[Average trip length by car (km)]]","v":0.64974487619242915},{"$f":"Table37[[#This Row],[Fares for 10 km of journey (2007 US$ PPP) - LRT]]/10*Table37[[#This Row],[Average trip length by car (km)]]","v":0},{"$f":"Table37[[#This Row],[Fares for 10 km of journey (2007 US$ PPP) - Tram]]/10*Table37[[#This Row],[Average trip length by car (km)]]","v":0},{"$f":"Table37[[#This Row],[Fares for 10 km of journey (2007 US$ PPP) - BRT]]/10*Table37[[#This Row],[Average trip length by car (km)]]","v":0},{"$f":"Table37[[#This Row],[Fares for 10 km of journey (2007 US$ PPP) - Trolley Bus]]/10*Table37[[#This Row],[Average trip length by car (km)]]","v":0},"information on buses from http://www.mtcbus.org/"]
[null,"Cochin","India","SAR",601574,596473,2117990,1355406,94.88,94.88,null,330.02,6340.366779089376,null,128823,{"$f":"69056+5832","v":74888},203711,246510,15.45,7.48,null,null,4.21,72.86,null,0,null,null,null,null,null,0,0,0,0,0,0,0,613.96,null,0,0,0,0,0,0,0,0,0,0,0,0,null,null,650,null,null,0,0,0,0,0,0,null,{"$f":"3+0.52*5","v":5.6},0,0,0,0,0,0,0.24990187545862655,0,0,0,0,0,0,null,0,0,0,0,0,0,null,0,0,0,0,0,0,null,0,0,0,0,0,null,0,0,0,0,null,0,0,0,0,0,0,null,0,0,0,0,0,null,0,0,0,0,0,0,null,null,null,67.12,null,56.12,1.01,null,0.85,null,{"$f":"219/E45*100000","v":36.404498864645078},null,null,null,null,null,null,null,"Euro 3",null,null,{"$f":"Table37[[#This Row],[City Per Capita GDP (LC)]]*('GDP Deflator 1960-2011'!AZ41/'GDP Deflator 1960-2011'!BB41)*1/Table37[[#This Row],[PPP Exchange rate with the US$ (2016)]]","v":0},null,{"$f":"Table37[[#This Row],[City GDP (LC Billion)]]*'GDP Deflator 1960-2011'!AZ41/'GDP Deflator 1960-2011'!BC41*1/Table37[[#This Row],[PPP Exchange rate with the US$ (2016)]]","v":0},null,{"$f":"Table37[[#This Row],[Median Annual household income (LC)]]*'GDP Deflator 1960-2011'!AZ41/'GDP Deflator 1960-2011'!AY41*1/Table37[[#This Row],[PPP Exchange rate with the US$ (2016)]]","v":0},{"$f":"(20.5+27.5)/2","v":24},{"$f":"IF(ISERROR(Table37[[#This Row],[Minimum Hourly Wage Rate (LC)]]*'CPI 1960-2011'!AY41/'CPI 1960-2011'!BC41*1/Table37[[#This Row],[PPP Exchange rate with the US$ (2016)]]), \"n/a\", Table37[[#This Row],[Minimum Hourly Wage Rate (LC)]]*'GDP Deflator 1960-2011'!AZ41/'GDP Deflator 1960-2011'!BD41*1/Table37[[#This Row],[PPP Exchange rate with the US$ (2016)]])","v":1.0343873190648436},17.2,null,60.823233348599381,35.358051737732474,0.30689474454553611,0.52258731897286115,229.53368297608964,613.96,289.87861132488825,6.4709106239460379,0,{"$f":"IFERROR(Table37[[#This Row],[Operating Costs US$ - Bus]]/Table37[[#This Row],[Fare revenue US$- Bus]], \"\")","v":""},{"$f":"IFERROR(Table37[[#This Row],[Operating Costs US$ - Metro]]/Table37[[#This Row],[Fare revenue US$- Metro]], \"\")","v":""},{"$f":"IFERROR(Table37[[#This Row],[Operating Costs US$- LRT]]/Table37[[#This Row],[Fare revenue US$- LRT]], \"\")","v":""},{"$f":"IFERROR(Table37[[#This Row],[Operating Costs US$- Tram]]/Table37[[#This Row],[Fare revenue US$- Tram]], \"\")","v":""},{"$f":"IFERROR(Table37[[#This Row],[Operating Costs US$ - Trolley Bus]]/Table37[[#This Row],[Fare revenue US$- Trolley Buses]], \"\")","v":""},{"$f":"IFERROR((AVERAGEIF(Table37[[#This Row],[Fares for 10 km of journey (2007 US$ PPP) - Bus]:[Fares for 10 km of journey (2007 US$ PPP) - Trolley Bus]], \"<>0\")*40*12)/EO45, \"\")","v":""},{"$f":"IFERROR((AVERAGEIF(Table37[[#This Row],[Fares for 10 km of journey (2007 US$ PPP) - Regional/Commuter Rail]:[Fares for 10 km of journey (2007 US$ PPP) - BRT]], \"<>0\")*40*12)/EO45, \"\")","v":""},{"$f":"IFERROR(2*(AVERAGEIF(Table37[[#This Row],[Fares for avg. length of journey (2007 US$ PPP) - Metro]:[Fares for avg. length of journey (2007 US$ PPP) - BRT]], \"<>0\"))/(Table37[[#This Row],[Minimum Hourly Wage rate (PPP $ 2007)]]*8), \"\")","v":""},"",0,0,{"$f":"SUM(AP45:AQ45)+Table37[[#This Row],[Length of mass transit (km) - BRT]]","v":0},0,"",0,0,0.46163575042158517,218.99999999999997,364.04498864645075,0.35670076226464259,8.8840209322137014,0,0,0,0,0,0,{"$f":"Table37[[#This Row],[Fares for 10 km of journey (2007 US$ PPP) - Bus]]/10*Table37[[#This Row],[Average trip length by car (km)]]","v":0},{"$f":"Table37[[#This Row],[Fares for 10 km of journey (2007 US$ PPP) - Regional/Commuter Rail]]/10*Table37[[#This Row],[Average trip length by car (km)]]","v":0},{"$f":"Table37[[#This Row],[Fares for 10 km of journey (2007 US$ PPP) - Metro]]/10*Table37[[#This Row],[Average trip length by car (km)]]","v":0},{"$f":"Table37[[#This Row],[Fares for 10 km of journey (2007 US$ PPP) - LRT]]/10*Table37[[#This Row],[Average trip length by car (km)]]","v":0},{"$f":"Table37[[#This Row],[Fares for 10 km of journey (2007 US$ PPP) - Tram]]/10*Table37[[#This Row],[Average trip length by car (km)]]","v":0},{"$f":"Table37[[#This Row],[Fares for 10 km of journey (2007 US$ PPP) - BRT]]/10*Table37[[#This Row],[Average trip length by car (km)]]","v":0},{"$f":"Table37[[#This Row],[Fares for 10 km of journey (2007 US$ PPP) - Trolley Bus]]/10*Table37[[#This Row],[Average trip length by car (km)]]","v":0}]
[null,"Delhi","India","SAR",13850507,null,16314838,15048000,1483,1483,431.09,null,9339.5192178017533,4080033,4342403,2173323,6515726,6932706,51.67,null,10,5,10,6.67,15,1.6599999999999966,23.24,59.32,3.03,null,{"$f":"2.77/365","v":7.5890410958904114E-3},{"$f":"(1.693+1.829+2.083)/3","v":1.8683333333333334},0,0,5.3499999999999999E-2,0,4.9518333333333331,1.9218333333333335,31432,null,null,189.67,0,0,5.8,0,null,146,0,0,0,9,null,null,4330,null,null,966,null,0,0,96,0,{"$f":"43887+168073","v":211960},10,null,16,0,0,null,0,0.4462533490332618,0,0.71400535845321877,0,0,0,0,15608.98,null,10632,0,0,null,0,6333.8,null,7465.8580000000002,0,0,null,0,{"$f":"1079.18+1702.301","v":2781.4809999999998},null,{"$f":"2488.384-CS46+983.751+1903.355+17.308","v":4852.5},0,{"$f":"51.2+489.098","v":540.298},0,758.255809341705,516.4831888387971,0,0,0,307.68446402061448,null,362.6777790874383,0,0,null,0,135.11927921129853,null,235.72560890145439,0,26.246692434464297,0,29200,null,6775,0,0,null,0,2.9,null,null,64.290000000000006,67.89,52.64,0.97,2.8006535947712417,0.8,53.32,9.57,null,null,24,41,229,null,24,"Euro 4 ",null,141961,{"$f":"Table37[[#This Row],[City Per Capita GDP (LC)]]*('GDP Deflator 1960-2011'!AZ42/'GDP Deflator 1960-2011'!BC42)*1/Table37[[#This Row],[PPP Exchange rate with the US$ (2016)]]","v":6607.5406465938895},2588.08,{"$f":"Table37[[#This Row],[City GDP (LC Billion)]]*'GDP Deflator 1960-2011'!AZ42/'GDP Deflator 1960-2011'!BC42*1/Table37[[#This Row],[PPP Exchange rate with the US$ (2016)]]","v":120.46156195459818},408237,{"$f":"Table37[[#This Row],[Median Annual household income (LC)]]*'GDP Deflator 1960-2011'!AZ42/'GDP Deflator 1960-2011'!BA42*1/Table37[[#This Row],[PPP Exchange rate with the US$ (2016)]]","v":21842.163927716872},64.12,{"$f":"IF(ISERROR(Table37[[#This Row],[Minimum Hourly Wage Rate (LC)]]*'CPI 1960-2011'!AY42/'CPI 1960-2011'!BC42*1/Table37[[#This Row],[PPP Exchange rate with the US$ (2016)]]), \"n/a\", Table37[[#This Row],[Minimum Hourly Wage Rate (LC)]]*'GDP Deflator 1960-2011'!AZ42/'GDP Deflator 1960-2011'!BD42*1/Table37[[#This Row],[PPP Exchange rate with the US$ (2016)]])","v":2.7635381207682399},17.2,null,266.16280222947967,133.21143611723267,0.26540257402494588,0.62636479896882979,145.30763234919826,31432,1926.589770612494,21.194875252865813,6.74364896073903,{"$f":"IFERROR(Table37[[#This Row],[Operating Costs US$ - Bus]]/Table37[[#This Row],[Fare revenue US$- Bus]], \"\")","v":2.464394202532445},{"$f":"IFERROR(Table37[[#This Row],[Operating Costs US$ - Metro]]/Table37[[#This Row],[Fare revenue US$- Metro]], \"\")","v":1.4240828046823286},{"$f":"IFERROR(Table37[[#This Row],[Operating Costs US$- LRT]]/Table37[[#This Row],[Fare revenue US$- LRT]], \"\")","v":""},{"$f":"IFERROR(Table37[[#This Row],[Operating Costs US$- Tram]]/Table37[[#This Row],[Fare revenue US$- Tram]], \"\")","v":""},{"$f":"IFERROR(Table37[[#This Row],[Operating Costs US$ - Trolley Bus]]/Table37[[#This Row],[Fare revenue US$- Trolley Buses]], \"\")","v":""},{"$f":"IFERROR((AVERAGEIF(Table37[[#This Row],[Fares for 10 km of journey (2007 US$ PPP) - Bus]:[Fares for 10 km of journey (2007 US$ PPP) - Trolley Bus]], \"<>0\")*40*12)/EO46, \"\")","v":4.2143076326030517E-2},{"$f":"IFERROR((AVERAGEIF(Table37[[#This Row],[Fares for 10 km of journey (2007 US$ PPP) - Regional/Commuter Rail]:[Fares for 10 km of journey (2007 US$ PPP) - BRT]], \"<>0\")*40*12)/EO46, \"\")","v":5.1868401632037556E-2},{"$f":"IFERROR(2*(AVERAGEIF(Table37[[#This Row],[Fares for avg. length of journey (2007 US$ PPP) - Metro]:[Fares for avg. length of journey (2007 US$ PPP) - BRT]], \"<>0\"))/(Table37[[#This Row],[Minimum Hourly Wage rate (PPP $ 2007)]]*8), \"\")","v":0.15011087060597483},0.1761623669466231,23.24,59.32,{"$f":"SUM(AP46:AQ46)+Table37[[#This Row],[Length of mass transit (km) - BRT]]","v":195.47},1.9218333333333335,9831.8582561688927,0.11779665439113361,0.13180714767363452,1.0114632501685773E-2,1325.4935199000001,95.7,4.2170193430262161E-2,1.9119424938833411,0,1.471053528082841,2.5130497771415197,14.036302413790439,0,0,{"$f":"Table37[[#This Row],[Fares for 10 km of journey (2007 US$ PPP) - Bus]]/10*Table37[[#This Row],[Average trip length by car (km)]]","v":1.0370927831533003},{"$f":"Table37[[#This Row],[Fares for 10 km of journey (2007 US$ PPP) - Regional/Commuter Rail]]/10*Table37[[#This Row],[Average trip length by car (km)]]","v":0},{"$f":"Table37[[#This Row],[Fares for 10 km of journey (2007 US$ PPP) - Metro]]/10*Table37[[#This Row],[Average trip length by car (km)]]","v":1.6593484530452804},{"$f":"Table37[[#This Row],[Fares for 10 km of journey (2007 US$ PPP) - LRT]]/10*Table37[[#This Row],[Average trip length by car (km)]]","v":0},{"$f":"Table37[[#This Row],[Fares for 10 km of journey (2007 US$ PPP) - Tram]]/10*Table37[[#This Row],[Average trip length by car (km)]]","v":0},{"$f":"Table37[[#This Row],[Fares for 10 km of journey (2007 US$ PPP) - BRT]]/10*Table37[[#This Row],[Average trip length by car (km)]]","v":0},{"$f":"Table37[[#This Row],[Fares for 10 km of journey (2007 US$ PPP) - Trolley Bus]]/10*Table37[[#This Row],[Average trip length by car (km)]]","v":0},"Metro rail information is from DMRC Annual Report 2010-11"]
[null,"Guwahati","India","SAR",963429,809895,968549,null,216,null,340,null,4460.3194444444443,null,null,null,0,{"$f":"Q47+SUM(BA47:BE47)+BL47","v":52},null,35,22,12,null,14,null,17,null,null,null,null,null,0,0,0,0,0,0,0,218,700,0,0,0,0,0,0,0,0,0,0,0,0,null,null,52,null,null,0,0,0,0,0,0,null,null,0,0,0,0,0,0,0,0,0,0,0,0,0,20.48,0,0,0,0,0,0,25.51,0,0,0,0,0,0,null,0,0,0,0,0,1.2353850036285208,0,0,0,0,1.538802316531424,0,0,0,0,0,0,null,0,0,0,0,0,347,0,0,0,0,0,0,5,null,null,68.8,74.75,56.2,1.04,null,0.85,null,null,null,null,null,null,92,null,null,"Euro 3",null,{"$f":"(EP47*10^9/E47)","v":47227.143878791278},{"$f":"Table37[[#This Row],[City Per Capita GDP (LC)]]*('GDP Deflator 1960-2011'!AZ43/'GDP Deflator 1960-2011'!BC43)*1/Table37[[#This Row],[PPP Exchange rate with the US$ (2016)]]","v":2198.176068086666},{"$f":"1*45.5","v":45.5},{"$f":"Table37[[#This Row],[City GDP (LC Billion)]]*'GDP Deflator 1960-2011'!AZ43/'GDP Deflator 1960-2011'!BC43*1/Table37[[#This Row],[PPP Exchange rate with the US$ (2016)]]","v":2.1177865711006683},null,{"$f":"Table37[[#This Row],[Median Annual household income (LC)]]*'GDP Deflator 1960-2011'!AZ43/'GDP Deflator 1960-2011'!AY43*1/Table37[[#This Row],[PPP Exchange rate with the US$ (2016)]]","v":0},{"$f":"(20.5+27.5)/2","v":24},{"$f":"IF(ISERROR(Table37[[#This Row],[Minimum Hourly Wage Rate (LC)]]*'CPI 1960-2011'!AY43/'CPI 1960-2011'!BC43*1/Table37[[#This Row],[PPP Exchange rate with the US$ (2016)]]), \"n/a\", Table37[[#This Row],[Minimum Hourly Wage Rate (LC)]]*'GDP Deflator 1960-2011'!AZ43/'GDP Deflator 1960-2011'!BD43*1/Table37[[#This Row],[PPP Exchange rate with the US$ (2016)]])","v":1.0343873190648436},17.2,null,0,0,5.3688558864858675E-2,0,0.59633027522935778,218,225.07895831806135,1.0092592592592593,6.6730769230769234,{"$f":"IFERROR(Table37[[#This Row],[Operating Costs US$ - Bus]]/Table37[[#This Row],[Fare revenue US$- Bus]], \"\")","v":0.80282242257938063},{"$f":"IFERROR(Table37[[#This Row],[Operating Costs US$ - Metro]]/Table37[[#This Row],[Fare revenue US$- Metro]], \"\")","v":""},{"$f":"IFERROR(Table37[[#This Row],[Operating Costs US$- LRT]]/Table37[[#This Row],[Fare revenue US$- LRT]], \"\")","v":""},{"$f":"IFERROR(Table37[[#This Row],[Operating Costs US$- Tram]]/Table37[[#This Row],[Fare revenue US$- Tram]], \"\")","v":""},{"$f":"IFERROR(Table37[[#This Row],[Operating Costs US$ - Trolley Bus]]/Table37[[#This Row],[Fare revenue US$- Trolley Buses]], \"\")","v":""},{"$f":"IFERROR((AVERAGEIF(Table37[[#This Row],[Fares for 10 km of journey (2007 US$ PPP) - Bus]:[Fares for 10 km of journey (2007 US$ PPP) - Trolley Bus]], \"<>0\")*40*12)/EO47, \"\")","v":""},{"$f":"IFERROR((AVERAGEIF(Table37[[#This Row],[Fares for 10 km of journey (2007 US$ PPP) - Regional/Commuter Rail]:[Fares for 10 km of journey (2007 US$ PPP) - BRT]], \"<>0\")*40*12)/EO47, \"\")","v":""},{"$f":"IFERROR(2*(AVERAGEIF(Table37[[#This Row],[Fares for avg. length of journey (2007 US$ PPP) - Metro]:[Fares for avg. length of journey (2007 US$ PPP) - BRT]], \"<>0\"))/(Table37[[#This Row],[Minimum Hourly Wage rate (PPP $ 2007)]]*8), \"\")","v":""},0.5677434206106533,0,0,{"$f":"SUM(AP47:AQ47)+Table37[[#This Row],[Length of mass transit (km) - BRT]]","v":0},0,"",0,0,0,0,0,0,0,0,0,0,94.987450299365349,0,0,{"$f":"Table37[[#This Row],[Fares for 10 km of journey (2007 US$ PPP) - Bus]]/10*Table37[[#This Row],[Average trip length by car (km)]]","v":0},{"$f":"Table37[[#This Row],[Fares for 10 km of journey (2007 US$ PPP) - Regional/Commuter Rail]]/10*Table37[[#This Row],[Average trip length by car (km)]]","v":0},{"$f":"Table37[[#This Row],[Fares for 10 km of journey (2007 US$ PPP) - Metro]]/10*Table37[[#This Row],[Average trip length by car (km)]]","v":0},{"$f":"Table37[[#This Row],[Fares for 10 km of journey (2007 US$ PPP) - LRT]]/10*Table37[[#This Row],[Average trip length by car (km)]]","v":0},{"$f":"Table37[[#This Row],[Fares for 10 km of journey (2007 US$ PPP) - Tram]]/10*Table37[[#This Row],[Average trip length by car (km)]]","v":0},{"$f":"Table37[[#This Row],[Fares for 10 km of journey (2007 US$ PPP) - BRT]]/10*Table37[[#This Row],[Average trip length by car (km)]]","v":0},{"$f":"Table37[[#This Row],[Fares for 10 km of journey (2007 US$ PPP) - Trolley Bus]]/10*Table37[[#This Row],[Average trip length by car (km)]]","v":0}]
[null,"Hubli-Dharwad","India","SAR",943857,786195,943857,null,202.3,202.3,null,null,4665.6302521008402,null,null,null,0,{"$f":"Q48+SUM(BA48:BE48)+BL48","v":0},14.7,25.8,6.9,16,6.5,29.8,null,0.29999999999999716,5.81,null,null,null,null,0,0,0,0,0,0,0,595,null,0,0,0,0,0,0,0,0,0,0,0,0,null,null,null,null,null,0,0,0,0,0,0,null,null,0,0,0,0,0,0,0,0,0,0,0,0,0,null,0,0,0,0,0,0,null,0,0,0,0,0,0,null,0,0,0,0,0,null,0,0,0,0,null,0,0,0,0,0,0,null,0,0,0,0,0,null,0,0,0,0,0,0,null,null,null,68.81,74.599999999999994,56.27,1.04,null,0.85,null,null,null,null,null,null,null,null,null,"Euro 3",null,null,{"$f":"Table37[[#This Row],[City Per Capita GDP (LC)]]*('GDP Deflator 1960-2011'!AZ44/'GDP Deflator 1960-2011'!BB44)*1/Table37[[#This Row],[PPP Exchange rate with the US$ (2016)]]","v":0},null,{"$f":"Table37[[#This Row],[City GDP (LC Billion)]]*'GDP Deflator 1960-2011'!AZ44/'GDP Deflator 1960-2011'!BC44*1/Table37[[#This Row],[PPP Exchange rate with the US$ (2016)]]","v":0},null,{"$f":"Table37[[#This Row],[Median Annual household income (LC)]]*'GDP Deflator 1960-2011'!AZ44/'GDP Deflator 1960-2011'!AY44*1/Table37[[#This Row],[PPP Exchange rate with the US$ (2016)]]","v":0},{"$f":"(20.5+27.5)/2","v":24},{"$f":"IF(ISERROR(Table37[[#This Row],[Minimum Hourly Wage Rate (LC)]]*'CPI 1960-2011'!AY44/'CPI 1960-2011'!BC44*1/Table37[[#This Row],[PPP Exchange rate with the US$ (2016)]]), \"n/a\", Table37[[#This Row],[Minimum Hourly Wage Rate (LC)]]*'GDP Deflator 1960-2011'!AZ44/'GDP Deflator 1960-2011'!BD44*1/Table37[[#This Row],[PPP Exchange rate with the US$ (2016)]])","v":1.0343873190648436},17.2,null,0,0,0,"",0,595,630.39210388861875,2.9411764705882351,"",{"$f":"IFERROR(Table37[[#This Row],[Operating Costs US$ - Bus]]/Table37[[#This Row],[Fare revenue US$- Bus]], \"\")","v":""},{"$f":"IFERROR(Table37[[#This Row],[Operating Costs US$ - Metro]]/Table37[[#This Row],[Fare revenue US$- Metro]], \"\")","v":""},{"$f":"IFERROR(Table37[[#This Row],[Operating Costs US$- LRT]]/Table37[[#This Row],[Fare revenue US$- LRT]], \"\")","v":""},{"$f":"IFERROR(Table37[[#This Row],[Operating Costs US$- Tram]]/Table37[[#This Row],[Fare revenue US$- Tram]], \"\")","v":""},{"$f":"IFERROR(Table37[[#This Row],[Operating Costs US$ - Trolley Bus]]/Table37[[#This Row],[Fare revenue US$- Trolley Buses]], \"\")","v":""},{"$f":"IFERROR((AVERAGEIF(Table37[[#This Row],[Fares for 10 km of journey (2007 US$ PPP) - Bus]:[Fares for 10 km of journey (2007 US$ PPP) - Trolley Bus]], \"<>0\")*40*12)/EO48, \"\")","v":""},{"$f":"IFERROR((AVERAGEIF(Table37[[#This Row],[Fares for 10 km of journey (2007 US$ PPP) - Regional/Commuter Rail]:[Fares for 10 km of journey (2007 US$ PPP) - BRT]], \"<>0\")*40*12)/EO48, \"\")","v":""},{"$f":"IFERROR(2*(AVERAGEIF(Table37[[#This Row],[Fares for avg. length of journey (2007 US$ PPP) - Metro]:[Fares for avg. length of journey (2007 US$ PPP) - BRT]], \"<>0\"))/(Table37[[#This Row],[Minimum Hourly Wage rate (PPP $ 2007)]]*8), \"\")","v":""},"",5.81,0,{"$f":"SUM(AP48:AQ48)+Table37[[#This Row],[Length of mass transit (km) - BRT]]","v":0},0,"",0,0,1.5329955511616411,0,0,0,"",0,0,0,0,0,0,{"$f":"Table37[[#This Row],[Fares for 10 km of journey (2007 US$ PPP) - Bus]]/10*Table37[[#This Row],[Average trip length by car (km)]]","v":0},{"$f":"Table37[[#This Row],[Fares for 10 km of journey (2007 US$ PPP) - Regional/Commuter Rail]]/10*Table37[[#This Row],[Average trip length by car (km)]]","v":0},{"$f":"Table37[[#This Row],[Fares for 10 km of journey (2007 US$ PPP) - Metro]]/10*Table37[[#This Row],[Average trip length by car (km)]]","v":0},{"$f":"Table37[[#This Row],[Fares for 10 km of journey (2007 US$ PPP) - LRT]]/10*Table37[[#This Row],[Average trip length by car (km)]]","v":0},{"$f":"Table37[[#This Row],[Fares for 10 km of journey (2007 US$ PPP) - Tram]]/10*Table37[[#This Row],[Average trip length by car (km)]]","v":0},{"$f":"Table37[[#This Row],[Fares for 10 km of journey (2007 US$ PPP) - BRT]]/10*Table37[[#This Row],[Average trip length by car (km)]]","v":0},{"$f":"Table37[[#This Row],[Fares for 10 km of journey (2007 US$ PPP) - Trolley Bus]]/10*Table37[[#This Row],[Average trip length by car (km)]]","v":0}]
[null,"Hyderabad","India","SAR",6809970,3630000,11723548,6380000,172,172,729.98,null,39592.848837209305,null,1666955,{"$f":"372180+8311","v":380491},2047446,2443840,35,10,20,15,null,10,null,10,null,null,3.0680000000000001,null,3.5000000000000003E-2,0,0,0,0,0,3.0680000000000001,0,null,14624,50,0,0,0,0,0,26,0,0,0,0,0,null,null,2841,null,null,0,null,0,0,0,0,{"$f":"24789+75268","v":100057},null,null,0,0,0,0,0,0,0,0,0,0,0,0,null,null,0,0,0,0,0,null,null,0,0,0,null,0,null,null,0,0,0,0,null,0,0,0,0,null,null,0,0,0,null,0,null,null,0,0,0,0,null,null,0,0,0,0,0,null,null,null,68.56,74.680000000000007,57.35,1.03,null,0.87,34.97,6.24,null,{"$f":"214/F49*100000","v":5.895316804407714},12,17,79,null,20.71,"Euro 4 ",null,null,{"$f":"Table37[[#This Row],[City Per Capita GDP (LC)]]*('GDP Deflator 1960-2011'!AZ45/'GDP Deflator 1960-2011'!BB45)*1/Table37[[#This Row],[PPP Exchange rate with the US$ (2016)]]","v":0},null,{"$f":"Table37[[#This Row],[City GDP (LC Billion)]]*'GDP Deflator 1960-2011'!AZ45/'GDP Deflator 1960-2011'!BC45*1/Table37[[#This Row],[PPP Exchange rate with the US$ (2016)]]","v":0},273353,{"$f":"Table37[[#This Row],[Median Annual household income (LC)]]*'GDP Deflator 1960-2011'!AZ45/'GDP Deflator 1960-2011'!BA45*1/Table37[[#This Row],[PPP Exchange rate with the US$ (2016)]]","v":14625.379463726194},{"$f":"(22.63+30)/2","v":26.314999999999998},{"$f":"IF(ISERROR(Table37[[#This Row],[Minimum Hourly Wage Rate (LC)]]*'CPI 1960-2011'!AY45/'CPI 1960-2011'!BC45*1/Table37[[#This Row],[PPP Exchange rate with the US$ (2016)]]), \"n/a\", Table37[[#This Row],[Minimum Hourly Wage Rate (LC)]]*'GDP Deflator 1960-2011'!AZ45/'GDP Deflator 1960-2011'!BD45*1/Table37[[#This Row],[PPP Exchange rate with the US$ (2016)]])","v":1.1341625958829729},17.2,null,142.1886104786708,32.455277190829946,0.24233278185068208,0.68210480227838155,"",0,0,0,0,{"$f":"IFERROR(Table37[[#This Row],[Operating Costs US$ - Bus]]/Table37[[#This Row],[Fare revenue US$- Bus]], \"\")","v":""},{"$f":"IFERROR(Table37[[#This Row],[Operating Costs US$ - Metro]]/Table37[[#This Row],[Fare revenue US$- Metro]], \"\")","v":""},{"$f":"IFERROR(Table37[[#This Row],[Operating Costs US$- LRT]]/Table37[[#This Row],[Fare revenue US$- LRT]], \"\")","v":""},{"$f":"IFERROR(Table37[[#This Row],[Operating Costs US$- Tram]]/Table37[[#This Row],[Fare revenue US$- Tram]], \"\")","v":""},{"$f":"IFERROR(Table37[[#This Row],[Operating Costs US$ - Trolley Bus]]/Table37[[#This Row],[Fare revenue US$- Trolley Buses]], \"\")","v":""},{"$f":"IFERROR((AVERAGEIF(Table37[[#This Row],[Fares for 10 km of journey (2007 US$ PPP) - Bus]:[Fares for 10 km of journey (2007 US$ PPP) - Trolley Bus]], \"<>0\")*40*12)/EO49, \"\")","v":""},{"$f":"IFERROR((AVERAGEIF(Table37[[#This Row],[Fares for 10 km of journey (2007 US$ PPP) - Regional/Commuter Rail]:[Fares for 10 km of journey (2007 US$ PPP) - BRT]], \"<>0\")*40*12)/EO49, \"\")","v":""},{"$f":"IFERROR(2*(AVERAGEIF(Table37[[#This Row],[Fares for avg. length of journey (2007 US$ PPP) - Metro]:[Fares for avg. length of journey (2007 US$ PPP) - BRT]], \"<>0\"))/(Table37[[#This Row],[Minimum Hourly Wage rate (PPP $ 2007)]]*8), \"\")","v":""},"",0,0,{"$f":"SUM(AP49:AQ49)+Table37[[#This Row],[Length of mass transit (km) - BRT]]","v":0},0,"",0,0,0,424.94212800000003,62.400000000000006,"",1.7388295796778841,0,1.0235809159479707,1.4500729642596253,6.7385743633241404,0,0,{"$f":"Table37[[#This Row],[Fares for 10 km of journey (2007 US$ PPP) - Bus]]/10*Table37[[#This Row],[Average trip length by car (km)]]","v":0},{"$f":"Table37[[#This Row],[Fares for 10 km of journey (2007 US$ PPP) - Regional/Commuter Rail]]/10*Table37[[#This Row],[Average trip length by car (km)]]","v":0},{"$f":"Table37[[#This Row],[Fares for 10 km of journey (2007 US$ PPP) - Metro]]/10*Table37[[#This Row],[Average trip length by car (km)]]","v":0},{"$f":"Table37[[#This Row],[Fares for 10 km of journey (2007 US$ PPP) - LRT]]/10*Table37[[#This Row],[Average trip length by car (km)]]","v":0},{"$f":"Table37[[#This Row],[Fares for 10 km of journey (2007 US$ PPP) - Tram]]/10*Table37[[#This Row],[Average trip length by car (km)]]","v":0},{"$f":"Table37[[#This Row],[Fares for 10 km of journey (2007 US$ PPP) - BRT]]/10*Table37[[#This Row],[Average trip length by car (km)]]","v":0},{"$f":"Table37[[#This Row],[Fares for 10 km of journey (2007 US$ PPP) - Trolley Bus]]/10*Table37[[#This Row],[Average trip length by car (km)]]","v":0}]
[null,"Jaipur","India","SAR",3653927,2822580,6660000,5816000,484.64,288,303.89999999999998,300,7539.4664080554639,1351952,963881,185756,1149637,1288820,8,31,null,null,9,19,null,33,5.4,20,900000,null,0,0,0,0,6.6220000000000003E-3,0,6.6220000000000003E-3,6.6220000000000003E-3,751,250,0,0,0,0,7.1,0,0,0,0,0,0,10,null,null,400,1500,null,0,0,0,0,20,0,31234,10,0,0,0,0,0.18,0,0.4462533490332618,0,0,0,0,0,0,null,0,0,0,0,null,0,null,0,0,0,0,0.25,0,null,0,0,0,0,0,null,0,0,0,0,null,0,0,0,0,null,0,null,0,0,0,0,0,null,0,0,0,0,null,0,null,null,null,66.569999999999993,71.709999999999994,56.58,1.01,null,0.86,79.14,25.7,343,null,null,null,187,null,null,"Euro 3",null,null,{"$f":"Table37[[#This Row],[City Per Capita GDP (LC)]]*('GDP Deflator 1960-2011'!AZ46/'GDP Deflator 1960-2011'!BB46)*1/Table37[[#This Row],[PPP Exchange rate with the US$ (2016)]]","v":0},null,{"$f":"Table37[[#This Row],[City GDP (LC Billion)]]*'GDP Deflator 1960-2011'!AZ46/'GDP Deflator 1960-2011'!BC46*1/Table37[[#This Row],[PPP Exchange rate with the US$ (2016)]]","v":0},300374,{"$f":"Table37[[#This Row],[Median Annual household income (LC)]]*'GDP Deflator 1960-2011'!AZ46/'GDP Deflator 1960-2011'!BA46*1/Table37[[#This Row],[PPP Exchange rate with the US$ (2016)]]","v":16071.101217243971},25.8,{"$f":"IF(ISERROR(Table37[[#This Row],[Minimum Hourly Wage Rate (LC)]]*'CPI 1960-2011'!AY46/'CPI 1960-2011'!BC46*1/Table37[[#This Row],[PPP Exchange rate with the US$ (2016)]]), \"n/a\", Table37[[#This Row],[Minimum Hourly Wage Rate (LC)]]*'GDP Deflator 1960-2011'!AZ46/'GDP Deflator 1960-2011'!BD46*1/Table37[[#This Row],[PPP Exchange rate with the US$ (2016)]])","v":1.1119663679947065},17.2,null,144.72687687687687,27.891291291291292,0.28528528528528529,0.74787867972253685,936.99134487350204,751,112.76276276276276,1.5496038296467483,0,{"$f":"IFERROR(Table37[[#This Row],[Operating Costs US$ - Bus]]/Table37[[#This Row],[Fare revenue US$- Bus]], \"\")","v":""},{"$f":"IFERROR(Table37[[#This Row],[Operating Costs US$ - Metro]]/Table37[[#This Row],[Fare revenue US$- Metro]], \"\")","v":""},{"$f":"IFERROR(Table37[[#This Row],[Operating Costs US$- LRT]]/Table37[[#This Row],[Fare revenue US$- LRT]], \"\")","v":""},{"$f":"IFERROR(Table37[[#This Row],[Operating Costs US$- Tram]]/Table37[[#This Row],[Fare revenue US$- Tram]], \"\")","v":""},{"$f":"IFERROR(Table37[[#This Row],[Operating Costs US$ - Trolley Bus]]/Table37[[#This Row],[Fare revenue US$- Trolley Buses]], \"\")","v":""},{"$f":"IFERROR((AVERAGEIF(Table37[[#This Row],[Fares for 10 km of journey (2007 US$ PPP) - Bus]:[Fares for 10 km of journey (2007 US$ PPP) - Trolley Bus]], \"<>0\")*40*12)/EO50, \"\")","v":""},{"$f":"IFERROR((AVERAGEIF(Table37[[#This Row],[Fares for 10 km of journey (2007 US$ PPP) - Regional/Commuter Rail]:[Fares for 10 km of journey (2007 US$ PPP) - BRT]], \"<>0\")*40*12)/EO50, \"\")","v":""},{"$f":"IFERROR(2*(AVERAGEIF(Table37[[#This Row],[Fares for avg. length of journey (2007 US$ PPP) - Metro]:[Fares for avg. length of journey (2007 US$ PPP) - BRT]], \"<>0\"))/(Table37[[#This Row],[Minimum Hourly Wage rate (PPP $ 2007)]]*8), \"\")","v":""},"",5.4,20,{"$f":"SUM(AP50:AQ50)+Table37[[#This Row],[Length of mass transit (km) - BRT]]","v":7.1},6.6220000000000003E-3,932.67605633802816,9.942942942942944E-4,1.4650049521294155E-2,4.9727632882139328E-2,939.05923899999993,257,1.2504117696404793,7.2861938750174566,0,0,0,28.078078078078079,0,0,{"$f":"Table37[[#This Row],[Fares for 10 km of journey (2007 US$ PPP) - Bus]]/10*Table37[[#This Row],[Average trip length by car (km)]]","v":0.24097680847796138},{"$f":"Table37[[#This Row],[Fares for 10 km of journey (2007 US$ PPP) - Regional/Commuter Rail]]/10*Table37[[#This Row],[Average trip length by car (km)]]","v":0},{"$f":"Table37[[#This Row],[Fares for 10 km of journey (2007 US$ PPP) - Metro]]/10*Table37[[#This Row],[Average trip length by car (km)]]","v":0},{"$f":"Table37[[#This Row],[Fares for 10 km of journey (2007 US$ PPP) - LRT]]/10*Table37[[#This Row],[Average trip length by car (km)]]","v":0},{"$f":"Table37[[#This Row],[Fares for 10 km of journey (2007 US$ PPP) - Tram]]/10*Table37[[#This Row],[Average trip length by car (km)]]","v":0},{"$f":"Table37[[#This Row],[Fares for 10 km of journey (2007 US$ PPP) - BRT]]/10*Table37[[#This Row],[Average trip length by car (km)]]","v":0},{"$f":"Table37[[#This Row],[Fares for 10 km of journey (2007 US$ PPP) - Trolley Bus]]/10*Table37[[#This Row],[Average trip length by car (km)]]","v":0},"Much of the city's transport requirements are provided by private operators: minibuses seating 20 passengers, 3-wheelers seating 12 and cycle rickshaw provide much of the city's transport."]
[null,"Kanpur","India","SAR",2767031,2551337,3500000,2800000,null,null,266.74,266.74,{"$error":"#DIV/0!"},840000,519664,{"$f":"73947+5456","v":79403},599067,597689,null,null,null,null,null,null,null,0,null,null,null,null,null,0,0,0,0,0,0,0,null,null,null,0,0,0,0,0,null,0,0,0,0,0,null,null,482,235,null,0,null,0,0,0,0,{"$f":"135+7588","v":7723},null,null,0,0,0,0,0,0,0,0,0,0,0,0,null,null,0,0,0,0,0,null,null,0,0,0,null,0,null,null,0,0,0,0,null,0,0,0,0,null,null,0,0,0,null,0,null,null,0,0,0,0,null,null,0,0,0,0,0,null,null,null,67.22,73.25,54.73,1.02,null,0.83,15.79,32.49,null,null,15,14,215,null,null,"Euro 4 ",null,null,{"$f":"Table37[[#This Row],[City Per Capita GDP (LC)]]*('GDP Deflator 1960-2011'!AZ47/'GDP Deflator 1960-2011'!BB47)*1/Table37[[#This Row],[PPP Exchange rate with the US$ (2016)]]","v":0},null,{"$f":"Table37[[#This Row],[City GDP (LC Billion)]]*'GDP Deflator 1960-2011'!AZ47/'GDP Deflator 1960-2011'!BC47*1/Table37[[#This Row],[PPP Exchange rate with the US$ (2016)]]","v":0},159761,{"$f":"Table37[[#This Row],[Median Annual household income (LC)]]*'GDP Deflator 1960-2011'!AZ47/'GDP Deflator 1960-2011'!BA47*1/Table37[[#This Row],[PPP Exchange rate with the US$ (2016)]]","v":8547.7944215148927},{"$f":"(22.63+30)/2","v":26.314999999999998},{"$f":"IF(ISERROR(Table37[[#This Row],[Minimum Hourly Wage Rate (LC)]]*'CPI 1960-2011'!AY47/'CPI 1960-2011'!BC47*1/Table37[[#This Row],[PPP Exchange rate with the US$ (2016)]]), \"n/a\", Table37[[#This Row],[Minimum Hourly Wage Rate (LC)]]*'GDP Deflator 1960-2011'!AZ47/'GDP Deflator 1960-2011'!BD47*1/Table37[[#This Row],[PPP Exchange rate with the US$ (2016)]])","v":1.1341625958829729},17.2,null,148.47542857142855,22.686571428571426,0.20485714285714285,0.86945551950930999,"",0,0,"",0,{"$f":"IFERROR(Table37[[#This Row],[Operating Costs US$ - Bus]]/Table37[[#This Row],[Fare revenue US$- Bus]], \"\")","v":""},{"$f":"IFERROR(Table37[[#This Row],[Operating Costs US$ - Metro]]/Table37[[#This Row],[Fare revenue US$- Metro]], \"\")","v":""},{"$f":"IFERROR(Table37[[#This Row],[Operating Costs US$- LRT]]/Table37[[#This Row],[Fare revenue US$- LRT]], \"\")","v":""},{"$f":"IFERROR(Table37[[#This Row],[Operating Costs US$- Tram]]/Table37[[#This Row],[Fare revenue US$- Tram]], \"\")","v":""},{"$f":"IFERROR(Table37[[#This Row],[Operating Costs US$ - Trolley Bus]]/Table37[[#This Row],[Fare revenue US$- Trolley Buses]], \"\")","v":""},{"$f":"IFERROR((AVERAGEIF(Table37[[#This Row],[Fares for 10 km of journey (2007 US$ PPP) - Bus]:[Fares for 10 km of journey (2007 US$ PPP) - Trolley Bus]], \"<>0\")*40*12)/EO51, \"\")","v":""},{"$f":"IFERROR((AVERAGEIF(Table37[[#This Row],[Fares for 10 km of journey (2007 US$ PPP) - Regional/Commuter Rail]:[Fares for 10 km of journey (2007 US$ PPP) - BRT]], \"<>0\")*40*12)/EO51, \"\")","v":""},{"$f":"IFERROR(2*(AVERAGEIF(Table37[[#This Row],[Fares for avg. length of journey (2007 US$ PPP) - Metro]:[Fares for avg. length of journey (2007 US$ PPP) - BRT]], \"<>0\"))/(Table37[[#This Row],[Minimum Hourly Wage rate (PPP $ 2007)]]*8), \"\")","v":""},"",0,0,{"$f":"SUM(AP51:AQ51)+Table37[[#This Row],[Length of mass transit (km) - BRT]]","v":0},0,"",0,"","",899.00837190000016,324.90000000000003,"",15.041407352318682,0,4.2857142857142856,4,61.428571428571438,0,0,{"$f":"Table37[[#This Row],[Fares for 10 km of journey (2007 US$ PPP) - Bus]]/10*Table37[[#This Row],[Average trip length by car (km)]]","v":0},{"$f":"Table37[[#This Row],[Fares for 10 km of journey (2007 US$ PPP) - Regional/Commuter Rail]]/10*Table37[[#This Row],[Average trip length by car (km)]]","v":0},{"$f":"Table37[[#This Row],[Fares for 10 km of journey (2007 US$ PPP) - Metro]]/10*Table37[[#This Row],[Average trip length by car (km)]]","v":0},{"$f":"Table37[[#This Row],[Fares for 10 km of journey (2007 US$ PPP) - LRT]]/10*Table37[[#This Row],[Average trip length by car (km)]]","v":0},{"$f":"Table37[[#This Row],[Fares for 10 km of journey (2007 US$ PPP) - Tram]]/10*Table37[[#This Row],[Average trip length by car (km)]]","v":0},{"$f":"Table37[[#This Row],[Fares for 10 km of journey (2007 US$ PPP) - BRT]]/10*Table37[[#This Row],[Average trip length by car (km)]]","v":0},{"$f":"Table37[[#This Row],[Fares for 10 km of journey (2007 US$ PPP) - Trolley Bus]]/10*Table37[[#This Row],[Average trip length by car (km)]]","v":0},"Extensive private buses, tempo taxis and cycle rickshaws provide most of the city's transport needs."]
[null,"Kolkata","India","SAR",14112536,13205697,15123555,14112536,1480,null,968680,968680,9535.4972972972973,null,162753,302821,465574,572783,null,null,null,null,null,null,null,0,null,null,{"$f":"221.1/365+51.4/365","v":0.74657534246575341},null,{"$f":"590/365+79/365","v":1.8328767123287673},{"$f":"173/365","v":0.47397260273972602},0,{"$f":"58/365","v":0.15890410958904111},0,0,1.3794520547945206,0.63287671232876708,null,23332,null,16.45,0,68,0,0,null,17,0,447,0,0,null,null,{"$f":"1124+358","v":1482},null,null,144,null,0,170,0,0,{"$f":"33524+16258","v":49782},null,null,null,0,null,0,0,0,0,0,0,0,0,0,null,null,null,0,null,0,0,null,null,null,0,null,null,0,null,null,null,0,null,0,null,null,0,null,0,null,null,null,0,null,null,0,null,null,null,0,null,0,7741,null,null,0,null,0,0,6.53,null,null,67.400000000000006,75.44,54.88,1.02,3.0653594771241828,0.84,null,{"$f":"421/E52*100000","v":2.983163337900431},null,null,49,34,135,null,16.027000000000001,"Euro 4 ",null,null,{"$f":"Table37[[#This Row],[City Per Capita GDP (LC)]]*('GDP Deflator 1960-2011'!AZ48/'GDP Deflator 1960-2011'!BB48)*1/Table37[[#This Row],[PPP Exchange rate with the US$ (2016)]]","v":0},null,{"$f":"Table37[[#This Row],[City GDP (LC Billion)]]*'GDP Deflator 1960-2011'!AZ48/'GDP Deflator 1960-2011'!BC48*1/Table37[[#This Row],[PPP Exchange rate with the US$ (2016)]]","v":0},287199,{"$f":"Table37[[#This Row],[Median Annual household income (LC)]]*'GDP Deflator 1960-2011'!AZ48/'GDP Deflator 1960-2011'!BA48*1/Table37[[#This Row],[PPP Exchange rate with the US$ (2016)]]","v":15366.190810427175},{"$f":"(22.63+30)/2","v":26.314999999999998},{"$f":"IF(ISERROR(Table37[[#This Row],[Minimum Hourly Wage Rate (LC)]]*'CPI 1960-2011'!AY48/'CPI 1960-2011'!BC48*1/Table37[[#This Row],[PPP Exchange rate with the US$ (2016)]]), \"n/a\", Table37[[#This Row],[Minimum Hourly Wage Rate (LC)]]*'GDP Deflator 1960-2011'!AZ48/'GDP Deflator 1960-2011'!BD48*1/Table37[[#This Row],[PPP Exchange rate with the US$ (2016)]])","v":1.1341625958829729},17.2,null,10.761557054541738,20.023136094654994,9.7992833034296498E-2,0.28414425707466878,"",0,0,0,5.2233468286099862,{"$f":"IFERROR(Table37[[#This Row],[Operating Costs US$ - Bus]]/Table37[[#This Row],[Fare revenue US$- Bus]], \"\")","v":""},{"$f":"IFERROR(Table37[[#This Row],[Operating Costs US$ - Metro]]/Table37[[#This Row],[Fare revenue US$- Metro]], \"\")","v":""},{"$f":"IFERROR(Table37[[#This Row],[Operating Costs US$- LRT]]/Table37[[#This Row],[Fare revenue US$- LRT]], \"\")","v":""},{"$f":"IFERROR(Table37[[#This Row],[Operating Costs US$- Tram]]/Table37[[#This Row],[Fare revenue US$- Tram]], \"\")","v":""},{"$f":"IFERROR(Table37[[#This Row],[Operating Costs US$ - Trolley Bus]]/Table37[[#This Row],[Fare revenue US$- Trolley Buses]], \"\")","v":""},{"$f":"IFERROR((AVERAGEIF(Table37[[#This Row],[Fares for 10 km of journey (2007 US$ PPP) - Bus]:[Fares for 10 km of journey (2007 US$ PPP) - Trolley Bus]], \"<>0\")*40*12)/EO52, \"\")","v":""},{"$f":"IFERROR((AVERAGEIF(Table37[[#This Row],[Fares for 10 km of journey (2007 US$ PPP) - Regional/Commuter Rail]:[Fares for 10 km of journey (2007 US$ PPP) - BRT]], \"<>0\")*40*12)/EO52, \"\")","v":""},{"$f":"IFERROR(2*(AVERAGEIF(Table37[[#This Row],[Fares for avg. length of journey (2007 US$ PPP) - Metro]:[Fares for avg. length of journey (2007 US$ PPP) - BRT]], \"<>0\"))/(Table37[[#This Row],[Minimum Hourly Wage rate (PPP $ 2007)]]*8), \"\")","v":""},"",0,0,{"$f":"SUM(AP52:AQ52)+Table37[[#This Row],[Length of mass transit (km) - BRT]]","v":16.45},0.63287671232876708,7494.0996131292723,4.1847086371475953E-2,1.1114864864864864E-2,0.2749662162162162,421,29.831633379004309,"",7.3500784764910971,0,3.2399789599733659,2.2481486661039685,8.9264726448245799,0,0,{"$f":"Table37[[#This Row],[Fares for 10 km of journey (2007 US$ PPP) - Bus]]/10*Table37[[#This Row],[Average trip length by car (km)]]","v":0},{"$f":"Table37[[#This Row],[Fares for 10 km of journey (2007 US$ PPP) - Regional/Commuter Rail]]/10*Table37[[#This Row],[Average trip length by car (km)]]","v":0},{"$f":"Table37[[#This Row],[Fares for 10 km of journey (2007 US$ PPP) - Metro]]/10*Table37[[#This Row],[Average trip length by car (km)]]","v":0},{"$f":"Table37[[#This Row],[Fares for 10 km of journey (2007 US$ PPP) - LRT]]/10*Table37[[#This Row],[Average trip length by car (km)]]","v":0},{"$f":"Table37[[#This Row],[Fares for 10 km of journey (2007 US$ PPP) - Tram]]/10*Table37[[#This Row],[Average trip length by car (km)]]","v":0},{"$f":"Table37[[#This Row],[Fares for 10 km of journey (2007 US$ PPP) - BRT]]/10*Table37[[#This Row],[Average trip length by car (km)]]","v":0},{"$f":"Table37[[#This Row],[Fares for 10 km of journey (2007 US$ PPP) - Trolley Bus]]/10*Table37[[#This Row],[Average trip length by car (km)]]","v":0}]
[null,"Madurai","India","SAR",1016885,928869,1462420,null,248,147.99700000000001,null,null,4100.3427419354839,null,363071,{"$f":"24626+1527","v":26153},389224,440182,null,null,null,null,null,null,null,0,null,null,null,null,null,0,0,0,0,0,0,0,null,null,null,0,0,0,0,0,null,0,0,0,0,0,null,null,null,null,null,0,null,0,0,0,0,{"$f":"10154+8931","v":19085},null,0,0,0,0,0,0,0,0,0,0,0,0,0,null,null,0,0,0,0,0,null,null,0,0,0,null,0,null,null,0,0,0,0,null,0,0,0,0,null,null,0,0,0,null,0,null,null,0,0,0,0,null,null,0,0,0,0,0,null,null,null,63.67,71.55,54.68,0.04,null,0.83,null,{"$f":"142/E53*100000","v":13.964214242515133},null,null,null,null,48,null,null,"Euro 3",null,null,{"$f":"Table37[[#This Row],[City Per Capita GDP (LC)]]*('GDP Deflator 1960-2011'!AZ49/'GDP Deflator 1960-2011'!BB49)*1/Table37[[#This Row],[PPP Exchange rate with the US$ (2016)]]","v":0},null,{"$f":"Table37[[#This Row],[City GDP (LC Billion)]]*'GDP Deflator 1960-2011'!AZ49/'GDP Deflator 1960-2011'!BC49*1/Table37[[#This Row],[PPP Exchange rate with the US$ (2016)]]","v":0},null,{"$f":"Table37[[#This Row],[Median Annual household income (LC)]]*'GDP Deflator 1960-2011'!AZ49/'GDP Deflator 1960-2011'!AY49*1/Table37[[#This Row],[PPP Exchange rate with the US$ (2016)]]","v":0},{"$f":"(20.5+27.5)/2","v":24},{"$f":"IF(ISERROR(Table37[[#This Row],[Minimum Hourly Wage Rate (LC)]]*'CPI 1960-2011'!AY49/'CPI 1960-2011'!BC49*1/Table37[[#This Row],[PPP Exchange rate with the US$ (2016)]]), \"n/a\", Table37[[#This Row],[Minimum Hourly Wage Rate (LC)]]*'GDP Deflator 1960-2011'!AZ49/'GDP Deflator 1960-2011'!BD49*1/Table37[[#This Row],[PPP Exchange rate with the US$ (2016)]])","v":1.0343873190648436},17.2,null,248.26725564475322,17.883371398093569,0,0.82482018801314005,"",0,0,0,"",{"$f":"IFERROR(Table37[[#This Row],[Operating Costs US$ - Bus]]/Table37[[#This Row],[Fare revenue US$- Bus]], \"\")","v":""},{"$f":"IFERROR(Table37[[#This Row],[Operating Costs US$ - Metro]]/Table37[[#This Row],[Fare revenue US$- Metro]], \"\")","v":""},{"$f":"IFERROR(Table37[[#This Row],[Operating Costs US$- LRT]]/Table37[[#This Row],[Fare revenue US$- LRT]], \"\")","v":""},{"$f":"IFERROR(Table37[[#This Row],[Operating Costs US$- Tram]]/Table37[[#This Row],[Fare revenue US$- Tram]], \"\")","v":""},{"$f":"IFERROR(Table37[[#This Row],[Operating Costs US$ - Trolley Bus]]/Table37[[#This Row],[Fare revenue US$- Trolley Buses]], \"\")","v":""},{"$f":"IFERROR((AVERAGEIF(Table37[[#This Row],[Fares for 10 km of journey (2007 US$ PPP) - Bus]:[Fares for 10 km of journey (2007 US$ PPP) - Trolley Bus]], \"<>0\")*40*12)/EO53, \"\")","v":""},{"$f":"IFERROR((AVERAGEIF(Table37[[#This Row],[Fares for 10 km of journey (2007 US$ PPP) - Regional/Commuter Rail]:[Fares for 10 km of journey (2007 US$ PPP) - BRT]], \"<>0\")*40*12)/EO53, \"\")","v":""},{"$f":"IFERROR(2*(AVERAGEIF(Table37[[#This Row],[Fares for avg. length of journey (2007 US$ PPP) - Metro]:[Fares for avg. length of journey (2007 US$ PPP) - BRT]], \"<>0\"))/(Table37[[#This Row],[Minimum Hourly Wage rate (PPP $ 2007)]]*8), \"\")","v":""},"",0,0,{"$f":"SUM(AP53:AQ53)+Table37[[#This Row],[Length of mass transit (km) - BRT]]","v":0},0,"",0,0,0.95778225806451611,142.00000000000003,139.64214242515135,"",3.2259383618594133,0,0,0,32.822308228826188,0,0,{"$f":"Table37[[#This Row],[Fares for 10 km of journey (2007 US$ PPP) - Bus]]/10*Table37[[#This Row],[Average trip length by car (km)]]","v":0},{"$f":"Table37[[#This Row],[Fares for 10 km of journey (2007 US$ PPP) - Regional/Commuter Rail]]/10*Table37[[#This Row],[Average trip length by car (km)]]","v":0},{"$f":"Table37[[#This Row],[Fares for 10 km of journey (2007 US$ PPP) - Metro]]/10*Table37[[#This Row],[Average trip length by car (km)]]","v":0},{"$f":"Table37[[#This Row],[Fares for 10 km of journey (2007 US$ PPP) - LRT]]/10*Table37[[#This Row],[Average trip length by car (km)]]","v":0},{"$f":"Table37[[#This Row],[Fares for 10 km of journey (2007 US$ PPP) - Tram]]/10*Table37[[#This Row],[Average trip length by car (km)]]","v":0},{"$f":"Table37[[#This Row],[Fares for 10 km of journey (2007 US$ PPP) - BRT]]/10*Table37[[#This Row],[Average trip length by car (km)]]","v":0},{"$f":"Table37[[#This Row],[Fares for 10 km of journey (2007 US$ PPP) - Trolley Bus]]/10*Table37[[#This Row],[Average trip length by car (km)]]","v":0}]
[null,"Mumbai","India","SAR",12478447,11978450,22000000,16434386,603,603,705.33,705330,20693.941956882256,null,859075,{"$f":"464381+25200","v":489581},1348656,1604704,33.96,3.77,3.77,16.98,null,11.32,13.21,16.989999999999981,19.78,63,{"$f":"1636/365","v":4.4821917808219176},null,{"$f":"2314/365","v":6.3397260273972602},0,0,0,0,0,4.4821917808219176,0,1941.16,5824.6,319,"Under Construction",0,0,0,0,null,"Under Construction",0,0,0,0,null,null,3391,null,null,"Under Construction",2226,0,0,0,0,{"$f":"57865+104725","v":162590},null,4,0,0,0,0,0,0,0.17850133961330469,0,0,0,0,0,14444,null,0,0,0,0,0,8936.3729999999996,null,0,0,0,null,0,2299.1309999999999,null,0,0,0,0,701.66320349770376,0,0,0,0,434.11271855652069,null,0,0,0,null,0,111.68759503744663,null,0,0,0,0,null,null,0,0,0,0,0,9,0.08,2.02,70.64,74.430000000000007,58.07,1.07,1.1228,0.88,null,{"$f":"840/E54*100000","v":6.7316069058914136},null,9.3369999999999997,33,39,117,null,45.843000000000004,"Euro 4 ",null,null,{"$f":"Table37[[#This Row],[City Per Capita GDP (LC)]]*('GDP Deflator 1960-2011'!AZ50/'GDP Deflator 1960-2011'!BB50)*1/Table37[[#This Row],[PPP Exchange rate with the US$ (2016)]]","v":0},null,{"$f":"Table37[[#This Row],[City GDP (LC Billion)]]*'GDP Deflator 1960-2011'!AZ50/'GDP Deflator 1960-2011'!BC50*1/Table37[[#This Row],[PPP Exchange rate with the US$ (2016)]]","v":0},459457,{"$f":"Table37[[#This Row],[Median Annual household income (LC)]]*'GDP Deflator 1960-2011'!AZ50/'GDP Deflator 1960-2011'!AX50*1/Table37[[#This Row],[PPP Exchange rate with the US$ (2016)]]","v":30064.660353563206},25.2,{"$f":"IF(ISERROR(Table37[[#This Row],[Minimum Hourly Wage Rate (LC)]]*'CPI 1960-2011'!AY50/'CPI 1960-2011'!BC50*1/Table37[[#This Row],[PPP Exchange rate with the US$ (2016)]]), \"n/a\", Table37[[#This Row],[Minimum Hourly Wage Rate (LC)]]*'GDP Deflator 1960-2011'!AZ50/'GDP Deflator 1960-2011'!BD50*1/Table37[[#This Row],[PPP Exchange rate with the US$ (2016)]])","v":1.0861066850180854},17.2,null,39.048863636363642,22.253681818181818,0.15413636363636365,0.53534795202105812,561.61573492138723,1941.16,88.234545454545454,3.2191708126036485,0,{"$f":"IFERROR(Table37[[#This Row],[Operating Costs US$ - Bus]]/Table37[[#This Row],[Fare revenue US$- Bus]], \"\")","v":1.6163157021310548},{"$f":"IFERROR(Table37[[#This Row],[Operating Costs US$ - Metro]]/Table37[[#This Row],[Fare revenue US$- Metro]], \"\")","v":""},{"$f":"IFERROR(Table37[[#This Row],[Operating Costs US$- LRT]]/Table37[[#This Row],[Fare revenue US$- LRT]], \"\")","v":""},{"$f":"IFERROR(Table37[[#This Row],[Operating Costs US$- Tram]]/Table37[[#This Row],[Fare revenue US$- Tram]], \"\")","v":""},{"$f":"IFERROR(Table37[[#This Row],[Operating Costs US$ - Trolley Bus]]/Table37[[#This Row],[Fare revenue US$- Trolley Buses]], \"\")","v":""},{"$f":"IFERROR((AVERAGEIF(Table37[[#This Row],[Fares for 10 km of journey (2007 US$ PPP) - Bus]:[Fares for 10 km of journey (2007 US$ PPP) - Trolley Bus]], \"<>0\")*40*12)/EO54, \"\")","v":""},{"$f":"IFERROR((AVERAGEIF(Table37[[#This Row],[Fares for 10 km of journey (2007 US$ PPP) - Regional/Commuter Rail]:[Fares for 10 km of journey (2007 US$ PPP) - BRT]], \"<>0\")*40*12)/EO54, \"\")","v":""},{"$f":"IFERROR(2*(AVERAGEIF(Table37[[#This Row],[Fares for avg. length of journey (2007 US$ PPP) - Metro]:[Fares for avg. length of journey (2007 US$ PPP) - BRT]], \"<>0\"))/(Table37[[#This Row],[Minimum Hourly Wage rate (PPP $ 2007)]]*8), \"\")","v":""},"",19.78,63,{"$f":"SUM(AP54:AQ54)+Table37[[#This Row],[Length of mass transit (km) - BRT]]","v":0},0,"",0,0,0.20630182421227197,840,67.316069058914138,0.43273094438377052,5.2346102458771204,0,1.5,1.7727272727272727,5.3181818181818183,0.08,2.02,{"$f":"Table37[[#This Row],[Fares for 10 km of journey (2007 US$ PPP) - Bus]]/10*Table37[[#This Row],[Average trip length by car (km)]]","v":0},{"$f":"Table37[[#This Row],[Fares for 10 km of journey (2007 US$ PPP) - Regional/Commuter Rail]]/10*Table37[[#This Row],[Average trip length by car (km)]]","v":0.35307564975511674},{"$f":"Table37[[#This Row],[Fares for 10 km of journey (2007 US$ PPP) - Metro]]/10*Table37[[#This Row],[Average trip length by car (km)]]","v":0},{"$f":"Table37[[#This Row],[Fares for 10 km of journey (2007 US$ PPP) - LRT]]/10*Table37[[#This Row],[Average trip length by car (km)]]","v":0},{"$f":"Table37[[#This Row],[Fares for 10 km of journey (2007 US$ PPP) - Tram]]/10*Table37[[#This Row],[Average trip length by car (km)]]","v":0},{"$f":"Table37[[#This Row],[Fares for 10 km of journey (2007 US$ PPP) - BRT]]/10*Table37[[#This Row],[Average trip length by car (km)]]","v":0},{"$f":"Table37[[#This Row],[Fares for 10 km of journey (2007 US$ PPP) - Trolley Bus]]/10*Table37[[#This Row],[Average trip length by car (km)]]","v":0}]
[null,"Nagpur","India","SAR",2405421,2052066,2497777,null,217.56,217.56,null,null,11056.356867071152,null,799014,{"$f":"64511+20482","v":84993},884007,946022,null,null,null,null,null,null,null,0,null,null,null,null,null,0,0,0,0,0,0,0,null,2019,null,0,0,0,0,0,null,0,0,0,0,0,null,null,212,null,null,0,null,0,0,0,0,{"$f":"1771+15309","v":17080},null,0,0,0,0,0,0,0,0,0,0,0,0,0,null,null,0,0,0,0,0,null,null,0,0,0,null,0,null,null,0,0,0,0,null,0,0,0,0,null,null,0,0,0,null,0,null,null,0,0,0,0,1369,null,0,0,0,0,0,null,null,null,69.25,72.81,57.16,1.04,null,0.86,null,{"$f":"352/E55*100000","v":14.63361299331801},null,null,6,13,103,null,null,"Euro 3",null,null,{"$f":"Table37[[#This Row],[City Per Capita GDP (LC)]]*('GDP Deflator 1960-2011'!AZ51/'GDP Deflator 1960-2011'!BB51)*1/Table37[[#This Row],[PPP Exchange rate with the US$ (2016)]]","v":0},null,{"$f":"Table37[[#This Row],[City GDP (LC Billion)]]*'GDP Deflator 1960-2011'!AZ51/'GDP Deflator 1960-2011'!BC51*1/Table37[[#This Row],[PPP Exchange rate with the US$ (2016)]]","v":0},308625,{"$f":"Table37[[#This Row],[Median Annual household income (LC)]]*'GDP Deflator 1960-2011'!AZ51/'GDP Deflator 1960-2011'!BA51*1/Table37[[#This Row],[PPP Exchange rate with the US$ (2016)]]","v":16512.559719456149},{"$f":"(22.63+30)/2","v":26.314999999999998},{"$f":"IF(ISERROR(Table37[[#This Row],[Minimum Hourly Wage Rate (LC)]]*'CPI 1960-2011'!AY51/'CPI 1960-2011'!BC51*1/Table37[[#This Row],[PPP Exchange rate with the US$ (2016)]]), \"n/a\", Table37[[#This Row],[Minimum Hourly Wage Rate (LC)]]*'GDP Deflator 1960-2011'!AZ51/'GDP Deflator 1960-2011'!BD51*1/Table37[[#This Row],[PPP Exchange rate with the US$ (2016)]])","v":1.1341625958829729},17.2,null,319.89004622910693,34.02745721495554,8.4875471269052441E-2,0.84460403669259276,"",0,0,0,6.4575471698113205,{"$f":"IFERROR(Table37[[#This Row],[Operating Costs US$ - Bus]]/Table37[[#This Row],[Fare revenue US$- Bus]], \"\")","v":""},{"$f":"IFERROR(Table37[[#This Row],[Operating Costs US$ - Metro]]/Table37[[#This Row],[Fare revenue US$- Metro]], \"\")","v":""},{"$f":"IFERROR(Table37[[#This Row],[Operating Costs US$- LRT]]/Table37[[#This Row],[Fare revenue US$- LRT]], \"\")","v":""},{"$f":"IFERROR(Table37[[#This Row],[Operating Costs US$- Tram]]/Table37[[#This Row],[Fare revenue US$- Tram]], \"\")","v":""},{"$f":"IFERROR(Table37[[#This Row],[Operating Costs US$ - Trolley Bus]]/Table37[[#This Row],[Fare revenue US$- Trolley Buses]], \"\")","v":""},{"$f":"IFERROR((AVERAGEIF(Table37[[#This Row],[Fares for 10 km of journey (2007 US$ PPP) - Bus]:[Fares for 10 km of journey (2007 US$ PPP) - Trolley Bus]], \"<>0\")*40*12)/EO55, \"\")","v":""},{"$f":"IFERROR((AVERAGEIF(Table37[[#This Row],[Fares for 10 km of journey (2007 US$ PPP) - Regional/Commuter Rail]:[Fares for 10 km of journey (2007 US$ PPP) - BRT]], \"<>0\")*40*12)/EO55, \"\")","v":""},{"$f":"IFERROR(2*(AVERAGEIF(Table37[[#This Row],[Fares for avg. length of journey (2007 US$ PPP) - Metro]:[Fares for avg. length of journey (2007 US$ PPP) - BRT]], \"<>0\"))/(Table37[[#This Row],[Minimum Hourly Wage rate (PPP $ 2007)]]*8), \"\")","v":""},"",0,0,{"$f":"SUM(AP55:AQ55)+Table37[[#This Row],[Length of mass transit (km) - BRT]]","v":0},0,"",0,0,5.4283875712447136,352,146.3361299331801,"",3.7208437013092719,0,2.402135979312805,5.2046279551777443,41.236667644869819,0,0,{"$f":"Table37[[#This Row],[Fares for 10 km of journey (2007 US$ PPP) - Bus]]/10*Table37[[#This Row],[Average trip length by car (km)]]","v":0},{"$f":"Table37[[#This Row],[Fares for 10 km of journey (2007 US$ PPP) - Regional/Commuter Rail]]/10*Table37[[#This Row],[Average trip length by car (km)]]","v":0},{"$f":"Table37[[#This Row],[Fares for 10 km of journey (2007 US$ PPP) - Metro]]/10*Table37[[#This Row],[Average trip length by car (km)]]","v":0},{"$f":"Table37[[#This Row],[Fares for 10 km of journey (2007 US$ PPP) - LRT]]/10*Table37[[#This Row],[Average trip length by car (km)]]","v":0},{"$f":"Table37[[#This Row],[Fares for 10 km of journey (2007 US$ PPP) - Tram]]/10*Table37[[#This Row],[Average trip length by car (km)]]","v":0},{"$f":"Table37[[#This Row],[Fares for 10 km of journey (2007 US$ PPP) - BRT]]/10*Table37[[#This Row],[Average trip length by car (km)]]","v":0},{"$f":"Table37[[#This Row],[Fares for 10 km of journey (2007 US$ PPP) - Trolley Bus]]/10*Table37[[#This Row],[Average trip length by car (km)]]","v":0}]
[null,"Patna","India","SAR",1683200,1366444,2046652,null,109.218,108.34,null,null,15411.379076708967,null,325450,55589,381039,471490,15,18,13,41,5,null,8,0,null,null,null,null,null,0,0,0,0,0,0,0,1421,null,null,0,0,0,0,0,null,0,0,0,0,0,null,null,null,null,null,0,null,0,0,0,0,{"$f":"4263+43282","v":47545},null,0,0,0,0,0,0,0,0,0,0,0,0,0,null,null,0,0,0,0,0,null,null,0,0,0,null,0,null,null,0,0,0,0,null,0,0,0,0,null,null,0,0,0,null,0,null,null,0,0,0,0,null,null,0,0,0,0,0,null,null,null,66.84,71.94,65.739999999999995,1.01,null,0.99,null,{"$f":"42/E56*100000","v":2.4952471482889735},null,null,null,null,167,null,null,"Euro 3",null,null,{"$f":"Table37[[#This Row],[City Per Capita GDP (LC)]]*('GDP Deflator 1960-2011'!AZ52/'GDP Deflator 1960-2011'!BB52)*1/Table37[[#This Row],[PPP Exchange rate with the US$ (2016)]]","v":0},null,{"$f":"Table37[[#This Row],[City GDP (LC Billion)]]*'GDP Deflator 1960-2011'!AZ52/'GDP Deflator 1960-2011'!BC52*1/Table37[[#This Row],[PPP Exchange rate with the US$ (2016)]]","v":0},null,{"$f":"Table37[[#This Row],[Median Annual household income (LC)]]*'GDP Deflator 1960-2011'!AZ52/'GDP Deflator 1960-2011'!AY52*1/Table37[[#This Row],[PPP Exchange rate with the US$ (2016)]]","v":0},{"$f":"(20.5+27.5)/2","v":24},{"$f":"IF(ISERROR(Table37[[#This Row],[Minimum Hourly Wage Rate (LC)]]*'CPI 1960-2011'!AY52/'CPI 1960-2011'!BC52*1/Table37[[#This Row],[PPP Exchange rate with the US$ (2016)]]), \"n/a\", Table37[[#This Row],[Minimum Hourly Wage Rate (LC)]]*'GDP Deflator 1960-2011'!AZ52/'GDP Deflator 1960-2011'!BD52*1/Table37[[#This Row],[PPP Exchange rate with the US$ (2016)]])","v":1.0343873190648436},17.2,null,159.01579750734371,27.160943824353136,0,0.69025854206876069,187.09289232934555,1421,694.30464974016093,13.010675895914593,"",{"$f":"IFERROR(Table37[[#This Row],[Operating Costs US$ - Bus]]/Table37[[#This Row],[Fare revenue US$- Bus]], \"\")","v":""},{"$f":"IFERROR(Table37[[#This Row],[Operating Costs US$ - Metro]]/Table37[[#This Row],[Fare revenue US$- Metro]], \"\")","v":""},{"$f":"IFERROR(Table37[[#This Row],[Operating Costs US$- LRT]]/Table37[[#This Row],[Fare revenue US$- LRT]], \"\")","v":""},{"$f":"IFERROR(Table37[[#This Row],[Operating Costs US$- Tram]]/Table37[[#This Row],[Fare revenue US$- Tram]], \"\")","v":""},{"$f":"IFERROR(Table37[[#This Row],[Operating Costs US$ - Trolley Bus]]/Table37[[#This Row],[Fare revenue US$- Trolley Buses]], \"\")","v":""},{"$f":"IFERROR((AVERAGEIF(Table37[[#This Row],[Fares for 10 km of journey (2007 US$ PPP) - Bus]:[Fares for 10 km of journey (2007 US$ PPP) - Trolley Bus]], \"<>0\")*40*12)/EO56, \"\")","v":""},{"$f":"IFERROR((AVERAGEIF(Table37[[#This Row],[Fares for 10 km of journey (2007 US$ PPP) - Regional/Commuter Rail]:[Fares for 10 km of journey (2007 US$ PPP) - BRT]], \"<>0\")*40*12)/EO56, \"\")","v":""},{"$f":"IFERROR(2*(AVERAGEIF(Table37[[#This Row],[Fares for avg. length of journey (2007 US$ PPP) - Metro]:[Fares for avg. length of journey (2007 US$ PPP) - BRT]], \"<>0\"))/(Table37[[#This Row],[Minimum Hourly Wage rate (PPP $ 2007)]]*8), \"\")","v":""},"",0,0,{"$f":"SUM(AP56:AQ56)+Table37[[#This Row],[Length of mass transit (km) - BRT]]","v":0},0,"",0,0,1.309307989525536,42,24.952471482889734,2.9556650246305417E-2,0.89079301787948839,0,0,0,81.596675937091405,0,0,{"$f":"Table37[[#This Row],[Fares for 10 km of journey (2007 US$ PPP) - Bus]]/10*Table37[[#This Row],[Average trip length by car (km)]]","v":0},{"$f":"Table37[[#This Row],[Fares for 10 km of journey (2007 US$ PPP) - Regional/Commuter Rail]]/10*Table37[[#This Row],[Average trip length by car (km)]]","v":0},{"$f":"Table37[[#This Row],[Fares for 10 km of journey (2007 US$ PPP) - Metro]]/10*Table37[[#This Row],[Average trip length by car (km)]]","v":0},{"$f":"Table37[[#This Row],[Fares for 10 km of journey (2007 US$ PPP) - LRT]]/10*Table37[[#This Row],[Average trip length by car (km)]]","v":0},{"$f":"Table37[[#This Row],[Fares for 10 km of journey (2007 US$ PPP) - Tram]]/10*Table37[[#This Row],[Average trip length by car (km)]]","v":0},{"$f":"Table37[[#This Row],[Fares for 10 km of journey (2007 US$ PPP) - BRT]]/10*Table37[[#This Row],[Average trip length by car (km)]]","v":0},{"$f":"Table37[[#This Row],[Fares for 10 km of journey (2007 US$ PPP) - Trolley Bus]]/10*Table37[[#This Row],[Average trip length by car (km)]]","v":0}]
[null,"Pune","India","SAR",3115431,2538473,5743865,null,430,430,459.44,430,{"$f":"E57/I57","v":7245.1883720930236},null,817609,{"$f":"102924+15918","v":118842},936451,1140920,19,11,19,7,5,null,39,0,6.1,20,{"$f":"228.2/365+30.35/365","v":0.70835616438356164},null,null,0,0,0,9.6750000000000003E-2,0,0.80510616438356164,9.6750000000000003E-2,null,null,null,0,0,0,29.2,0,null,0,0,0,0,40,null,null,927,null,null,0,null,0,0,144,0,62335,9,null,0,0,0,null,0,0.40162801412993554,0,0,0,0,0.45,0,null,null,0,0,0,null,0,null,null,0,0,0,null,0,null,null,0,0,0,0,null,0,0,0,0,null,null,0,0,0,null,0,null,null,0,0,0,0,10591,null,0,0,0,null,0,"8.23-8.62",0.35499999999999998,null,69.31,74.77,56.7,1.05,null,0.86,null,{"$f":"615/E57*100000","v":19.740446827421309},null,null,null,null,92,null,21.05,"Euro 4 ",null,null,{"$f":"Table37[[#This Row],[City Per Capita GDP (LC)]]*('GDP Deflator 1960-2011'!AZ53/'GDP Deflator 1960-2011'!BB53)*1/Table37[[#This Row],[PPP Exchange rate with the US$ (2016)]]","v":0},null,{"$f":"Table37[[#This Row],[City GDP (LC Billion)]]*'GDP Deflator 1960-2011'!AZ53/'GDP Deflator 1960-2011'!BC53*1/Table37[[#This Row],[PPP Exchange rate with the US$ (2016)]]","v":0},210458,{"$f":"Table37[[#This Row],[Median Annual household income (LC)]]*'GDP Deflator 1960-2011'!AZ53/'GDP Deflator 1960-2011'!BA53*1/Table37[[#This Row],[PPP Exchange rate with the US$ (2016)]]","v":11260.268265491462},{"$f":"(20.5+27.5)/2","v":24},{"$f":"IF(ISERROR(Table37[[#This Row],[Minimum Hourly Wage Rate (LC)]]*'CPI 1960-2011'!AY53/'CPI 1960-2011'!BC53*1/Table37[[#This Row],[PPP Exchange rate with the US$ (2016)]]), \"n/a\", Table37[[#This Row],[Minimum Hourly Wage Rate (LC)]]*'GDP Deflator 1960-2011'!AZ53/'GDP Deflator 1960-2011'!BD53*1/Table37[[#This Row],[PPP Exchange rate with the US$ (2016)]])","v":1.0343873190648436},17.2,null,142.34474521946458,20.690249509694258,0.16138958697671341,0.71662255022262733,"",0,0,0,11.425026968716288,{"$f":"IFERROR(Table37[[#This Row],[Operating Costs US$ - Bus]]/Table37[[#This Row],[Fare revenue US$- Bus]], \"\")","v":""},{"$f":"IFERROR(Table37[[#This Row],[Operating Costs US$ - Metro]]/Table37[[#This Row],[Fare revenue US$- Metro]], \"\")","v":""},{"$f":"IFERROR(Table37[[#This Row],[Operating Costs US$- LRT]]/Table37[[#This Row],[Fare revenue US$- LRT]], \"\")","v":""},{"$f":"IFERROR(Table37[[#This Row],[Operating Costs US$- Tram]]/Table37[[#This Row],[Fare revenue US$- Tram]], \"\")","v":""},{"$f":"IFERROR(Table37[[#This Row],[Operating Costs US$ - Trolley Bus]]/Table37[[#This Row],[Fare revenue US$- Trolley Buses]], \"\")","v":""},{"$f":"IFERROR((AVERAGEIF(Table37[[#This Row],[Fares for 10 km of journey (2007 US$ PPP) - Bus]:[Fares for 10 km of journey (2007 US$ PPP) - Trolley Bus]], \"<>0\")*40*12)/EO57, \"\")","v":""},{"$f":"IFERROR((AVERAGEIF(Table37[[#This Row],[Fares for 10 km of journey (2007 US$ PPP) - Regional/Commuter Rail]:[Fares for 10 km of journey (2007 US$ PPP) - BRT]], \"<>0\")*40*12)/EO57, \"\")","v":""},{"$f":"IFERROR(2*(AVERAGEIF(Table37[[#This Row],[Fares for avg. length of journey (2007 US$ PPP) - Metro]:[Fares for avg. length of journey (2007 US$ PPP) - BRT]], \"<>0\"))/(Table37[[#This Row],[Minimum Hourly Wage rate (PPP $ 2007)]]*8), \"\")","v":6.6343620745507259E-2},"",6.1,20,{"$f":"SUM(AP57:AQ57)+Table37[[#This Row],[Length of mass transit (km) - BRT]]","v":29.2},9.6750000000000003E-2,3313.3561643835619,1.6844058834948245E-2,6.790697674418604E-2,2.556279069767442,614.99999999999989,197.40446827421309,"",5.3903867054657635,0,0,0,16.017089538141999,0.35499999999999998,0,{"$f":"Table37[[#This Row],[Fares for 10 km of journey (2007 US$ PPP) - Bus]]/10*Table37[[#This Row],[Average trip length by car (km)]]","v":0.24499308861926067},{"$f":"Table37[[#This Row],[Fares for 10 km of journey (2007 US$ PPP) - Regional/Commuter Rail]]/10*Table37[[#This Row],[Average trip length by car (km)]]","v":0},{"$f":"Table37[[#This Row],[Fares for 10 km of journey (2007 US$ PPP) - Metro]]/10*Table37[[#This Row],[Average trip length by car (km)]]","v":0},{"$f":"Table37[[#This Row],[Fares for 10 km of journey (2007 US$ PPP) - LRT]]/10*Table37[[#This Row],[Average trip length by car (km)]]","v":0},{"$f":"Table37[[#This Row],[Fares for 10 km of journey (2007 US$ PPP) - Tram]]/10*Table37[[#This Row],[Average trip length by car (km)]]","v":0},{"$f":"Table37[[#This Row],[Fares for 10 km of journey (2007 US$ PPP) - BRT]]/10*Table37[[#This Row],[Average trip length by car (km)]]","v":0.27449999999999997},{"$f":"Table37[[#This Row],[Fares for 10 km of journey (2007 US$ PPP) - Trolley Bus]]/10*Table37[[#This Row],[Average trip length by car (km)]]","v":0}]
[null,"Surat","India","SAR",4462002,2433835,4585367,2811614,212.52,112.28,1810.075,1810.075,{"$f":"E58/I58","v":20995.680406549971},null,819415,95812,915227,982340,null,null,null,null,null,null,null,0,5.3,16,null,null,null,0,0,0,1.35E-2,0,0,0,1800,null,null,0,0,0,10,0,null,0,0,0,0,18,null,null,64,null,null,0,null,0,0,0,0,47843,null,0,0,0,0,0,0,0,0,0,0,0,0.22,0,null,null,0,0,0,0,0,null,null,0,0,0,null,0,null,null,0,0,0,0,null,0,0,0,0,null,null,0,0,0,null,0,null,null,0,0,0,0,null,null,0,0,0,0,0,null,null,null,65.88,71.75,58.35,0.998,null,0.88,null,{"$f":"252/E58*100000","v":5.6476890866476532},null,null,null,null,97,null,null,"Euro 4 ",null,null,{"$f":"Table37[[#This Row],[City Per Capita GDP (LC)]]*('GDP Deflator 1960-2011'!AZ54/'GDP Deflator 1960-2011'!BB54)*1/Table37[[#This Row],[PPP Exchange rate with the US$ (2016)]]","v":0},null,{"$f":"Table37[[#This Row],[City GDP (LC Billion)]]*'GDP Deflator 1960-2011'!AZ54/'GDP Deflator 1960-2011'!BC54*1/Table37[[#This Row],[PPP Exchange rate with the US$ (2016)]]","v":0},431201,{"$f":"Table37[[#This Row],[Median Annual household income (LC)]]*'GDP Deflator 1960-2011'!AZ54/'GDP Deflator 1960-2011'!BA54*1/Table37[[#This Row],[PPP Exchange rate with the US$ (2016)]]","v":23070.821429207652},{"$f":"(20.5+27.5)/2","v":24},{"$f":"IF(ISERROR(Table37[[#This Row],[Minimum Hourly Wage Rate (LC)]]*'CPI 1960-2011'!AY54/'CPI 1960-2011'!BC54*1/Table37[[#This Row],[PPP Exchange rate with the US$ (2016)]]), \"n/a\", Table37[[#This Row],[Minimum Hourly Wage Rate (LC)]]*'GDP Deflator 1960-2011'!AZ54/'GDP Deflator 1960-2011'!BD54*1/Table37[[#This Row],[PPP Exchange rate with the US$ (2016)]])","v":1.0343873190648436},17.2,null,178.70216277126784,20.89516498897471,1.3957443319149809E-2,0.83414601869006655,307.51249999999999,1800,392.55309335108836,8.4697910784867307,0,{"$f":"IFERROR(Table37[[#This Row],[Operating Costs US$ - Bus]]/Table37[[#This Row],[Fare revenue US$- Bus]], \"\")","v":""},{"$f":"IFERROR(Table37[[#This Row],[Operating Costs US$ - Metro]]/Table37[[#This Row],[Fare revenue US$- Metro]], \"\")","v":""},{"$f":"IFERROR(Table37[[#This Row],[Operating Costs US$- LRT]]/Table37[[#This Row],[Fare revenue US$- LRT]], \"\")","v":""},{"$f":"IFERROR(Table37[[#This Row],[Operating Costs US$- Tram]]/Table37[[#This Row],[Fare revenue US$- Tram]], \"\")","v":""},{"$f":"IFERROR(Table37[[#This Row],[Operating Costs US$ - Trolley Bus]]/Table37[[#This Row],[Fare revenue US$- Trolley Buses]], \"\")","v":""},{"$f":"IFERROR((AVERAGEIF(Table37[[#This Row],[Fares for 10 km of journey (2007 US$ PPP) - Bus]:[Fares for 10 km of journey (2007 US$ PPP) - Trolley Bus]], \"<>0\")*40*12)/EO58, \"\")","v":""},{"$f":"IFERROR((AVERAGEIF(Table37[[#This Row],[Fares for 10 km of journey (2007 US$ PPP) - Regional/Commuter Rail]:[Fares for 10 km of journey (2007 US$ PPP) - BRT]], \"<>0\")*40*12)/EO58, \"\")","v":""},{"$f":"IFERROR(2*(AVERAGEIF(Table37[[#This Row],[Fares for avg. length of journey (2007 US$ PPP) - Metro]:[Fares for avg. length of journey (2007 US$ PPP) - BRT]], \"<>0\"))/(Table37[[#This Row],[Minimum Hourly Wage rate (PPP $ 2007)]]*8), \"\")","v":2.8180933256561555E-2},"",5.3,16,{"$f":"SUM(AP58:AQ58)+Table37[[#This Row],[Length of mass transit (km) - BRT]]","v":10},1.35E-2,1350,2.9441482001331628E-3,4.7054394880481833E-2,3.1314699792960661,252.00000000000003,56.476890866476531,0.14000000000000001,2.565303255491989,0,0,0,21.154250030586429,0,0,{"$f":"Table37[[#This Row],[Fares for 10 km of journey (2007 US$ PPP) - Bus]]/10*Table37[[#This Row],[Average trip length by car (km)]]","v":0},{"$f":"Table37[[#This Row],[Fares for 10 km of journey (2007 US$ PPP) - Regional/Commuter Rail]]/10*Table37[[#This Row],[Average trip length by car (km)]]","v":0},{"$f":"Table37[[#This Row],[Fares for 10 km of journey (2007 US$ PPP) - Metro]]/10*Table37[[#This Row],[Average trip length by car (km)]]","v":0},{"$f":"Table37[[#This Row],[Fares for 10 km of journey (2007 US$ PPP) - LRT]]/10*Table37[[#This Row],[Average trip length by car (km)]]","v":0},{"$f":"Table37[[#This Row],[Fares for 10 km of journey (2007 US$ PPP) - Tram]]/10*Table37[[#This Row],[Average trip length by car (km)]]","v":0},{"$f":"Table37[[#This Row],[Fares for 10 km of journey (2007 US$ PPP) - BRT]]/10*Table37[[#This Row],[Average trip length by car (km)]]","v":0.1166},{"$f":"Table37[[#This Row],[Fares for 10 km of journey (2007 US$ PPP) - Trolley Bus]]/10*Table37[[#This Row],[Average trip length by car (km)]]","v":0}]
[null,"Varanasi","India","SAR",1201815,1091918,1435113,null,91.9,91.9,147.80000000000001,147.80000000000001,13077.421109902067,null,402694,{"$f":"29534+4294","v":33828},436522,482011,null,null,null,null,null,null,null,0,null,null,null,null,null,0,0,0,0,0,0,0,1170,null,null,0,0,0,0,0,null,0,0,0,0,0,null,null,493,null,null,0,null,0,0,0,0,{"$f":"1252+5730","v":6982},null,0,0,0,0,0,0,0,0,0,0,0,0,0,null,null,0,0,0,0,0,null,null,0,0,0,null,0,null,null,0,0,0,0,null,0,0,0,0,null,null,0,0,0,null,0,null,null,0,0,0,0,null,null,0,0,0,0,0,null,null,null,67.08,72.97,54.42,0.11600000000000001,null,0.82,null,{"$f":"273/E59*100000","v":22.715642590581744},null,null,null,null,138,null,null,"Euro 3",null,null,{"$f":"Table37[[#This Row],[City Per Capita GDP (LC)]]*('GDP Deflator 1960-2011'!AZ55/'GDP Deflator 1960-2011'!BB55)*1/Table37[[#This Row],[PPP Exchange rate with the US$ (2016)]]","v":0},null,{"$f":"Table37[[#This Row],[City GDP (LC Billion)]]*'GDP Deflator 1960-2011'!AZ55/'GDP Deflator 1960-2011'!BC55*1/Table37[[#This Row],[PPP Exchange rate with the US$ (2016)]]","v":0},null,{"$f":"Table37[[#This Row],[Median Annual household income (LC)]]*'GDP Deflator 1960-2011'!AZ55/'GDP Deflator 1960-2011'!AY55*1/Table37[[#This Row],[PPP Exchange rate with the US$ (2016)]]","v":0},{"$f":"(20.5+27.5)/2","v":24},{"$f":"IF(ISERROR(Table37[[#This Row],[Minimum Hourly Wage Rate (LC)]]*'CPI 1960-2011'!AY55/'CPI 1960-2011'!BC55*1/Table37[[#This Row],[PPP Exchange rate with the US$ (2016)]]), \"n/a\", Table37[[#This Row],[Minimum Hourly Wage Rate (LC)]]*'GDP Deflator 1960-2011'!AZ55/'GDP Deflator 1960-2011'!BD55*1/Table37[[#This Row],[PPP Exchange rate with the US$ (2016)]])","v":1.0343873190648436},17.2,null,280.60090041690097,23.571662997966015,0.34352695571707592,0.83544566410310139,208.02521367521368,1170,815.26681174235057,12.731229597388465,0,{"$f":"IFERROR(Table37[[#This Row],[Operating Costs US$ - Bus]]/Table37[[#This Row],[Fare revenue US$- Bus]], \"\")","v":""},{"$f":"IFERROR(Table37[[#This Row],[Operating Costs US$ - Metro]]/Table37[[#This Row],[Fare revenue US$- Metro]], \"\")","v":""},{"$f":"IFERROR(Table37[[#This Row],[Operating Costs US$- LRT]]/Table37[[#This Row],[Fare revenue US$- LRT]], \"\")","v":""},{"$f":"IFERROR(Table37[[#This Row],[Operating Costs US$- Tram]]/Table37[[#This Row],[Fare revenue US$- Tram]], \"\")","v":""},{"$f":"IFERROR(Table37[[#This Row],[Operating Costs US$ - Trolley Bus]]/Table37[[#This Row],[Fare revenue US$- Trolley Buses]], \"\")","v":""},{"$f":"IFERROR((AVERAGEIF(Table37[[#This Row],[Fares for 10 km of journey (2007 US$ PPP) - Bus]:[Fares for 10 km of journey (2007 US$ PPP) - Trolley Bus]], \"<>0\")*40*12)/EO59, \"\")","v":""},{"$f":"IFERROR((AVERAGEIF(Table37[[#This Row],[Fares for 10 km of journey (2007 US$ PPP) - Regional/Commuter Rail]:[Fares for 10 km of journey (2007 US$ PPP) - BRT]], \"<>0\")*40*12)/EO59, \"\")","v":""},{"$f":"IFERROR(2*(AVERAGEIF(Table37[[#This Row],[Fares for avg. length of journey (2007 US$ PPP) - Metro]:[Fares for avg. length of journey (2007 US$ PPP) - BRT]], \"<>0\"))/(Table37[[#This Row],[Minimum Hourly Wage rate (PPP $ 2007)]]*8), \"\")","v":""},"",0,0,{"$f":"SUM(AP59:AQ59)+Table37[[#This Row],[Length of mass transit (km) - BRT]]","v":0},0,"",0,0,4.2078346028291618,273,227.15642590581746,0.23333333333333334,5.6637711587494897,0,0,0,96.159675231149038,0,0,{"$f":"Table37[[#This Row],[Fares for 10 km of journey (2007 US$ PPP) - Bus]]/10*Table37[[#This Row],[Average trip length by car (km)]]","v":0},{"$f":"Table37[[#This Row],[Fares for 10 km of journey (2007 US$ PPP) - Regional/Commuter Rail]]/10*Table37[[#This Row],[Average trip length by car (km)]]","v":0},{"$f":"Table37[[#This Row],[Fares for 10 km of journey (2007 US$ PPP) - Metro]]/10*Table37[[#This Row],[Average trip length by car (km)]]","v":0},{"$f":"Table37[[#This Row],[Fares for 10 km of journey (2007 US$ PPP) - LRT]]/10*Table37[[#This Row],[Average trip length by car (km)]]","v":0},{"$f":"Table37[[#This Row],[Fares for 10 km of journey (2007 US$ PPP) - Tram]]/10*Table37[[#This Row],[Average trip length by car (km)]]","v":0},{"$f":"Table37[[#This Row],[Fares for 10 km of journey (2007 US$ PPP) - BRT]]/10*Table37[[#This Row],[Average trip length by car (km)]]","v":0},{"$f":"Table37[[#This Row],[Fares for 10 km of journey (2007 US$ PPP) - Trolley Bus]]/10*Table37[[#This Row],[Average trip length by car (km)]]","v":0}]
[null,"Jakarta","Indonesia","EAP",9607787,8389443,31689592,27018545,662.33,null,6682.8,null,{"$f":"E60/I60","v":14506.042305195295},4590000,null,null,0,12000,null,null,null,null,null,null,null,0,9.1999999999999993,34,null,null,null,null,0,0,0.37,0,0.33,0.33,null,null,30,null,0,0,206.75,0,23,null,0,0,0,240,null,null,null,570,null,null,null,0,0,670,0,8000,null,null,null,0,0,0.3,0,0,0,0,0,0,0.27,0,null,null,null,0,0,null,0,null,null,null,0,0,21.35,0,null,null,null,0,null,0,null,null,0,0,0,null,null,null,0,0,83.062819106160262,0,null,null,null,0,null,0,null,null,null,0,0,null,0,null,0.59,1.99,null,null,5150,null,null,0.39,null,null,null,22.704999999999998,null,250,43,43.8,null,"Euro 2",null,null,{"$f":"Table37[[#This Row],[City Per Capita GDP (LC)]]*('GDP Deflator 1960-2011'!AZ56/'GDP Deflator 1960-2011'!BB56)*1/Table37[[#This Row],[PPP Exchange rate with the US$ (2016)]]","v":0},null,null,null,{"$f":"Table37[[#This Row],[Median Annual household income (LC)]]*'GDP Deflator 1960-2011'!AZ56/'GDP Deflator 1960-2011'!AY56*1/Table37[[#This Row],[PPP Exchange rate with the US$ (2016)]]","v":0},{"$f":"1529150/(20*8)","v":9557.1875},{"$f":"IF(ISERROR(Table37[[#This Row],[Minimum Hourly Wage Rate (LC)]]*'CPI 1960-2011'!AY56/'CPI 1960-2011'!BC56*1/Table37[[#This Row],[PPP Exchange rate with the US$ (2016)]]), \"n/a\", Table37[[#This Row],[Minimum Hourly Wage Rate (LC)]]*'GDP Deflator 1960-2011'!AZ56/'GDP Deflator 1960-2011'!BD56*1/Table37[[#This Row],[PPP Exchange rate with the US$ (2016)]])","v":1.5376973635309532},4146,null,0,0,1.7986978185140407E-2,0,"",0,0,0,0,{"$f":"IFERROR(Table37[[#This Row],[Operating Costs US$ - Bus]]/Table37[[#This Row],[Fare revenue US$- Bus]], \"\")","v":""},{"$f":"IFERROR(Table37[[#This Row],[Operating Costs US$ - Metro]]/Table37[[#This Row],[Fare revenue US$- Metro]], \"\")","v":""},{"$f":"IFERROR(Table37[[#This Row],[Operating Costs US$- LRT]]/Table37[[#This Row],[Fare revenue US$- LRT]], \"\")","v":""},{"$f":"IFERROR(Table37[[#This Row],[Operating Costs US$- Tram]]/Table37[[#This Row],[Fare revenue US$- Tram]], \"\")","v":""},{"$f":"IFERROR(Table37[[#This Row],[Operating Costs US$ - Trolley Bus]]/Table37[[#This Row],[Fare revenue US$- Trolley Buses]], \"\")","v":""},{"$f":"IFERROR((AVERAGEIF(Table37[[#This Row],[Fares for 10 km of journey (2007 US$ PPP) - Bus]:[Fares for 10 km of journey (2007 US$ PPP) - Trolley Bus]], \"<>0\")*40*12)/EO60, \"\")","v":""},{"$f":"IFERROR((AVERAGEIF(Table37[[#This Row],[Fares for 10 km of journey (2007 US$ PPP) - Regional/Commuter Rail]:[Fares for 10 km of journey (2007 US$ PPP) - BRT]], \"<>0\")*40*12)/EO60, \"\")","v":""},{"$f":"IFERROR(2*(AVERAGEIF(Table37[[#This Row],[Fares for avg. length of journey (2007 US$ PPP) - Metro]:[Fares for avg. length of journey (2007 US$ PPP) - BRT]], \"<>0\"))/(Table37[[#This Row],[Minimum Hourly Wage rate (PPP $ 2007)]]*8), \"\")","v":4.0385059812681375E-2},"",9.1999999999999993,34,{"$f":"SUM(AP60:AQ60)+Table37[[#This Row],[Length of mass transit (km) - BRT]]","v":206.75},0.37,1789.6009673518743,1.1675757769301668E-2,0.31215557199583288,3.6235713315114819E-2,0,0,"",0,1.382157271068684,0,7.889025519798424,1.356912389405329,0.59,1.99,{"$f":"Table37[[#This Row],[Fares for 10 km of journey (2007 US$ PPP) - Bus]]/10*Table37[[#This Row],[Average trip length by car (km)]]","v":0},{"$f":"Table37[[#This Row],[Fares for 10 km of journey (2007 US$ PPP) - Regional/Commuter Rail]]/10*Table37[[#This Row],[Average trip length by car (km)]]","v":0},{"$f":"Table37[[#This Row],[Fares for 10 km of journey (2007 US$ PPP) - Metro]]/10*Table37[[#This Row],[Average trip length by car (km)]]","v":0},{"$f":"Table37[[#This Row],[Fares for 10 km of journey (2007 US$ PPP) - LRT]]/10*Table37[[#This Row],[Average trip length by car (km)]]","v":0},{"$f":"Table37[[#This Row],[Fares for 10 km of journey (2007 US$ PPP) - Tram]]/10*Table37[[#This Row],[Average trip length by car (km)]]","v":0},{"$f":"Table37[[#This Row],[Fares for 10 km of journey (2007 US$ PPP) - BRT]]/10*Table37[[#This Row],[Average trip length by car (km)]]","v":0.24840000000000001},{"$f":"Table37[[#This Row],[Fares for 10 km of journey (2007 US$ PPP) - Trolley Bus]]/10*Table37[[#This Row],[Average trip length by car (km)]]","v":0}]
[null,"Surabaya","Indonesia","EAP",2784762,null,6484026,null,552,null,2116.65,null,5044.858695652174,null,null,null,0,{"$f":"Q61+SUM(BA61:BE61)+BL61","v":0},null,null,null,null,null,null,null,0,null,null,null,null,null,0,0,0,0,0,0,0,null,null,null,0,0,0,0,0,null,0,0,0,0,0,null,null,null,null,null,0,null,0,0,0,0,null,null,0,0,0,0,0,0,0,0,0,0,0,0,0,null,null,0,0,0,0,0,null,null,0,0,0,null,0,null,null,0,0,0,0,null,0,0,0,0,null,null,0,0,0,null,0,null,null,0,0,0,0,null,null,0,0,0,0,0,null,0.85,null,null,null,5650,null,null,0.435,null,null,null,null,null,120,69,null,null,"Euro 2",null,{"$f":"4034.8*9527.25","v":38440548.300000004},{"$f":"Table37[[#This Row],[City Per Capita GDP (LC)]]*('GDP Deflator 1960-2011'!AZ57/'GDP Deflator 1960-2011'!BB57)*1/Table37[[#This Row],[PPP Exchange rate with the US$ (2016)]]","v":7247.7010217733023},{"$f":"(EN61*E61/10^9)","v":107047.77816500461},{"$f":"Table37[[#This Row],[City GDP (LC Billion)]]*'GDP Deflator 1960-2011'!AZ57/'GDP Deflator 1960-2011'!BB57*1/Table37[[#This Row],[PPP Exchange rate with the US$ (2016)]]","v":20.183122392795465},null,{"$f":"Table37[[#This Row],[Median Annual household income (LC)]]*'GDP Deflator 1960-2011'!AZ57/'GDP Deflator 1960-2011'!AY57*1/Table37[[#This Row],[PPP Exchange rate with the US$ (2016)]]","v":0},"East Java Provinces doesn't set a Minimum Wage ",{"$f":"IF(ISERROR(Table37[[#This Row],[Minimum Hourly Wage Rate (LC)]]*'CPI 1960-2011'!AY57/'CPI 1960-2011'!BC57*1/Table37[[#This Row],[PPP Exchange rate with the US$ (2016)]]), \"n/a\", Table37[[#This Row],[Minimum Hourly Wage Rate (LC)]]*'GDP Deflator 1960-2011'!AZ57/'GDP Deflator 1960-2011'!BD57*1/Table37[[#This Row],[PPP Exchange rate with the US$ (2016)]])","v":"n/a"},4146,null,0,0,0,"","",0,0,0,"",{"$f":"IFERROR(Table37[[#This Row],[Operating Costs US$ - Bus]]/Table37[[#This Row],[Fare revenue US$- Bus]], \"\")","v":""},{"$f":"IFERROR(Table37[[#This Row],[Operating Costs US$ - Metro]]/Table37[[#This Row],[Fare revenue US$- Metro]], \"\")","v":""},{"$f":"IFERROR(Table37[[#This Row],[Operating Costs US$- LRT]]/Table37[[#This Row],[Fare revenue US$- LRT]], \"\")","v":""},{"$f":"IFERROR(Table37[[#This Row],[Operating Costs US$- Tram]]/Table37[[#This Row],[Fare revenue US$- Tram]], \"\")","v":""},{"$f":"IFERROR(Table37[[#This Row],[Operating Costs US$ - Trolley Bus]]/Table37[[#This Row],[Fare revenue US$- Trolley Buses]], \"\")","v":""},{"$f":"IFERROR((AVERAGEIF(Table37[[#This Row],[Fares for 10 km of journey (2007 US$ PPP) - Bus]:[Fares for 10 km of journey (2007 US$ PPP) - Trolley Bus]], \"<>0\")*40*12)/EO61, \"\")","v":""},{"$f":"IFERROR((AVERAGEIF(Table37[[#This Row],[Fares for 10 km of journey (2007 US$ PPP) - Regional/Commuter Rail]:[Fares for 10 km of journey (2007 US$ PPP) - BRT]], \"<>0\")*40*12)/EO61, \"\")","v":""},{"$f":"IFERROR(2*(AVERAGEIF(Table37[[#This Row],[Fares for avg. length of journey (2007 US$ PPP) - Metro]:[Fares for avg. length of journey (2007 US$ PPP) - BRT]], \"<>0\"))/(Table37[[#This Row],[Minimum Hourly Wage rate (PPP $ 2007)]]*8), \"\")","v":""},0,0,0,{"$f":"SUM(AP61:AQ61)+Table37[[#This Row],[Length of mass transit (km) - BRT]]","v":0},0,"",0,0,0.17499999999999999,0,0,"","",0,0,18.507020175428043,10.641536600871126,0.85,0,{"$f":"Table37[[#This Row],[Fares for 10 km of journey (2007 US$ PPP) - Bus]]/10*Table37[[#This Row],[Average trip length by car (km)]]","v":0},{"$f":"Table37[[#This Row],[Fares for 10 km of journey (2007 US$ PPP) - Regional/Commuter Rail]]/10*Table37[[#This Row],[Average trip length by car (km)]]","v":0},{"$f":"Table37[[#This Row],[Fares for 10 km of journey (2007 US$ PPP) - Metro]]/10*Table37[[#This Row],[Average trip length by car (km)]]","v":0},{"$f":"Table37[[#This Row],[Fares for 10 km of journey (2007 US$ PPP) - LRT]]/10*Table37[[#This Row],[Average trip length by car (km)]]","v":0},{"$f":"Table37[[#This Row],[Fares for 10 km of journey (2007 US$ PPP) - Tram]]/10*Table37[[#This Row],[Average trip length by car (km)]]","v":0},{"$f":"Table37[[#This Row],[Fares for 10 km of journey (2007 US$ PPP) - BRT]]/10*Table37[[#This Row],[Average trip length by car (km)]]","v":0},{"$f":"Table37[[#This Row],[Fares for 10 km of journey (2007 US$ PPP) - Trolley Bus]]/10*Table37[[#This Row],[Average trip length by car (km)]]","v":0}]
[null,"Dublin","Ireland","OECD",553165,473867,1325700,1160600,114.99,null,921,921,4810.5487433689887,269400,13213,217805,231018,232087,41.3,1,8.1999999999999993,22.7,0,24,2.8,0,10.3,27.2,0.3991780821917808,null,null,0,0,7.7808219178082186E-2,3.4000000000000002E-2,0,0.51098630136986301,0.11180821917808219,null,3148.3,null,0,0,23,8.4,0,null,0,0,null,0,17,20,984,14,null,51,0,298,0,40,68,0,null,1.7,2.1,0,0,1.75,3.96,0,1.6833266693971005,2.0794035327846538,0,0,1.7328362773205448,0,0,280.79000000000002,null,0,0,null,null,0,182.15299999999999,null,0,0,null,"28,26",0,null,null,0,0,0,0,285.20624588273984,0,0,null,0,185.01788990447915,null,0,0,null,28.26,0,null,null,0,0,0,0,3562,305,0,0,null,null,0,5.6,null,null,1.27,null,1.27,1.4219999999999999,1.0998896992115261,1.41,null,null,4,9,20,20,16,2.94,null,"Euro 6b",null,55100,{"$f":"Table37[[#This Row],[City Per Capita GDP (LC)]]*('GDP Deflator 1960-2011'!AZ58/'GDP Deflator 1960-2011'!BB58)*1/Table37[[#This Row],[PPP Exchange rate with the US$ (2016)]]","v":73507.33223154732},76.75,{"$f":"Table37[[#This Row],[City GDP (LC Billion)]]*'GDP Deflator 1960-2011'!AZ58/'GDP Deflator 1960-2011'!BB58*1/Table37[[#This Row],[PPP Exchange rate with the US$ (2016)]]","v":102.38997729167434},null,{"$f":"Table37[[#This Row],[Median Annual household income (LC)]]*'GDP Deflator 1960-2011'!AZ58/'GDP Deflator 1960-2011'!AY58*1/Table37[[#This Row],[PPP Exchange rate with the US$ (2016)]]","v":0},8.65,{"$f":"IF(ISERROR(Table37[[#This Row],[Minimum Hourly Wage Rate (LC)]]*'CPI 1960-2011'!AY58/'CPI 1960-2011'!BC58*1/Table37[[#This Row],[PPP Exchange rate with the US$ (2016)]]), \"n/a\", Table37[[#This Row],[Minimum Hourly Wage Rate (LC)]]*'GDP Deflator 1960-2011'!AZ58/'GDP Deflator 1960-2011'!BD58*1/Table37[[#This Row],[PPP Exchange rate with the US$ (2016)]])","v":11.71304672624052},0.8,null,9.9668099871765854,164.29433506826581,0.80636644791430945,5.6931236993024166E-2,"",0,0,0,3.3320860617399437,{"$f":"IFERROR(Table37[[#This Row],[Operating Costs US$ - Bus]]/Table37[[#This Row],[Fare revenue US$- Bus]], \"\")","v":1.5415063161188673},{"$f":"IFERROR(Table37[[#This Row],[Operating Costs US$ - Metro]]/Table37[[#This Row],[Fare revenue US$- Metro]], \"\")","v":""},{"$f":"IFERROR(Table37[[#This Row],[Operating Costs US$- LRT]]/Table37[[#This Row],[Fare revenue US$- LRT]], \"\")","v":""},{"$f":"IFERROR(Table37[[#This Row],[Operating Costs US$- Tram]]/Table37[[#This Row],[Fare revenue US$- Tram]], \"\")","v":""},{"$f":"IFERROR(Table37[[#This Row],[Operating Costs US$ - Trolley Bus]]/Table37[[#This Row],[Fare revenue US$- Trolley Buses]], \"\")","v":""},{"$f":"IFERROR((AVERAGEIF(Table37[[#This Row],[Fares for 10 km of journey (2007 US$ PPP) - Bus]:[Fares for 10 km of journey (2007 US$ PPP) - Trolley Bus]], \"<>0\")*40*12)/EO62, \"\")","v":1.1961944611873707E-2},{"$f":"IFERROR((AVERAGEIF(Table37[[#This Row],[Fares for 10 km of journey (2007 US$ PPP) - Regional/Commuter Rail]:[Fares for 10 km of journey (2007 US$ PPP) - BRT]], \"<>0\")*40*12)/EO62, \"\")","v":1.2446888312355072E-2},{"$f":"IFERROR(2*(AVERAGEIF(Table37[[#This Row],[Fares for avg. length of journey (2007 US$ PPP) - Metro]:[Fares for avg. length of journey (2007 US$ PPP) - BRT]], \"<>0\"))/(Table37[[#This Row],[Minimum Hourly Wage rate (PPP $ 2007)]]*8), \"\")","v":3.809472905204201E-2},2.3214010741470767E-2,10.3,27.2,{"$f":"SUM(AP62:AQ62)+Table37[[#This Row],[Length of mass transit (km) - BRT]]","v":8.4},0.11180821917808219,3560.7713114038916,8.4339005188264454E-2,7.3049830420036529E-2,0.34568223323767283,0,0,"",0,2.2176963113826655,15.086369465188202,15.086369465188202,12.069095572150562,0,0,{"$f":"Table37[[#This Row],[Fares for 10 km of journey (2007 US$ PPP) - Bus]]/10*Table37[[#This Row],[Average trip length by car (km)]]","v":1.7338264694790138},{"$f":"Table37[[#This Row],[Fares for 10 km of journey (2007 US$ PPP) - Regional/Commuter Rail]]/10*Table37[[#This Row],[Average trip length by car (km)]]","v":2.1417856387681935},{"$f":"Table37[[#This Row],[Fares for 10 km of journey (2007 US$ PPP) - Metro]]/10*Table37[[#This Row],[Average trip length by car (km)]]","v":0},{"$f":"Table37[[#This Row],[Fares for 10 km of journey (2007 US$ PPP) - LRT]]/10*Table37[[#This Row],[Average trip length by car (km)]]","v":0},{"$f":"Table37[[#This Row],[Fares for 10 km of journey (2007 US$ PPP) - Tram]]/10*Table37[[#This Row],[Average trip length by car (km)]]","v":1.7848213656401613},{"$f":"Table37[[#This Row],[Fares for 10 km of journey (2007 US$ PPP) - BRT]]/10*Table37[[#This Row],[Average trip length by car (km)]]","v":0},{"$f":"Table37[[#This Row],[Fares for 10 km of journey (2007 US$ PPP) - Trolley Bus]]/10*Table37[[#This Row],[Average trip length by car (km)]]","v":0}]
[null,"Bologna","Italy","OECD",371373,371265,763811,723636,140.69999999999999,140.69999999999999,2046.6,null,2639.4669509594887,178314,50753,198542,249295,249628,62.5,7.27,4.07,7.98,null,null,11.9,6.2799999999999869,10.8,21.03,{"$f":"104/365","v":0.28493150684931506},null,null,0,0,0,0,null,0.28493150684931506,0,null,565,null,0,0,0,0,18.600000000000001,17,0,0,0,null,0,null,null,333,null,null,0,null,0,0,0,{"$f":"55+48","v":103},null,1.5,1.7,0,0,0,0,null,{"$f":"1.18*Table37[[#This Row],[Fares for 10 km of journey (Local currency) - Bus]]","v":1.77},{"$f":"1.18*Table37[[#This Row],[Fares for 10 km of journey (Local currency) - Regional/Commuter rail]]","v":2.0059999999999998},1.5978800885050013,0,0,0,0,null,null,0,0,0,0,null,null,null,0,0,0,null,null,null,null,0,0,0,0,null,0,0,0,null,null,null,0,0,0,null,null,null,null,0,0,0,0,null,null,0,0,0,0,null,8.5,1.06,2.0099999999999998,1.764,null,1.6259999999999999,1.9750000000000001,null,1.81,871,5,9,13.593,null,32.1,25,2.27,null,"Euro 6b",21582,33600,{"$f":"Table37[[#This Row],[City Per Capita GDP (LC)]]*('GDP Deflator 1960-2011'!AZ59/'GDP Deflator 1960-2011'!BB59)*1/Table37[[#This Row],[PPP Exchange rate with the US$ (2016)]]","v":45856.211619607428},33.26,{"$f":"Table37[[#This Row],[City GDP (LC Billion)]]*'GDP Deflator 1960-2011'!AZ59/'GDP Deflator 1960-2011'!BB59*1/Table37[[#This Row],[PPP Exchange rate with the US$ (2016)]]","v":45.392190430599491},null,{"$f":"Table37[[#This Row],[Median Annual household income (LC)]]*'GDP Deflator 1960-2011'!AZ59/'GDP Deflator 1960-2011'!AY59*1/Table37[[#This Row],[PPP Exchange rate with the US$ (2016)]]","v":0},"No minimum wage",{"$f":"IF(ISERROR(Table37[[#This Row],[Minimum Hourly Wage Rate (LC)]]*'CPI 1960-2011'!AY59/'CPI 1960-2011'!BC59*1/Table37[[#This Row],[PPP Exchange rate with the US$ (2016)]]), \"n/a\", Table37[[#This Row],[Minimum Hourly Wage Rate (LC)]]*'GDP Deflator 1960-2011'!AZ59/'GDP Deflator 1960-2011'!BD59*1/Table37[[#This Row],[PPP Exchange rate with the US$ (2016)]])","v":"n/a"},0.7,null,66.447066093575501,259.9360312957001,0.43597172598980638,0.20331453202365118,"",0,0,0,0,{"$f":"IFERROR(Table37[[#This Row],[Operating Costs US$ - Bus]]/Table37[[#This Row],[Fare revenue US$- Bus]], \"\")","v":""},{"$f":"IFERROR(Table37[[#This Row],[Operating Costs US$ - Metro]]/Table37[[#This Row],[Fare revenue US$- Metro]], \"\")","v":""},{"$f":"IFERROR(Table37[[#This Row],[Operating Costs US$- LRT]]/Table37[[#This Row],[Fare revenue US$- LRT]], \"\")","v":""},{"$f":"IFERROR(Table37[[#This Row],[Operating Costs US$- Tram]]/Table37[[#This Row],[Fare revenue US$- Tram]], \"\")","v":""},{"$f":"IFERROR(Table37[[#This Row],[Operating Costs US$ - Trolley Bus]]/Table37[[#This Row],[Fare revenue US$- Trolley Buses]], \"\")","v":""},{"$f":"IFERROR((AVERAGEIF(Table37[[#This Row],[Fares for 10 km of journey (2007 US$ PPP) - Bus]:[Fares for 10 km of journey (2007 US$ PPP) - Trolley Bus]], \"<>0\")*40*12)/EO63, \"\")","v":1.8750367372108726E-2},{"$f":"IFERROR((AVERAGEIF(Table37[[#This Row],[Fares for 10 km of journey (2007 US$ PPP) - Regional/Commuter Rail]:[Fares for 10 km of journey (2007 US$ PPP) - BRT]], \"<>0\")*40*12)/EO63, \"\")","v":1.8861811534195045E-2},{"$f":"IFERROR(2*(AVERAGEIF(Table37[[#This Row],[Fares for avg. length of journey (2007 US$ PPP) - Metro]:[Fares for avg. length of journey (2007 US$ PPP) - BRT]], \"<>0\"))/(Table37[[#This Row],[Minimum Hourly Wage rate (PPP $ 2007)]]*8), \"\")","v":""},5.1683292541912111E-2,10.8,21.03,{"$f":"SUM(AP63:AQ63)+Table37[[#This Row],[Length of mass transit (km) - BRT]]","v":0},0,"",0,0,1.2814498933901921,18.568650000000002,50,"",0.74385285304533144,2.9719393933839653,0,42.026103316134488,32.730610059294776,1.06,2.0099999999999998,{"$f":"Table37[[#This Row],[Fares for 10 km of journey (2007 US$ PPP) - Bus]]/10*Table37[[#This Row],[Average trip length by car (km)]]","v":1.9116},{"$f":"Table37[[#This Row],[Fares for 10 km of journey (2007 US$ PPP) - Regional/Commuter Rail]]/10*Table37[[#This Row],[Average trip length by car (km)]]","v":2.16648},{"$f":"Table37[[#This Row],[Fares for 10 km of journey (2007 US$ PPP) - Metro]]/10*Table37[[#This Row],[Average trip length by car (km)]]","v":1.7257104955854015},{"$f":"Table37[[#This Row],[Fares for 10 km of journey (2007 US$ PPP) - LRT]]/10*Table37[[#This Row],[Average trip length by car (km)]]","v":0},{"$f":"Table37[[#This Row],[Fares for 10 km of journey (2007 US$ PPP) - Tram]]/10*Table37[[#This Row],[Average trip length by car (km)]]","v":0},{"$f":"Table37[[#This Row],[Fares for 10 km of journey (2007 US$ PPP) - BRT]]/10*Table37[[#This Row],[Average trip length by car (km)]]","v":0},{"$f":"Table37[[#This Row],[Fares for 10 km of journey (2007 US$ PPP) - Trolley Bus]]/10*Table37[[#This Row],[Average trip length by car (km)]]","v":0},"2000 staff at ATC spa that operates bus, trolleybus and suburban rails."]
[null,"Milan","Italy","OECD",3100880,3010176,4159854,3948480,182.1,182,2771.77,null,17028.445908841295,591767,140699,724450,865149,866654,25,2.5,10,10,null,2.5,22.5,27.5,15.84,33,{"$f":"251.4/365+43.4/365","v":0.80767123287671228},null,{"$f":"51/365","v":0.13972602739726028},{"$f":"(307.1+31.9)/365","v":0.92876712328767119},0,{"$f":"172.3/365+4.3/365","v":0.48383561643835621},0,{"$f":"44.5/365","v":0.12191780821917808},2.3421917808219179,1.5345205479452055,2033,927.2,null,79.3,0,179.5,0,40.799999999999997,null,94,0,{"$f":"600+55","v":655},null,0,null,null,1505,null,null,855,147,0,449,0,143,null,1.7,1.9,1.5,0,1.5,0,1.5,{"$f":"1.18*Table37[[#This Row],[Fares for 10 km of journey (Local currency) - Bus]]","v":2.0059999999999998},{"$f":"1.18*Table37[[#This Row],[Fares for 10 km of journey (Local currency) - Regional/Commuter rail]]","v":2.242},1.5978800885050013,0,1.0226187257817414,0,1.5339280886726119,null,null,881.4,0,null,0,null,null,null,377.9,0,null,null,null,null,null,{"$f":"887.9-CJ64-CS64","v":149.39999999999998},0,360.6,0,324.2509769889827,372.86662550632684,0,194.24261375934319,48.945618982393945,139.02251441358811,null,159.86645992607322,0,83.281465554408641,null,20.985420255782469,54.961533880365351,null,63.202035228778335,0,152.54788422689072,0,null,2096,null,0,null,0,null,7.12,0.59,2.5499999999999998,1.29,null,1.4490000000000001,1.44,1.4527503490495826,1.61,1405,6,1,11.747999999999999,31,49.5,37,5.976,44.277000000000001,"Euro 6b",21582,35700,{"$f":"Table37[[#This Row],[City Per Capita GDP (LC)]]*('GDP Deflator 1960-2011'!AZ60/'GDP Deflator 1960-2011'!BB60)*1/Table37[[#This Row],[PPP Exchange rate with the US$ (2016)]]","v":48722.22484583289},149.25,{"$f":"Table37[[#This Row],[City GDP (LC Billion)]]*'GDP Deflator 1960-2011'!AZ60/'GDP Deflator 1960-2011'!BB60*1/Table37[[#This Row],[PPP Exchange rate with the US$ (2016)]]","v":203.69165429245265},null,{"$f":"Table37[[#This Row],[Median Annual household income (LC)]]*'GDP Deflator 1960-2011'!AZ60/'GDP Deflator 1960-2011'!AY60*1/Table37[[#This Row],[PPP Exchange rate with the US$ (2016)]]","v":0},"No minimum wage",{"$f":"IF(ISERROR(Table37[[#This Row],[Minimum Hourly Wage Rate (LC)]]*'CPI 1960-2011'!AY60/'CPI 1960-2011'!BC60*1/Table37[[#This Row],[PPP Exchange rate with the US$ (2016)]]), \"n/a\", Table37[[#This Row],[Minimum Hourly Wage Rate (LC)]]*'GDP Deflator 1960-2011'!AZ60/'GDP Deflator 1960-2011'!BD60*1/Table37[[#This Row],[PPP Exchange rate with the US$ (2016)]])","v":"n/a"},0.7,null,33.823062059389585,174.15274670697579,0.36179154364552218,0.16234737276929431,392.79980324643384,2033,488.7190752367751,11.164195496979682,0,{"$f":"IFERROR(Table37[[#This Row],[Operating Costs US$ - Bus]]/Table37[[#This Row],[Fare revenue US$- Bus]], \"\")","v":2.3323630590103201},{"$f":"IFERROR(Table37[[#This Row],[Operating Costs US$ - Metro]]/Table37[[#This Row],[Fare revenue US$- Metro]], \"\")","v":2.3323630590103197},{"$f":"IFERROR(Table37[[#This Row],[Operating Costs US$- LRT]]/Table37[[#This Row],[Fare revenue US$- LRT]], \"\")","v":""},{"$f":"IFERROR(Table37[[#This Row],[Operating Costs US$- Tram]]/Table37[[#This Row],[Fare revenue US$- Tram]], \"\")","v":2.3323630590103206},{"$f":"IFERROR(Table37[[#This Row],[Operating Costs US$ - Trolley Bus]]/Table37[[#This Row],[Fare revenue US$- Trolley Buses]], \"\")","v":2.3323630590103206},{"$f":"IFERROR((AVERAGEIF(Table37[[#This Row],[Fares for 10 km of journey (2007 US$ PPP) - Bus]:[Fares for 10 km of journey (2007 US$ PPP) - Trolley Bus]], \"<>0\")*40*12)/EO64, \"\")","v":1.6555750178413445E-2},{"$f":"IFERROR((AVERAGEIF(Table37[[#This Row],[Fares for 10 km of journey (2007 US$ PPP) - Regional/Commuter Rail]:[Fares for 10 km of journey (2007 US$ PPP) - BRT]], \"<>0\")*40*12)/EO64, \"\")","v":1.5968068222410405E-2},{"$f":"IFERROR(2*(AVERAGEIF(Table37[[#This Row],[Fares for avg. length of journey (2007 US$ PPP) - Metro]:[Fares for avg. length of journey (2007 US$ PPP) - BRT]], \"<>0\"))/(Table37[[#This Row],[Minimum Hourly Wage rate (PPP $ 2007)]]*8), \"\")","v":""},3.5466360689967391E-2,15.84,33,{"$f":"SUM(AP64:AQ64)+Table37[[#This Row],[Length of mass transit (km) - BRT]]","v":79.3},1.4126027397260275,5458.2795198069061,0.33957988422815499,0.43547501372872049,1.0411861614497531,186.05279999999999,60,9.1516379734382675E-2,2.1467944531496999,{"$f":"IFERROR(EK64/G64*10^6, EK64/E64*10^6)","v":10.643883174746037},7.4521846199409882,11.899456086679965,8.894542933477954,0.59,2.5499999999999998,{"$f":"Table37[[#This Row],[Fares for 10 km of journey (2007 US$ PPP) - Bus]]/10*Table37[[#This Row],[Average trip length by car (km)]]","v":3.1775039999999994},{"$f":"Table37[[#This Row],[Fares for 10 km of journey (2007 US$ PPP) - Regional/Commuter Rail]]/10*Table37[[#This Row],[Average trip length by car (km)]]","v":3.5513280000000003},{"$f":"Table37[[#This Row],[Fares for 10 km of journey (2007 US$ PPP) - Metro]]/10*Table37[[#This Row],[Average trip length by car (km)]]","v":2.5310420601919219},{"$f":"Table37[[#This Row],[Fares for 10 km of journey (2007 US$ PPP) - LRT]]/10*Table37[[#This Row],[Average trip length by car (km)]]","v":0},{"$f":"Table37[[#This Row],[Fares for 10 km of journey (2007 US$ PPP) - Tram]]/10*Table37[[#This Row],[Average trip length by car (km)]]","v":1.6198280616382783},{"$f":"Table37[[#This Row],[Fares for 10 km of journey (2007 US$ PPP) - BRT]]/10*Table37[[#This Row],[Average trip length by car (km)]]","v":0},{"$f":"Table37[[#This Row],[Fares for 10 km of journey (2007 US$ PPP) - Trolley Bus]]/10*Table37[[#This Row],[Average trip length by car (km)]]","v":2.4297420924574173},"9,379 staff for ATM that operates bus, trolleybus, tram and metro. Territory served by ATM is 703 sq. km. with population 2574258"]
[null,"Rome","Italy","OECD",2638663,3847454,4149364,3847454,1307.7,1285,3666.7,null,2017.7892482985394,1200141,391057,1937783,2328840,2330932,30.23,18.600000000000001,4.6500000000000004,4.5,0,18.600000000000001,11.63,11.790000000000006,25.1,41,{"$f":"900/365","v":2.4657534246575343},null,0.13900000000000001,{"$f":"331.598/365","v":0.90848767123287677},0,{"$f":"81/365","v":0.22191780821917809},0,null,3.5961589041095894,1.1304054794520548,6100,2726,139.27000000000001,52.97,0,51.3,0,null,72,67,null,null,null,0,null,null,2092,null,null,377,{"$f":"74+34+162","v":270},0,165,0,30,null,1.6,1.7,1.5,null,1.5,0,null,{"$f":"1.18*Table37[[#This Row],[Fares for 10 km of journey (Local currency) - Bus]]","v":1.8879999999999999},{"$f":"1.18*Table37[[#This Row],[Fares for 10 km of journey (Local currency) - Regional/Commuter rail]]","v":2.0059999999999998},1.5978800885050013,0,0.53261391967799032,0,0,null,null,null,0,null,0,null,null,null,null,0,null,null,null,null,null,null,0,null,0,null,null,0,null,null,null,null,null,0,null,null,null,null,null,null,0,null,0,null,1310,"2700+",0,null,0,null,5.8,0.43,2.65,1.724,null,1.5609999999999999,1.93,1.7010000000000001,1.74,885,7,10,11.529,null,43.8,28,10.1,null,"Euro 6b",21582,31000,{"$f":"Table37[[#This Row],[City Per Capita GDP (LC)]]*('GDP Deflator 1960-2011'!AZ61/'GDP Deflator 1960-2011'!BB61)*1/Table37[[#This Row],[PPP Exchange rate with the US$ (2016)]]","v":42307.814291899704},133.989,{"$f":"Table37[[#This Row],[City GDP (LC Billion)]]*'GDP Deflator 1960-2011'!AZ61/'GDP Deflator 1960-2011'!BB61*1/Table37[[#This Row],[PPP Exchange rate with the US$ (2016)]]","v":182.86392674701128},null,{"$f":"Table37[[#This Row],[Median Annual household income (LC)]]*'GDP Deflator 1960-2011'!AZ61/'GDP Deflator 1960-2011'!AY61*1/Table37[[#This Row],[PPP Exchange rate with the US$ (2016)]]","v":0},"No minimum wage",{"$f":"IF(ISERROR(Table37[[#This Row],[Minimum Hourly Wage Rate (LC)]]*'CPI 1960-2011'!AY61/'CPI 1960-2011'!BC61*1/Table37[[#This Row],[PPP Exchange rate with the US$ (2016)]]), \"n/a\", Table37[[#This Row],[Minimum Hourly Wage Rate (LC)]]*'GDP Deflator 1960-2011'!AZ61/'GDP Deflator 1960-2011'!BD61*1/Table37[[#This Row],[PPP Exchange rate with the US$ (2016)]])","v":"n/a"},0.7,null,94.245045746769861,467.007232915695,0.50417365167288286,0.16776851491163192,350.58057377049181,6100,1470.1048160633773,4.6646784430679817,0,{"$f":"IFERROR(Table37[[#This Row],[Operating Costs US$ - Bus]]/Table37[[#This Row],[Fare revenue US$- Bus]], \"\")","v":""},{"$f":"IFERROR(Table37[[#This Row],[Operating Costs US$ - Metro]]/Table37[[#This Row],[Fare revenue US$- Metro]], \"\")","v":""},{"$f":"IFERROR(Table37[[#This Row],[Operating Costs US$- LRT]]/Table37[[#This Row],[Fare revenue US$- LRT]], \"\")","v":""},{"$f":"IFERROR(Table37[[#This Row],[Operating Costs US$- Tram]]/Table37[[#This Row],[Fare revenue US$- Tram]], \"\")","v":""},{"$f":"IFERROR(Table37[[#This Row],[Operating Costs US$ - Trolley Bus]]/Table37[[#This Row],[Fare revenue US$- Trolley Buses]], \"\")","v":""},{"$f":"IFERROR((AVERAGEIF(Table37[[#This Row],[Fares for 10 km of journey (2007 US$ PPP) - Bus]:[Fares for 10 km of journey (2007 US$ PPP) - Trolley Bus]], \"<>0\")*40*12)/EO65, \"\")","v":1.7087606464235936E-2},{"$f":"IFERROR((AVERAGEIF(Table37[[#This Row],[Fares for 10 km of journey (2007 US$ PPP) - Regional/Commuter Rail]:[Fares for 10 km of journey (2007 US$ PPP) - BRT]], \"<>0\")*40*12)/EO65, \"\")","v":1.5643423145023941E-2},{"$f":"IFERROR(2*(AVERAGEIF(Table37[[#This Row],[Fares for avg. length of journey (2007 US$ PPP) - Metro]:[Fares for avg. length of journey (2007 US$ PPP) - BRT]], \"<>0\"))/(Table37[[#This Row],[Minimum Hourly Wage rate (PPP $ 2007)]]*8), \"\")","v":""},5.4741660347209752E-2,25.1,41,{"$f":"SUM(AP65:AQ65)+Table37[[#This Row],[Length of mass transit (km) - BRT]]","v":52.97},1.1304054794520548,10841.138193651623,0.27242861302408145,4.0506232316280491E-2,1.1103464097270015,184.70641000000001,70,3.0279739344262296E-2,0.79241440762750692,{"$f":"IFERROR(EJ65/G65*10^6, EJ65/E65*10^6)","v":2.4341079741377234},0,10.555834580914087,6.7480221065204216,0.43,2.65,{"$f":"Table37[[#This Row],[Fares for 10 km of journey (2007 US$ PPP) - Bus]]/10*Table37[[#This Row],[Average trip length by car (km)]]","v":4.73888},{"$f":"Table37[[#This Row],[Fares for 10 km of journey (2007 US$ PPP) - Regional/Commuter Rail]]/10*Table37[[#This Row],[Average trip length by car (km)]]","v":5.0350599999999996},{"$f":"Table37[[#This Row],[Fares for 10 km of journey (2007 US$ PPP) - Metro]]/10*Table37[[#This Row],[Average trip length by car (km)]]","v":4.0106790221475537},{"$f":"Table37[[#This Row],[Fares for 10 km of journey (2007 US$ PPP) - LRT]]/10*Table37[[#This Row],[Average trip length by car (km)]]","v":0},{"$f":"Table37[[#This Row],[Fares for 10 km of journey (2007 US$ PPP) - Tram]]/10*Table37[[#This Row],[Average trip length by car (km)]]","v":1.3368609383917558},{"$f":"Table37[[#This Row],[Fares for 10 km of journey (2007 US$ PPP) - BRT]]/10*Table37[[#This Row],[Average trip length by car (km)]]","v":0},{"$f":"Table37[[#This Row],[Fares for 10 km of journey (2007 US$ PPP) - Trolley Bus]]/10*Table37[[#This Row],[Average trip length by car (km)]]","v":0},"To translate: http://www.atac.roma.it/ for financials"]
[null,"Turin","Italy","OECD",907563,900589,1555.6,1716.2,130.16999999999999,130.19999999999999,886837,682700,6909.8486594453416,390198,65231,570968,636199,637399,56.25,1.64,6.25,6.25,0,18.75,6.25,4.6099999999999994,15.44,20,{"$f":"13/365","v":3.5616438356164383E-2},null,{"$f":"12.7/365","v":3.4794520547945205E-2},0.09,null,null,0,0,0.12561643835616437,0.09,880,1200,1765,13.2,19.2,104.8,0,0,82,21,null,null,0,0,null,null,1200,null,null,{"$f":"29*4","v":116},107,null,246,0,0,null,1.5,1.7,1.5,0,1.5,0,0,{"$f":"1.18*Table37[[#This Row],[Fares for 10 km of journey (Local currency) - Bus]]","v":1.77},{"$f":"1.18*Table37[[#This Row],[Fares for 10 km of journey (Local currency) - Regional/Commuter rail]]","v":2.0059999999999998},1.5978800885050013,0,1.5339280886726119,0,0,null,null,null,null,null,0,0,null,null,null,null,null,null,0,null,null,null,null,null,null,null,null,null,null,0,null,null,null,null,null,null,0,null,null,null,null,null,null,5500,null,null,null,null,0,0,10.4,null,null,1.81,null,1.64,2.0299999999999998,null,1.83,668,4,8,13.439,null,60.5,39,3.496,5.0599999999999996,"Euro 6b",21582,28900,{"$f":"Table37[[#This Row],[City Per Capita GDP (LC)]]*('GDP Deflator 1960-2011'!AZ62/'GDP Deflator 1960-2011'!BB62)*1/Table37[[#This Row],[PPP Exchange rate with the US$ (2016)]]","v":39441.801065674241},65.165999999999997,{"$f":"Table37[[#This Row],[City GDP (LC Billion)]]*'GDP Deflator 1960-2011'!AZ62/'GDP Deflator 1960-2011'!BB62*1/Table37[[#This Row],[PPP Exchange rate with the US$ (2016)]]","v":88.936484714385045},null,{"$f":"Table37[[#This Row],[Median Annual household income (LC)]]*'GDP Deflator 1960-2011'!AZ62/'GDP Deflator 1960-2011'!AY62*1/Table37[[#This Row],[PPP Exchange rate with the US$ (2016)]]","v":0},"No minimum wage",{"$f":"IF(ISERROR(Table37[[#This Row],[Minimum Hourly Wage Rate (LC)]]*'CPI 1960-2011'!AY62/'CPI 1960-2011'!BC62*1/Table37[[#This Row],[PPP Exchange rate with the US$ (2016)]]), \"n/a\", Table37[[#This Row],[Minimum Hourly Wage Rate (LC)]]*'GDP Deflator 1960-2011'!AZ62/'GDP Deflator 1960-2011'!BD62*1/Table37[[#This Row],[PPP Exchange rate with the US$ (2016)]])","v":"n/a"},0.7,null,41933.01619953716,367040.37027513498,771.40653124196456,0.10233935101874964,689.2994318181818,880,565698.12291077408,6.7603902588922189,4.583333333333333,{"$f":"IFERROR(Table37[[#This Row],[Operating Costs US$ - Bus]]/Table37[[#This Row],[Fare revenue US$- Bus]], \"\")","v":""},{"$f":"IFERROR(Table37[[#This Row],[Operating Costs US$ - Metro]]/Table37[[#This Row],[Fare revenue US$- Metro]], \"\")","v":""},{"$f":"IFERROR(Table37[[#This Row],[Operating Costs US$- LRT]]/Table37[[#This Row],[Fare revenue US$- LRT]], \"\")","v":""},{"$f":"IFERROR(Table37[[#This Row],[Operating Costs US$- Tram]]/Table37[[#This Row],[Fare revenue US$- Tram]], \"\")","v":""},{"$f":"IFERROR(Table37[[#This Row],[Operating Costs US$ - Trolley Bus]]/Table37[[#This Row],[Fare revenue US$- Trolley Buses]], \"\")","v":""},{"$f":"IFERROR((AVERAGEIF(Table37[[#This Row],[Fares for 10 km of journey (2007 US$ PPP) - Bus]:[Fares for 10 km of journey (2007 US$ PPP) - Trolley Bus]], \"<>0\")*40*12)/EO66, \"\")","v":2.1016712190223184E-2},{"$f":"IFERROR((AVERAGEIF(Table37[[#This Row],[Fares for 10 km of journey (2007 US$ PPP) - Regional/Commuter Rail]:[Fares for 10 km of journey (2007 US$ PPP) - BRT]], \"<>0\")*40*12)/EO66, \"\")","v":2.0842083427671822E-2},{"$f":"IFERROR(2*(AVERAGEIF(Table37[[#This Row],[Fares for avg. length of journey (2007 US$ PPP) - Metro]:[Fares for avg. length of journey (2007 US$ PPP) - BRT]], \"<>0\"))/(Table37[[#This Row],[Minimum Hourly Wage rate (PPP $ 2007)]]*8), \"\")","v":""},6.1761885466229967E-2,15.44,20,{"$f":"SUM(AP66:AQ66)+Table37[[#This Row],[Length of mass transit (km) - BRT]]","v":32.4},0.09,655.97667638483972,57.855489843147339,0.24890527771375895,4.4895137128370592,36.302520000000001,40,4.1252863636363636E-2,0.56954152736355101,2247.3643610182571,0,38891.745950115714,25070.712265363847,0,0,{"$f":"Table37[[#This Row],[Fares for 10 km of journey (2007 US$ PPP) - Bus]]/10*Table37[[#This Row],[Average trip length by car (km)]]","v":2.7328799999999998},{"$f":"Table37[[#This Row],[Fares for 10 km of journey (2007 US$ PPP) - Regional/Commuter Rail]]/10*Table37[[#This Row],[Average trip length by car (km)]]","v":3.0972639999999996},{"$f":"Table37[[#This Row],[Fares for 10 km of journey (2007 US$ PPP) - Metro]]/10*Table37[[#This Row],[Average trip length by car (km)]]","v":2.4671268566517219},{"$f":"Table37[[#This Row],[Fares for 10 km of journey (2007 US$ PPP) - LRT]]/10*Table37[[#This Row],[Average trip length by car (km)]]","v":0},{"$f":"Table37[[#This Row],[Fares for 10 km of journey (2007 US$ PPP) - Tram]]/10*Table37[[#This Row],[Average trip length by car (km)]]","v":2.368384968910513},{"$f":"Table37[[#This Row],[Fares for 10 km of journey (2007 US$ PPP) - BRT]]/10*Table37[[#This Row],[Average trip length by car (km)]]","v":0},{"$f":"Table37[[#This Row],[Fares for 10 km of journey (2007 US$ PPP) - Trolley Bus]]/10*Table37[[#This Row],[Average trip length by car (km)]]","v":0}]
[null,"Tokyo","Japan","OECD",8846580,8134688,13048873,12064101,621.98,621.45000000000005,2187.65,2187.0500000000002,14223.25476703431,8205000,173125,2732674,2905799,3415910,12,null,14,23,null,3,48,0,12.2,33,{"$f":"201.212/365","v":0.55126575342465756},null,{"$f":"3232.332/365","v":8.8557041095890412},{"$f":"3132.394/365","v":8.5819013698630133},{"$f":"21.488475/365","v":5.8872534246575348E-2},{"$f":"18.074/365","v":4.9517808219178089E-2},0,0,9.2415574657534236,8.6902917123287668,24341.542000000001,1185.4000000000001,null,{"$f":"106.2+185.1","v":291.3},9.6999999999999993,12.2,0,0,76,{"$f":"172+105","v":277},13,30,0,0,null,null,1462,null,null,2717,{"$f":"9598+758+848+500+56+1065+1223+12+1938+1107+120+60+156+24","v":17465},null,41,0,0,null,200,null,190,null,null,0,0,1.6819790405315802,0,1.5978800885050013,0,0,0,0,null,null,255161,null,null,0,0,33082,null,333489,3987.62,2330,null,0,null,null,50047,null,4336,null,null,2124.3954174312439,null,null,0,277.42787399389488,null,2776.5313012714646,33.440449153483314,19.539536497363372,null,0,null,null,416.67659813287094,null,36.100260345357931,null,{"$f":"4093+2200+3031+1797+3250+1800","v":16171},{"$f":"65380+1892+2305+3450+3644+7158+2319+287","v":86435},8482,null,{"$f":"155+68","v":223},0,0,null,0.19,2.44,117,{"$f":"4.24/3.79","v":1.1187335092348285},120,1.1359999999999999,1.4259999999999999,1.1599999999999999,null,null,null,5.3090000000000002,18,68,28,70.099999999999994,61.64,"10-15 mode/JC08/6 mode/10-15 mode",{"$f":"420500/3.42","v":122953.216374269},{"$f":"EP67*10^9/G67","v":6529422.1194428056},{"$f":"Table37[[#This Row],[City Per Capita GDP (LC)]]*('GDP Deflator 1960-2011'!AZ63/'GDP Deflator 1960-2011'!BB63)*1/Table37[[#This Row],[PPP Exchange rate with the US$ (2016)]]","v":65416.74787069649},85201.600000000006,{"$f":"Table37[[#This Row],[City GDP (LC Billion)]]*'GDP Deflator 1960-2011'!AZ63/'GDP Deflator 1960-2011'!BB63*1/Table37[[#This Row],[PPP Exchange rate with the US$ (2016)]]","v":853.61483503773911},{"$f":"510117*12","v":6121404},{"$f":"Table37[[#This Row],[Median Annual household income (LC)]]*'GDP Deflator 1960-2011'!AZ63/'GDP Deflator 1960-2011'!BD63*1/Table37[[#This Row],[PPP Exchange rate with the US$ (2016)]]","v":63991.896557444845},{"$f":"6696/8","v":837},{"$f":"IF(ISERROR(Table37[[#This Row],[Minimum Hourly Wage Rate (LC)]]*'CPI 1960-2011'!AY63/'CPI 1960-2011'!BC63*1/Table37[[#This Row],[PPP Exchange rate with the US$ (2016)]]), \"n/a\", Table37[[#This Row],[Minimum Hourly Wage Rate (LC)]]*'GDP Deflator 1960-2011'!AZ63/'GDP Deflator 1960-2011'!BD63*1/Table37[[#This Row],[PPP Exchange rate with the US$ (2016)]])","v":8.7498255986014541},101.6,null,13.267429302132069,209.41839191783077,0.11204032716082071,5.0681955906332427E-2,115.97011808044041,24341.542000000001,1865.4133579198756,{"$f":"IFERROR(AM67/K67, \"\")","v":11.126799076634745},11.060875512995896,{"$f":"IFERROR(Table37[[#This Row],[Operating Costs US$ - Bus]]/Table37[[#This Row],[Fare revenue US$- Bus]], \"\")","v":0},{"$f":"IFERROR(Table37[[#This Row],[Operating Costs US$ - Metro]]/Table37[[#This Row],[Fare revenue US$- Metro]], \"\")","v":0.76512568630449573},{"$f":"IFERROR(Table37[[#This Row],[Operating Costs US$- LRT]]/Table37[[#This Row],[Fare revenue US$- LRT]], \"\")","v":0},{"$f":"IFERROR(Table37[[#This Row],[Operating Costs US$- Tram]]/Table37[[#This Row],[Fare revenue US$- Tram]], \"\")","v":0},{"$f":"IFERROR(Table37[[#This Row],[Operating Costs US$ - Trolley Bus]]/Table37[[#This Row],[Fare revenue US$- Trolley Buses]], \"\")","v":""},{"$f":"IFERROR((AVERAGEIF(Table37[[#This Row],[Fares for 10 km of journey (2007 US$ PPP) - Bus]:[Fares for 10 km of journey (2007 US$ PPP) - Trolley Bus]], \"<>0\")*40*12)/EO67, \"\")","v":1.2033098810180866E-2},{"$f":"IFERROR((AVERAGEIF(Table37[[#This Row],[Fares for 10 km of journey (2007 US$ PPP) - Regional/Commuter Rail]:[Fares for 10 km of journey (2007 US$ PPP) - BRT]], \"<>0\")*40*12)/EO67, \"\")","v":1.1724557815048022E-2},{"$f":"IFERROR(2*(AVERAGEIF(Table37[[#This Row],[Fares for avg. length of journey (2007 US$ PPP) - Metro]:[Fares for avg. length of journey (2007 US$ PPP) - BRT]], \"<>0\"))/(Table37[[#This Row],[Minimum Hourly Wage rate (PPP $ 2007)]]*8), \"\")","v":5.5698644676063308E-2},2.0838700246831543E-2,12.2,33,{"$f":"SUM(AP67:AQ67)+Table37[[#This Row],[Length of mass transit (km) - BRT]]","v":301},8.6902917123287668,27746.780690704876,0.66598025073343636,0.48393839030193897,{"$f":"IFERROR(((AP79*4)+((AR79+AS79)*0.5)+((AQ79+AS79)*1))/I67, \"\")","v":6.0291327695424286E-2},0,0,0,0,5.3721114459463282,1.3794294725682439,5.2111780074800329,2.1457791795506016,0.19,2.44,{"$f":"Table37[[#This Row],[Fares for 10 km of journey (2007 US$ PPP) - Bus]]/10*Table37[[#This Row],[Average trip length by car (km)]]","v":2.0520144294485276},{"$f":"Table37[[#This Row],[Fares for 10 km of journey (2007 US$ PPP) - Regional/Commuter Rail]]/10*Table37[[#This Row],[Average trip length by car (km)]]","v":0},{"$f":"Table37[[#This Row],[Fares for 10 km of journey (2007 US$ PPP) - Metro]]/10*Table37[[#This Row],[Average trip length by car (km)]]","v":1.9494137079761014},{"$f":"Table37[[#This Row],[Fares for 10 km of journey (2007 US$ PPP) - LRT]]/10*Table37[[#This Row],[Average trip length by car (km)]]","v":0},{"$f":"Table37[[#This Row],[Fares for 10 km of journey (2007 US$ PPP) - Tram]]/10*Table37[[#This Row],[Average trip length by car (km)]]","v":0},{"$f":"Table37[[#This Row],[Fares for 10 km of journey (2007 US$ PPP) - BRT]]/10*Table37[[#This Row],[Average trip length by car (km)]]","v":0},{"$f":"Table37[[#This Row],[Fares for 10 km of journey (2007 US$ PPP) - Trolley Bus]]/10*Table37[[#This Row],[Average trip length by car (km)]]","v":0},"To translate: for commuting time - http://www.stat.go.jp/english/data/shakai/2006/jikan-a/chiiki/chiiki.htm"]
[null,"Kuala Lumpur","Malaysia","OECD",1674621,null,5700000,null,243,null,2793.27,null,6891.4444444444443,838400,null,null,0,{"$f":"Q68+SUM(BA68:BE68)+BL68","v":2000},55.56,2.2200000000000002,0,8.89,null,8.89,4.4400000000000004,20,14.75,58,null,null,0.08,null,{"$f":"36/365","v":9.8630136986301367E-2},0,0,0,9.8630136986301367E-2,9.8630136986301367E-2,null,null,150,29,27,0,0,0,null,24,21,0,0,0,null,null,1000,1000,null,{"$f":"35*2","v":70},{"$f":"58*3","v":174},90,0,0,0,null,1,null,null,1.3,0,0,0,0.49917967720423334,0,0,0.6489335803655033,0,0,0,null,null,null,null,0,0,0,null,null,null,null,0,null,0,null,null,null,null,null,null,null,null,null,0,0,null,null,null,null,0,null,0,null,null,null,null,null,null,null,null,null,480,0,0,0,null,0.56000000000000005,1.91,1.92,null,1.6,0.46,null,0.39,null,null,null,28.273,24,null,49,null,null,"Euro 2",null,null,{"$f":"Table37[[#This Row],[City Per Capita GDP (LC)]]*('GDP Deflator 1960-2011'!AZ64/'GDP Deflator 1960-2011'!BB64)*1/Table37[[#This Row],[PPP Exchange rate with the US$ (2016)]]","v":0},null,{"$f":"Table37[[#This Row],[City GDP (LC Billion)]]*'GDP Deflator 1960-2011'!AZ64/'GDP Deflator 1960-2011'!BC64*1/Table37[[#This Row],[PPP Exchange rate with the US$ (2016)]]","v":0},{"$f":"4409*12","v":52908},{"$f":"Table37[[#This Row],[Median Annual household income (LC)]]*'GDP Deflator 1960-2011'!AZ64/'GDP Deflator 1960-2011'!BB64*1/Table37[[#This Row],[PPP Exchange rate with the US$ (2016)]]","v":28613.83516854245},"No minimum wage",{"$f":"IF(ISERROR(Table37[[#This Row],[Minimum Hourly Wage Rate (LC)]]*'CPI 1960-2011'!AY64/'CPI 1960-2011'!BC64*1/Table37[[#This Row],[PPP Exchange rate with the US$ (2016)]]), \"n/a\", Table37[[#This Row],[Minimum Hourly Wage Rate (LC)]]*'GDP Deflator 1960-2011'!AZ64/'GDP Deflator 1960-2011'!BD64*1/Table37[[#This Row],[PPP Exchange rate with the US$ (2016)]])","v":"n/a"},1.8,null,0,0,0.35087719298245612,0,"",0,0,{"$f":"IFERROR(AM68/I68, \"\")","v":0},0,{"$f":"IFERROR(Table37[[#This Row],[Operating Costs US$ - Bus]]/Table37[[#This Row],[Fare revenue US$- Bus]], \"\")","v":""},{"$f":"IFERROR(Table37[[#This Row],[Operating Costs US$ - Metro]]/Table37[[#This Row],[Fare revenue US$- Metro]], \"\")","v":""},{"$f":"IFERROR(Table37[[#This Row],[Operating Costs US$- LRT]]/Table37[[#This Row],[Fare revenue US$- LRT]], \"\")","v":""},{"$f":"IFERROR(Table37[[#This Row],[Operating Costs US$- Tram]]/Table37[[#This Row],[Fare revenue US$- Tram]], \"\")","v":""},{"$f":"IFERROR(Table37[[#This Row],[Operating Costs US$ - Trolley Bus]]/Table37[[#This Row],[Fare revenue US$- Trolley Buses]], \"\")","v":""},{"$f":"IFERROR((AVERAGEIF(Table37[[#This Row],[Fares for 10 km of journey (2007 US$ PPP) - Bus]:[Fares for 10 km of journey (2007 US$ PPP) - Trolley Bus]], \"<>0\")*40*12)/EO68, \"\")","v":""},{"$f":"IFERROR((AVERAGEIF(Table37[[#This Row],[Fares for 10 km of journey (2007 US$ PPP) - Regional/Commuter Rail]:[Fares for 10 km of journey (2007 US$ PPP) - BRT]], \"<>0\")*40*12)/EO68, \"\")","v":""},{"$f":"IFERROR(2*(AVERAGEIF(Table37[[#This Row],[Fares for avg. length of journey (2007 US$ PPP) - Metro]:[Fares for avg. length of journey (2007 US$ PPP) - BRT]], \"<>0\"))/(Table37[[#This Row],[Minimum Hourly Wage rate (PPP $ 2007)]]*8), \"\")","v":""},"",14.75,58,{"$f":"SUM(AP68:AQ68)+Table37[[#This Row],[Length of mass transit (km) - BRT]]","v":56},9.8630136986301367E-2,1761.252446183953,1.7303532804614274E-2,0.23045267489711935,1.5584362139917696,0,0,"",0,0,4.2105263157894735,0,8.5964912280701764,0.56000000000000005,1.91,{"$f":"Table37[[#This Row],[Fares for 10 km of journey (2007 US$ PPP) - Bus]]/10*Table37[[#This Row],[Average trip length by car (km)]]","v":0.7362900238762442},{"$f":"Table37[[#This Row],[Fares for 10 km of journey (2007 US$ PPP) - Regional/Commuter Rail]]/10*Table37[[#This Row],[Average trip length by car (km)]]","v":0},{"$f":"Table37[[#This Row],[Fares for 10 km of journey (2007 US$ PPP) - Metro]]/10*Table37[[#This Row],[Average trip length by car (km)]]","v":0},{"$f":"Table37[[#This Row],[Fares for 10 km of journey (2007 US$ PPP) - LRT]]/10*Table37[[#This Row],[Average trip length by car (km)]]","v":0.95717703103911733},{"$f":"Table37[[#This Row],[Fares for 10 km of journey (2007 US$ PPP) - Tram]]/10*Table37[[#This Row],[Average trip length by car (km)]]","v":0},{"$f":"Table37[[#This Row],[Fares for 10 km of journey (2007 US$ PPP) - BRT]]/10*Table37[[#This Row],[Average trip length by car (km)]]","v":0},{"$f":"Table37[[#This Row],[Fares for 10 km of journey (2007 US$ PPP) - Trolley Bus]]/10*Table37[[#This Row],[Average trip length by car (km)]]","v":0}]
[null,"Mexico city","Mexico","LAC",8918653,8605000,20137152,19152258,1485,null,2100.1999999999998,null,5960.3232323232323,13441581,108420,5592293,5700713,5884286,16.899999999999999,2.9,0.8,24.4,3.5,42.1,9.4,0,14.4,45,0.47013698630136985,null,0.13200000000000001,4.3698630136986303,5.1999999999999998E-2,0,1.1000000000000001,0.115,5.6015616438356162,5.1314246575342466,63726,3500,27,221.6,25.3,0,125,258.79000000000002,7,195,18,0,null,188,338,null,55,null,null,3139,20,20,0,40,290,182998,5,null,3,null,0,0.38,null,0.5591729078160983,0,0.33550374468965899,0,0,0.35,0,null,null,null,null,0,null,null,2913,null,226,null,0,null,null,null,null,null,null,742,null,null,null,null,0,null,1724.5501144468401,null,323.47080503408239,5.5851949659176361,0,73.8,635.45048797478853,null,null,null,null,1062.014766970306,18.337233029694183,4300.6000000000004,191,14090,2803,0,null,2803,null,0.93,3.32,14,0.64,13.98,0.74,0.93184,0.73699999999999999,null,null,11.29,15.125999999999999,74,130,42,23.655000000000001,26.231999999999999,"Tier II EURO 4",null,{"$f":"19000*12.36","v":234840},{"$f":"Table37[[#This Row],[City Per Capita GDP (LC)]]*('GDP Deflator 1960-2011'!AZ65/'GDP Deflator 1960-2011'!BB65)*1/Table37[[#This Row],[PPP Exchange rate with the US$ (2016)]]","v":24597.835149990151},{"$f":"255*12.36","v":3151.7999999999997},{"$f":"Table37[[#This Row],[City GDP (LC Billion)]]*'GDP Deflator 1960-2011'!AZ65/'GDP Deflator 1960-2011'!BC65*1/Table37[[#This Row],[PPP Exchange rate with the US$ (2016)]]","v":317.32891734362806},{"$f":"53295*13.21","v":704026.95000000007},{"$f":"Table37[[#This Row],[Median Annual household income (LC)]]*'GDP Deflator 1960-2011'!AZ65/'GDP Deflator 1960-2011'!BA65*1/Table37[[#This Row],[PPP Exchange rate with the US$ (2016)]]","v":76987.011847798552},{"$f":"4.6/8*13.97","v":8.0327500000000001},{"$f":"IF(ISERROR(Table37[[#This Row],[Minimum Hourly Wage Rate (LC)]]*'CPI 1960-2011'!AY65/'CPI 1960-2011'!BC65*1/Table37[[#This Row],[PPP Exchange rate with the US$ (2016)]]), \"n/a\", Table37[[#This Row],[Minimum Hourly Wage Rate (LC)]]*'GDP Deflator 1960-2011'!AZ65/'GDP Deflator 1960-2011'!BD65*1/Table37[[#This Row],[PPP Exchange rate with the US$ (2016)]])","v":0.76658873728900445},8.6,null,5.3840781457079929,277.71022436539187,1.9516165940446792E-2,1.8425345063105364E-2,91.49300913285002,63726,3164.5984496715323,{"$f":"IFERROR(AM69/K69, \"\")","v":30.342824492905439},10.943002544529262,{"$f":"IFERROR(Table37[[#This Row],[Operating Costs US$ - Bus]]/Table37[[#This Row],[Fare revenue US$- Bus]], \"\")","v":0},{"$f":"IFERROR(Table37[[#This Row],[Operating Costs US$ - Metro]]/Table37[[#This Row],[Fare revenue US$- Metro]], \"\")","v":0},{"$f":"IFERROR(Table37[[#This Row],[Operating Costs US$- LRT]]/Table37[[#This Row],[Fare revenue US$- LRT]], \"\")","v":0},{"$f":"IFERROR(Table37[[#This Row],[Operating Costs US$- Tram]]/Table37[[#This Row],[Fare revenue US$- Tram]], \"\")","v":""},{"$f":"IFERROR(Table37[[#This Row],[Operating Costs US$ - Trolley Bus]]/Table37[[#This Row],[Fare revenue US$- Trolley Buses]], \"\")","v":0},{"$f":"IFERROR((AVERAGEIF(Table37[[#This Row],[Fares for 10 km of journey (2007 US$ PPP) - Bus]:[Fares for 10 km of journey (2007 US$ PPP) - Trolley Bus]], \"<>0\")*40*12)/EO69, \"\")","v":8.09617038192895E-3},{"$f":"IFERROR((AVERAGEIF(Table37[[#This Row],[Fares for 10 km of journey (2007 US$ PPP) - Regional/Commuter Rail]:[Fares for 10 km of journey (2007 US$ PPP) - BRT]], \"<>0\")*40*12)/EO69, \"\")","v":6.6884300070440975E-3},{"$f":"IFERROR(2*(AVERAGEIF(Table37[[#This Row],[Fares for avg. length of journey (2007 US$ PPP) - Metro]:[Fares for avg. length of journey (2007 US$ PPP) - BRT]], \"<>0\"))/(Table37[[#This Row],[Minimum Hourly Wage rate (PPP $ 2007)]]*8), \"\")","v":0.16096071862535108},3.6100737913936122E-2,14.4,45,{"$f":"SUM(AP69:AQ69)+Table37[[#This Row],[Length of mass transit (km) - BRT]]","v":371.9},5.5218630136986295,14847.709098409867,0.27421270960752686,0.2504377104377104,0.98619528619528618,0,0,0,0,1.1746944155757479,3.6747996936210248,6.4557291914963937,2.0856971234065274,0.93,3.32,{"$f":"Table37[[#This Row],[Fares for 10 km of journey (2007 US$ PPP) - Bus]]/10*Table37[[#This Row],[Average trip length by car (km)]]","v":0.80520898725518153},{"$f":"Table37[[#This Row],[Fares for 10 km of journey (2007 US$ PPP) - Regional/Commuter Rail]]/10*Table37[[#This Row],[Average trip length by car (km)]]","v":0},{"$f":"Table37[[#This Row],[Fares for 10 km of journey (2007 US$ PPP) - Metro]]/10*Table37[[#This Row],[Average trip length by car (km)]]","v":0.48312539235310897},{"$f":"Table37[[#This Row],[Fares for 10 km of journey (2007 US$ PPP) - LRT]]/10*Table37[[#This Row],[Average trip length by car (km)]]","v":0},{"$f":"Table37[[#This Row],[Fares for 10 km of journey (2007 US$ PPP) - Tram]]/10*Table37[[#This Row],[Average trip length by car (km)]]","v":0},{"$f":"Table37[[#This Row],[Fares for 10 km of journey (2007 US$ PPP) - BRT]]/10*Table37[[#This Row],[Average trip length by car (km)]]","v":0.504},{"$f":"Table37[[#This Row],[Fares for 10 km of journey (2007 US$ PPP) - Trolley Bus]]/10*Table37[[#This Row],[Average trip length by car (km)]]","v":0},"To translate: http://www.ste.df.gob.mx/ - for light rail fares and any other operational info?; http://www.rtp.gob.mx/"]
[null,"Amsterdam","Netherlands","OECD",803938,734594,3709474,3491318,166,165,859.3,859.3,4843,456000,14765,200111,214876,{"$f":"Q70+SUM(BA70:BE70)+BL70","v":215079},21.74,3,39.130000000000003,17.39,null,null,8.6999999999999993,10.039999999999992,39,44,0.16800000000000001,null,null,null,0,0.20399999999999999,0.04,0,0.41199999999999998,0.24399999999999999,null,null,null,120,0,200,57,0,9,52,0,500,0,33,102,null,93,8,null,106,null,0,216,80,0,null,1.6875,null,1.6875,0,1.6875,2.5,0,1.744388323440083,0,1.744388323440083,0,1.744388323440083,1.964052038243649,0,null,null,null,0,null,null,0,null,null,null,0,null,26.01,0,null,null,null,0,null,0,null,null,0,null,0,null,null,null,0,null,21.270400000000002,0,null,null,null,0,null,0,null,null,null,0,1564,null,0,5.3,0.76,2.29,1.51,{"$f":"6.48/3.79","v":1.7097625329815305},1.3,1.69,1.562353360736022,1.45,null,2,null,6.0129999999999999,4,23,27,4.4710000000000001,5.0940000000000003,"Euro 6b",{"$f":"23500/2.05","v":11463.414634146342},44800,{"$f":"Table37[[#This Row],[City Per Capita GDP (LC)]]*('GDP Deflator 1960-2011'!AZ66/'GDP Deflator 1960-2011'!BB66)*1/Table37[[#This Row],[PPP Exchange rate with the US$ (2016)]]","v":55054.459103766101},64.120999999999995,{"$f":"Table37[[#This Row],[City GDP (LC Billion)]]*'GDP Deflator 1960-2011'!AZ66/'GDP Deflator 1960-2011'!BB66*1/Table37[[#This Row],[PPP Exchange rate with the US$ (2016)]]","v":78.797923486441661},23200,{"$f":"Table37[[#This Row],[Median Annual household income (LC)]]*'GDP Deflator 1960-2011'!AZ66/'GDP Deflator 1960-2011'!BB66*1/Table37[[#This Row],[PPP Exchange rate with the US$ (2016)]]","v":28510.344893021731},{"$f":"64.55/8","v":8.0687499999999996},{"$f":"IF(ISERROR(Table37[[#This Row],[Minimum Hourly Wage Rate (LC)]]*'CPI 1960-2011'!AY66/'CPI 1960-2011'!BC66*1/Table37[[#This Row],[PPP Exchange rate with the US$ (2016)]]), \"n/a\", Table37[[#This Row],[Minimum Hourly Wage Rate (LC)]]*'GDP Deflator 1960-2011'!AZ66/'GDP Deflator 1960-2011'!BD66*1/Table37[[#This Row],[PPP Exchange rate with the US$ (2016)]])","v":9.6769291218581479},0.8,null,3.980348696338079,53.945923330369752,5.4724739949653239E-2,6.8649194017082096E-2,"",0,0,{"$f":"IFERROR(AM70/I70, \"\")","v":0},0,{"$f":"IFERROR(Table37[[#This Row],[Operating Costs US$ - Bus]]/Table37[[#This Row],[Fare revenue US$- Bus]], \"\")","v":""},{"$f":"IFERROR(Table37[[#This Row],[Operating Costs US$ - Metro]]/Table37[[#This Row],[Fare revenue US$- Metro]], \"\")","v":""},{"$f":"IFERROR(Table37[[#This Row],[Operating Costs US$- LRT]]/Table37[[#This Row],[Fare revenue US$- LRT]], \"\")","v":""},{"$f":"IFERROR(Table37[[#This Row],[Operating Costs US$- Tram]]/Table37[[#This Row],[Fare revenue US$- Tram]], \"\")","v":""},{"$f":"IFERROR(Table37[[#This Row],[Operating Costs US$ - Trolley Bus]]/Table37[[#This Row],[Fare revenue US$- Trolley Buses]], \"\")","v":""},{"$f":"IFERROR((AVERAGEIF(Table37[[#This Row],[Fares for 10 km of journey (2007 US$ PPP) - Bus]:[Fares for 10 km of journey (2007 US$ PPP) - Trolley Bus]], \"<>0\")*40*12)/EO70, \"\")","v":1.5687485720272693E-2},{"$f":"IFERROR((AVERAGEIF(Table37[[#This Row],[Fares for 10 km of journey (2007 US$ PPP) - Regional/Commuter Rail]:[Fares for 10 km of journey (2007 US$ PPP) - BRT]], \"<>0\")*40*12)/EO70, \"\")","v":1.5847083121376605E-2},{"$f":"IFERROR(2*(AVERAGEIF(Table37[[#This Row],[Fares for avg. length of journey (2007 US$ PPP) - Metro]:[Fares for avg. length of journey (2007 US$ PPP) - BRT]], \"<>0\"))/(Table37[[#This Row],[Minimum Hourly Wage rate (PPP $ 2007)]]*8), \"\")","v":0.18313344040748239},3.6836253284727505E-2,39,44,{"$f":"SUM(AP70:AQ70)+Table37[[#This Row],[Length of mass transit (km) - BRT]]","v":177},{"$f":"SUM(AG70:AI70)","v":0.24399999999999999},647.21485411140588,6.5777519939484677E-2,1.0662650602409638,3.1722891566265061,16.078759999999999,20,"",0.74757461211926779,1.2052921788911313,1.0783199990079455,6.2003399942956872,7.2786599933036324,0.76,2.29,{"$f":"Table37[[#This Row],[Fares for 10 km of journey (2007 US$ PPP) - Bus]]/10*Table37[[#This Row],[Average trip length by car (km)]]","v":6.8031144614163237},{"$f":"Table37[[#This Row],[Fares for 10 km of journey (2007 US$ PPP) - Regional/Commuter Rail]]/10*Table37[[#This Row],[Average trip length by car (km)]]","v":0},{"$f":"Table37[[#This Row],[Fares for 10 km of journey (2007 US$ PPP) - Metro]]/10*Table37[[#This Row],[Average trip length by car (km)]]","v":6.8031144614163237},{"$f":"Table37[[#This Row],[Fares for 10 km of journey (2007 US$ PPP) - LRT]]/10*Table37[[#This Row],[Average trip length by car (km)]]","v":0},{"$f":"Table37[[#This Row],[Fares for 10 km of journey (2007 US$ PPP) - Tram]]/10*Table37[[#This Row],[Average trip length by car (km)]]","v":6.8031144614163237},{"$f":"Table37[[#This Row],[Fares for 10 km of journey (2007 US$ PPP) - BRT]]/10*Table37[[#This Row],[Average trip length by car (km)]]","v":7.6598029491502313},{"$f":"Table37[[#This Row],[Fares for 10 km of journey (2007 US$ PPP) - Trolley Bus]]/10*Table37[[#This Row],[Average trip length by car (km)]]","v":0},"Metro is hybrid metro/light rail in some sections. \nStaff numbers 4,500 for GVB that operates tram, metro/light rail, bus and ferry services."]
[null,"Rotterdam","Netherlands","OECD",881889,883197,2808550,2729361,206,205.9,611.79999999999995,611.79999999999995,{"$f":"E71/I71","v":4281.0145631067962},320000,9365,194102,{"$f":"O71+P71","v":203467},{"$f":"Q71+SUM(BA71:BE71)+BL71","v":203705},23.8,3,23.08,3,null,null,15.38,31.740000000000009,45,45,{"$f":"38.7/365","v":0.10602739726027398},null,null,{"$f":"87.1/365","v":0.23863013698630137},null,{"$f":"59.9/365","v":0.16410958904109588},0,0,{"$f":"SUM(AC71:AD71, AF71:AJ71)","v":0.50876712328767126},{"$f":"SUM(AF71:AJ71)","v":0.40273972602739727},null,422.6,null,85,null,93.4,0,0,12,48,null,null,0,0,null,null,238,null,null,152,null,null,118,0,0,null,{"$f":"14/(3*2)","v":2.3333333333333335},null,{"$f":"14/(3*2)","v":2.3333333333333335},null,{"$f":"14/(3*2)","v":2.3333333333333335},0,0,2.4119937311764117,0,2.4119937311764117,0,2.4119937311764117,0,0,null,null,null,null,null,0,0,null,null,null,null,null,null,0,null,null,null,null,null,null,null,null,null,null,0,null,null,null,null,null,null,0,null,null,null,null,null,null,null,null,null,null,null,0,0,9.4,null,null,1.46,null,1.36,1.62,null,1.52,null,4,null,null,null,60.5,24,31.512,29.46,"Euro 6b",{"$f":"23300/2.15","v":10837.209302325582},41300,{"$f":"Table37[[#This Row],[City Per Capita GDP (LC)]]*('GDP Deflator 1960-2011'!AZ67/'GDP Deflator 1960-2011'!BB67)*1/Table37[[#This Row],[PPP Exchange rate with the US$ (2016)]]","v":50753.329486284383},51.956000000000003,{"$f":"Table37[[#This Row],[City GDP (LC Billion)]]*'GDP Deflator 1960-2011'!AZ67/'GDP Deflator 1960-2011'!BB67*1/Table37[[#This Row],[PPP Exchange rate with the US$ (2016)]]","v":63.8484258302516},23100,{"$f":"Table37[[#This Row],[Median Annual household income (LC)]]*'GDP Deflator 1960-2011'!AZ67/'GDP Deflator 1960-2011'!BB67*1/Table37[[#This Row],[PPP Exchange rate with the US$ (2016)]]","v":28387.455475379396},{"$f":"64.55/8","v":8.0687499999999996},{"$f":"IF(ISERROR(Table37[[#This Row],[Minimum Hourly Wage Rate (LC)]]*'CPI 1960-2011'!AY67/'CPI 1960-2011'!BC67*1/Table37[[#This Row],[PPP Exchange rate with the US$ (2016)]]), \"n/a\", Table37[[#This Row],[Minimum Hourly Wage Rate (LC)]]*'GDP Deflator 1960-2011'!AZ67/'GDP Deflator 1960-2011'!BD67*1/Table37[[#This Row],[PPP Exchange rate with the US$ (2016)]])","v":9.6769291218581479},0.8,null,{"$f":"IFERROR(O71/G71*1000, O71/E71*1000)","v":3.3344608427836429},{"$f":"IFERROR(P71/G71*1000,P71/E71*1000)","v":69.111107154937599},{"$f":"IFERROR(SUM(BA71:BE71)/G71*1000, SUM(BA71:BE71)/E71*1000)","v":8.4741236581153984E-2},{"$f":"IFERROR(O71/R71, \"\")","v":4.5973343805993959E-2},{"$f":"IFERROR(((O71*0.5)+((P71+BL71)*1)+(SUM(BA71:BE71)*2.5))/AM71, \"\")","v":""},{"$f":"AM71","v":0},{"$f":"IFERROR(AM71/G71*10^6,AM71/E71*10^6)","v":0},0,{"$f":"IFERROR(DM71/SUM(BA71:BE71), \"\")","v":0},{"$f":"IFERROR(Table37[[#This Row],[Operating Costs US$ - Bus]]/Table37[[#This Row],[Fare revenue US$- Bus]], \"\")","v":""},{"$f":"IFERROR(Table37[[#This Row],[Operating Costs US$ - Metro]]/Table37[[#This Row],[Fare revenue US$- Metro]], \"\")","v":""},{"$f":"IFERROR(Table37[[#This Row],[Operating Costs US$- LRT]]/Table37[[#This Row],[Fare revenue US$- LRT]], \"\")","v":""},{"$f":"IFERROR(Table37[[#This Row],[Operating Costs US$- Tram]]/Table37[[#This Row],[Fare revenue US$- Tram]], \"\")","v":""},{"$f":"IFERROR(Table37[[#This Row],[Operating Costs US$ - Trolley Bus]]/Table37[[#This Row],[Fare revenue US$- Trolley Buses]], \"\")","v":""},{"$f":"IFERROR((AVERAGEIF(Table37[[#This Row],[Fares for 10 km of journey (2007 US$ PPP) - Bus]:[Fares for 10 km of journey (2007 US$ PPP) - Trolley Bus]], \"<>0\")*40*12)/EO71, \"\")","v":2.2811449075031635E-2},{"$f":"IFERROR((AVERAGEIF(Table37[[#This Row],[Fares for 10 km of journey (2007 US$ PPP) - Regional/Commuter Rail]:[Fares for 10 km of journey (2007 US$ PPP) - BRT]], \"<>0\")*40*12)/EO71, \"\")","v":2.2811449075031635E-2},{"$f":"IFERROR(2*(AVERAGEIF(Table37[[#This Row],[Fares for avg. length of journey (2007 US$ PPP) - Metro]:[Fares for avg. length of journey (2007 US$ PPP) - BRT]], \"<>0\"))/(Table37[[#This Row],[Minimum Hourly Wage rate (PPP $ 2007)]]*8), \"\")","v":0.28040847601583163},3.8302905832519774E-2,{"$f":"AA71","v":45},{"$f":"AB71","v":45},{"$f":"SUM(AP71:AQ71)+Table37[[#This Row],[Length of mass transit (km) - BRT]]","v":85},{"$f":"SUM(AF71:AI71)","v":0.40273972602739727},2257.5096750414646,{"$f":"IFERROR(FS71*10^6/G71, FS71*10^6/E71)","v":0.14339774119292775},{"$f":"IFERROR(FR71/I71, \"\")","v":0.41262135922330095},5.8690776699029126,{"$f":"IFERROR(ED71*E71/10^5, \"\")","v":35.275559999999999},{"$f":"ED71*10","v":40},{"$f":"IFERROR(FX71/AM71, \"\")","v":""},{"$f":"IFERROR(FX71/(R71/10^4), \"\")","v":1.7316982891927051},11.220024567837497,{"$f":"IFERROR(EG71/G71*10^6, EG71/E71*10^6)","v":0},{"$f":"IFERROR(EH71/G71*10^6, EH71/E71*10^6)","v":21.541364761175696},{"$f":"IFERROR(EI71/G71*10^6, EI71/E71*10^6)","v":8.5453347812928389},{"$f":"DU71","v":0},{"$f":"DV71","v":0},{"$f":"Table37[[#This Row],[Fares for 10 km of journey (2007 US$ PPP) - Bus]]/10*Table37[[#This Row],[Average trip length by car (km)]]","v":10.853971790293853},{"$f":"Table37[[#This Row],[Fares for 10 km of journey (2007 US$ PPP) - Regional/Commuter Rail]]/10*Table37[[#This Row],[Average trip length by car (km)]]","v":0},{"$f":"Table37[[#This Row],[Fares for 10 km of journey (2007 US$ PPP) - Metro]]/10*Table37[[#This Row],[Average trip length by car (km)]]","v":10.853971790293853},{"$f":"Table37[[#This Row],[Fares for 10 km of journey (2007 US$ PPP) - LRT]]/10*Table37[[#This Row],[Average trip length by car (km)]]","v":0},{"$f":"Table37[[#This Row],[Fares for 10 km of journey (2007 US$ PPP) - Tram]]/10*Table37[[#This Row],[Average trip length by car (km)]]","v":10.853971790293853},{"$f":"Table37[[#This Row],[Fares for 10 km of journey (2007 US$ PPP) - BRT]]/10*Table37[[#This Row],[Average trip length by car (km)]]","v":0},{"$f":"Table37[[#This Row],[Fares for 10 km of journey (2007 US$ PPP) - Trolley Bus]]/10*Table37[[#This Row],[Average trip length by car (km)]]","v":0}]
[null,"Cebu","Philippines","EAP",922611,798809,2391839,null,315,291,1163.3599999999999,null,2928.9238095238097,null,null,null,0,{"$f":"Q72+SUM(BA72:BE72)+BL72","v":15069},2.4,14.5,{"$f":"1.2+11.2","v":12.399999999999999},35.9,33.700000000000003,null,null,1.1000000000000085,null,null,null,null,null,0,0,0,0,0,0,0,null,null,0,0,0,0,16,0,0,0,0,0,0,33,null,null,952,null,null,0,0,0,0,0,0,{"$f":"8329+5788","v":14117},null,0,0,0,0,0,0,0,0,0,0,0,0,0,null,0,0,0,0,0,0,null,0,0,0,0,0,0,null,0,0,0,0,0,null,0,0,0,0,null,0,0,0,0,0,0,null,0,0,0,0,0,null,0,0,0,0,0,0,null,0.75,3.7,35.4,null,26.77,0.89,null,0.55000000000000004,null,null,null,null,null,null,54,null,null,"Euro 4",null,null,{"$f":"Table37[[#This Row],[City Per Capita GDP (LC)]]*('GDP Deflator 1960-2011'!AZ68/'GDP Deflator 1960-2011'!BB68)*1/Table37[[#This Row],[PPP Exchange rate with the US$ (2016)]]","v":0},null,{"$f":"Table37[[#This Row],[City GDP (LC Billion)]]*'GDP Deflator 1960-2011'!AZ68/'GDP Deflator 1960-2011'!BC68*1/Table37[[#This Row],[PPP Exchange rate with the US$ (2016)]]","v":0},{"$f":"14300*12","v":171600},{"$f":"Table37[[#This Row],[Median Annual household income (LC)]]*'GDP Deflator 1960-2011'!AZ68/'GDP Deflator 1960-2011'!BC68*1/Table37[[#This Row],[PPP Exchange rate with the US$ (2016)]]","v":6709.9084042139475},{"$f":"305/8","v":38.125},{"$f":"IF(ISERROR(Table37[[#This Row],[Minimum Hourly Wage Rate (LC)]]*'CPI 1960-2011'!AY68/'CPI 1960-2011'!BC68*1/Table37[[#This Row],[PPP Exchange rate with the US$ (2016)]]), \"n/a\", Table37[[#This Row],[Minimum Hourly Wage Rate (LC)]]*'GDP Deflator 1960-2011'!AZ68/'GDP Deflator 1960-2011'!BD68*1/Table37[[#This Row],[PPP Exchange rate with the US$ (2016)]])","v":1.4300439651053116},22.2,null,0,0,0.39802010085126965,0,"",0,0,0,0,{"$f":"IFERROR(Table37[[#This Row],[Operating Costs US$ - Bus]]/Table37[[#This Row],[Fare revenue US$- Bus]], \"\")","v":""},{"$f":"IFERROR(Table37[[#This Row],[Operating Costs US$ - Metro]]/Table37[[#This Row],[Fare revenue US$- Metro]], \"\")","v":""},{"$f":"IFERROR(Table37[[#This Row],[Operating Costs US$- LRT]]/Table37[[#This Row],[Fare revenue US$- LRT]], \"\")","v":""},{"$f":"IFERROR(Table37[[#This Row],[Operating Costs US$- Tram]]/Table37[[#This Row],[Fare revenue US$- Tram]], \"\")","v":""},{"$f":"IFERROR(Table37[[#This Row],[Operating Costs US$ - Trolley Bus]]/Table37[[#This Row],[Fare revenue US$- Trolley Buses]], \"\")","v":""},{"$f":"IFERROR((AVERAGEIF(Table37[[#This Row],[Fares for 10 km of journey (2007 US$ PPP) - Bus]:[Fares for 10 km of journey (2007 US$ PPP) - Trolley Bus]], \"<>0\")*40*12)/EO72, \"\")","v":""},{"$f":"IFERROR((AVERAGEIF(Table37[[#This Row],[Fares for 10 km of journey (2007 US$ PPP) - Regional/Commuter Rail]:[Fares for 10 km of journey (2007 US$ PPP) - BRT]], \"<>0\")*40*12)/EO72, \"\")","v":""},{"$f":"IFERROR(2*(AVERAGEIF(Table37[[#This Row],[Fares for avg. length of journey (2007 US$ PPP) - Metro]:[Fares for avg. length of journey (2007 US$ PPP) - BRT]], \"<>0\"))/(Table37[[#This Row],[Minimum Hourly Wage rate (PPP $ 2007)]]*8), \"\")","v":""},"",0,0,{"$f":"SUM(AP72:AQ72)+Table37[[#This Row],[Length of mass transit (km) - BRT]]","v":16},0,0,0,5.0793650793650794E-2,0.23174603174603176,0,0,"",0,0,0,0,22.576770426437566,0.75,3.7,{"$f":"Table37[[#This Row],[Fares for 10 km of journey (2007 US$ PPP) - Bus]]/10*Table37[[#This Row],[Average trip length by car (km)]]","v":0},{"$f":"Table37[[#This Row],[Fares for 10 km of journey (2007 US$ PPP) - Regional/Commuter Rail]]/10*Table37[[#This Row],[Average trip length by car (km)]]","v":0},{"$f":"Table37[[#This Row],[Fares for 10 km of journey (2007 US$ PPP) - Metro]]/10*Table37[[#This Row],[Average trip length by car (km)]]","v":0},{"$f":"Table37[[#This Row],[Fares for 10 km of journey (2007 US$ PPP) - LRT]]/10*Table37[[#This Row],[Average trip length by car (km)]]","v":0},{"$f":"Table37[[#This Row],[Fares for 10 km of journey (2007 US$ PPP) - Tram]]/10*Table37[[#This Row],[Average trip length by car (km)]]","v":0},{"$f":"Table37[[#This Row],[Fares for 10 km of journey (2007 US$ PPP) - BRT]]/10*Table37[[#This Row],[Average trip length by car (km)]]","v":0},{"$f":"Table37[[#This Row],[Fares for 10 km of journey (2007 US$ PPP) - Trolley Bus]]/10*Table37[[#This Row],[Average trip length by car (km)]]","v":0}]
[null,"Manila","Philippines","EAP",1652171,1581082,19485398,9932560,38.549999999999997,null,1104.1099999999999,638.54999999999995,42857.872892347601,null,null,null,0,{"$f":"Q73+SUM(BA73:BE73)+BL73","v":33600},47.06,null,null,11.76,null,8.82,11.76,{"$f":"100-SUM(S73:Y73)","v":20.599999999999994},11.49,57,null,null,{"$f":"3.3/365","v":9.0410958904109592E-3},{"$f":"12/30","v":0.4},{"$f":"220/365","v":0.60273972602739723},0,0,0,1.0027397260273974,1.0027397260273974,null,null,65,16.95,{"$f":"28.8","v":28.8},0,0,0,34,13,31,0,0,0,null,null,{"$f":"100+5500","v":5600},null,null,null,60,163,0,0,0,28000,null,null,null,{"$f":"100/(6*20*2)","v":0.41666666666666669},0,0,0,0,0,0,1.5315672532167306E-2,0,0,0,null,null,null,null,0,0,0,null,null,null,{"$f":"2285.61+856.84","v":3142.4500000000003},0,null,0,null,null,null,null,null,null,null,null,null,0,0,null,null,null,115.50896435690197,0,null,0,null,null,null,null,null,null,null,null,null,null,0,0,0,null,1.44,1.44,35,null,23.95,0.89,null,0.49,null,null,null,8.0449999999999999,33,null,55,null,39.06,"Euro 4",null,null,{"$f":"Table37[[#This Row],[City Per Capita GDP (LC)]]*('GDP Deflator 1960-2011'!AZ69/'GDP Deflator 1960-2011'!BB69)*1/Table37[[#This Row],[PPP Exchange rate with the US$ (2016)]]","v":0},null,{"$f":"Table37[[#This Row],[City GDP (LC Billion)]]*'GDP Deflator 1960-2011'!AZ69/'GDP Deflator 1960-2011'!BC69*1/Table37[[#This Row],[PPP Exchange rate with the US$ (2016)]]","v":0},206000,{"$f":"Table37[[#This Row],[Median Annual household income (LC)]]*'GDP Deflator 1960-2011'!AZ69/'GDP Deflator 1960-2011'!BB69*1/Table37[[#This Row],[PPP Exchange rate with the US$ (2016)]]","v":8395.1324410544366},"45.88-50.5",{"$f":"IF(ISERROR(Table37[[#This Row],[Minimum Hourly Wage Rate (LC)]]*'CPI 1960-2011'!AY69/'CPI 1960-2011'!BC69*1/Table37[[#This Row],[PPP Exchange rate with the US$ (2016)]]), \"n/a\", Table37[[#This Row],[Minimum Hourly Wage Rate (LC)]]*'GDP Deflator 1960-2011'!AZ69/'GDP Deflator 1960-2011'!BD69*1/Table37[[#This Row],[PPP Exchange rate with the US$ (2016)]])","v":"n/a"},22.2,null,0,0,0.2873946942217962,0,"",0,0,0,0,{"$f":"IFERROR(Table37[[#This Row],[Operating Costs US$ - Bus]]/Table37[[#This Row],[Fare revenue US$- Bus]], \"\")","v":""},{"$f":"IFERROR(Table37[[#This Row],[Operating Costs US$ - Metro]]/Table37[[#This Row],[Fare revenue US$- Metro]], \"\")","v":""},{"$f":"IFERROR(Table37[[#This Row],[Operating Costs US$- LRT]]/Table37[[#This Row],[Fare revenue US$- LRT]], \"\")","v":0},{"$f":"IFERROR(Table37[[#This Row],[Operating Costs US$- Tram]]/Table37[[#This Row],[Fare revenue US$- Tram]], \"\")","v":""},{"$f":"IFERROR(Table37[[#This Row],[Operating Costs US$ - Trolley Bus]]/Table37[[#This Row],[Fare revenue US$- Trolley Buses]], \"\")","v":""},{"$f":"IFERROR((AVERAGEIF(Table37[[#This Row],[Fares for 10 km of journey (2007 US$ PPP) - Bus]:[Fares for 10 km of journey (2007 US$ PPP) - Trolley Bus]], \"<>0\")*40*12)/EO73, \"\")","v":""},{"$f":"IFERROR((AVERAGEIF(Table37[[#This Row],[Fares for 10 km of journey (2007 US$ PPP) - Regional/Commuter Rail]:[Fares for 10 km of journey (2007 US$ PPP) - BRT]], \"<>0\")*40*12)/EO73, \"\")","v":""},{"$f":"IFERROR(2*(AVERAGEIF(Table37[[#This Row],[Fares for avg. length of journey (2007 US$ PPP) - Metro]:[Fares for avg. length of journey (2007 US$ PPP) - BRT]], \"<>0\"))/(Table37[[#This Row],[Minimum Hourly Wage rate (PPP $ 2007)]]*8), \"\")","v":""},{"$f":"IFERROR(DZ73*100*12/EO73, \"\")","v":""},11.49,57,{"$f":"SUM(AP73:AQ73)+Table37[[#This Row],[Length of mass transit (km) - BRT]]","v":45.75},1.0027397260273974,{"$f":"IFERROR(FS73*10^6/(AP73+AR73+AQ73+AS73), \"\")","v":21917.808219178085},5.1461085168873495E-2,1.1867704280155642,15.229053177691313,0,0,"",0,0,1.6935758766641564,0,2.8226264611069274,1.44,1.44,{"$f":"Table37[[#This Row],[Fares for 10 km of journey (2007 US$ PPP) - Bus]]/10*Table37[[#This Row],[Average trip length by car (km)]]","v":0},{"$f":"Table37[[#This Row],[Fares for 10 km of journey (2007 US$ PPP) - Regional/Commuter Rail]]/10*Table37[[#This Row],[Average trip length by car (km)]]","v":0},{"$f":"Table37[[#This Row],[Fares for 10 km of journey (2007 US$ PPP) - Metro]]/10*Table37[[#This Row],[Average trip length by car (km)]]","v":0},{"$f":"Table37[[#This Row],[Fares for 10 km of journey (2007 US$ PPP) - LRT]]/10*Table37[[#This Row],[Average trip length by car (km)]]","v":1.7597707739460233E-2},{"$f":"Table37[[#This Row],[Fares for 10 km of journey (2007 US$ PPP) - Tram]]/10*Table37[[#This Row],[Average trip length by car (km)]]","v":0},{"$f":"Table37[[#This Row],[Fares for 10 km of journey (2007 US$ PPP) - BRT]]/10*Table37[[#This Row],[Average trip length by car (km)]]","v":0},{"$f":"Table37[[#This Row],[Fares for 10 km of journey (2007 US$ PPP) - Trolley Bus]]/10*Table37[[#This Row],[Average trip length by car (km)]]","v":0}]
[null,"Krakow","Poland","ECA",761873,756629,1362740,1339068,326.8,326.8,2991.5,3006.5,2331.3127294981641,null,9315,335554,344869,{"$f":"Q74+SUM(BA74:BE74)+BL74","v":345453},21.43,null,17.86,21.4,null,14.29,14,11.02000000000001,13,28,{"$f":"314/365","v":0.86027397260273974},null,null,0,0,null,0,0,0.86027397260273974,0,null,1472,null,0,0,79.5,0,0,null,0,0,null,0,0,null,null,584,null,null,0,null,0,518,0,0,null,{"$f":"40/(7*2)","v":2.8571428571428572},null,0,0,{"$f":"40/(7*2)","v":2.8571428571428572},0,0,1.2966183157462778,0,0,0,1.2966183157462778,0,0,null,null,0,0,null,0,0,null,null,0,0,null,null,0,null,null,0,0,0,0,null,0,0,null,0,null,null,0,0,null,null,0,null,null,0,0,0,0,null,null,0,0,null,0,0,7,0.5,2.67,4.2,null,4.2,1.1499999999999999,null,1.1000000000000001,null,5,5,8.4570000000000007,null,29.4,51,null,null,"Euro 5",14982,{"$f":"21500","v":21500},{"$f":"Table37[[#This Row],[City Per Capita GDP (LC)]]*('GDP Deflator 1960-2011'!AZ70/'GDP Deflator 1960-2011'!BB70)*1/Table37[[#This Row],[PPP Exchange rate with the US$ (2016)]]","v":11826.880170222392},{"$f":"9.779","v":9.7789999999999999},{"$f":"Table37[[#This Row],[City GDP (LC Billion)]]*'GDP Deflator 1960-2011'!AZ70/'GDP Deflator 1960-2011'!BB70*1/EV76","v":15.241364652234738},{"$f":"2336*12","v":28032},{"$f":"Table37[[#This Row],[Median Annual household income (LC)]]*'GDP Deflator 1960-2011'!AZ70/'GDP Deflator 1960-2011'!AT70*1/Table37[[#This Row],[PPP Exchange rate with the US$ (2016)]]","v":19078.214486681514},{"$f":"1500/(20*8)","v":9.375},{"$f":"IF(ISERROR(Table37[[#This Row],[Minimum Hourly Wage Rate (LC)]]*'CPI 1960-2011'!AY70/'CPI 1960-2011'!BC70*1/Table37[[#This Row],[PPP Exchange rate with the US$ (2016)]]), \"n/a\", Table37[[#This Row],[Minimum Hourly Wage Rate (LC)]]*'GDP Deflator 1960-2011'!AZ70/'GDP Deflator 1960-2011'!BD70*1/Table37[[#This Row],[PPP Exchange rate with the US$ (2016)]])","v":4.9300643656273468},1.7,null,6.8354931975285087,246.23479166972422,0.42854836579244754,2.6964594315290358E-2,"",0,0,0,0,{"$f":"IFERROR(Table37[[#This Row],[Operating Costs US$ - Bus]]/Table37[[#This Row],[Fare revenue US$- Bus]], \"\")","v":""},{"$f":"IFERROR(Table37[[#This Row],[Operating Costs US$ - Metro]]/Table37[[#This Row],[Fare revenue US$- Metro]], \"\")","v":""},{"$f":"IFERROR(Table37[[#This Row],[Operating Costs US$- LRT]]/Table37[[#This Row],[Fare revenue US$- LRT]], \"\")","v":""},{"$f":"IFERROR(Table37[[#This Row],[Operating Costs US$- Tram]]/Table37[[#This Row],[Fare revenue US$- Tram]], \"\")","v":""},{"$f":"IFERROR(Table37[[#This Row],[Operating Costs US$ - Trolley Bus]]/Table37[[#This Row],[Fare revenue US$- Trolley Buses]], \"\")","v":""},{"$f":"IFERROR((AVERAGEIF(Table37[[#This Row],[Fares for 10 km of journey (2007 US$ PPP) - Bus]:[Fares for 10 km of journey (2007 US$ PPP) - Trolley Bus]], \"<>0\")*40*12)/EO74, \"\")","v":5.262391963057407E-2},{"$f":"IFERROR((AVERAGEIF(Table37[[#This Row],[Fares for 10 km of journey (2007 US$ PPP) - Regional/Commuter Rail]:[Fares for 10 km of journey (2007 US$ PPP) - BRT]], \"<>0\")*40*12)/EO74, \"\")","v":5.262391963057407E-2},{"$f":"IFERROR(2*(AVERAGEIF(Table37[[#This Row],[Fares for avg. length of journey (2007 US$ PPP) - Metro]:[Fares for avg. length of journey (2007 US$ PPP) - BRT]], \"<>0\"))/(Table37[[#This Row],[Minimum Hourly Wage rate (PPP $ 2007)]]*8), \"\")","v":8.5475750693148889E-2},0.11668335014288475,13,28,{"$f":"SUM(AP74:AQ74)+Table37[[#This Row],[Length of mass transit (km) - BRT]]","v":0},0,0,0,0,1.5723684210526316,38.093649999999997,50,"",1.1027158542551374,0,0,21.574181428592397,37.424600437354151,0.5,2.67,{"$f":"Table37[[#This Row],[Fares for 10 km of journey (2007 US$ PPP) - Bus]]/10*Table37[[#This Row],[Average trip length by car (km)]]","v":1.6856038104701614},{"$f":"Table37[[#This Row],[Fares for 10 km of journey (2007 US$ PPP) - Regional/Commuter Rail]]/10*Table37[[#This Row],[Average trip length by car (km)]]","v":0},{"$f":"Table37[[#This Row],[Fares for 10 km of journey (2007 US$ PPP) - Metro]]/10*Table37[[#This Row],[Average trip length by car (km)]]","v":0},{"$f":"Table37[[#This Row],[Fares for 10 km of journey (2007 US$ PPP) - LRT]]/10*Table37[[#This Row],[Average trip length by car (km)]]","v":0},{"$f":"Table37[[#This Row],[Fares for 10 km of journey (2007 US$ PPP) - Tram]]/10*Table37[[#This Row],[Average trip length by car (km)]]","v":1.6856038104701614},{"$f":"Table37[[#This Row],[Fares for 10 km of journey (2007 US$ PPP) - BRT]]/10*Table37[[#This Row],[Average trip length by car (km)]]","v":0},{"$f":"Table37[[#This Row],[Fares for 10 km of journey (2007 US$ PPP) - Trolley Bus]]/10*Table37[[#This Row],[Average trip length by car (km)]]","v":0},"4,576 staff at MPK that operates bus and tram."]
[null,"Warsaw","Poland","ECA",1735442,1697596,3037890,2916969,517.20000000000005,494,742.7,5173,3355.4563031709199,958800,23686,949896,973582,975050,null,null,null,null,null,null,null,100,14,35,{"$f":"91/365","v":0.24931506849315069},null,null,0.58399999999999996,null,null,0,0,0.83331506849315062,0.58399999999999996,null,777,null,22.7,29,121,0,0,null,21,null,520,0,0,null,null,1468,null,null,154,null,40,860,0,0,null,{"$f":"474/(3*20*2)","v":3.95},{"$f":"474/(3*20*2)","v":3.95},{"$f":"474/(3*20*2)","v":3.95},null,{"$f":"474/(3*20*2)","v":3.95},0,0,1.7925748215192292,1.7925748215192292,1.7925748215192292,0,1.7925748215192292,0,0,null,null,255,null,null,0,0,null,null,224,null,null,null,0,null,null,{"$f":"275-CJ75","v":51},null,null,null,null,120.61150228796301,null,null,0,null,null,105.94892750001455,null,null,null,0,null,null,24.122300457592598,null,null,null,4632,null,1204,null,3214,0,0,7.4,0.73,2.4700000000000002,4.46,null,4.24,1.17,null,1.3,100,7,7,12.097,16,22.9,33,11.721,13.304,"Euro 5",14982,{"$f":"41400","v":41400},{"$f":"Table37[[#This Row],[City Per Capita GDP (LC)]]*('GDP Deflator 1960-2011'!AZ71/'GDP Deflator 1960-2011'!BB71)*1/Table37[[#This Row],[PPP Exchange rate with the US$ (2016)]]","v":22773.620420800329},{"$f":"42.434","v":42.433999999999997},{"$f":"Table37[[#This Row],[City GDP (LC Billion)]]*'GDP Deflator 1960-2011'!AZ71/'GDP Deflator 1960-2011'!BB71*1/EV76","v":66.136830724299912},null,{"$f":"Table37[[#This Row],[Median Annual household income (LC)]]*'GDP Deflator 1960-2011'!AZ71/'GDP Deflator 1960-2011'!AY71*1/Table37[[#This Row],[PPP Exchange rate with the US$ (2016)]]","v":0},{"$f":"1500/(20*8)","v":9.375},{"$f":"IF(ISERROR(Table37[[#This Row],[Minimum Hourly Wage Rate (LC)]]*'CPI 1960-2011'!AY71/'CPI 1960-2011'!BC71*1/Table37[[#This Row],[PPP Exchange rate with the US$ (2016)]]), \"n/a\", Table37[[#This Row],[Minimum Hourly Wage Rate (LC)]]*'GDP Deflator 1960-2011'!AZ71/'GDP Deflator 1960-2011'!BD71*1/Table37[[#This Row],[PPP Exchange rate with the US$ (2016)]])","v":4.9300643656273468},1.7,null,7.7968590041114059,312.68281603349698,0.48323013670672738,2.4292087585252038E-2,"",0,0,0,3.1553133514986378,{"$f":"IFERROR(Table37[[#This Row],[Operating Costs US$ - Bus]]/Table37[[#This Row],[Fare revenue US$- Bus]], \"\")","v":""},{"$f":"IFERROR(Table37[[#This Row],[Operating Costs US$ - Metro]]/Table37[[#This Row],[Fare revenue US$- Metro]], \"\")","v":1.1383928571428572},{"$f":"IFERROR(Table37[[#This Row],[Operating Costs US$- LRT]]/Table37[[#This Row],[Fare revenue US$- LRT]], \"\")","v":""},{"$f":"IFERROR(Table37[[#This Row],[Operating Costs US$- Tram]]/Table37[[#This Row],[Fare revenue US$- Tram]], \"\")","v":""},{"$f":"IFERROR(Table37[[#This Row],[Operating Costs US$ - Trolley Bus]]/Table37[[#This Row],[Fare revenue US$- Trolley Buses]], \"\")","v":""},{"$f":"IFERROR((AVERAGEIF(Table37[[#This Row],[Fares for 10 km of journey (2007 US$ PPP) - Bus]:[Fares for 10 km of journey (2007 US$ PPP) - Trolley Bus]], \"<>0\")*40*12)/EO75, \"\")","v":3.7782131186455944E-2},{"$f":"IFERROR((AVERAGEIF(Table37[[#This Row],[Fares for 10 km of journey (2007 US$ PPP) - Regional/Commuter Rail]:[Fares for 10 km of journey (2007 US$ PPP) - BRT]], \"<>0\")*40*12)/EO75, \"\")","v":3.7782131186455938E-2},{"$f":"IFERROR(2*(AVERAGEIF(Table37[[#This Row],[Fares for avg. length of journey (2007 US$ PPP) - Metro]:[Fares for avg. length of journey (2007 US$ PPP) - BRT]], \"<>0\"))/(Table37[[#This Row],[Minimum Hourly Wage rate (PPP $ 2007)]]*8), \"\")","v":0.12726024266660743},6.1650276682299228E-2,14,35,{"$f":"SUM(AP75:AQ75)+Table37[[#This Row],[Length of mass transit (km) - BRT]]","v":51.7},0.58399999999999996,3381.5865662999422,0.19223869198687246,9.9961330239752511E-2,{"$f":"IFERROR(((#REF!*4)+((#REF!+#REF!)*0.5)+((#REF!+#REF!)*1))/I75, \"\")","v":""},121.48094,70,"",1.2458944669504128,3.8582700492776234,5.2668134790923968,7.538126791950992,10.862802800628067,0.73,2.4700000000000002,{"$f":"Table37[[#This Row],[Fares for 10 km of journey (2007 US$ PPP) - Bus]]/10*Table37[[#This Row],[Average trip length by car (km)]]","v":2.509604750126921},{"$f":"Table37[[#This Row],[Fares for 10 km of journey (2007 US$ PPP) - Regional/Commuter Rail]]/10*Table37[[#This Row],[Average trip length by car (km)]]","v":2.509604750126921},{"$f":"Table37[[#This Row],[Fares for 10 km of journey (2007 US$ PPP) - Metro]]/10*Table37[[#This Row],[Average trip length by car (km)]]","v":2.509604750126921},{"$f":"Table37[[#This Row],[Fares for 10 km of journey (2007 US$ PPP) - LRT]]/10*Table37[[#This Row],[Average trip length by car (km)]]","v":0},{"$f":"Table37[[#This Row],[Fares for 10 km of journey (2007 US$ PPP) - Tram]]/10*Table37[[#This Row],[Average trip length by car (km)]]","v":2.509604750126921},{"$f":"Table37[[#This Row],[Fares for 10 km of journey (2007 US$ PPP) - BRT]]/10*Table37[[#This Row],[Average trip length by car (km)]]","v":0},{"$f":"Table37[[#This Row],[Fares for 10 km of journey (2007 US$ PPP) - Trolley Bus]]/10*Table37[[#This Row],[Average trip length by car (km)]]","v":0}]
[null,"Lisbon","Portugal","ECA",547733,469500,2839908,2661748,84.7,84.6,1469.9,1475.4,5543.1995277449823,260405,null,null,0,759,50,2.17,2.17,15.22,null,8.6999999999999993,17.39,4.3499999999999943,16.670000000000002,32.86,0.61041095890410957,null,0.30136986301369861,0.50076986301369864,0,4.3013698630136987E-2,2.7000000000000001E-3,null,1.181194520547945,0.57078356164383559,null,662,null,39.6,0,48,4.8,null,null,52,0,89,null,12,null,null,759,null,null,338,null,0,58,null,null,null,1,1,1,0,1,null,null,1.03911485217331,1.0391148521733116,1.0391148521733116,0,1.0391148521733116,1.98,0,null,null,210.75200000000001,0,null,null,null,null,null,62.53,0,null,null,null,null,null,1.5090000000000003,0,29.45,0,null,227.00758273937794,0,null,null,null,null,67.353022266423579,0,null,11.22,null,null,null,1.6253911818332512,0,31.721517763412351,0,null,null,1672,0,null,null,null,7.6,null,null,1.42,{"$f":"5.35/3.79","v":1.4116094986807386},1.1399999999999999,1.59,1.3253487040091019,1.27,27,2,6,null,8,28.9,15,1.9339999999999999,3.1890000000000001,"Euro 5",17094,23200,{"$f":"Table37[[#This Row],[City Per Capita GDP (LC)]]*('GDP Deflator 1960-2011'!AZ72/'GDP Deflator 1960-2011'!BB72)*1/Table37[[#This Row],[PPP Exchange rate with the US$ (2016)]]","v":37720.60694798355},50.552,{"$f":"Table37[[#This Row],[City GDP (LC Billion)]]*'GDP Deflator 1960-2011'!AZ72/'GDP Deflator 1960-2011'!BB72*1/Table37[[#This Row],[PPP Exchange rate with the US$ (2016)]]","v":82.191901829071753},23985,{"$f":"Table37[[#This Row],[Median Annual household income (LC)]]*'GDP Deflator 1960-2011'!AZ72/'GDP Deflator 1960-2011'!BB72*1/Table37[[#This Row],[PPP Exchange rate with the US$ (2016)]]","v":38996.929208939029},3.21,{"$f":"IF(ISERROR(Table37[[#This Row],[Minimum Hourly Wage Rate (LC)]]*'CPI 1960-2011'!AY72/'CPI 1960-2011'!BC72*1/Table37[[#This Row],[PPP Exchange rate with the US$ (2016)]]), \"n/a\", Table37[[#This Row],[Minimum Hourly Wage Rate (LC)]]*'GDP Deflator 1960-2011'!AZ72/'GDP Deflator 1960-2011'!BD72*1/Table37[[#This Row],[PPP Exchange rate with the US$ (2016)]])","v":5.1305599961400494},0.6,null,0,0,0.26726217891565501,0,"",0,0,0,0,{"$f":"IFERROR(Table37[[#This Row],[Operating Costs US$ - Bus]]/Table37[[#This Row],[Fare revenue US$- Bus]], \"\")","v":""},{"$f":"IFERROR(Table37[[#This Row],[Operating Costs US$ - Metro]]/Table37[[#This Row],[Fare revenue US$- Metro]], \"\")","v":3.3704142011834319},{"$f":"IFERROR(Table37[[#This Row],[Operating Costs US$- LRT]]/Table37[[#This Row],[Fare revenue US$- LRT]], \"\")","v":""},{"$f":"IFERROR(Table37[[#This Row],[Operating Costs US$- Tram]]/Table37[[#This Row],[Fare revenue US$- Tram]], \"\")","v":""},{"$f":"IFERROR(Table37[[#This Row],[Operating Costs US$ - Trolley Bus]]/Table37[[#This Row],[Fare revenue US$- Trolley Buses]], \"\")","v":""},{"$f":"IFERROR((AVERAGEIF(Table37[[#This Row],[Fares for 10 km of journey (2007 US$ PPP) - Bus]:[Fares for 10 km of journey (2007 US$ PPP) - Trolley Bus]], \"<>0\")*40*12)/EO76, \"\")","v":1.5617460876144343E-2},{"$f":"IFERROR((AVERAGEIF(Table37[[#This Row],[Fares for 10 km of journey (2007 US$ PPP) - Regional/Commuter Rail]:[Fares for 10 km of journey (2007 US$ PPP) - BRT]], \"<>0\")*40*12)/EO76, \"\")","v":1.6216105632284667E-2},{"$f":"IFERROR(2*(AVERAGEIF(Table37[[#This Row],[Fares for avg. length of journey (2007 US$ PPP) - Metro]:[Fares for avg. length of journey (2007 US$ PPP) - BRT]], \"<>0\"))/(Table37[[#This Row],[Minimum Hourly Wage rate (PPP $ 2007)]]*8), \"\")","v":0.10988191221223879},5.0582431047069804E-2,16.670000000000002,32.86,{"$f":"SUM(AP76:AQ76)+Table37[[#This Row],[Length of mass transit (km) - BRT]]","v":44.4},0.5464835616438356,5914.324260214672,0.19243002295984082,0.52420306965761509,{"$f":"IFERROR(((AP87*4)+((AR87+AS87)*0.5)+((AQ87+AS87)*1))/I76, \"\")","v":7.43801652892562E-2},10.954660000000001,20,"",144.33017127799738,0.68100797631472565,2.8169926631426088,10.176385995602674,5.2818612433923917,0,0,{"$f":"Table37[[#This Row],[Fares for 10 km of journey (2007 US$ PPP) - Bus]]/10*Table37[[#This Row],[Average trip length by car (km)]]","v":1.7322044585729079},{"$f":"Table37[[#This Row],[Fares for 10 km of journey (2007 US$ PPP) - Regional/Commuter Rail]]/10*Table37[[#This Row],[Average trip length by car (km)]]","v":1.7322044585729104},{"$f":"Table37[[#This Row],[Fares for 10 km of journey (2007 US$ PPP) - Metro]]/10*Table37[[#This Row],[Average trip length by car (km)]]","v":1.7322044585729104},{"$f":"Table37[[#This Row],[Fares for 10 km of journey (2007 US$ PPP) - LRT]]/10*Table37[[#This Row],[Average trip length by car (km)]]","v":0},{"$f":"Table37[[#This Row],[Fares for 10 km of journey (2007 US$ PPP) - Tram]]/10*Table37[[#This Row],[Average trip length by car (km)]]","v":1.7322044585729104},{"$f":"Table37[[#This Row],[Fares for 10 km of journey (2007 US$ PPP) - BRT]]/10*Table37[[#This Row],[Average trip length by car (km)]]","v":3.3006600000000006},{"$f":"Table37[[#This Row],[Fares for 10 km of journey (2007 US$ PPP) - Trolley Bus]]/10*Table37[[#This Row],[Average trip length by car (km)]]","v":0},"2,787 staff at Carris that operates bus and tramways."]
[null,"Moscow","Russia","ECA",10563000,9933000,15220986,13700000,{"$f":"E77/9682","v":1090.9935963643875},null,3575.96,null,9682,null,null,4000000,4000000,{"$f":"Q77+SUM(BA77:BE77)+BL77","v":4006127},23.58,1.63,2.44,16.260000000000002,null,8.1300000000000008,33.770000000000003,14.189999999999998,20.87,31.55,{"$f":"3000/365","v":8.2191780821917817},null,null,{"$f":"2388.8/365","v":6.5446575342465758},null,{"$f":"500/365","v":1.3698630136986301},0,{"$f":"1375/365","v":3.7671232876712328},19.900821917808219,11.681643835616439,5000,4965,null,308.7,4.7,425,0,927,null,186,null,null,null,0,null,null,5627,null,null,4342,null,null,934,0,1700,500,{"$f":"700/60","v":11.666666666666666},{"$f":"700/60","v":11.666666666666666},{"$f":"700/60","v":11.666666666666666},null,{"$f":"700/60","v":11.666666666666666},0,{"$f":"700/60","v":11.666666666666666},0.50017657749627698,0.50017657749627742,0.50017657749627742,0,0.50017657749627742,0,0.50017657749627742,null,null,null,null,null,0,null,null,null,null,null,null,null,null,null,null,null,null,null,null,null,null,null,null,null,null,null,null,null,null,null,null,null,null,null,null,null,null,35763,null,null,null,null,0,null,null,null,null,34.5,{"$f":"2.1/3.79","v":0.55408970976253302},33.46,0.55000000000000004,0.73899999999999999,0.54,null,null,null,13.988,109,null,33,74.753,40.229999999999997,"EURO V",null,null,{"$f":"Table37[[#This Row],[City Per Capita GDP (LC)]]*('GDP Deflator 1960-2011'!AZ73/'GDP Deflator 1960-2011'!BB73)*1/Table37[[#This Row],[PPP Exchange rate with the US$ (2016)]]","v":0},null,{"$f":"Table37[[#This Row],[City GDP (LC Billion)]]*'GDP Deflator 1960-2011'!AZ73/'GDP Deflator 1960-2011'!BC73*1/Table37[[#This Row],[PPP Exchange rate with the US$ (2016)]]","v":0},{"$f":"8481*31.58","v":267829.98},{"$f":"Table37[[#This Row],[Median Annual household income (LC)]]*'GDP Deflator 1960-2011'!AZ73/'GDP Deflator 1960-2011'!AY73*1/Table37[[#This Row],[PPP Exchange rate with the US$ (2016)]]","v":12143.520205006575},{"$f":"4611/(20*8)","v":28.818750000000001},{"$f":"IF(ISERROR(Table37[[#This Row],[Minimum Hourly Wage Rate (LC)]]*'CPI 1960-2011'!AY73/'CPI 1960-2011'!BC73*1/Table37[[#This Row],[PPP Exchange rate with the US$ (2016)]]), \"n/a\", Table37[[#This Row],[Minimum Hourly Wage Rate (LC)]]*'GDP Deflator 1960-2011'!AZ73/'GDP Deflator 1960-2011'!BD73*1/Table37[[#This Row],[PPP Exchange rate with the US$ (2016)]])","v":0.73797925815664267},25.1,null,0,262.79506465612673,0.36968695720500633,0,802.9135,5000,328.49383082015845,4.5829783205528738,6.3556068953261065,{"$f":"IFERROR(Table37[[#This Row],[Operating Costs US$ - Bus]]/Table37[[#This Row],[Fare revenue US$- Bus]], \"\")","v":""},{"$f":"IFERROR(Table37[[#This Row],[Operating Costs US$ - Metro]]/Table37[[#This Row],[Fare revenue US$- Metro]], \"\")","v":""},{"$f":"IFERROR(Table37[[#This Row],[Operating Costs US$- LRT]]/Table37[[#This Row],[Fare revenue US$- LRT]], \"\")","v":""},{"$f":"IFERROR(Table37[[#This Row],[Operating Costs US$- Tram]]/Table37[[#This Row],[Fare revenue US$- Tram]], \"\")","v":""},{"$f":"IFERROR(Table37[[#This Row],[Operating Costs US$ - Trolley Bus]]/Table37[[#This Row],[Fare revenue US$- Trolley Buses]], \"\")","v":""},{"$f":"IFERROR((AVERAGEIF(Table37[[#This Row],[Fares for 10 km of journey (2007 US$ PPP) - Bus]:[Fares for 10 km of journey (2007 US$ PPP) - Trolley Bus]], \"<>0\")*40*12)/EO77, \"\")","v":""},{"$f":"IFERROR((AVERAGEIF(Table37[[#This Row],[Fares for 10 km of journey (2007 US$ PPP) - Regional/Commuter Rail]:[Fares for 10 km of journey (2007 US$ PPP) - BRT]], \"<>0\")*40*12)/EO77, \"\")","v":""},{"$f":"IFERROR(2*(AVERAGEIF(Table37[[#This Row],[Fares for avg. length of journey (2007 US$ PPP) - Metro]:[Fares for avg. length of journey (2007 US$ PPP) - BRT]], \"<>0\"))/(Table37[[#This Row],[Minimum Hourly Wage rate (PPP $ 2007)]]*8), \"\")","v":0.35362393512324186},"",20.87,31.55,{"$f":"SUM(AP77:AQ77)+Table37[[#This Row],[Length of mass transit (km) - BRT]]","v":313.39999999999998},7.9145205479452061,10718.473114768696,0.51997423477987603,0.28726108113225407,6.5215781501467396E-2,0,0,0,0,4.9111798670598601,7.1611655118794539,0,2.1680592834130459,0,0,{"$f":"Table37[[#This Row],[Fares for 10 km of journey (2007 US$ PPP) - Bus]]/10*Table37[[#This Row],[Average trip length by car (km)]]","v":1.0438685172347302},{"$f":"Table37[[#This Row],[Fares for 10 km of journey (2007 US$ PPP) - Regional/Commuter Rail]]/10*Table37[[#This Row],[Average trip length by car (km)]]","v":1.0438685172347311},{"$f":"Table37[[#This Row],[Fares for 10 km of journey (2007 US$ PPP) - Metro]]/10*Table37[[#This Row],[Average trip length by car (km)]]","v":1.0438685172347311},{"$f":"Table37[[#This Row],[Fares for 10 km of journey (2007 US$ PPP) - LRT]]/10*Table37[[#This Row],[Average trip length by car (km)]]","v":0},{"$f":"Table37[[#This Row],[Fares for 10 km of journey (2007 US$ PPP) - Tram]]/10*Table37[[#This Row],[Average trip length by car (km)]]","v":1.0438685172347311},{"$f":"Table37[[#This Row],[Fares for 10 km of journey (2007 US$ PPP) - BRT]]/10*Table37[[#This Row],[Average trip length by car (km)]]","v":0},{"$f":"Table37[[#This Row],[Fares for 10 km of journey (2007 US$ PPP) - Trolley Bus]]/10*Table37[[#This Row],[Average trip length by car (km)]]","v":1.0438685172347311}]
[null,"Singapore","Singapore","EAP",3933000,null,5607000,4266000,719.2,707,723.2,682.7,5468.5761957730811,3664600,143052,552427,695479,956704,16.670000000000002,3.7,3.7,14.81,{"$f":"24939*100/1875642","v":1.3296247364902258},29.69,22.22,7.8803752635097766,18.489999999999998,27.33,{"$f":"0.796+2.502","v":3.298},null,null,{"$f":"536.6/365+0.427","v":1.8971369863013701},{"$f":"16.3/365+0.06","v":0.10465753424657534},0,0,0,5.2997945205479455,2.0017945205479455,3496,2712.8,null,{"$f":"98.9+40","v":138.9},28.8,0,0,0,null,{"$f":"53+16","v":69},{"$f":"14+12","v":26},0,0,0,null,null,18804,null,null,636,null,19,0,0,0,{"$f":"13919+27051","v":40970},0.73,0,1.52,1.27,0,0,0,0.57241903202341882,0,1.1918862036652007,0.99585228858868746,0,0,0,{"$f":"705.417+741","v":1446.4169999999999},null,null,null,0,0,0,{"$f":"199.669+566.093","v":765.76199999999994},null,{"$f":"480.743+134.456","v":615.19899999999996},8.7460000000000004,0,null,0,{"$f":"36.189+14.368+205.8","v":256.35700000000003},null,null,null,null,null,742.78018968936738,427.27585523094194,23.571116779894691,0,0,631.93001921152177,0,494.01057915274873,20.891052890901644,0,0,0,131.647305782632,null,75.728615205323649,4.1776477906049676,null,null,{"$f":"0.34*6651+6595","v":8856.34},null,{"$f":"0.52*6651+770","v":4228.5200000000004},null,0,0,0,12,0.55000000000000004,2.2000000000000002,2.1800000000000002,null,1.1599999999999999,1.56,1.27,0.84,{"$f":"10582/G78*100000","v":188.72837524522916},{"$f":"141/G78*100000","v":2.5147137506688066},null,7.8689999999999998,11,23,30,46.831000000000003,4.51,"Euro 4",null,{"$f":"EP78*10^9/G78","v":59584.804708400217},{"$f":"Table37[[#This Row],[City Per Capita GDP (LC)]]*('GDP Deflator 1960-2011'!AZ74/'GDP Deflator 1960-2011'!BD74)*1/Table37[[#This Row],[PPP Exchange rate with the US$ (2016)]]","v":53769.488902725032},334.09199999999998,{"$f":"Table37[[#This Row],[City GDP (LC Billion)]]*'GDP Deflator 1960-2011'!AZ74/'GDP Deflator 1960-2011'!BD74*1/Table37[[#This Row],[PPP Exchange rate with the US$ (2016)]]","v":301.4855242775792},{"$f":"7570*12","v":90840},{"$f":"Table37[[#This Row],[Median Annual household income (LC)]]*'GDP Deflator 1960-2011'!AZ74/'GDP Deflator 1960-2011'!BD74*1/Table37[[#This Row],[PPP Exchange rate with the US$ (2016)]]","v":81974.261656595481},"No minimum wage",{"$f":"IF(ISERROR(Table37[[#This Row],[Minimum Hourly Wage Rate (LC)]]*'CPI 1960-2011'!AY74/'CPI 1960-2011'!BC74*1/Table37[[#This Row],[PPP Exchange rate with the US$ (2016)]]), \"n/a\", Table37[[#This Row],[Minimum Hourly Wage Rate (LC)]]*'GDP Deflator 1960-2011'!AZ74/'GDP Deflator 1960-2011'!BD74*1/Table37[[#This Row],[PPP Exchange rate with the US$ (2016)]])","v":"n/a"},1.1000000000000001,null,25.513108614232209,98.52452291778134,3.3536650615302301,0.1495258721610864,203.64216247139589,3496,623.50633137149987,{"$f":"IFERROR(AM78/K78, \"\")","v":4.8340707964601766},0.47098170601999573,{"$f":"IFERROR(Table37[[#This Row],[Operating Costs US$ - Bus]]/Table37[[#This Row],[Fare revenue US$- Bus]], \"\")","v":1.1754152629371155},{"$f":"IFERROR(Table37[[#This Row],[Operating Costs US$ - Metro]]/Table37[[#This Row],[Fare revenue US$- Metro]], \"\")","v":0.86491235868620475},{"$f":"IFERROR(Table37[[#This Row],[Operating Costs US$- LRT]]/Table37[[#This Row],[Fare revenue US$- LRT]], \"\")","v":1.128287640790008},{"$f":"IFERROR(Table37[[#This Row],[Operating Costs US$- Tram]]/Table37[[#This Row],[Fare revenue US$- Tram]], \"\")","v":""},{"$f":"IFERROR(Table37[[#This Row],[Operating Costs US$ - Trolley Bus]]/Table37[[#This Row],[Fare revenue US$- Trolley Buses]], \"\")","v":""},{"$f":"IFERROR((AVERAGEIF(Table37[[#This Row],[Fares for 10 km of journey (2007 US$ PPP) - Bus]:[Fares for 10 km of journey (2007 US$ PPP) - Trolley Bus]], \"<>0\")*40*12)/EO78, \"\")","v":8.2133048480955064E-3},{"$f":"IFERROR((AVERAGEIF(Table37[[#This Row],[Fares for 10 km of journey (2007 US$ PPP) - Regional/Commuter Rail]:[Fares for 10 km of journey (2007 US$ PPP) - BRT]], \"<>0\")*40*12)/EO78, \"\")","v":9.7649661333180978E-3},{"$f":"IFERROR(2*(AVERAGEIF(Table37[[#This Row],[Fares for avg. length of journey (2007 US$ PPP) - Metro]:[Fares for avg. length of journey (2007 US$ PPP) - BRT]], \"<>0\"))/(Table37[[#This Row],[Minimum Hourly Wage rate (PPP $ 2007)]]*8), \"\")","v":""},3.4815283503747928E-2,18.489999999999998,27.33,{"$f":"SUM(AP78:AQ78)+Table37[[#This Row],[Length of mass transit (km) - BRT]]","v":167.70000000000002},2.0017945205479455,11936.759216147557,0.35701703594577233,0.23317575083426029,0.17887931034482757,98.903691813804173,25.147137506688068,2.8290529695024078E-2,1.0337961565312173,8.3522382735865879,1.9618334225075797,4.1020153379703936,5.3504547886570357,0.55000000000000004,2.2000000000000002,{"$f":"Table37[[#This Row],[Fares for 10 km of journey (2007 US$ PPP) - Bus]]/10*Table37[[#This Row],[Average trip length by car (km)]]","v":1.0584027902113013},{"$f":"Table37[[#This Row],[Fares for 10 km of journey (2007 US$ PPP) - Regional/Commuter Rail]]/10*Table37[[#This Row],[Average trip length by car (km)]]","v":0},{"$f":"Table37[[#This Row],[Fares for 10 km of journey (2007 US$ PPP) - Metro]]/10*Table37[[#This Row],[Average trip length by car (km)]]","v":2.203797590576956},{"$f":"Table37[[#This Row],[Fares for 10 km of journey (2007 US$ PPP) - LRT]]/10*Table37[[#This Row],[Average trip length by car (km)]]","v":1.841330881600483},{"$f":"Table37[[#This Row],[Fares for 10 km of journey (2007 US$ PPP) - Tram]]/10*Table37[[#This Row],[Average trip length by car (km)]]","v":0},{"$f":"Table37[[#This Row],[Fares for 10 km of journey (2007 US$ PPP) - BRT]]/10*Table37[[#This Row],[Average trip length by car (km)]]","v":0},{"$f":"Table37[[#This Row],[Fares for 10 km of journey (2007 US$ PPP) - Trolley Bus]]/10*Table37[[#This Row],[Average trip length by car (km)]]","v":0}]
[null,"Johannesburg","South Africa","AFR",3888180,3225309,8000159,null,508.69,508.69,2625.68,1640.99,7643.5156971829601,1410000,38579,852935,891514,{"$f":"Q79+SUM(BA79:BE79)+BL79","v":917042},77.59,10.34,null,1.72,null,1.72,1.72,6.9099999999999966,22.11,43.64,{"$f":"28.56/365","v":7.8246575342465749E-2},{"$f":"2513.82/365","v":6.887178082191781},{"$f":"491/365+482/365","v":2.6657534246575341},0,0,0,3.7999999999999999E-2,0,7.0034246575342474,3.7999999999999999E-2,10000,630,{"$f":"456+80","v":536},0,0,0,25,0,{"$f":"162+10","v":172},0,0,0,0,33,null,null,4936,19600,null,0,1757,0,0,143,0,{"$f":"992","v":992},null,null,0,0,0,null,0,0,0,0,0,0,0,0,{"$f":"42.44+276.85","v":319.29000000000002},null,0,0,0,null,0,{"$f":"13.074+1696.54","v":1709.614},null,0,0,0,null,0,null,null,0,0,0,0,null,0,0,0,0,1589.7455964385363,null,0,0,0,null,0,null,null,0,0,0,0,969,null,0,0,0,null,0,null,0.46,2.19,12.2,{"$f":"2.62/3.79","v":0.69129287598944589},12.14,0.93,1.07,0.87,null,{"$f":"600/E79*100000","v":15.431384349489992},null,26.18,19,31,85,24.716000000000001,null,"Euro 2",null,{"$f":"10600*10.59","v":112254},{"$f":"Table37[[#This Row],[City Per Capita GDP (LC)]]*('GDP Deflator 1960-2011'!AZ75/'GDP Deflator 1960-2011'!BB75)*1/Table37[[#This Row],[PPP Exchange rate with the US$ (2016)]]","v":16601.075200912328},426.56,{"$f":"Table37[[#This Row],[City GDP (LC Billion)]]*'GDP Deflator 1960-2011'!AZ75/'GDP Deflator 1960-2011'!BB75*1/Table37[[#This Row],[PPP Exchange rate with the US$ (2016)]]","v":63.083316743288989},177000,{"$f":"Table37[[#This Row],[Median Annual household income (LC)]]*'GDP Deflator 1960-2011'!AZ75/'GDP Deflator 1960-2011'!AX75*1/Table37[[#This Row],[PPP Exchange rate with the US$ (2016)]]","v":35135.697841348374},8.34,{"$f":"IF(ISERROR(Table37[[#This Row],[Minimum Hourly Wage Rate (LC)]]*'CPI 1960-2011'!AY75/'CPI 1960-2011'!BC75*1/Table37[[#This Row],[PPP Exchange rate with the US$ (2016)]]), \"n/a\", Table37[[#This Row],[Minimum Hourly Wage Rate (LC)]]*'GDP Deflator 1960-2011'!AZ75/'GDP Deflator 1960-2011'!BD75*1/Table37[[#This Row],[PPP Exchange rate with the US$ (2016)]])","v":1.0587348448983855},5.8,null,4.8222791572017503,106.61475603172387,3.0669390445864888,4.2068956492723346E-2,93.455650000000006,10000,1249.9751567437597,{"$f":"IFERROR(AM79/K79, \"\")","v":3.8085372170256848},3.9492989892402998E-2,{"$f":"IFERROR(Table37[[#This Row],[Operating Costs US$ - Bus]]/Table37[[#This Row],[Fare revenue US$- Bus]], \"\")","v":0},{"$f":"IFERROR(Table37[[#This Row],[Operating Costs US$ - Metro]]/Table37[[#This Row],[Fare revenue US$- Metro]], \"\")","v":""},{"$f":"IFERROR(Table37[[#This Row],[Operating Costs US$- LRT]]/Table37[[#This Row],[Fare revenue US$- LRT]], \"\")","v":""},{"$f":"IFERROR(Table37[[#This Row],[Operating Costs US$- Tram]]/Table37[[#This Row],[Fare revenue US$- Tram]], \"\")","v":""},{"$f":"IFERROR(Table37[[#This Row],[Operating Costs US$ - Trolley Bus]]/Table37[[#This Row],[Fare revenue US$- Trolley Buses]], \"\")","v":""},{"$f":"IFERROR((AVERAGEIF(Table37[[#This Row],[Fares for 10 km of journey (2007 US$ PPP) - Bus]:[Fares for 10 km of journey (2007 US$ PPP) - Trolley Bus]], \"<>0\")*40*12)/EO79, \"\")","v":""},{"$f":"IFERROR((AVERAGEIF(Table37[[#This Row],[Fares for 10 km of journey (2007 US$ PPP) - Regional/Commuter Rail]:[Fares for 10 km of journey (2007 US$ PPP) - BRT]], \"<>0\")*40*12)/EO79, \"\")","v":""},{"$f":"IFERROR(2*(AVERAGEIF(Table37[[#This Row],[Fares for avg. length of journey (2007 US$ PPP) - Metro]:[Fares for avg. length of journey (2007 US$ PPP) - BRT]], \"<>0\"))/(Table37[[#This Row],[Minimum Hourly Wage rate (PPP $ 2007)]]*8), \"\")","v":""},6.7224561451216677E-2,22.11,43.64,{"$f":"SUM(AP79:AQ79)+Table37[[#This Row],[Length of mass transit (km) - BRT]]","v":25},3.7999999999999999E-2,1520,4.7499055956262866E-3,4.9145845210245925E-2,0.5897501425229511,600,154.31384349489991,0.06,6.5427755762549591,3.0894385974078764,2.3749527978131435,3.8749229859056551,10.624788832321958,0.46,2.19,{"$f":"Table37[[#This Row],[Fares for 10 km of journey (2007 US$ PPP) - Bus]]/10*Table37[[#This Row],[Average trip length by car (km)]]","v":0},{"$f":"Table37[[#This Row],[Fares for 10 km of journey (2007 US$ PPP) - Regional/Commuter Rail]]/10*Table37[[#This Row],[Average trip length by car (km)]]","v":0},{"$f":"Table37[[#This Row],[Fares for 10 km of journey (2007 US$ PPP) - Metro]]/10*Table37[[#This Row],[Average trip length by car (km)]]","v":0},{"$f":"Table37[[#This Row],[Fares for 10 km of journey (2007 US$ PPP) - LRT]]/10*Table37[[#This Row],[Average trip length by car (km)]]","v":0},{"$f":"Table37[[#This Row],[Fares for 10 km of journey (2007 US$ PPP) - Tram]]/10*Table37[[#This Row],[Average trip length by car (km)]]","v":0},{"$f":"Table37[[#This Row],[Fares for 10 km of journey (2007 US$ PPP) - BRT]]/10*Table37[[#This Row],[Average trip length by car (km)]]","v":0},{"$f":"Table37[[#This Row],[Fares for 10 km of journey (2007 US$ PPP) - Trolley Bus]]/10*Table37[[#This Row],[Average trip length by car (km)]]","v":0}]
[null,"Busan","South Korea","EAP",3573533,null,3974065,3837305,769.69,null,4788.5,null,4642.8211357819382,null,112568,{"$f":"863209+1435","v":864644},977212,1272535,null,null,null,null,null,null,null,100,null,null,null,null,null,{"$f":"300/365","v":0.82191780821917804},null,0,0,0,0.82191780821917804,0.82191780821917804,3073,null,null,88.8,23.5,0,0,0,null,90,18,0,0,0,null,null,5774,null,null,776,null,null,0,0,0,36690,1080,null,{"$f":"50000/60","v":833.33333333333337},null,0,0,0,1.2505021182311522,0,0.96489360974625948,0,0,0,0,null,null,null,null,0,0,0,null,null,null,null,0,null,0,null,null,null,null,null,null,null,null,null,0,0,null,null,null,null,0,null,0,null,null,null,null,null,null,null,null,2600,null,0,0,0,null,null,null,1.4419999999999999,null,0.99,1.2869999999999999,null,1.03,null,null,null,null,60,51,48,null,26.815000000000001,"Euro 5",null,{"$f":"EP80*10^9/E80","v":17543422.713600237},{"$f":"Table37[[#This Row],[City Per Capita GDP (LC)]]*('GDP Deflator 1960-2011'!AZ76/'GDP Deflator 1960-2011'!BC76)*1/Table37[[#This Row],[PPP Exchange rate with the US$ (2016)]]","v":17765.521748685846},62692,{"$f":"Table37[[#This Row],[City GDP (LC Billion)]]*'GDP Deflator 1960-2011'!AZ76/'GDP Deflator 1960-2011'!BC76*1/Table37[[#This Row],[PPP Exchange rate with the US$ (2016)]]","v":63.485678231146586},"n/a","n/a",4580,{"$f":"IF(ISERROR(Table37[[#This Row],[Minimum Hourly Wage Rate (LC)]]*'CPI 1960-2011'!AY76/'CPI 1960-2011'!BC76*1/Table37[[#This Row],[PPP Exchange rate with the US$ (2016)]]), \"n/a\", Table37[[#This Row],[Minimum Hourly Wage Rate (LC)]]*'GDP Deflator 1960-2011'!AZ76/'GDP Deflator 1960-2011'!BD76*1/Table37[[#This Row],[PPP Exchange rate with the US$ (2016)]])","v":4.5584454165011721},895.4,null,28.325656475170891,217.57168038268122,1.4529203724649697,{"$f":"IFERROR(O80/#REF!, \"\")","v":""},316.32053368044257,3073,773.26364817887975,{"$f":"IFERROR(AM80/I80, \"\")","v":3.9925164676688016},0,{"$f":"IFERROR(Table37[[#This Row],[Operating Costs US$ - Bus]]/Table37[[#This Row],[Fare revenue US$- Bus]], \"\")","v":""},{"$f":"IFERROR(Table37[[#This Row],[Operating Costs US$ - Metro]]/Table37[[#This Row],[Fare revenue US$- Metro]], \"\")","v":""},{"$f":"IFERROR(Table37[[#This Row],[Operating Costs US$- LRT]]/Table37[[#This Row],[Fare revenue US$- LRT]], \"\")","v":""},{"$f":"IFERROR(Table37[[#This Row],[Operating Costs US$- Tram]]/Table37[[#This Row],[Fare revenue US$- Tram]], \"\")","v":""},{"$f":"IFERROR(Table37[[#This Row],[Operating Costs US$ - Trolley Bus]]/Table37[[#This Row],[Fare revenue US$- Trolley Buses]], \"\")","v":""},{"$f":"IFERROR((AVERAGEIF(Table37[[#This Row],[Fares for 10 km of journey (2007 US$ PPP) - Bus]:[Fares for 10 km of journey (2007 US$ PPP) - Trolley Bus]], \"<>0\")*40*12)/EO80, \"\")","v":2.9928475067382103E-2},{"$f":"IFERROR((AVERAGEIF(Table37[[#This Row],[Fares for 10 km of journey (2007 US$ PPP) - Regional/Commuter Rail]:[Fares for 10 km of journey (2007 US$ PPP) - BRT]], \"<>0\")*40*12)/EO80, \"\")","v":2.6070100232911241E-2},{"$f":"IFERROR(2*(AVERAGEIF(Table37[[#This Row],[Fares for avg. length of journey (2007 US$ PPP) - Metro]:[Fares for avg. length of journey (2007 US$ PPP) - BRT]], \"<>0\"))/(Table37[[#This Row],[Minimum Hourly Wage rate (PPP $ 2007)]]*8), \"\")","v":""},8.6932431360437948E-2,0,0,{"$f":"SUM(AP80:AQ80)+Table37[[#This Row],[Length of mass transit (km) - BRT]]","v":112.3},0.82191780821917804,7318.9475353444168,0.20682042397876682,0.14590289597110523,5.4047733503098647E-2,0,0,0,{"$f":"IFERROR(FX80/(#REF!/10^4), \"\")","v":""},0,15.097890950449981,12.833207307882484,12.078312760359985,0,0,{"$f":"Table37[[#This Row],[Fares for 10 km of journey (2007 US$ PPP) - Bus]]/10*Table37[[#This Row],[Average trip length by car (km)]]","v":0},{"$f":"Table37[[#This Row],[Fares for 10 km of journey (2007 US$ PPP) - Regional/Commuter Rail]]/10*Table37[[#This Row],[Average trip length by car (km)]]","v":0},{"$f":"Table37[[#This Row],[Fares for 10 km of journey (2007 US$ PPP) - Metro]]/10*Table37[[#This Row],[Average trip length by car (km)]]","v":0},{"$f":"Table37[[#This Row],[Fares for 10 km of journey (2007 US$ PPP) - LRT]]/10*Table37[[#This Row],[Average trip length by car (km)]]","v":0},{"$f":"Table37[[#This Row],[Fares for 10 km of journey (2007 US$ PPP) - Tram]]/10*Table37[[#This Row],[Average trip length by car (km)]]","v":0},{"$f":"Table37[[#This Row],[Fares for 10 km of journey (2007 US$ PPP) - BRT]]/10*Table37[[#This Row],[Average trip length by car (km)]]","v":0},{"$f":"Table37[[#This Row],[Fares for 10 km of journey (2007 US$ PPP) - Trolley Bus]]/10*Table37[[#This Row],[Average trip length by car (km)]]","v":0}]
[null,"Seoul","South Korea","EAP",10296790,null,24100000,22742000,605.21,null,11731,null,16935.739660613672,null,406229,2305708,2711937,3387689,26,null,null,null,6,28,35,5,11.4,27,5.1013698630136988,null,2.2191780821917808,5.6639726027397259,0,0,0.4,0,11.165342465753424,6.0639726027397263,8198,null,259.3,350,0,0,43,0,132,263,0,0,0,73,null,null,17608,null,null,3604,1850,0,0,500,0,137553,1050,null,1050,0,0,1,0,1.2157659482802867,0,1.2157659482802867,0,0,1.3380835814006007,0,null,null,735476.08635899995,0,0,null,0,null,null,447640.74807099998,0,0,null,0,null,null,66099.303,0,null,0,null,980.76555055207359,0,0,0,null,null,596.93392195092679,0,0,null,0,null,null,88.144156554207228,0,null,0,null,null,16045,0,0,null,0,null,0.47,2.0499999999999998,1.4,null,1202.9000000000001,1.3,1.46,1.08,null,null,null,17.029,44,60,46,47.612000000000002,49.75,"Euro 5",null,{"$f":"EP81*10^9/E81","v":27547517.235954117},{"$f":"Table37[[#This Row],[City Per Capita GDP (LC)]]*('GDP Deflator 1960-2011'!AZ77/'GDP Deflator 1960-2011'!BC77)*1/Table37[[#This Row],[PPP Exchange rate with the US$ (2016)]]","v":27896.2677105332},283651,{"$f":"Table37[[#This Row],[City GDP (LC Billion)]]*'GDP Deflator 1960-2011'!AZ77/'GDP Deflator 1960-2011'!BC77*1/Table37[[#This Row],[PPP Exchange rate with the US$ (2016)]]","v":287.24201039914118},"n/a","n/a",4580,{"$f":"IF(ISERROR(Table37[[#This Row],[Minimum Hourly Wage Rate (LC)]]*'CPI 1960-2011'!AY77/'CPI 1960-2011'!BC77*1/Table37[[#This Row],[PPP Exchange rate with the US$ (2016)]]), \"n/a\", Table37[[#This Row],[Minimum Hourly Wage Rate (LC)]]*'GDP Deflator 1960-2011'!AZ77/'GDP Deflator 1960-2011'!BD77*1/Table37[[#This Row],[PPP Exchange rate with the US$ (2016)]])","v":4.5584454165011721},895.4,null,16.855975103734441,95.672531120331939,0.73062240663900413,{"$f":"IFERROR(O81/#REF!, \"\")","v":""},328.17705537936081,8198,340.16597510373441,13.545711405958262,0,{"$f":"IFERROR(Table37[[#This Row],[Operating Costs US$ - Bus]]/Table37[[#This Row],[Fare revenue US$- Bus]], \"\")","v":""},{"$f":"IFERROR(Table37[[#This Row],[Operating Costs US$ - Metro]]/Table37[[#This Row],[Fare revenue US$- Metro]], \"\")","v":1.6430052213261572},{"$f":"IFERROR(Table37[[#This Row],[Operating Costs US$- LRT]]/Table37[[#This Row],[Fare revenue US$- LRT]], \"\")","v":""},{"$f":"IFERROR(Table37[[#This Row],[Operating Costs US$- Tram]]/Table37[[#This Row],[Fare revenue US$- Tram]], \"\")","v":""},{"$f":"IFERROR(Table37[[#This Row],[Operating Costs US$ - Trolley Bus]]/Table37[[#This Row],[Fare revenue US$- Trolley Buses]], \"\")","v":""},{"$f":"IFERROR((AVERAGEIF(Table37[[#This Row],[Fares for 10 km of journey (2007 US$ PPP) - Bus]:[Fares for 10 km of journey (2007 US$ PPP) - Trolley Bus]], \"<>0\")*40*12)/EO81, \"\")","v":2.1620758831693173E-2},{"$f":"IFERROR((AVERAGEIF(Table37[[#This Row],[Fares for 10 km of journey (2007 US$ PPP) - Regional/Commuter Rail]:[Fares for 10 km of journey (2007 US$ PPP) - BRT]], \"<>0\")*40*12)/EO81, \"\")","v":2.197153732117298E-2},{"$f":"IFERROR(2*(AVERAGEIF(Table37[[#This Row],[Fares for avg. length of journey (2007 US$ PPP) - Metro]:[Fares for avg. length of journey (2007 US$ PPP) - BRT]], \"<>0\"))/(Table37[[#This Row],[Minimum Hourly Wage rate (PPP $ 2007)]]*8), \"\")","v":7.9835014950964456E-2},5.5921459321634198E-2,11.4,27,{"$f":"SUM(AP81:AQ81)+Table37[[#This Row],[Length of mass transit (km) - BRT]]","v":393},6.0639726027397263,15429.955732162152,0.25161712044563178,0.64936137869499844,2.7940714793212273,0,0,0,{"$f":"IFERROR(FX81/(#REF!/10^4), \"\")","v":""},1.9756016597510373,1.8257261410788381,2.4896265560165975,1.908713692946058,0.47,2.0499999999999998,{"$f":"Table37[[#This Row],[Fares for 10 km of journey (2007 US$ PPP) - Bus]]/10*Table37[[#This Row],[Average trip length by car (km)]]","v":1.3859731810395268},{"$f":"Table37[[#This Row],[Fares for 10 km of journey (2007 US$ PPP) - Regional/Commuter Rail]]/10*Table37[[#This Row],[Average trip length by car (km)]]","v":0},{"$f":"Table37[[#This Row],[Fares for 10 km of journey (2007 US$ PPP) - Metro]]/10*Table37[[#This Row],[Average trip length by car (km)]]","v":1.3859731810395268},{"$f":"Table37[[#This Row],[Fares for 10 km of journey (2007 US$ PPP) - LRT]]/10*Table37[[#This Row],[Average trip length by car (km)]]","v":0},{"$f":"Table37[[#This Row],[Fares for 10 km of journey (2007 US$ PPP) - Tram]]/10*Table37[[#This Row],[Average trip length by car (km)]]","v":0},{"$f":"Table37[[#This Row],[Fares for 10 km of journey (2007 US$ PPP) - BRT]]/10*Table37[[#This Row],[Average trip length by car (km)]]","v":1.5254152827966847},{"$f":"Table37[[#This Row],[Fares for 10 km of journey (2007 US$ PPP) - Trolley Bus]]/10*Table37[[#This Row],[Average trip length by car (km)]]","v":0}]
[null,"Barcelona","Spain","OECD",1604555,1593075,5079181,3987983,102,98.7,3242,null,15730.931372549019,1306100,null,1187000,0,0,60,0,0,20,0,0,0,20,23.35,36.33,0.51400000000000001,null,0.21,null,null,6.515E-2,null,null,1.5640000000000001,1.5640000000000001,1275,873.18,143,119,2.1,31,22,0,75,156,5,56,0,37,null,null,1070,null,null,816,742,null,37,null,0,null,2.2000000000000002,1.6975,1.6975,null,null,0,0,2.0699999999999998,2.2243556672036111,2.2243556672036111,0,0,2.36,0,268.50799999999998,null,376.19,null,null,0,0,117.004,null,218.024,null,null,null,0,14.246,null,17.984999999999999,null,184.096,null,363.09106668216157,508.70450182177944,0,null,0,158.21914865136097,null,294.8238664110998,null,null,20794,0,19.264213118246285,null,24.320291515629609,0,248.94458642542946,null,4221,2535,3555,null,187,0,0,7.8,0.37,2.25,1.1499999999999999,null,1.02,1.31,null,1.1299999999999999,null,3,4,8.452,11,39.6,22,null,18.606000000000002,"Euro 6b",19049,18800,{"$f":"Table37[[#This Row],[City Per Capita GDP (LC)]]*('GDP Deflator 1960-2011'!AZ78/'GDP Deflator 1960-2011'!BB78)*1/Table37[[#This Row],[PPP Exchange rate with the US$ (2016)]]","v":26214.89613788241},146.489,{"$f":"Table37[[#This Row],[City GDP (LC Billion)]]*'GDP Deflator 1960-2011'!AZ78/'GDP Deflator 1960-2011'!BB78*1/Table37[[#This Row],[PPP Exchange rate with the US$ (2016)]]","v":204.26563406075832},15537,{"$f":"Table37[[#This Row],[Median Annual household income (LC)]]*'GDP Deflator 1960-2011'!AZ78/'GDP Deflator 1960-2011'!AY78*1/Table37[[#This Row],[PPP Exchange rate with the US$ (2016)]]","v":22920.999702753328},{"$f":"21.38/8","v":2.6724999999999999},{"$f":"IF(ISERROR(Table37[[#This Row],[Minimum Hourly Wage Rate (LC)]]*'CPI 1960-2011'!AY78/'CPI 1960-2011'!BC78*1/Table37[[#This Row],[PPP Exchange rate with the US$ (2016)]]), \"n/a\", Table37[[#This Row],[Minimum Hourly Wage Rate (LC)]]*'GDP Deflator 1960-2011'!AZ78/'GDP Deflator 1960-2011'!BD78*1/Table37[[#This Row],[PPP Exchange rate with the US$ (2016)]])","v":3.6610567650812791},0.7,null,0,233.69909440124303,0.21066388459084251,{"$f":"IFERROR(O82/R82, \"\")","v":""},933.07843137254906,1275,251.02472229282634,12.5,3.9448598130841122,{"$f":"IFERROR(Table37[[#This Row],[Operating Costs US$ - Bus]]/Table37[[#This Row],[Fare revenue US$- Bus]], \"\")","v":2.2948617141294316},{"$f":"IFERROR(Table37[[#This Row],[Operating Costs US$ - Metro]]/Table37[[#This Row],[Fare revenue US$- Metro]], \"\")","v":1.7254522437896747},{"$f":"IFERROR(Table37[[#This Row],[Operating Costs US$- LRT]]/Table37[[#This Row],[Fare revenue US$- LRT]], \"\")","v":""},{"$f":"IFERROR(Table37[[#This Row],[Operating Costs US$- Tram]]/Table37[[#This Row],[Fare revenue US$- Tram]], \"\")","v":""},{"$f":"IFERROR(Table37[[#This Row],[Operating Costs US$ - Trolley Bus]]/Table37[[#This Row],[Fare revenue US$- Trolley Buses]], \"\")","v":""},{"$f":"IFERROR((AVERAGEIF(Table37[[#This Row],[Fares for 10 km of journey (2007 US$ PPP) - Bus]:[Fares for 10 km of journey (2007 US$ PPP) - Trolley Bus]], \"<>0\")*40*12)/EO82, \"\")","v":4.0642745808526066E-2},{"$f":"IFERROR((AVERAGEIF(Table37[[#This Row],[Fares for 10 km of journey (2007 US$ PPP) - Regional/Commuter Rail]:[Fares for 10 km of journey (2007 US$ PPP) - BRT]], \"<>0\")*40*12)/EO82, \"\")","v":4.1556289514758114E-2},{"$f":"IFERROR(2*(AVERAGEIF(Table37[[#This Row],[Fares for avg. length of journey (2007 US$ PPP) - Metro]:[Fares for avg. length of journey (2007 US$ PPP) - BRT]], \"<>0\"))/(Table37[[#This Row],[Minimum Hourly Wage rate (PPP $ 2007)]]*8), \"\")","v":0.36548431128610148},5.9965906091397667E-2,23.35,36.33,{"$f":"SUM(AP82:AQ82)+Table37[[#This Row],[Length of mass transit (km) - BRT]]","v":143.1},6.515E-2,374.21022400919014,1.2826871103825598E-2,1.4029411764705881,6.2745098039215685E-2,48.136650000000003,30,3.7754235294117651E-2,{"$f":"IFERROR(FX82/(R82/10^4), \"\")","v":""},0,2.1657034864479137,7.796532551212489,4.3314069728958273,0.37,2.25,{"$f":"Table37[[#This Row],[Fares for 10 km of journey (2007 US$ PPP) - Bus]]/10*Table37[[#This Row],[Average trip length by car (km)]]","v":4.83345},{"$f":"Table37[[#This Row],[Fares for 10 km of journey (2007 US$ PPP) - Regional/Commuter Rail]]/10*Table37[[#This Row],[Average trip length by car (km)]]","v":5.1938704829204321},{"$f":"Table37[[#This Row],[Fares for 10 km of journey (2007 US$ PPP) - Metro]]/10*Table37[[#This Row],[Average trip length by car (km)]]","v":5.1938704829204321},{"$f":"Table37[[#This Row],[Fares for 10 km of journey (2007 US$ PPP) - LRT]]/10*Table37[[#This Row],[Average trip length by car (km)]]","v":0},{"$f":"Table37[[#This Row],[Fares for 10 km of journey (2007 US$ PPP) - Tram]]/10*Table37[[#This Row],[Average trip length by car (km)]]","v":0},{"$f":"Table37[[#This Row],[Fares for 10 km of journey (2007 US$ PPP) - BRT]]/10*Table37[[#This Row],[Average trip length by car (km)]]","v":5.5106000000000002},{"$f":"Table37[[#This Row],[Fares for 10 km of journey (2007 US$ PPP) - Trolley Bus]]/10*Table37[[#This Row],[Average trip length by car (km)]]","v":0}]
[null,"Madrid","Spain","OECD",3165541,3155359,5256249,5423384,605.79999999999995,605.20000000000005,8021.8,8023.1,5225.3895675140311,1599275,151028,1440983,1592011,1594106,34.880000000000003,9.3000000000000007,2.33,11.63,null,9.3000000000000007,18.600000000000001,13.95999999999998,23.55,31.21,1.1673972602739726,null,0.49753424657534245,1.718054794520548,4.7397260273972605E-2,0,0.112,0,2.9328493150684936,1.7654520547945205,3341,3618,382,287.37,35.4,0,16.100000000000001,0,118,295,52,0,0,23,null,null,2095,null,null,2369,696,null,0,13,0,null,1.0897083333333333,1.0897083333333333,1.0897083333333333,1.0897083333333333,0,1.65,0,1.4279227728123722,1.4279227728123722,1.4279227728123722,1.4279227728123722,0,0,0,454.83599999999996,null,1268.54,null,0,0,0,441.76,null,1046.298,null,0,0,0,12.82,null,147.64200000000005,null,1.4219999999999999,null,615.05388444831294,1715.3885237273721,null,0,0,597.37180872641295,null,1414.8608491643165,null,0,38.79,0,17.335898650562783,null,199.64951236867324,null,1.922905450943859,null,null,null,7624,null,0,0,0,5.5,0.71,2.71,1.1399999999999999,{"$f":"4.55/3.79","v":1.2005277044854881},1.145,1.29,1.4598483200301997,1.27,{"$f":"545/E83*100000","v":17.216646380508102},2,4,7.43,24,35.299999999999997,19,10.257,12.039,"Euro 6b",19049,31700,{"$f":"Table37[[#This Row],[City Per Capita GDP (LC)]]*('GDP Deflator 1960-2011'!AZ79/'GDP Deflator 1960-2011'!BB79)*1/Table37[[#This Row],[PPP Exchange rate with the US$ (2016)]]","v":44202.776998450667},186.79900000000001,{"$f":"Table37[[#This Row],[City GDP (LC Billion)]]*'GDP Deflator 1960-2011'!AZ79/'GDP Deflator 1960-2011'!BB79*1/Table37[[#This Row],[PPP Exchange rate with the US$ (2016)]]","v":260.47427572661155},15709,{"$f":"Table37[[#This Row],[Median Annual household income (LC)]]*'GDP Deflator 1960-2011'!AZ79/'GDP Deflator 1960-2011'!AY79*1/Table37[[#This Row],[PPP Exchange rate with the US$ (2016)]]","v":23174.743150579394},{"$f":"21.38/8","v":2.6724999999999999},{"$f":"IF(ISERROR(Table37[[#This Row],[Minimum Hourly Wage Rate (LC)]]*'CPI 1960-2011'!AY79/'CPI 1960-2011'!BC79*1/Table37[[#This Row],[PPP Exchange rate with the US$ (2016)]]), \"n/a\", Table37[[#This Row],[Minimum Hourly Wage Rate (LC)]]*'GDP Deflator 1960-2011'!AZ79/'GDP Deflator 1960-2011'!BD79*1/Table37[[#This Row],[PPP Exchange rate with the US$ (2016)]])","v":3.6610567650812791},0.7,null,28.733037571089191,274.14663955227388,0.3985732030579221,9.4741504015416797E-2,455.47276264591437,3341,635.62437776444767,5.5150214592274684,0,{"$f":"IFERROR(Table37[[#This Row],[Operating Costs US$ - Bus]]/Table37[[#This Row],[Fare revenue US$- Bus]], \"\")","v":1.0295997826874319},{"$f":"IFERROR(Table37[[#This Row],[Operating Costs US$ - Metro]]/Table37[[#This Row],[Fare revenue US$- Metro]], \"\")","v":1.212407937318049},{"$f":"IFERROR(Table37[[#This Row],[Operating Costs US$- LRT]]/Table37[[#This Row],[Fare revenue US$- LRT]], \"\")","v":""},{"$f":"IFERROR(Table37[[#This Row],[Operating Costs US$- Tram]]/Table37[[#This Row],[Fare revenue US$- Tram]], \"\")","v":""},{"$f":"IFERROR(Table37[[#This Row],[Operating Costs US$ - Trolley Bus]]/Table37[[#This Row],[Fare revenue US$- Trolley Buses]], \"\")","v":""},{"$f":"IFERROR((AVERAGEIF(Table37[[#This Row],[Fares for 10 km of journey (2007 US$ PPP) - Bus]:[Fares for 10 km of journey (2007 US$ PPP) - Trolley Bus]], \"<>0\")*40*12)/EO83, \"\")","v":1.5505879437709591E-2},{"$f":"IFERROR((AVERAGEIF(Table37[[#This Row],[Fares for 10 km of journey (2007 US$ PPP) - Regional/Commuter Rail]:[Fares for 10 km of journey (2007 US$ PPP) - BRT]], \"<>0\")*40*12)/EO83, \"\")","v":1.5505879437709591E-2},{"$f":"IFERROR(2*(AVERAGEIF(Table37[[#This Row],[Fares for avg. length of journey (2007 US$ PPP) - Metro]:[Fares for avg. length of journey (2007 US$ PPP) - BRT]], \"<>0\"))/(Table37[[#This Row],[Minimum Hourly Wage rate (PPP $ 2007)]]*8), \"\")","v":0.22963029159003492},3.5020424170505361E-2,23.55,31.21,{"$f":"SUM(AP83:AQ83)+Table37[[#This Row],[Length of mass transit (km) - BRT]]","v":338.87},1.8774520547945206,5540.3312621197529,0.35718476327786614,0.55937603169362826,0.48861010234400798,63.31082,20,1.8949661777910805E-2,0.39715564711506013,1.9513915722029147,4.5659937343150983,6.7158157842217898,3.6147450396661194,0.71,2.71,{"$f":"Table37[[#This Row],[Fares for 10 km of journey (2007 US$ PPP) - Bus]]/10*Table37[[#This Row],[Average trip length by car (km)]]","v":3.3627581299731366},{"$f":"Table37[[#This Row],[Fares for 10 km of journey (2007 US$ PPP) - Regional/Commuter Rail]]/10*Table37[[#This Row],[Average trip length by car (km)]]","v":3.3627581299731366},{"$f":"Table37[[#This Row],[Fares for 10 km of journey (2007 US$ PPP) - Metro]]/10*Table37[[#This Row],[Average trip length by car (km)]]","v":3.3627581299731366},{"$f":"Table37[[#This Row],[Fares for 10 km of journey (2007 US$ PPP) - LRT]]/10*Table37[[#This Row],[Average trip length by car (km)]]","v":3.3627581299731366},{"$f":"Table37[[#This Row],[Fares for 10 km of journey (2007 US$ PPP) - Tram]]/10*Table37[[#This Row],[Average trip length by car (km)]]","v":0},{"$f":"Table37[[#This Row],[Fares for 10 km of journey (2007 US$ PPP) - BRT]]/10*Table37[[#This Row],[Average trip length by car (km)]]","v":0},{"$f":"Table37[[#This Row],[Fares for 10 km of journey (2007 US$ PPP) - Trolley Bus]]/10*Table37[[#This Row],[Average trip length by car (km)]]","v":0}]
[null,"Seville","Spain","OECD",690566,704154,879806,859154,141.30000000000001,141.5,3076.1,null,4887.2328379334749,333841,44539,319367,363906,{"$f":"Q84+SUM(BA84:BE84)+BL84","v":364285},80,0.4,0.5,11.3,null,null,7.7,9.9999999999994316E-2,24.7,23.08,{"$f":"88.9/365+5.9/365","v":0.25972602739726031},null,null,null,null,{"$f":"4.778/365","v":1.3090410958904109E-2},0,null,0.27281643835616443,1.3090410958904109E-2,null,524,null,18,null,2,0,null,null,22,null,5,null,0,87,null,277,7,8,null,{"$f":"17*3","v":51},null,null,0,4,null,{"$f":"33.6/(20*2)","v":0.84000000000000008},{"$f":"2.5/2","v":1.25},0.94,{"$f":"33.6/(20*2)","v":0.84000000000000008},{"$f":"33.6/(20*2)","v":0.84000000000000008},0,null,1.1007120827399315,1.6379644088391836,1.231749235447066,1.1007120827399315,1.1007120827399315,0,0,null,null,null,null,null,0,null,null,null,null,null,null,null,null,null,null,null,null,null,null,null,null,null,null,null,null,null,null,null,null,null,null,null,null,null,null,null,null,1468,141,null,null,null,0,null,5.0999999999999996,null,null,1.2,null,1.35,1.34,null,1.51,null,4,6,null,null,33,45,null,null,"Euro 6b",19049,17100,{"$f":"Table37[[#This Row],[City Per Capita GDP (LC)]]*('GDP Deflator 1960-2011'!AZ80/'GDP Deflator 1960-2011'!BB80)*1/Table37[[#This Row],[PPP Exchange rate with the US$ (2016)]]","v":23844.400210520707},19.079999999999998,{"$f":"Table37[[#This Row],[City GDP (LC Billion)]]*'GDP Deflator 1960-2011'!AZ80/'GDP Deflator 1960-2011'!BB80*1/Table37[[#This Row],[PPP Exchange rate with the US$ (2016)]]","v":26.605330761212574},11206,{"$f":"Table37[[#This Row],[Median Annual household income (LC)]]*'GDP Deflator 1960-2011'!AZ80/'GDP Deflator 1960-2011'!AY80*1/Table37[[#This Row],[PPP Exchange rate with the US$ (2016)]]","v":16531.680676388867},{"$f":"21.38/8","v":2.6724999999999999},{"$f":"IF(ISERROR(Table37[[#This Row],[Minimum Hourly Wage Rate (LC)]]*'CPI 1960-2011'!AY80/'CPI 1960-2011'!BC80*1/Table37[[#This Row],[PPP Exchange rate with the US$ (2016)]]), \"n/a\", Table37[[#This Row],[Minimum Hourly Wage Rate (LC)]]*'GDP Deflator 1960-2011'!AZ80/'GDP Deflator 1960-2011'!BD80*1/Table37[[#This Row],[PPP Exchange rate with the US$ (2016)]])","v":3.6610567650812791},0.7,null,50.623660216002165,362.99706980857144,0.43077678488212179,0.12226416130227706,"",0,0,0,3.8733509234828496,{"$f":"IFERROR(Table37[[#This Row],[Operating Costs US$ - Bus]]/Table37[[#This Row],[Fare revenue US$- Bus]], \"\")","v":""},{"$f":"IFERROR(Table37[[#This Row],[Operating Costs US$ - Metro]]/Table37[[#This Row],[Fare revenue US$- Metro]], \"\")","v":""},{"$f":"IFERROR(Table37[[#This Row],[Operating Costs US$- LRT]]/Table37[[#This Row],[Fare revenue US$- LRT]], \"\")","v":""},{"$f":"IFERROR(Table37[[#This Row],[Operating Costs US$- Tram]]/Table37[[#This Row],[Fare revenue US$- Tram]], \"\")","v":""},{"$f":"IFERROR(Table37[[#This Row],[Operating Costs US$ - Trolley Bus]]/Table37[[#This Row],[Fare revenue US$- Trolley Buses]], \"\")","v":""},{"$f":"IFERROR((AVERAGEIF(Table37[[#This Row],[Fares for 10 km of journey (2007 US$ PPP) - Bus]:[Fares for 10 km of journey (2007 US$ PPP) - Trolley Bus]], \"<>0\")*40*12)/EO84, \"\")","v":2.4848500463398378E-2},{"$f":"IFERROR((AVERAGEIF(Table37[[#This Row],[Fares for 10 km of journey (2007 US$ PPP) - Regional/Commuter Rail]:[Fares for 10 km of journey (2007 US$ PPP) - BRT]], \"<>0\")*40*12)/EO84, \"\")","v":2.5521150953649614E-2},{"$f":"IFERROR(2*(AVERAGEIF(Table37[[#This Row],[Fares for avg. length of journey (2007 US$ PPP) - Metro]:[Fares for avg. length of journey (2007 US$ PPP) - BRT]], \"<>0\"))/(Table37[[#This Row],[Minimum Hourly Wage rate (PPP $ 2007)]]*8), \"\")","v":0.19302118769754659},6.7437217367728661E-2,24.7,23.08,{"$f":"SUM(AP84:AQ84)+Table37[[#This Row],[Length of mass transit (km) - BRT]]","v":18},1.3090410958904109E-2,654.52054794520541,1.4878747086180486E-2,0.12738853503184713,11.303750884642604,27.622640000000001,40,"",0.75827003582359964,0,0,37.508268868364162,51.147639365951129,0,0,{"$f":"Table37[[#This Row],[Fares for 10 km of journey (2007 US$ PPP) - Bus]]/10*Table37[[#This Row],[Average trip length by car (km)]]","v":2.7187588443676307},{"$f":"Table37[[#This Row],[Fares for 10 km of journey (2007 US$ PPP) - Regional/Commuter Rail]]/10*Table37[[#This Row],[Average trip length by car (km)]]","v":4.0457720898327834},{"$f":"Table37[[#This Row],[Fares for 10 km of journey (2007 US$ PPP) - Metro]]/10*Table37[[#This Row],[Average trip length by car (km)]]","v":3.0424206115542529},{"$f":"Table37[[#This Row],[Fares for 10 km of journey (2007 US$ PPP) - LRT]]/10*Table37[[#This Row],[Average trip length by car (km)]]","v":2.7187588443676307},{"$f":"Table37[[#This Row],[Fares for 10 km of journey (2007 US$ PPP) - Tram]]/10*Table37[[#This Row],[Average trip length by car (km)]]","v":2.7187588443676307},{"$f":"Table37[[#This Row],[Fares for 10 km of journey (2007 US$ PPP) - BRT]]/10*Table37[[#This Row],[Average trip length by car (km)]]","v":0},{"$f":"Table37[[#This Row],[Fares for 10 km of journey (2007 US$ PPP) - Trolley Bus]]/10*Table37[[#This Row],[Average trip length by car (km)]]","v":0},"To translate: http://www.metro-sevilla.es/images/PDF/TARIFAS/tarifas_2012_sept_tr.pdf for tariffs for 10 km"]
[null,"Valencia","Spain","OECD",790201,785732,2516818,1461175,134.65,134.5,1443.4,null,5868.555514296324,384688,55508,376676,432184,432664,54,0.7,1,20.100000000000001,null,null,24,0.19999999999998863,19.3,22,{"$f":"103.2/365","v":0.28273972602739728},null,null,{"$f":"64.915/365","v":0.17784931506849316},0,{"$f":"2.5/365","v":6.8493150684931503E-3},0,0,0.46743835616438356,0.18469863013698631,null,851,372,146.77000000000001,0,null,0,0,68,133,0,null,0,0,null,null,480,null,null,null,{"$f":"117+39","v":156},0,103,0,0,null,{"$f":"55.2/(20*2)","v":1.3800000000000001},null,{"$f":"55.2/(20*2)","v":1.3800000000000001},0,{"$f":"38.2/30","v":1.2733333333333334},0,0,1.8083127073584591,0,1.8083127073584591,0,1.6685397444708485,0,0,null,null,null,0,null,0,0,null,null,null,0,null,null,0,null,null,null,0,null,0,null,null,0,null,0,null,null,null,0,null,null,0,null,null,null,0,null,0,1576,414,1392,0,null,0,0,9.5,null,null,1.1000000000000001,null,1.33,1.23,null,1.48,null,4,6,null,null,23.8,17,null,null,"Euro 6b",19049,17100,{"$f":"Table37[[#This Row],[City Per Capita GDP (LC)]]*('GDP Deflator 1960-2011'!AZ81/'GDP Deflator 1960-2011'!BB81)*1/Table37[[#This Row],[PPP Exchange rate with the US$ (2016)]]","v":23844.400210520707},22.105,{"$f":"Table37[[#This Row],[City GDP (LC Billion)]]*'GDP Deflator 1960-2011'!AZ81/'GDP Deflator 1960-2011'!BB81*1/Table37[[#This Row],[PPP Exchange rate with the US$ (2016)]]","v":30.82341910254738},12475,{"$f":"Table37[[#This Row],[Median Annual household income (LC)]]*'GDP Deflator 1960-2011'!AZ81/'GDP Deflator 1960-2011'!AY81*1/Table37[[#This Row],[PPP Exchange rate with the US$ (2016)]]","v":18403.776230407915},{"$f":"21.38/8","v":2.6724999999999999},{"$f":"IF(ISERROR(Table37[[#This Row],[Minimum Hourly Wage Rate (LC)]]*'CPI 1960-2011'!AY81/'CPI 1960-2011'!BC81*1/Table37[[#This Row],[PPP Exchange rate with the US$ (2016)]]), \"n/a\", Table37[[#This Row],[Minimum Hourly Wage Rate (LC)]]*'GDP Deflator 1960-2011'!AZ81/'GDP Deflator 1960-2011'!BD81*1/Table37[[#This Row],[PPP Exchange rate with the US$ (2016)]])","v":3.6610567650812791},0.7,null,22.054832729263698,149.66358314347718,0.1907170085401487,0.12829354880461513,"",0,0,0,3.2833333333333332,{"$f":"IFERROR(Table37[[#This Row],[Operating Costs US$ - Bus]]/Table37[[#This Row],[Fare revenue US$- Bus]], \"\")","v":""},{"$f":"IFERROR(Table37[[#This Row],[Operating Costs US$ - Metro]]/Table37[[#This Row],[Fare revenue US$- Metro]], \"\")","v":""},{"$f":"IFERROR(Table37[[#This Row],[Operating Costs US$- LRT]]/Table37[[#This Row],[Fare revenue US$- LRT]], \"\")","v":""},{"$f":"IFERROR(Table37[[#This Row],[Operating Costs US$- Tram]]/Table37[[#This Row],[Fare revenue US$- Tram]], \"\")","v":""},{"$f":"IFERROR(Table37[[#This Row],[Operating Costs US$ - Trolley Bus]]/Table37[[#This Row],[Fare revenue US$- Trolley Buses]], \"\")","v":""},{"$f":"IFERROR((AVERAGEIF(Table37[[#This Row],[Fares for 10 km of journey (2007 US$ PPP) - Bus]:[Fares for 10 km of journey (2007 US$ PPP) - Trolley Bus]], \"<>0\")*40*12)/EO85, \"\")","v":3.5464361359650913E-2},{"$f":"IFERROR((AVERAGEIF(Table37[[#This Row],[Fares for 10 km of journey (2007 US$ PPP) - Regional/Commuter Rail]:[Fares for 10 km of journey (2007 US$ PPP) - BRT]], \"<>0\")*40*12)/EO85, \"\")","v":3.4995411126796022E-2},{"$f":"IFERROR(2*(AVERAGEIF(Table37[[#This Row],[Fares for avg. length of journey (2007 US$ PPP) - Metro]:[Fares for avg. length of journey (2007 US$ PPP) - BRT]], \"<>0\"))/(Table37[[#This Row],[Minimum Hourly Wage rate (PPP $ 2007)]]*8), \"\")","v":0.22911162208794611},6.1901326389780784E-2,19.3,22,{"$f":"SUM(AP85:AQ85)+Table37[[#This Row],[Length of mass transit (km) - BRT]]","v":146.77000000000001},0.18469863013698631,1258.4222261837317,7.3385771294144558E-2,1.0900111399925734,12.601752692164872,31.608039999999999,40,"",0.73054471830334855,0,0,9.4563850067823747,6.754560719130267,0,0,{"$f":"Table37[[#This Row],[Fares for 10 km of journey (2007 US$ PPP) - Bus]]/10*Table37[[#This Row],[Average trip length by car (km)]]","v":3.490043525201826},{"$f":"Table37[[#This Row],[Fares for 10 km of journey (2007 US$ PPP) - Regional/Commuter Rail]]/10*Table37[[#This Row],[Average trip length by car (km)]]","v":0},{"$f":"Table37[[#This Row],[Fares for 10 km of journey (2007 US$ PPP) - Metro]]/10*Table37[[#This Row],[Average trip length by car (km)]]","v":3.490043525201826},{"$f":"Table37[[#This Row],[Fares for 10 km of journey (2007 US$ PPP) - LRT]]/10*Table37[[#This Row],[Average trip length by car (km)]]","v":0},{"$f":"Table37[[#This Row],[Fares for 10 km of journey (2007 US$ PPP) - Tram]]/10*Table37[[#This Row],[Average trip length by car (km)]]","v":3.2202817068287377},{"$f":"Table37[[#This Row],[Fares for 10 km of journey (2007 US$ PPP) - BRT]]/10*Table37[[#This Row],[Average trip length by car (km)]]","v":0},{"$f":"Table37[[#This Row],[Fares for 10 km of journey (2007 US$ PPP) - Trolley Bus]]/10*Table37[[#This Row],[Average trip length by car (km)]]","v":0}]
[null,"Stockholm","Sweden","OECD",910000,750348,2200000,1823210,188.1,187,6519.3,6488,4503.3120680489101,457276,10751,299548,310299,312349,17.809999999999999,3.7,7.41,3.7,null,17,50,0.37999999999999545,20.75,31.5,0.77808219178082194,null,0.19178082191780821,0.84931506849315064,0.10410958904109589,null,5.7000000000000002E-2,0,1.7885068493150684,1.0104246575342466,6640,9541,null,110,11,5.7,40,0,null,100,12,null,0,null,null,null,2050,null,null,513,207,194,null,null,0,null,19.75,19.75,19.75,19.75,19.75,null,0,2.04,2.04,2.04,2.04,2.02,4.16,0,null,null,14133,null,null,null,0,null,null,5370,null,null,null,0,null,null,2655,null,6099,null,603.46297690406027,658.70958746569966,80.74504620547286,null,0,229.29287383958138,56.515849185812307,250.2844749657402,30.680032415155253,null,49.81,0,113.36547114415056,27.942193591868097,123.74400019255873,15.168619378442681,284.26164112030716,34.844975363134431,null,null,null,null,null,null,0,8,0.75,2.17,13.44,{"$f":"5.8/3.79","v":1.5303430079155673},13.29,1.54,1.2997395792594555,1.54,1.2699999999999999E-2,1,2,3.593,3,12.5,26,2.5110000000000001,3.1890000000000001,"Euro 6b",24191,64300,{"$f":"Table37[[#This Row],[City Per Capita GDP (LC)]]*('GDP Deflator 1960-2011'!AZ82/'GDP Deflator 1960-2011'!BB82)*1/Table37[[#This Row],[PPP Exchange rate with the US$ (2016)]]","v":6863.8039193847289},{"$f":"93.818*10.31","v":967.26358000000005},{"$f":"Table37[[#This Row],[City GDP (LC Billion)]]*'GDP Deflator 1960-2011'!AZ82/'GDP Deflator 1960-2011'!BB82*1/Table37[[#This Row],[PPP Exchange rate with the US$ (2016)]]","v":103.252061453843},{"$f":"31643*9.017","v":285324.93099999998},{"$f":"Table37[[#This Row],[Median Annual household income (LC)]]*'GDP Deflator 1960-2011'!AZ82/'GDP Deflator 1960-2011'!AW82*1/Table37[[#This Row],[PPP Exchange rate with the US$ (2016)]]","v":33880.976928066346},"No minimum wage",{"$f":"IF(ISERROR(Table37[[#This Row],[Minimum Hourly Wage Rate (LC)]]*'CPI 1960-2011'!AY82/'CPI 1960-2011'!BC82*1/Table37[[#This Row],[PPP Exchange rate with the US$ (2016)]]), \"n/a\", Table37[[#This Row],[Minimum Hourly Wage Rate (LC)]]*'GDP Deflator 1960-2011'!AZ82/'GDP Deflator 1960-2011'!BD82*1/Table37[[#This Row],[PPP Exchange rate with the US$ (2016)]])","v":"n/a"},8.9,null,4.8868181818181817,136.15818181818182,0.93181818181818177,3.4419831662659398E-2,46.694051204819274,6640,3018.1818181818185,35.300372142477407,0,{"$f":"IFERROR(Table37[[#This Row],[Operating Costs US$ - Bus]]/Table37[[#This Row],[Fare revenue US$- Bus]], \"\")","v":2.6318435754189946},{"$f":"IFERROR(Table37[[#This Row],[Operating Costs US$ - Metro]]/Table37[[#This Row],[Fare revenue US$- Metro]], \"\")","v":2.6318435754189951},{"$f":"IFERROR(Table37[[#This Row],[Operating Costs US$- LRT]]/Table37[[#This Row],[Fare revenue US$- LRT]], \"\")","v":2.6318435754189951},{"$f":"IFERROR(Table37[[#This Row],[Operating Costs US$- Tram]]/Table37[[#This Row],[Fare revenue US$- Tram]], \"\")","v":""},{"$f":"IFERROR(Table37[[#This Row],[Operating Costs US$ - Trolley Bus]]/Table37[[#This Row],[Fare revenue US$- Trolley Buses]], \"\")","v":""},{"$f":"IFERROR((AVERAGEIF(Table37[[#This Row],[Fares for 10 km of journey (2007 US$ PPP) - Bus]:[Fares for 10 km of journey (2007 US$ PPP) - Trolley Bus]], \"<>0\")*40*12)/EO86, \"\")","v":0.16713764167418627},{"$f":"IFERROR((AVERAGEIF(Table37[[#This Row],[Fares for 10 km of journey (2007 US$ PPP) - Regional/Commuter Rail]:[Fares for 10 km of journey (2007 US$ PPP) - BRT]], \"<>0\")*40*12)/EO86, \"\")","v":0.1720328864094135},{"$f":"IFERROR(2*(AVERAGEIF(Table37[[#This Row],[Fares for avg. length of journey (2007 US$ PPP) - Metro]:[Fares for avg. length of journey (2007 US$ PPP) - BRT]], \"<>0\"))/(Table37[[#This Row],[Minimum Hourly Wage rate (PPP $ 2007)]]*8), \"\")","v":""},0.26923846043749666,20.75,31.5,{"$f":"SUM(AP86:AQ86)+Table37[[#This Row],[Length of mass transit (km) - BRT]]","v":161},1.0104246575342466,6061.3356780698659,0.45928393524283934,0.8559276980329612,3.6310685805422649,9.1,10,1.3704819277108433E-3,0.29134077586289692,1.1413636363636364,1.3636363636363635,5.6818181818181817,11.818181818181818,0.75,2.17,{"$f":"Table37[[#This Row],[Fares for 10 km of journey (2007 US$ PPP) - Bus]]/10*Table37[[#This Row],[Average trip length by car (km)]]","v":4.2330000000000005},{"$f":"Table37[[#This Row],[Fares for 10 km of journey (2007 US$ PPP) - Regional/Commuter Rail]]/10*Table37[[#This Row],[Average trip length by car (km)]]","v":4.2330000000000005},{"$f":"Table37[[#This Row],[Fares for 10 km of journey (2007 US$ PPP) - Metro]]/10*Table37[[#This Row],[Average trip length by car (km)]]","v":4.2330000000000005},{"$f":"Table37[[#This Row],[Fares for 10 km of journey (2007 US$ PPP) - LRT]]/10*Table37[[#This Row],[Average trip length by car (km)]]","v":4.2330000000000005},{"$f":"Table37[[#This Row],[Fares for 10 km of journey (2007 US$ PPP) - Tram]]/10*Table37[[#This Row],[Average trip length by car (km)]]","v":4.1915000000000004},{"$f":"Table37[[#This Row],[Fares for 10 km of journey (2007 US$ PPP) - BRT]]/10*Table37[[#This Row],[Average trip length by car (km)]]","v":8.6320000000000014},{"$f":"Table37[[#This Row],[Fares for 10 km of journey (2007 US$ PPP) - Trolley Bus]]/10*Table37[[#This Row],[Average trip length by car (km)]]","v":0}]
[null,"Geneva","Switzerland","OECD",191557,185526,{"$f":"2846353+646887","v":3493240},1346494,15.93,15.9,{"$f":"5959.1+282.4","v":6241.5},{"$f":"5959+282.3","v":6241.3},12024.921531701193,91743,15463,73329,88792,89024,24.15,6.81,6.79,10,null,null,52.25,0,12.4,36.700000000000003,null,null,null,0,0,null,0,null,0,0,null,34.4,null,0,0,12.6,0,328.4,null,0,0,46,null,0,null,null,232,null,null,0,null,0,67,0,93,null,{"$f":"700/(12*20*2)","v":1.4583333333333333},null,0,0,{"$f":"700/(12*20*2)","v":1.4583333333333333},0,{"$f":"700/(12*20*2)","v":1.4583333333333333},0.83384516336498327,0,0,0,0.83384516336498327,0,0.83384516336498327,null,null,0,0,null,0,null,null,null,0,0,null,null,null,null,null,0,0,0,0,null,0,0,null,null,null,null,0,0,null,null,null,null,null,0,0,0,0,null,null,0,0,null,0,null,10.9,0.88,3.26,1.48,{"$f":"4.74/3.79","v":1.2506596306068603},null,1.51,0.9324033025414159,null,93,1,5,7.7679999999999998,null,27.7,21,null,null,"Euro 6b",29400,104636,{"$f":"Table37[[#This Row],[City Per Capita GDP (LC)]]*('GDP Deflator 1960-2011'!AZ84/'GDP Deflator 1960-2011'!BC84)*1/Table37[[#This Row],[PPP Exchange rate with the US$ (2016)]]","v":84920.185837466866},356.51,{"$f":"Table37[[#This Row],[City GDP (LC Billion)]]*'GDP Deflator 1960-2011'!AZ84/'GDP Deflator 1960-2011'!BC84*1/Table37[[#This Row],[PPP Exchange rate with the US$ (2016)]]","v":289.33536691879766},null,{"$f":"Table37[[#This Row],[Median Annual household income (LC)]]*'GDP Deflator 1960-2011'!AZ84/'GDP Deflator 1960-2011'!AY84*1/Table37[[#This Row],[PPP Exchange rate with the US$ (2016)]]","v":0},"No universal minimum wage",{"$f":"IF(ISERROR(Table37[[#This Row],[Minimum Hourly Wage Rate (LC)]]*'CPI 1960-2011'!AY84/'CPI 1960-2011'!BC84*1/Table37[[#This Row],[PPP Exchange rate with the US$ (2016)]]), \"n/a\", Table37[[#This Row],[Minimum Hourly Wage Rate (LC)]]*'GDP Deflator 1960-2011'!AZ84/'GDP Deflator 1960-2011'!BD84*1/Table37[[#This Row],[PPP Exchange rate with the US$ (2016)]])","v":"n/a"},1.2,null,4.4265495643013368,20.991686800792387,6.6413988159989001E-2,0.17369473400431346,"",0,0,0,0,{"$f":"IFERROR(Table37[[#This Row],[Operating Costs US$ - Bus]]/Table37[[#This Row],[Fare revenue US$- Bus]], \"\")","v":""},{"$f":"IFERROR(Table37[[#This Row],[Operating Costs US$ - Metro]]/Table37[[#This Row],[Fare revenue US$- Metro]], \"\")","v":""},{"$f":"IFERROR(Table37[[#This Row],[Operating Costs US$- LRT]]/Table37[[#This Row],[Fare revenue US$- LRT]], \"\")","v":""},{"$f":"IFERROR(Table37[[#This Row],[Operating Costs US$- Tram]]/Table37[[#This Row],[Fare revenue US$- Tram]], \"\")","v":""},{"$f":"IFERROR(Table37[[#This Row],[Operating Costs US$ - Trolley Bus]]/Table37[[#This Row],[Fare revenue US$- Trolley Buses]], \"\")","v":""},{"$f":"IFERROR((AVERAGEIF(Table37[[#This Row],[Fares for 10 km of journey (2007 US$ PPP) - Bus]:[Fares for 10 km of journey (2007 US$ PPP) - Trolley Bus]], \"<>0\")*40*12)/EO87, \"\")","v":4.713198334036185E-3},{"$f":"IFERROR((AVERAGEIF(Table37[[#This Row],[Fares for 10 km of journey (2007 US$ PPP) - Regional/Commuter Rail]:[Fares for 10 km of journey (2007 US$ PPP) - BRT]], \"<>0\")*40*12)/EO87, \"\")","v":4.7131983340361833E-3},{"$f":"IFERROR(2*(AVERAGEIF(Table37[[#This Row],[Fares for avg. length of journey (2007 US$ PPP) - Metro]:[Fares for avg. length of journey (2007 US$ PPP) - BRT]], \"<>0\"))/(Table37[[#This Row],[Minimum Hourly Wage rate (PPP $ 2007)]]*8), \"\")","v":""},2.1337682932866874E-2,12.4,36.700000000000003,{"$f":"SUM(AP87:AQ87)+Table37[[#This Row],[Length of mass transit (km) - BRT]]","v":0},0,0,0,0,0,1.91557,10,"",0.21517455966930266,0,0,7.9296011725504121,6.0116109972403837,0.88,3.26,{"$f":"Table37[[#This Row],[Fares for 10 km of journey (2007 US$ PPP) - Bus]]/10*Table37[[#This Row],[Average trip length by car (km)]]","v":1.0339680025725793},{"$f":"Table37[[#This Row],[Fares for 10 km of journey (2007 US$ PPP) - Regional/Commuter Rail]]/10*Table37[[#This Row],[Average trip length by car (km)]]","v":0},{"$f":"Table37[[#This Row],[Fares for 10 km of journey (2007 US$ PPP) - Metro]]/10*Table37[[#This Row],[Average trip length by car (km)]]","v":0},{"$f":"Table37[[#This Row],[Fares for 10 km of journey (2007 US$ PPP) - LRT]]/10*Table37[[#This Row],[Average trip length by car (km)]]","v":0},{"$f":"Table37[[#This Row],[Fares for 10 km of journey (2007 US$ PPP) - Tram]]/10*Table37[[#This Row],[Average trip length by car (km)]]","v":1.0339680025725793},{"$f":"Table37[[#This Row],[Fares for 10 km of journey (2007 US$ PPP) - BRT]]/10*Table37[[#This Row],[Average trip length by car (km)]]","v":0},{"$f":"Table37[[#This Row],[Fares for 10 km of journey (2007 US$ PPP) - Trolley Bus]]/10*Table37[[#This Row],[Average trip length by car (km)]]","v":1.0339680025725793},"1436 staff for TPG that operates bus, trolleybus and tramway"]
[null,"Zurich","Switzerland","OECD",384786,364528,3800000,null,87.88,87.9,2103,null,4242.7969959035054,346640,20932,1838060,1858992,1859156,25.12,0.97,4.53,4.1500000000000004,null,null,41.7,23.53,16.8,24.9,0.28383561643835614,null,null,0,null,0.53726027397260268,1.4E-2,null,0.83509589041095889,0.55126027397260269,null,120.6,16.399999999999999,0,null,109.3,11,54,null,0,null,173,null,28,43,null,96,25,null,0,31,null,414,17,78,null,1.48125,1.48125,0,1.48125,1.48125,null,1.48125,0.84694844450357598,0.84694844450357576,0,0.84694844450357576,0.84694844450357576,2.63,0.84694844450357576,null,null,0,null,null,null,null,null,null,0,null,null,null,null,null,null,0,null,0,null,null,0,null,null,null,null,null,0,null,null,7.73,null,null,null,0,null,0,null,null,null,0,null,null,null,null,null,0.53,2.1,1.42,null,null,1.452,null,null,1.04E-2,3,4,4.7089999999999996,11,30.1,21,2.0529999999999999,2.0529999999999999,"Euro 6b",29400,91001,73852.320000000007,345.80380000000002,{"$f":"Table37[[#This Row],[City GDP (LC Billion)]]*'GDP Deflator 1960-2011'!AZ85/'GDP Deflator 1960-2011'!BC85*1/Table37[[#This Row],[PPP Exchange rate with the US$ (2016)]]","v":280.64645972038522},{"$f":"43388*1.54","v":66817.52},{"$f":"Table37[[#This Row],[Median Annual household income (LC)]]*'GDP Deflator 1960-2011'!AZ85/'GDP Deflator 1960-2011'!AY85*1/Table37[[#This Row],[PPP Exchange rate with the US$ (2016)]]","v":57069.740200684682},"No minimum wage",{"$f":"IF(ISERROR(Table37[[#This Row],[Minimum Hourly Wage Rate (LC)]]*'CPI 1960-2011'!AY85/'CPI 1960-2011'!BC85*1/Table37[[#This Row],[PPP Exchange rate with the US$ (2016)]]), \"n/a\", Table37[[#This Row],[Minimum Hourly Wage Rate (LC)]]*'GDP Deflator 1960-2011'!AZ85/'GDP Deflator 1960-2011'!BD85*1/Table37[[#This Row],[PPP Exchange rate with the US$ (2016)]])","v":"n/a"},1.2,null,5.5084210526315793,483.70000000000005,4.3157894736842103E-2,1.1258872305497764E-2,"",0,0,0,0,{"$f":"IFERROR(Table37[[#This Row],[Operating Costs US$ - Bus]]/Table37[[#This Row],[Fare revenue US$- Bus]], \"\")","v":""},{"$f":"IFERROR(Table37[[#This Row],[Operating Costs US$ - Metro]]/Table37[[#This Row],[Fare revenue US$- Metro]], \"\")","v":""},{"$f":"IFERROR(Table37[[#This Row],[Operating Costs US$- LRT]]/Table37[[#This Row],[Fare revenue US$- LRT]], \"\")","v":""},{"$f":"IFERROR(Table37[[#This Row],[Operating Costs US$- Tram]]/Table37[[#This Row],[Fare revenue US$- Tram]], \"\")","v":""},{"$f":"IFERROR(Table37[[#This Row],[Operating Costs US$ - Trolley Bus]]/Table37[[#This Row],[Fare revenue US$- Trolley Buses]], \"\")","v":""},{"$f":"IFERROR((AVERAGEIF(Table37[[#This Row],[Fares for 10 km of journey (2007 US$ PPP) - Bus]:[Fares for 10 km of journey (2007 US$ PPP) - Trolley Bus]], \"<>0\")*40*12)/EO88, \"\")","v":7.4361831531010837E-3},{"$f":"IFERROR((AVERAGEIF(Table37[[#This Row],[Fares for 10 km of journey (2007 US$ PPP) - Regional/Commuter Rail]:[Fares for 10 km of journey (2007 US$ PPP) - BRT]], \"<>0\")*40*12)/EO88, \"\")","v":8.4019221064590421E-3},{"$f":"IFERROR(2*(AVERAGEIF(Table37[[#This Row],[Fares for avg. length of journey (2007 US$ PPP) - Metro]:[Fares for avg. length of journey (2007 US$ PPP) - BRT]], \"<>0\"))/(Table37[[#This Row],[Minimum Hourly Wage rate (PPP $ 2007)]]*8), \"\")","v":""},2.3593029981996499E-2,16.8,24.9,{"$f":"SUM(AP88:AQ88)+Table37[[#This Row],[Length of mass transit (km) - BRT]]","v":11},0.55126027397260269,4582.3796672701801,0.1450684931506849,0.12517068730086484,0,11.54358,30,"",6.2090432432781326E-2,0.54026315789473678,2.8947368421052633,7.9210526315789478,5.5263157894736841,0.53,2.1,{"$f":"Table37[[#This Row],[Fares for 10 km of journey (2007 US$ PPP) - Bus]]/10*Table37[[#This Row],[Average trip length by car (km)]]","v":1.4228733867660077},{"$f":"Table37[[#This Row],[Fares for 10 km of journey (2007 US$ PPP) - Regional/Commuter Rail]]/10*Table37[[#This Row],[Average trip length by car (km)]]","v":1.4228733867660073},{"$f":"Table37[[#This Row],[Fares for 10 km of journey (2007 US$ PPP) - Metro]]/10*Table37[[#This Row],[Average trip length by car (km)]]","v":0},{"$f":"Table37[[#This Row],[Fares for 10 km of journey (2007 US$ PPP) - LRT]]/10*Table37[[#This Row],[Average trip length by car (km)]]","v":1.4228733867660073},{"$f":"Table37[[#This Row],[Fares for 10 km of journey (2007 US$ PPP) - Tram]]/10*Table37[[#This Row],[Average trip length by car (km)]]","v":1.4228733867660073},{"$f":"Table37[[#This Row],[Fares for 10 km of journey (2007 US$ PPP) - BRT]]/10*Table37[[#This Row],[Average trip length by car (km)]]","v":4.4184000000000001},{"$f":"Table37[[#This Row],[Fares for 10 km of journey (2007 US$ PPP) - Trolley Bus]]/10*Table37[[#This Row],[Average trip length by car (km)]]","v":1.4228733867660073},"To translate: http://www.bfs.admin.ch/bfs/portal/de/index/news/publikationen.html for hh income?"]
[null,"Bangkok","Thailand","EAP",8305218,6355144,14565520,10159211,1568.7370000000001,null,7761.5,null,5294.2067408367366,null,1295976,1481466,2777442,3943211,null,null,null,null,null,null,null,0,9,44,2.580821917808219,null,null,0.220552,0.39780821917808218,0,1.4999999999999999E-2,0,3.2091821369863012,0.62836021917808216,4076,4000,null,20,25.7,0,15.3,0,null,18,25,0,0,12,null,null,15561,1078,null,57,null,153,0,20,0,72877,null,null,25,40,0,0.56999999999999995,0,0,0,1.3685269189929292,2.1896430703886867,0,1.0214684923363222,0,null,null,1309,3467.1419999999998,0,null,0,null,null,1645.87,3544,0,2.19,0,null,null,257.13000000000011,3286.6459999999997,null,null,null,71.65606947846976,192.19360193470942,0,0,null,null,90.096696006515685,196.45406079607071,0,4.931,0,null,null,14.075573067226079,182.18819218373662,null,null,18372,null,null,1805,0,null,0,null,1.28,2.2799999999999998,28,43.55,23.89,0.8,0.96699999999999997,0.68,null,null,null,19.207000000000001,3,16,35,null,71.155000000000001,"Euro 3",null,{"$f":"13383*34.223","v":458006.40899999999},27038,{"$f":"89*34.223","v":3045.8469999999998},{"$f":"Table37[[#This Row],[City GDP (LC Billion)]]*'GDP Deflator 1960-2011'!AZ86/'GDP Deflator 1960-2011'!BA86*1/Table37[[#This Row],[PPP Exchange rate with the US$ (2016)]]","v":179.79354980848132},{"$f":"35007*12","v":420084},{"$f":"Table37[[#This Row],[Median Annual household income (LC)]]*'GDP Deflator 1960-2011'!AZ86/'GDP Deflator 1960-2011'!AZ86*1/Table37[[#This Row],[PPP Exchange rate with the US$ (2016)]]","v":25772.0245398773},{"$f":"300/8","v":37.5},{"$f":"IF(ISERROR(Table37[[#This Row],[Minimum Hourly Wage Rate (LC)]]*'CPI 1960-2011'!AY86/'CPI 1960-2011'!BC86*1/Table37[[#This Row],[PPP Exchange rate with the US$ (2016)]]), \"n/a\", Table37[[#This Row],[Minimum Hourly Wage Rate (LC)]]*'GDP Deflator 1960-2011'!AZ86/'GDP Deflator 1960-2011'!BD86*1/Table37[[#This Row],[PPP Exchange rate with the US$ (2016)]])","v":2.0092345203227864},16.3,null,88.975608148559061,101.71047789574283,1.1423553707660281,0.32866006916698093,550.52220314033366,4076,279.83896215171171,2.5982685434205988,1.1041528938037142,{"$f":"IFERROR(Table37[[#This Row],[Operating Costs US$ - Bus]]/Table37[[#This Row],[Fare revenue US$- Bus]], \"\")","v":""},{"$f":"IFERROR(Table37[[#This Row],[Operating Costs US$ - Metro]]/Table37[[#This Row],[Fare revenue US$- Metro]], \"\")","v":0.79532405354007296},{"$f":"IFERROR(Table37[[#This Row],[Operating Costs US$- LRT]]/Table37[[#This Row],[Fare revenue US$- LRT]], \"\")","v":0.97831320541760725},{"$f":"IFERROR(Table37[[#This Row],[Operating Costs US$- Tram]]/Table37[[#This Row],[Fare revenue US$- Tram]], \"\")","v":""},{"$f":"IFERROR(Table37[[#This Row],[Operating Costs US$ - Trolley Bus]]/Table37[[#This Row],[Fare revenue US$- Trolley Buses]], \"\")","v":""},{"$f":"IFERROR((AVERAGEIF(Table37[[#This Row],[Fares for 10 km of journey (2007 US$ PPP) - Bus]:[Fares for 10 km of journey (2007 US$ PPP) - Trolley Bus]], \"<>0\")*40*12)/EO89, \"\")","v":2.7100457026217554E-2},{"$f":"IFERROR((AVERAGEIF(Table37[[#This Row],[Fares for 10 km of journey (2007 US$ PPP) - Regional/Commuter Rail]:[Fares for 10 km of journey (2007 US$ PPP) - BRT]], \"<>0\")*40*12)/EO89, \"\")","v":2.7100457026217554E-2},{"$f":"IFERROR(2*(AVERAGEIF(Table37[[#This Row],[Fares for avg. length of journey (2007 US$ PPP) - Metro]:[Fares for avg. length of journey (2007 US$ PPP) - BRT]], \"<>0\"))/(Table37[[#This Row],[Minimum Hourly Wage rate (PPP $ 2007)]]*8), \"\")","v":0.17094713566521141},3.5505584732598565E-2,9,44,{"$f":"SUM(AP89:AQ89)+Table37[[#This Row],[Length of mass transit (km) - BRT]]","v":61},0.63336021917808216,10382.954412755445,4.3483529539493422E-2,3.8884784383870587E-2,{"$f":"IFERROR(((AP101*4)+((AR101+AS101)*0.5)+((AQ101+AS101)*1))/I89, \"\")","v":0.10263033255415024},0,0,0,0,0,0.20596587008222159,1.0984846404385151,2.402935150959252,1.28,2.2799999999999998,{"$f":"Table37[[#This Row],[Fares for 10 km of journey (2007 US$ PPP) - Bus]]/10*Table37[[#This Row],[Average trip length by car (km)]]","v":0},{"$f":"Table37[[#This Row],[Fares for 10 km of journey (2007 US$ PPP) - Regional/Commuter Rail]]/10*Table37[[#This Row],[Average trip length by car (km)]]","v":0},{"$f":"Table37[[#This Row],[Fares for 10 km of journey (2007 US$ PPP) - Metro]]/10*Table37[[#This Row],[Average trip length by car (km)]]","v":1.2316742270936363},{"$f":"Table37[[#This Row],[Fares for 10 km of journey (2007 US$ PPP) - LRT]]/10*Table37[[#This Row],[Average trip length by car (km)]]","v":1.970678763349818},{"$f":"Table37[[#This Row],[Fares for 10 km of journey (2007 US$ PPP) - Tram]]/10*Table37[[#This Row],[Average trip length by car (km)]]","v":0},{"$f":"Table37[[#This Row],[Fares for 10 km of journey (2007 US$ PPP) - BRT]]/10*Table37[[#This Row],[Average trip length by car (km)]]","v":0.91932164310269004},{"$f":"Table37[[#This Row],[Fares for 10 km of journey (2007 US$ PPP) - Trolley Bus]]/10*Table37[[#This Row],[Average trip length by car (km)]]","v":0}]
[null,"Dubai","UAE","MENA",2789664,862387,3250000,null,3885,null,7164,null,718.06023166023169,982296,null,468527,468527,{"$f":"Q90+SUM(BA90:BE90)+BL90","v":478049},null,null,null,null,null,null,null,0,null,{"$f":"105/2","v":52.5},{"$f":"82.856/365","v":0.22700273972602739},null,null,{"$f":"69.00705/365","v":0.18906041095890413},0,0,0,0,0.41606315068493149,0.18906041095890413,{"$f":"599.84+1297.22+249.61+1498.78+2216.91","v":5862.36},null,null,75,0,0,0,0,null,47,0,0,0,0,351,170,1051,2,6,{"$f":"87*5","v":435},null,0,0,0,0,7942,{"$f":"180/(2*20)","v":4.5},0,{"$f":"180/(2*20)","v":4.5},0,0,0,0,{"$error":"#DIV/0!"},{"$error":"#DIV/0!"},{"$error":"#DIV/0!"},{"$error":"#DIV/0!"},{"$error":"#DIV/0!"},{"$error":"#DIV/0!"},{"$error":"#DIV/0!"},null,null,null,0,0,0,0,null,null,null,0,0,null,0,null,null,null,0,null,0,null,null,0,0,0,null,null,null,0,0,null,0,null,null,null,0,null,0,1263,null,null,0,0,0,0,null,null,null,1.79,null,null,0.49,0.41470000000000001,null,null,{"$f":"131/E90*100000","v":4.6959060302602751},null,null,null,null,null,null,null,"Carbon monoxide - 4.5% and hydrocarbon levels - 800 ppm",null,161584,43773.08,304.58499999999998,{"$f":"Table37[[#This Row],[City GDP (LC Billion)]]*'GDP Deflator 1960-2011'!AZ87/'GDP Deflator 1960-2011'!BC87*1/Table37[[#This Row],[PPP Exchange rate with the US$ (2016)]]","v":82.522029631387809},54940,{"$f":"Table37[[#This Row],[Median Annual household income (LC)]]*'GDP Deflator 1960-2011'!AZ87/'GDP Deflator 1960-2011'!BC87*1/Table37[[#This Row],[PPP Exchange rate with the US$ (2016)]]","v":14885.041311779787},"No minimum wage",{"$f":"IF(ISERROR(Table37[[#This Row],[Minimum Hourly Wage Rate (LC)]]*'CPI 1960-2011'!AY85/'CPI 1960-2011'!BC85*1/Table37[[#This Row],[PPP Exchange rate with the US$ (2016)]]), \"n/a\", Table37[[#This Row],[Minimum Hourly Wage Rate (LC)]]*'GDP Deflator 1960-2011'!AZ85/'GDP Deflator 1960-2011'!BD85*1/Table37[[#This Row],[PPP Exchange rate with the US$ (2016)]])","v":"n/a"},3.3,null,{"$f":"IFERROR(O90/E90*1000, O90/#REF!*1000)","v":0},{"$f":"IFERROR(P90/E90*1000,P90/#REF!*1000)","v":167.95105073585921},{"$f":"IFERROR(SUM(BA90:BE90)/E90*1000, SUM(BA90:BE90)/#REF!*1000)","v":0.56637645250467439},0,81.949760847167354,5862.36,{"$f":"IFERROR(AM90/E90*10^6,AM90/#REF!*10^6)","v":2101.4573798134829},1.5089729729729728,0.79936708860759498,{"$f":"IFERROR(Table37[[#This Row],[Operating Costs US$ - Bus]]/Table37[[#This Row],[Fare revenue US$- Bus]], \"\")","v":""},{"$f":"IFERROR(Table37[[#This Row],[Operating Costs US$ - Metro]]/Table37[[#This Row],[Fare revenue US$- Metro]], \"\")","v":""},{"$f":"IFERROR(Table37[[#This Row],[Operating Costs US$- LRT]]/Table37[[#This Row],[Fare revenue US$- LRT]], \"\")","v":""},{"$f":"IFERROR(Table37[[#This Row],[Operating Costs US$- Tram]]/Table37[[#This Row],[Fare revenue US$- Tram]], \"\")","v":""},{"$f":"IFERROR(Table37[[#This Row],[Operating Costs US$ - Trolley Bus]]/Table37[[#This Row],[Fare revenue US$- Trolley Buses]], \"\")","v":""},{"$f":"IFERROR((AVERAGEIF(Table37[[#This Row],[Fares for 10 km of journey (2007 US$ PPP) - Bus]:[Fares for 10 km of journey (2007 US$ PPP) - Trolley Bus]], \"<>0\")*40*12)/EO90, \"\")","v":""},{"$f":"IFERROR((AVERAGEIF(Table37[[#This Row],[Fares for 10 km of journey (2007 US$ PPP) - Regional/Commuter Rail]:[Fares for 10 km of journey (2007 US$ PPP) - BRT]], \"<>0\")*40*12)/EO90, \"\")","v":""},{"$f":"IFERROR(2*(AVERAGEIF(Table37[[#This Row],[Fares for avg. length of journey (2007 US$ PPP) - Metro]:[Fares for avg. length of journey (2007 US$ PPP) - BRT]], \"<>0\"))/(Table37[[#This Row],[Minimum Hourly Wage rate (PPP $ 2007)]]*8), \"\")","v":""},1.3432913562399538E-2,0,52.5,{"$f":"SUM(AP90:AQ90)+Table37[[#This Row],[Length of mass transit (km) - BRT]]","v":75},0.18906041095890413,2520.8054794520549,{"$f":"IFERROR(FS90*10^6/E90, FS90*10^6/#REF!)","v":6.7771749916443025E-2},{"$f":"IFERROR(FR90/#REF!, \"\")","v":""},4.633204633204633E-2,{"$f":"IFERROR(ED90*E90/10^5, \"\")","v":131},46.959060302602751,2.2345949412864444E-2,2.7403048641457253,{"$f":"IFERROR(EJ90/E90*10^6, EJ90/#REF!*10^6)","v":0},{"$f":"IFERROR(EG90/E90*10^6, EG90/#REF!*10^6)","v":0},{"$f":"IFERROR(EH90/E90*10^6, EH90/#REF!*10^6)","v":0},{"$f":"IFERROR(EI90/E90*10^6, EI90/#REF!*10^6)","v":0},0,0,{"$f":"Table37[[#This Row],[Fares for 10 km of journey (2007 US$ PPP) - Bus]]/10*Table37[[#This Row],[Average trip length by car (km)]]","v":{"$error":"#DIV/0!"}},{"$f":"Table37[[#This Row],[Fares for 10 km of journey (2007 US$ PPP) - Regional/Commuter Rail]]/10*Table37[[#This Row],[Average trip length by car (km)]]","v":{"$error":"#DIV/0!"}},{"$f":"Table37[[#This Row],[Fares for 10 km of journey (2007 US$ PPP) - Metro]]/10*Table37[[#This Row],[Average trip length by car (km)]]","v":{"$error":"#DIV/0!"}},{"$f":"Table37[[#This Row],[Fares for 10 km of journey (2007 US$ PPP) - LRT]]/10*Table37[[#This Row],[Average trip length by car (km)]]","v":{"$error":"#DIV/0!"}},{"$f":"Table37[[#This Row],[Fares for 10 km of journey (2007 US$ PPP) - Tram]]/10*Table37[[#This Row],[Average trip length by car (km)]]","v":{"$error":"#DIV/0!"}},{"$f":"Table37[[#This Row],[Fares for 10 km of journey (2007 US$ PPP) - BRT]]/10*Table37[[#This Row],[Average trip length by car (km)]]","v":{"$error":"#DIV/0!"}},{"$f":"Table37[[#This Row],[Fares for 10 km of journey (2007 US$ PPP) - Trolley Bus]]/10*Table37[[#This Row],[Average trip length by car (km)]]","v":{"$error":"#DIV/0!"}},"Dubai transport Corporation provides minibus and taxi services with a fleet of 2,500 taxis, 115 buses, and 25 vans."]
[null,"Glasgow","UK","OECD",602990,578800,1789003,1782479,174.7,175.5,3346,3346.1,3451.5741270749859,302800,3195,151379,154574,155774,52.98,1,1.82,12,null,null,30,2.2000000000000028,13.7,26,0.30459999999999998,null,{"$f":"41/365","v":0.11232876712328767},{"$f":"14/365","v":3.8356164383561646E-2},0,0,0,0,0.34295616438356163,3.8356164383561646E-2,null,null,486,10.4,0,0,0,0,177,15,0,0,0,0,{"$f":"10+19","v":29},{"$f":"4+19+1+27+46+10+76+52+23+12+1+6","v":277},{"$f":"677+103+40","v":820},24,{"$f":"26+15+4+5","v":50},41,{"$f":"99*3+28*2+3*2","v":359},0,0,0,0,null,{"$f":"124/(50*2)","v":1.24},{"$f":"146/(10*5*2)","v":1.46},{"$f":"146/(10*5*2)","v":1.46},0,0,0,0,1.809071274298059,2.130035532641263,2.130035532641263,0,0,0,0,null,null,null,0,0,0,0,null,null,14,0,0,null,0,null,null,null,0,null,0,null,null,0,0,0,null,null,22.519588262405993,0,0,null,0,null,null,null,0,null,0,{"$f":"2700+500+100","v":3300},null,33,0,0,0,0,null,2.41,1.94,1.0900000000000001,1.403,1.1492,1.34,null,1.42,54,3,3,7.4,null,41,23,null,null,"Euro 6b",23272,35900,48917.49,{"$f":"26.224*0.89","v":23.339359999999999},{"$f":"Table37[[#This Row],[City GDP (LC Billion)]]*'GDP Deflator 1960-2011'!AZ88/'GDP Deflator 1960-2011'!BB88*1/Table37[[#This Row],[PPP Exchange rate with the US$ (2016)]]","v":31.802307907917079},{"$f":"13528*2.05","v":27732.399999999998},{"$f":"Table37[[#This Row],[Median Annual household income (LC)]]*'GDP Deflator 1960-2011'!AZ88/'GDP Deflator 1960-2011'!BD88*1/Table37[[#This Row],[PPP Exchange rate with the US$ (2016)]]","v":35902.042759453099},6.19,{"$f":"IF(ISERROR(Table37[[#This Row],[Minimum Hourly Wage Rate (LC)]]*'CPI 1960-2011'!AY88/'CPI 1960-2011'!BC88*1/Table37[[#This Row],[PPP Exchange rate with the US$ (2016)]]), \"n/a\", Table37[[#This Row],[Minimum Hourly Wage Rate (LC)]]*'GDP Deflator 1960-2011'!AZ88/'GDP Deflator 1960-2011'!BD88*1/Table37[[#This Row],[PPP Exchange rate with the US$ (2016)]])","v":8.0135020654907141},0.7,null,{"$f":"IFERROR(O91/G91*1000, O91/E91*1000)","v":1.785910923570279},{"$f":"IFERROR(P91/G91*1000,P91/E91*1000)","v":84.616403661704311},{"$f":"IFERROR(SUM(BA91:BE91)/G91*1000, SUM(BA91:BE91)/E91*1000)","v":0.67076466612968222},2.0510483135824976E-2,"",0,{"$f":"IFERROR(AM91/G91*10^6,AM91/E91*10^6)","v":0},{"$f":"IFERROR(AM91/I91, \"\")","v":0},2.75,{"$f":"IFERROR(Table37[[#This Row],[Operating Costs US$ - Bus]]/Table37[[#This Row],[Fare revenue US$- Bus]], \"\")","v":""},{"$f":"IFERROR(Table37[[#This Row],[Operating Costs US$ - Metro]]/Table37[[#This Row],[Fare revenue US$- Metro]], \"\")","v":0},{"$f":"IFERROR(Table37[[#This Row],[Operating Costs US$- LRT]]/Table37[[#This Row],[Fare revenue US$- LRT]], \"\")","v":""},{"$f":"IFERROR(Table37[[#This Row],[Operating Costs US$- Tram]]/Table37[[#This Row],[Fare revenue US$- Tram]], \"\")","v":""},{"$f":"IFERROR(Table37[[#This Row],[Operating Costs US$ - Trolley Bus]]/Table37[[#This Row],[Fare revenue US$- Trolley Buses]], \"\")","v":""},{"$f":"IFERROR((AVERAGEIF(Table37[[#This Row],[Fares for 10 km of journey (2007 US$ PPP) - Bus]:[Fares for 10 km of journey (2007 US$ PPP) - Trolley Bus]], \"<>0\")*40*12)/EO91, \"\")","v":1.9851034350554245E-2},{"$f":"IFERROR((AVERAGEIF(Table37[[#This Row],[Fares for 10 km of journey (2007 US$ PPP) - Regional/Commuter Rail]:[Fares for 10 km of journey (2007 US$ PPP) - BRT]], \"<>0\")*40*12)/EO91, \"\")","v":2.090084866717009E-2},{"$f":"IFERROR(2*(AVERAGEIF(Table37[[#This Row],[Fares for avg. length of journey (2007 US$ PPP) - Metro]:[Fares for avg. length of journey (2007 US$ PPP) - BRT]], \"<>0\"))/(Table37[[#This Row],[Minimum Hourly Wage rate (PPP $ 2007)]]*8), \"\")","v":9.1038495275530776E-2},3.28716784119545E-2,13.7,26,{"$f":"SUM(AP91:AQ91)+Table37[[#This Row],[Length of mass transit (km) - BRT]]","v":10.4},3.8356164383561646E-2,3688.0927291886201,{"$f":"IFERROR(FS91*10^6/G91, FS91*10^6/E91)","v":2.1439966497295782E-2},{"$f":"IFERROR(FR91/I91, \"\")","v":5.9530623926731543E-2},0,{"$f":"IFERROR(ED91*E91/10^5, \"\")","v":18.089700000000001},30,"",1.1612785188799157,{"$f":"IFERROR(EJ91/G91*10^6, EJ91/E91*10^6)","v":0},{"$f":"IFERROR(EG91/G91*10^6, EG91/E91*10^6)","v":0},{"$f":"IFERROR(EH91/G91*10^6, EH91/E91*10^6)","v":22.91779275943081},{"$f":"IFERROR(EI91/G91*10^6, EI91/E91*10^6)","v":12.856322767485578},2.41,1.94,{"$f":"Table37[[#This Row],[Fares for 10 km of journey (2007 US$ PPP) - Bus]]/10*Table37[[#This Row],[Average trip length by car (km)]]","v":2.478427645788341},{"$f":"Table37[[#This Row],[Fares for 10 km of journey (2007 US$ PPP) - Regional/Commuter Rail]]/10*Table37[[#This Row],[Average trip length by car (km)]]","v":2.9181486797185299},{"$f":"Table37[[#This Row],[Fares for 10 km of journey (2007 US$ PPP) - Metro]]/10*Table37[[#This Row],[Average trip length by car (km)]]","v":2.9181486797185299},{"$f":"Table37[[#This Row],[Fares for 10 km of journey (2007 US$ PPP) - LRT]]/10*Table37[[#This Row],[Average trip length by car (km)]]","v":0},{"$f":"Table37[[#This Row],[Fares for 10 km of journey (2007 US$ PPP) - Tram]]/10*Table37[[#This Row],[Average trip length by car (km)]]","v":0},{"$f":"Table37[[#This Row],[Fares for 10 km of journey (2007 US$ PPP) - BRT]]/10*Table37[[#This Row],[Average trip length by car (km)]]","v":0},{"$f":"Table37[[#This Row],[Fares for 10 km of journey (2007 US$ PPP) - Trolley Bus]]/10*Table37[[#This Row],[Average trip length by car (km)]]","v":0}]
[null,"London","UK","OECD",8630000,7172000,15010295,13932692,1572.2,1572,8922.2999999999993,8920,4977.2293601322981,4684700,115635,2401619,2517254,2524719,31.9,1.2,4.3,9.3000000000000007,1.4,null,51,0.90000000000000568,33.24,56,6.2712328767123289,null,2.5123287671232877,3.032876712328767,0.21369863013698631,7.6438356164383561E-2,8.9999999999999993E-3,0,9.6032465753424656,3.3320136986301372,14807.17,null,1407,404,31,28,20,0,413,270,40,39,0,40,220,3071,3531,4,639,4134,4619,94,24,18,0,null,1.35,2.2999999999999998,2.4333333333333331,2.4333333333333331,1.35,1.97,0,1.9695534034696613,3.3555354281334959,3.5500592210687709,3.5500592210687709,1.9695534034696613,0,0,2733,null,2050,309,null,null,0,1257,89,1758,89,null,null,0,null,null,691,null,1282.3,null,4166.0493557545296,3124.9181043896028,35.917382741082015,12.84737151892549,0,1916.1083205940154,131.66134047146488,2679.8078183009375,135.66717623935349,4.0058357678886258,3.72,0,545.6252318389503,218.58380847370788,263.87380150533767,18.592733981405903,489.67492861113521,34.502840498345577,null,5800,19000,null,null,null,0,null,0.59,2.34,1.1180000000000001,1.3979999999999999,1.204,1.39,1.6543978664888752,1.49,43,3,3,3.5680000000000001,25,37,22,40.19,44.283999999999999,"Euro 6b",25700,67500,91975.39,{"$f":"427.841*0.89","v":380.77849000000003},{"$f":"Table37[[#This Row],[City GDP (LC Billion)]]*'GDP Deflator 1960-2011'!AZ89/'GDP Deflator 1960-2011'!BB89*1/Table37[[#This Row],[PPP Exchange rate with the US$ (2016)]]","v":518.85033624279856},{"$f":"882*52","v":45864},{"$f":"Table37[[#This Row],[Median Annual household income (LC)]]*'GDP Deflator 1960-2011'!AZ89/'GDP Deflator 1960-2011'!BB89*1/Table37[[#This Row],[PPP Exchange rate with the US$ (2016)]]","v":62494.474993689139},6.19,{"$f":"IF(ISERROR(Table37[[#This Row],[Minimum Hourly Wage Rate (LC)]]*'CPI 1960-2011'!AY89/'CPI 1960-2011'!BC89*1/Table37[[#This Row],[PPP Exchange rate with the US$ (2016)]]), \"n/a\", Table37[[#This Row],[Minimum Hourly Wage Rate (LC)]]*'GDP Deflator 1960-2011'!AZ89/'GDP Deflator 1960-2011'!BD89*1/Table37[[#This Row],[PPP Exchange rate with the US$ (2016)]])","v":8.0135020654907141},0.7,null,7.7037126851937288,159.9981212894217,0.49732533571125681,4.5801136680953404E-2,167.35804343436322,14807.17,986.46762105608173,9.418121104185218,0,{"$f":"IFERROR(Table37[[#This Row],[Operating Costs US$ - Bus]]/Table37[[#This Row],[Fare revenue US$- Bus]], \"\")","v":2.1742243436754176},{"$f":"IFERROR(Table37[[#This Row],[Operating Costs US$ - Metro]]/Table37[[#This Row],[Fare revenue US$- Metro]], \"\")","v":1.1660978384527874},{"$f":"IFERROR(Table37[[#This Row],[Operating Costs US$- LRT]]/Table37[[#This Row],[Fare revenue US$- LRT]], \"\")","v":0.26474629852775933},{"$f":"IFERROR(Table37[[#This Row],[Operating Costs US$- Tram]]/Table37[[#This Row],[Fare revenue US$- Tram]], \"\")","v":3.2071638138317917},{"$f":"IFERROR(Table37[[#This Row],[Operating Costs US$ - Trolley Bus]]/Table37[[#This Row],[Fare revenue US$- Trolley Buses]], \"\")","v":""},{"$f":"IFERROR((AVERAGEIF(Table37[[#This Row],[Fares for 10 km of journey (2007 US$ PPP) - Bus]:[Fares for 10 km of journey (2007 US$ PPP) - Trolley Bus]], \"<>0\")*40*12)/EO92, \"\")","v":1.5024638928002314E-2},{"$f":"IFERROR((AVERAGEIF(Table37[[#This Row],[Fares for 10 km of journey (2007 US$ PPP) - Regional/Commuter Rail]:[Fares for 10 km of journey (2007 US$ PPP) - BRT]], \"<>0\")*40*12)/EO92, \"\")","v":1.6211128573076817E-2},{"$f":"IFERROR(2*(AVERAGEIF(Table37[[#This Row],[Fares for avg. length of journey (2007 US$ PPP) - Metro]:[Fares for avg. length of journey (2007 US$ PPP) - BRT]], \"<>0\"))/(Table37[[#This Row],[Minimum Hourly Wage rate (PPP $ 2007)]]*8), \"\")","v":0.31350826151928524},1.8135285971606102E-2,33.24,56,{"$f":"SUM(AP92:AQ92)+Table37[[#This Row],[Length of mass transit (km) - BRT]]","v":455},3.3320136986301372,6898.5790861907608,0.22198189300277826,0.28940338379341052,0.17818661747869227,258.89999999999998,30,1.7484772579770474E-2,1.0254606552253933,2.6774956787991178,1.6655235623283886,2.4649748722460152,1.4656607348489821,0.59,2.34,{"$f":"Table37[[#This Row],[Fares for 10 km of journey (2007 US$ PPP) - Bus]]/10*Table37[[#This Row],[Average trip length by car (km)]]","v":6.5467955131331541},{"$f":"Table37[[#This Row],[Fares for 10 km of journey (2007 US$ PPP) - Regional/Commuter Rail]]/10*Table37[[#This Row],[Average trip length by car (km)]]","v":11.153799763115741},{"$f":"Table37[[#This Row],[Fares for 10 km of journey (2007 US$ PPP) - Metro]]/10*Table37[[#This Row],[Average trip length by car (km)]]","v":11.800396850832595},{"$f":"Table37[[#This Row],[Fares for 10 km of journey (2007 US$ PPP) - LRT]]/10*Table37[[#This Row],[Average trip length by car (km)]]","v":11.800396850832595},{"$f":"Table37[[#This Row],[Fares for 10 km of journey (2007 US$ PPP) - Tram]]/10*Table37[[#This Row],[Average trip length by car (km)]]","v":6.5467955131331541},{"$f":"Table37[[#This Row],[Fares for 10 km of journey (2007 US$ PPP) - BRT]]/10*Table37[[#This Row],[Average trip length by car (km)]]","v":0},{"$f":"Table37[[#This Row],[Fares for 10 km of journey (2007 US$ PPP) - Trolley Bus]]/10*Table37[[#This Row],[Average trip length by car (km)]]","v":0},"Buses do not include suburban buses. "]
[null,"Manchester","UK","OECD",525254,447000,2615144,2515914,115.7,116,1276,1276,4539.7925669835777,255000,3042,117875,120917,122707,52.4,0.4,4.2,14.9,null,null,27.4,0.69999999999998863,8.6,26,{"$f":"82/365","v":0.22465753424657534},null,{"$f":"26/365","v":7.1232876712328766E-2},0,{"$f":"21/365","v":5.7534246575342465E-2},0,0,null,0.28219178082191781,5.7534246575342465E-2,null,null,null,0,6.4,0,0,null,null,null,37,0,null,0,34,{"$f":"190+366+1+4+2+9+3+8+4+2+5+9+13+15+2+6+26","v":665},{"$f":"456+223+1+1+1+1+3+1+1+1+1+2+9+1+6+1+1+2+13+19","v":744},{"$f":"34+1+1","v":36},{"$f":"266+45","v":311},0,null,32,0,0,null,null,{"$f":"3.9/2","v":1.95},{"$f":"835/(12*20*2)","v":1.7395833333333333},0,{"$f":"950/(12*20*2)","v":1.9791666666666667},0,0,null,2.8449104716783986,2.5379276109524178,0,2.8874625513829906,0,0,0,null,null,0,null,0,0,null,null,null,0,23,0,null,null,null,null,0,null,0,null,null,0,null,0,null,null,null,0,36.996466431095563,0,null,null,null,null,0,null,0,null,{"$f":"2200+1700+130+98","v":4128},null,0,340,0,0,null,null,1.24,3.48,1.1100000000000001,1.4019999999999999,null,1.35,null,null,38,2,5,5.0419999999999998,26,33.299999999999997,18,14.888999999999999,16.608000000000001,"Euro 6b",20600,33500,45647.62,{"$f":"52.384*0.89","v":46.621760000000002},{"$f":"Table37[[#This Row],[City GDP (LC Billion)]]*'GDP Deflator 1960-2011'!AZ90/'GDP Deflator 1960-2011'!BB90*1/Table37[[#This Row],[PPP Exchange rate with the US$ (2016)]]","v":63.527001885613494},{"$f":"2.3*13779","v":31691.699999999997},{"$f":"Table37[[#This Row],[Median Annual household income (LC)]]*'GDP Deflator 1960-2011'!AZ90/'GDP Deflator 1960-2011'!BD90*1/Table37[[#This Row],[PPP Exchange rate with the US$ (2016)]]","v":41027.706528095645},6.19,{"$f":"IF(ISERROR(Table37[[#This Row],[Minimum Hourly Wage Rate (LC)]]*'CPI 1960-2011'!AY90/'CPI 1960-2011'!BC90*1/Table37[[#This Row],[PPP Exchange rate with the US$ (2016)]]), \"n/a\", Table37[[#This Row],[Minimum Hourly Wage Rate (LC)]]*'GDP Deflator 1960-2011'!AZ90/'GDP Deflator 1960-2011'!BD90*1/Table37[[#This Row],[PPP Exchange rate with the US$ (2016)]])","v":8.0135020654907141},0.7,null,1.1632246637278865,45.073999749153394,0.68447473638162937,2.4790761733234454E-2,"",0,0,0,2.3061452513966478,{"$f":"IFERROR(Table37[[#This Row],[Operating Costs US$ - Bus]]/Table37[[#This Row],[Fare revenue US$- Bus]], \"\")","v":""},{"$f":"IFERROR(Table37[[#This Row],[Operating Costs US$ - Metro]]/Table37[[#This Row],[Fare revenue US$- Metro]], \"\")","v":""},{"$f":"IFERROR(Table37[[#This Row],[Operating Costs US$- LRT]]/Table37[[#This Row],[Fare revenue US$- LRT]], \"\")","v":0},{"$f":"IFERROR(Table37[[#This Row],[Operating Costs US$- Tram]]/Table37[[#This Row],[Fare revenue US$- Tram]], \"\")","v":""},{"$f":"IFERROR(Table37[[#This Row],[Operating Costs US$ - Trolley Bus]]/Table37[[#This Row],[Fare revenue US$- Trolley Buses]], \"\")","v":""},{"$f":"IFERROR((AVERAGEIF(Table37[[#This Row],[Fares for 10 km of journey (2007 US$ PPP) - Bus]:[Fares for 10 km of journey (2007 US$ PPP) - Trolley Bus]], \"<>0\")*40*12)/EO93, \"\")","v":2.8988326257583838E-2},{"$f":"IFERROR((AVERAGEIF(Table37[[#This Row],[Fares for 10 km of journey (2007 US$ PPP) - Regional/Commuter Rail]:[Fares for 10 km of journey (2007 US$ PPP) - BRT]], \"<>0\")*40*12)/EO93, \"\")","v":2.8524896565483546E-2},{"$f":"IFERROR(2*(AVERAGEIF(Table37[[#This Row],[Fares for avg. length of journey (2007 US$ PPP) - Metro]:[Fares for avg. length of journey (2007 US$ PPP) - BRT]], \"<>0\"))/(Table37[[#This Row],[Minimum Hourly Wage rate (PPP $ 2007)]]*8), \"\")","v":7.7469805769536229E-2},3.5489254423341235E-2,8.6,26,{"$f":"SUM(AP93:AQ93)+Table37[[#This Row],[Length of mass transit (km) - BRT]]","v":6.4},5.7534246575342465E-2,8989.7260273972588,2.2000412434398434E-2,5.5315471045808126E-2,0.69144338807260153,10.50508,20,"",0.85611089831875931,5.6933767318357997,9.9420911429733891,12.733524425423608,6.8829861759046533,1.24,3.48,{"$f":"Table37[[#This Row],[Fares for 10 km of journey (2007 US$ PPP) - Bus]]/10*Table37[[#This Row],[Average trip length by car (km)]]","v":2.4466230056434224},{"$f":"Table37[[#This Row],[Fares for 10 km of journey (2007 US$ PPP) - Regional/Commuter Rail]]/10*Table37[[#This Row],[Average trip length by car (km)]]","v":2.1826177454190794},{"$f":"Table37[[#This Row],[Fares for 10 km of journey (2007 US$ PPP) - Metro]]/10*Table37[[#This Row],[Average trip length by car (km)]]","v":0},{"$f":"Table37[[#This Row],[Fares for 10 km of journey (2007 US$ PPP) - LRT]]/10*Table37[[#This Row],[Average trip length by car (km)]]","v":2.4832177941893718},{"$f":"Table37[[#This Row],[Fares for 10 km of journey (2007 US$ PPP) - Tram]]/10*Table37[[#This Row],[Average trip length by car (km)]]","v":0},{"$f":"Table37[[#This Row],[Fares for 10 km of journey (2007 US$ PPP) - BRT]]/10*Table37[[#This Row],[Average trip length by car (km)]]","v":0},{"$f":"Table37[[#This Row],[Fares for 10 km of journey (2007 US$ PPP) - Trolley Bus]]/10*Table37[[#This Row],[Average trip length by car (km)]]","v":0},"Smaller private companies with stage services also operate in the city."]
[null,"Newcastle upon Tyne","UK","OECD",291359,272600,1141879,1113067,113.5,113,5428.7,5428.6,2567.0396475770926,144800,2212,78936,{"$f":"O94+P94","v":81148},83053,56.2,0.3,2.9,13.9,null,null,26,0.70000000000000284,12.5,28,{"$f":"(88+69.1)/365","v":0.43041095890410958},null,null,{"$f":"41/365","v":0.11232876712328767},0,0,0,0,0.54273972602739728,0.11232876712328767,null,1890,null,74,0,0,0,0,null,60,0,0,0,0,4,{"$f":"112+165+50+9+9+6+15+22","v":388},{"$f":"302+342+23+7+41+37+26+32+22+94+3+13+19+59+9+6","v":1035},{"$f":"43+143","v":186},{"$f":"160+10+122","v":292},90,null,0,0,0,0,null,{"$f":"784/(12*20*2)","v":1.6333333333333333},{"$f":"784/(12*20*2)","v":1.6333333333333333},{"$f":"784/(12*20*2)","v":1.6333333333333333},0,0,0,0,2.3829164634571205,2.3829164634571205,2.3829164634571205,0,0,0,0,null,null,null,0,0,0,0,null,null,32,0,0,null,0,null,null,null,0,null,0,null,null,0,0,0,null,null,51.473344599785129,0,0,null,0,null,null,null,0,null,0,null,null,null,0,0,0,0,null,1.1499999999999999,2.73,1.1200000000000001,null,null,1.34,18,null,37,3,5,5.7469999999999999,null,34.799999999999997,17,null,null,"Euro 6b",23272,{"$f":"26800*0.89","v":23852},32500.83,{"$f":"24.985*0.89","v":22.236650000000001},{"$f":"Table37[[#This Row],[City GDP (LC Billion)]]*'GDP Deflator 1960-2011'!AZ91/'GDP Deflator 1960-2011'!BB91*1/Table37[[#This Row],[PPP Exchange rate with the US$ (2016)]]","v":30.299750727551412},{"$f":"2.28*13052","v":29758.559999999998},{"$f":"Table37[[#This Row],[Median Annual household income (LC)]]*'GDP Deflator 1960-2011'!AZ91/'GDP Deflator 1960-2011'!BD91*1/Table37[[#This Row],[PPP Exchange rate with the US$ (2016)]]","v":38525.08594927776},6.19,{"$f":"IF(ISERROR(Table37[[#This Row],[Minimum Hourly Wage Rate (LC)]]*'CPI 1960-2011'!AY91/'CPI 1960-2011'!BC91*1/Table37[[#This Row],[PPP Exchange rate with the US$ (2016)]]), \"n/a\", Table37[[#This Row],[Minimum Hourly Wage Rate (LC)]]*'GDP Deflator 1960-2011'!AZ91/'GDP Deflator 1960-2011'!BD91*1/Table37[[#This Row],[PPP Exchange rate with the US$ (2016)]])","v":8.0135020654907141},0.7,null,1.937157965073357,69.128165068277809,1.6683028587091977,2.663359541497598E-2,"",0,0,0,0,{"$f":"IFERROR(Table37[[#This Row],[Operating Costs US$ - Bus]]/Table37[[#This Row],[Fare revenue US$- Bus]], \"\")","v":""},{"$f":"IFERROR(Table37[[#This Row],[Operating Costs US$ - Metro]]/Table37[[#This Row],[Fare revenue US$- Metro]], \"\")","v":0},{"$f":"IFERROR(Table37[[#This Row],[Operating Costs US$- LRT]]/Table37[[#This Row],[Fare revenue US$- LRT]], \"\")","v":""},{"$f":"IFERROR(Table37[[#This Row],[Operating Costs US$- Tram]]/Table37[[#This Row],[Fare revenue US$- Tram]], \"\")","v":""},{"$f":"IFERROR(Table37[[#This Row],[Operating Costs US$ - Trolley Bus]]/Table37[[#This Row],[Fare revenue US$- Trolley Buses]], \"\")","v":""},{"$f":"IFERROR((AVERAGEIF(Table37[[#This Row],[Fares for 10 km of journey (2007 US$ PPP) - Bus]:[Fares for 10 km of journey (2007 US$ PPP) - Trolley Bus]], \"<>0\")*40*12)/EO94, \"\")","v":3.5192944378941021E-2},{"$f":"IFERROR((AVERAGEIF(Table37[[#This Row],[Fares for 10 km of journey (2007 US$ PPP) - Regional/Commuter Rail]:[Fares for 10 km of journey (2007 US$ PPP) - BRT]], \"<>0\")*40*12)/EO94, \"\")","v":3.5192944378941021E-2},{"$f":"IFERROR(2*(AVERAGEIF(Table37[[#This Row],[Fares for avg. length of journey (2007 US$ PPP) - Metro]:[Fares for avg. length of journey (2007 US$ PPP) - BRT]], \"<>0\"))/(Table37[[#This Row],[Minimum Hourly Wage rate (PPP $ 2007)]]*8), \"\")","v":9.2925838009969994E-2},4.9475659544694704E-2,12.5,28,{"$f":"SUM(AP94:AQ94)+Table37[[#This Row],[Length of mass transit (km) - BRT]]","v":74},0.11232876712328767,1517.9563124768604,9.8371865253050167E-2,0.65198237885462551,0.64493392070484579,8.7407699999999995,30,"",1.052432783884989,0,0,30.476083718152271,14.887742046223812,1.1499999999999999,2.73,{"$f":"Table37[[#This Row],[Fares for 10 km of journey (2007 US$ PPP) - Bus]]/10*Table37[[#This Row],[Average trip length by car (km)]]","v":2.9786455793214004},{"$f":"Table37[[#This Row],[Fares for 10 km of journey (2007 US$ PPP) - Regional/Commuter Rail]]/10*Table37[[#This Row],[Average trip length by car (km)]]","v":2.9786455793214004},{"$f":"Table37[[#This Row],[Fares for 10 km of journey (2007 US$ PPP) - Metro]]/10*Table37[[#This Row],[Average trip length by car (km)]]","v":2.9786455793214004},{"$f":"Table37[[#This Row],[Fares for 10 km of journey (2007 US$ PPP) - LRT]]/10*Table37[[#This Row],[Average trip length by car (km)]]","v":0},{"$f":"Table37[[#This Row],[Fares for 10 km of journey (2007 US$ PPP) - Tram]]/10*Table37[[#This Row],[Average trip length by car (km)]]","v":0},{"$f":"Table37[[#This Row],[Fares for 10 km of journey (2007 US$ PPP) - BRT]]/10*Table37[[#This Row],[Average trip length by car (km)]]","v":0},{"$f":"Table37[[#This Row],[Fares for 10 km of journey (2007 US$ PPP) - Trolley Bus]]/10*Table37[[#This Row],[Average trip length by car (km)]]","v":0}]
[null,"Chicago","USA","OECD",2714885,2896016,9522434,9098316,589.55999999999995,null,5498,null,4604.9341882081553,3582770,null,1349935,1349935,1351716,79.599999999999994,0.1,0.6,3.1,0.2,4.5999999999999996,6.6,5.2000000000000313,12.6,33.6,0.97,null,0.22657534246575342,0.64,0,0,1.2500000000000001E-2,0,1.6099999999999999,0.64,null,3152.7040000000002,1858.7919999999999,389.78,0,0,25.4,0,241,144,0,0,0,30,null,null,1781,null,null,1200,1010,0,0,0,0,null,2.15,2.1375000000000002,2.15,0,0,2.25,0,1.9818078035913373,1.9702856651983647,1.9818078035913373,0,0,0,0,null,829.5,1595.326,0,0,0,0,null,239.4,509.17899999999997,0,0,5.91,0,null,null,39.132000000000005,0,744.19,0,913.93732091720381,603.01019112062943,0,0,0,291.70068758818007,227.63825975496999,192.46230933653115,0,0,0,0,22.418110932895235,null,14.791330924796856,0,281.29307372290128,0,9377,2519,null,0,0,0,0,4.3,1.74,2.82,2.2370000000000001,1.06,2.3530000000000002,2.2400000000000002,0.62525740738094893,1.0107864308431735,null,null,null,11.617000000000001,14,57,22,33.5,33.5,"LEV II/EPA 2010/Tier 2",45977,55837,52018.5,547.60900000000004,{"$f":"Table37[[#This Row],[City GDP (LC Billion)]]*'GDP Deflator 1960-2011'!AZ92/'GDP Deflator 1960-2011'!BD92*1/Table37[[#This Row],[PPP Exchange rate with the US$ (2016)]]","v":510.15099155007783},56516,{"$f":"Table37[[#This Row],[Median Annual household income (LC)]]*'GDP Deflator 1960-2011'!AZ92/'GDP Deflator 1960-2011'!BD92*1/Table37[[#This Row],[PPP Exchange rate with the US$ (2016)]]","v":52650.145338086477},8.25,{"$f":"IF(ISERROR(Table37[[#This Row],[Minimum Hourly Wage Rate (LC)]]*'CPI 1960-2011'!AY92/'CPI 1960-2011'!BC92*1/Table37[[#This Row],[PPP Exchange rate with the US$ (2016)]]), \"n/a\", Table37[[#This Row],[Minimum Hourly Wage Rate (LC)]]*'GDP Deflator 1960-2011'!AZ92/'GDP Deflator 1960-2011'!BD92*1/Table37[[#This Row],[PPP Exchange rate with the US$ (2016)]])","v":7.6856766055491095},1,null,0,141.76364992395852,0.18703201303364245,0,"",0,0,0,5.2650196518809658,{"$f":"IFERROR(Table37[[#This Row],[Operating Costs US$ - Bus]]/Table37[[#This Row],[Fare revenue US$- Bus]], \"\")","v":3.1331339273614973},{"$f":"IFERROR(Table37[[#This Row],[Operating Costs US$ - Metro]]/Table37[[#This Row],[Fare revenue US$- Metro]], \"\")","v":3.1331339273614986},{"$f":"IFERROR(Table37[[#This Row],[Operating Costs US$- LRT]]/Table37[[#This Row],[Fare revenue US$- LRT]], \"\")","v":""},{"$f":"IFERROR(Table37[[#This Row],[Operating Costs US$- Tram]]/Table37[[#This Row],[Fare revenue US$- Tram]], \"\")","v":""},{"$f":"IFERROR(Table37[[#This Row],[Operating Costs US$ - Trolley Bus]]/Table37[[#This Row],[Fare revenue US$- Trolley Buses]], \"\")","v":""},{"$f":"IFERROR((AVERAGEIF(Table37[[#This Row],[Fares for 10 km of journey (2007 US$ PPP) - Bus]:[Fares for 10 km of journey (2007 US$ PPP) - Trolley Bus]], \"<>0\")*40*12)/EO95, \"\")","v":1.8251664380575492E-2},{"$f":"IFERROR((AVERAGEIF(Table37[[#This Row],[Fares for 10 km of journey (2007 US$ PPP) - Regional/Commuter Rail]:[Fares for 10 km of journey (2007 US$ PPP) - BRT]], \"<>0\")*40*12)/EO95, \"\")","v":1.8233944318070079E-2},{"$f":"IFERROR(2*(AVERAGEIF(Table37[[#This Row],[Fares for avg. length of journey (2007 US$ PPP) - Metro]:[Fares for avg. length of journey (2007 US$ PPP) - BRT]], \"<>0\"))/(Table37[[#This Row],[Minimum Hourly Wage rate (PPP $ 2007)]]*8), \"\")","v":8.1225048902076435E-2},5.1673923700222044E-2,12.6,33.6,{"$f":"SUM(AP95:AQ95)+Table37[[#This Row],[Length of mass transit (km) - BRT]]","v":415.17999999999995},0.65249999999999997,1571.6074955441015,6.8522396689753906E-2,0.70422009634303551,{"$f":"IFERROR(((AP107*4)+((AR107+AS107)*0.5)+((AQ107+AS107)*1))/I95, \"\")","v":1.6961802021846804E-2},0,0,"",0,3.5180081059107366,1.4702123427686662,5.9858645384152833,2.310333681493618,1.74,2.82,{"$f":"Table37[[#This Row],[Fares for 10 km of journey (2007 US$ PPP) - Bus]]/10*Table37[[#This Row],[Average trip length by car (km)]]","v":2.4970778325250849},{"$f":"Table37[[#This Row],[Fares for 10 km of journey (2007 US$ PPP) - Regional/Commuter Rail]]/10*Table37[[#This Row],[Average trip length by car (km)]]","v":2.4825599381499392},{"$f":"Table37[[#This Row],[Fares for 10 km of journey (2007 US$ PPP) - Metro]]/10*Table37[[#This Row],[Average trip length by car (km)]]","v":2.4970778325250849},{"$f":"Table37[[#This Row],[Fares for 10 km of journey (2007 US$ PPP) - LRT]]/10*Table37[[#This Row],[Average trip length by car (km)]]","v":0},{"$f":"Table37[[#This Row],[Fares for 10 km of journey (2007 US$ PPP) - Tram]]/10*Table37[[#This Row],[Average trip length by car (km)]]","v":0},{"$f":"Table37[[#This Row],[Fares for 10 km of journey (2007 US$ PPP) - BRT]]/10*Table37[[#This Row],[Average trip length by car (km)]]","v":0},{"$f":"Table37[[#This Row],[Fares for 10 km of journey (2007 US$ PPP) - Trolley Bus]]/10*Table37[[#This Row],[Average trip length by car (km)]]","v":0}]
[null,"New York","USA","OECD",8491000,8242000,19889657,18976002,783.83,null,87797,null,10429.727109194595,5062070,{"$f":"39015+2282","v":41297},4310000,{"$f":"O96+P96","v":4351297},4357279,57.3,0,0.5,5.9,0.6,8.6999999999999993,21.9,5.0999999999999943,14.1,39.200000000000003,{"$f":"857/365","v":2.3479452054794518},null,{"$f":"163/365","v":0.44657534246575342},{"$f":"1609/365","v":4.4082191780821915},0,0,0.106762,0,6.8629263835616428,4.5149811780821913,null,5746.9669999999996,1129.759,394.28899999999999,0,0,79.78,0,245,490,0,0,0,118,null,null,5982,null,null,6437,2191,0,0,null,0,null,2.6,7.37,2.6,0,0,2.75,0,2.3966047857383619,6.7934527964968172,2.3966047857383619,0,0,2.75,0,null,null,12709,0,0,null,0,null,null,4586.3999999999996,0,0,null,0,null,null,1832.6000000000004,0,2917,0,3939.3332914583402,7396.0178132514229,0,0,0,1421.619183881071,270.38964640911854,2669.0609881734458,0,0,115.25,0,568.04014398666732,108.04030743270337,1066.4837709154585,0,1697.5516532578802,0,14898,12542,26077,0,0,null,0,5,1.0900000000000001,3.38,2.3159999999999998,1.1100000000000001,2.5230000000000001,2.3199999999999998,0.753,1.0956671970520926,{"$f":"77253/E96*100000","v":909.82216464491808},{"$f":"270/E96*100000","v":3.179837474973501},{"$f":"328/AVERAGE(E96:F96)*100000","v":3.920396820653798},{"$f":"381/F96*100000","v":4.6226644018442125},26,79,16,49.384999999999998,53.359000000000002,"LEV II/EPA 2010/Tier 2",56770,64216,59824.6,1277.2280000000001,{"$f":"Table37[[#This Row],[City GDP (LC Billion)]]*'GDP Deflator 1960-2011'!AZ93/'GDP Deflator 1960-2011'!BD93*1/Table37[[#This Row],[PPP Exchange rate with the US$ (2016)]]","v":1189.8619829760337},60850,{"$f":"Table37[[#This Row],[Median Annual household income (LC)]]*'GDP Deflator 1960-2011'!AZ93/'GDP Deflator 1960-2011'!BD93*1/Table37[[#This Row],[PPP Exchange rate with the US$ (2016)]]","v":56687.687448201606},7.25,{"$f":"IF(ISERROR(Table37[[#This Row],[Minimum Hourly Wage Rate (LC)]]*'CPI 1960-2011'!AY93/'CPI 1960-2011'!BC93*1/Table37[[#This Row],[PPP Exchange rate with the US$ (2016)]]), \"n/a\", Table37[[#This Row],[Minimum Hourly Wage Rate (LC)]]*'GDP Deflator 1960-2011'!AZ93/'GDP Deflator 1960-2011'!BD93*1/Table37[[#This Row],[PPP Exchange rate with the US$ (2016)]])","v":6.7540794412401253},1,null,2.0763052877181343,216.69554180848871,{"$f":"IFERROR(SUM(BA96:BE96)/G96*1000, SUM(BA96:BE96)/E96*1000)","v":0.30075933436157293},9.4777038605974046E-3,"",0,0,0,2.490471414242728,{"$f":"IFERROR(Table37[[#This Row],[Operating Costs US$ - Bus]]/Table37[[#This Row],[Fare revenue US$- Bus]], \"\")","v":2.771018663875807},{"$f":"IFERROR(Table37[[#This Row],[Operating Costs US$ - Metro]]/Table37[[#This Row],[Fare revenue US$- Metro]], \"\")","v":2.771018663875807},{"$f":"IFERROR(Table37[[#This Row],[Operating Costs US$- LRT]]/Table37[[#This Row],[Fare revenue US$- LRT]], \"\")","v":""},{"$f":"IFERROR(Table37[[#This Row],[Operating Costs US$- Tram]]/Table37[[#This Row],[Fare revenue US$- Tram]], \"\")","v":""},{"$f":"IFERROR(Table37[[#This Row],[Operating Costs US$ - Trolley Bus]]/Table37[[#This Row],[Fare revenue US$- Trolley Buses]], \"\")","v":""},{"$f":"IFERROR((AVERAGEIF(Table37[[#This Row],[Fares for 10 km of journey (2007 US$ PPP) - Bus]:[Fares for 10 km of journey (2007 US$ PPP) - Trolley Bus]], \"<>0\")*40*12)/EO96, \"\")","v":2.8757392179083935E-2},{"$f":"IFERROR((AVERAGEIF(Table37[[#This Row],[Fares for 10 km of journey (2007 US$ PPP) - Regional/Commuter Rail]:[Fares for 10 km of journey (2007 US$ PPP) - BRT]], \"<>0\")*40*12)/EO96, \"\")","v":3.1933505834683872E-2},{"$f":"IFERROR(2*(AVERAGEIF(Table37[[#This Row],[Fares for avg. length of journey (2007 US$ PPP) - Metro]:[Fares for avg. length of journey (2007 US$ PPP) - BRT]], \"<>0\"))/(Table37[[#This Row],[Minimum Hourly Wage rate (PPP $ 2007)]]*8), \"\")","v":0.13430240218196701},4.653604035797982E-2,14.1,39.200000000000003,{"$f":"SUM(AP96:AQ96)+Table37[[#This Row],[Length of mass transit (km) - BRT]]","v":474.06899999999996},4.5149811780821913,9523.8903579061098,0.22700146000919932,0.60481099217942658,2.0412589464552263E-2,269.99999999999994,31.798374749735011,"",0.61965276953805337,2.4829488009773115,1.3072120851556164,3.9719136433574493,0.80443820624961004,1.0900000000000001,3.38,{"$f":"Table37[[#This Row],[Fares for 10 km of journey (2007 US$ PPP) - Bus]]/10*Table37[[#This Row],[Average trip length by car (km)]]","v":3.3792127478910903},{"$f":"Table37[[#This Row],[Fares for 10 km of journey (2007 US$ PPP) - Regional/Commuter Rail]]/10*Table37[[#This Row],[Average trip length by car (km)]]","v":9.5787684430605129},{"$f":"Table37[[#This Row],[Fares for 10 km of journey (2007 US$ PPP) - Metro]]/10*Table37[[#This Row],[Average trip length by car (km)]]","v":3.3792127478910903},{"$f":"Table37[[#This Row],[Fares for 10 km of journey (2007 US$ PPP) - LRT]]/10*Table37[[#This Row],[Average trip length by car (km)]]","v":0},{"$f":"Table37[[#This Row],[Fares for 10 km of journey (2007 US$ PPP) - Tram]]/10*Table37[[#This Row],[Average trip length by car (km)]]","v":0},{"$f":"Table37[[#This Row],[Fares for 10 km of journey (2007 US$ PPP) - BRT]]/10*Table37[[#This Row],[Average trip length by car (km)]]","v":3.8775000000000004},{"$f":"Table37[[#This Row],[Fares for 10 km of journey (2007 US$ PPP) - Trolley Bus]]/10*Table37[[#This Row],[Average trip length by car (km)]]","v":0}]
[null,"Washington DC","USA","OECD",601723,572059,5582170,4796183,158.11799999999999,null,2996,null,3805.5313120580831,2310550,null,3800000,3800000,3801492,76.099999999999994,0.2,0.5,3.5,0.2,5.7,8.3000000000000007,5.5,17.7,29.3,{"$f":"125.089/365","v":0.34270958904109589},null,{"$f":"0.0324+4.52/365","v":4.4783561643835609E-2},{"$f":"286.62/365","v":0.78526027397260278},0,0,0,0,1.1279698630136987,0.78526027397260278,null,2118,{"$f":"523.17+145","v":668.17},170.751,0,0,0,0,{"$f":"42+18","v":60},86,0,0,0,0,null,null,1492,null,null,1104,{"$f":"122+75","v":197},0,0,0,0,null,1.7,null,2.25,0,0,0,0,1.5670108214443133,0,2.0739849107351205,0,0,0,0,null,null,2079.8809999999999,0,0,0,0,null,null,763.9,0,0,null,0,null,null,{"$f":"804.504-CJ97+54.96","v":95.56400000000005},0,697.81799999999998,0,582.49247824899544,1334.6816595841926,0,0,0,213.93820325990171,null,490.20271821145764,0,0,0,0,26.76370003446689,null,61.324430636418079,0,447.79719913193219,0,null,{"$f":"155+34","v":189},10974,0,0,0,0,7.5,1.44,2.88,2.3570000000000002,0.99,2.44,2.36,null,0.98938383076757208,null,3.97,6.48,11.446,null,null,18,8.2040000000000006,null,"LEV II/EPA 2010/Tier 2",59345,77586,722738,433.09699999999998,{"$f":"Table37[[#This Row],[City GDP (LC Billion)]]*'GDP Deflator 1960-2011'!AZ94/'GDP Deflator 1960-2011'!BD94*1/Table37[[#This Row],[PPP Exchange rate with the US$ (2016)]]","v":403.47193707072751},87611,{"$f":"Table37[[#This Row],[Median Annual household income (LC)]]*'GDP Deflator 1960-2011'!AZ94/'GDP Deflator 1960-2011'!BD94*1/Table37[[#This Row],[PPP Exchange rate with the US$ (2016)]]","v":81618.1591622743},8.25,{"$f":"IF(ISERROR(Table37[[#This Row],[Minimum Hourly Wage Rate (LC)]]*'CPI 1960-2011'!AY94/'CPI 1960-2011'!BC94*1/Table37[[#This Row],[PPP Exchange rate with the US$ (2016)]]), \"n/a\", Table37[[#This Row],[Minimum Hourly Wage Rate (LC)]]*'GDP Deflator 1960-2011'!AZ94/'GDP Deflator 1960-2011'!BD94*1/Table37[[#This Row],[PPP Exchange rate with the US$ (2016)]])","v":7.6856766055491095},1,null,0,680.73885245343661,0.26727957048961248,0,"",0,0,0,0,{"$f":"IFERROR(Table37[[#This Row],[Operating Costs US$ - Bus]]/Table37[[#This Row],[Fare revenue US$- Bus]], \"\")","v":2.7227137059824584},{"$f":"IFERROR(Table37[[#This Row],[Operating Costs US$ - Metro]]/Table37[[#This Row],[Fare revenue US$- Metro]], \"\")","v":2.7227137059824584},{"$f":"IFERROR(Table37[[#This Row],[Operating Costs US$- LRT]]/Table37[[#This Row],[Fare revenue US$- LRT]], \"\")","v":""},{"$f":"IFERROR(Table37[[#This Row],[Operating Costs US$- Tram]]/Table37[[#This Row],[Fare revenue US$- Tram]], \"\")","v":""},{"$f":"IFERROR(Table37[[#This Row],[Operating Costs US$ - Trolley Bus]]/Table37[[#This Row],[Fare revenue US$- Trolley Buses]], \"\")","v":""},{"$f":"IFERROR((AVERAGEIF(Table37[[#This Row],[Fares for 10 km of journey (2007 US$ PPP) - Bus]:[Fares for 10 km of journey (2007 US$ PPP) - Trolley Bus]], \"<>0\")*40*12)/EO97, \"\")","v":1.2090674293078047E-3},{"$f":"IFERROR((AVERAGEIF(Table37[[#This Row],[Fares for 10 km of journey (2007 US$ PPP) - Regional/Commuter Rail]:[Fares for 10 km of journey (2007 US$ PPP) - BRT]], \"<>0\")*40*12)/EO97, \"\")","v":1.3774185903506636E-3},{"$f":"IFERROR(2*(AVERAGEIF(Table37[[#This Row],[Fares for avg. length of journey (2007 US$ PPP) - Metro]:[Fares for avg. length of journey (2007 US$ PPP) - BRT]], \"<>0\"))/(Table37[[#This Row],[Minimum Hourly Wage rate (PPP $ 2007)]]*8), \"\")","v":0.11940891740587649},3.9184324056573752E-3,17.7,29.3,{"$f":"SUM(AP97:AQ97)+Table37[[#This Row],[Length of mass transit (km) - BRT]]","v":170.751},0.78526027397260278,4598.8619332982107,0.14067294152141602,1.0798960270177969,0,23.888403100000001,39.700000000000003,"",6.2839545894085802E-2,1.4696793540863142,0,0,3.2245524589899626,1.44,2.88,{"$f":"Table37[[#This Row],[Fares for 10 km of journey (2007 US$ PPP) - Bus]]/10*Table37[[#This Row],[Average trip length by car (km)]]","v":2.7736091539564343},{"$f":"Table37[[#This Row],[Fares for 10 km of journey (2007 US$ PPP) - Regional/Commuter Rail]]/10*Table37[[#This Row],[Average trip length by car (km)]]","v":0},{"$f":"Table37[[#This Row],[Fares for 10 km of journey (2007 US$ PPP) - Metro]]/10*Table37[[#This Row],[Average trip length by car (km)]]","v":3.6709532920011632},{"$f":"Table37[[#This Row],[Fares for 10 km of journey (2007 US$ PPP) - LRT]]/10*Table37[[#This Row],[Average trip length by car (km)]]","v":0},{"$f":"Table37[[#This Row],[Fares for 10 km of journey (2007 US$ PPP) - Tram]]/10*Table37[[#This Row],[Average trip length by car (km)]]","v":0},{"$f":"Table37[[#This Row],[Fares for 10 km of journey (2007 US$ PPP) - BRT]]/10*Table37[[#This Row],[Average trip length by car (km)]]","v":0},{"$f":"Table37[[#This Row],[Fares for 10 km of journey (2007 US$ PPP) - Trolley Bus]]/10*Table37[[#This Row],[Average trip length by car (km)]]","v":0}]
[null,"Danang","Vietnam","EAP",926800,706100,926800,null,1285.4000000000001,null,null,null,721.02069394740931,null,500000,30000,530000,{"$f":"Q98+SUM(BA98:BE98)+BL98","v":530091},null,null,null,null,null,3,null,97,null,null,null,null,0,0,0,0,0,0,0,0,382.58300000000003,null,0,0,0,0,0,0,0,0,0,0,0,0,null,null,91,null,null,0,0,0,0,0,0,null,null,0,0,0,0,0,0,0,0,0,0,0,0,0,null,0,0,0,0,0,0,null,0,0,0,0,0,0,null,0,0,0,0,0,null,0,0,0,0,null,0,0,0,0,0,0,null,0,0,0,0,0,null,0,0,0,0,0,0,null,null,1.2,15315,null,11300,0.68700000000000006,null,0.497,null,null,null,null,null,null,null,null,null,"Euro 4 by 2017",null,null,0,null,{"$f":"Table37[[#This Row],[City GDP (LC Billion)]]*'GDP Deflator 1960-2011'!AZ95/'GDP Deflator 1960-2011'!BC95*1/Table37[[#This Row],[PPP Exchange rate with the US$ (2016)]]","v":0},null,{"$f":"Table37[[#This Row],[Median Annual household income (LC)]]*'GDP Deflator 1960-2011'!AZ95/'GDP Deflator 1960-2011'!AY95*1/Table37[[#This Row],[PPP Exchange rate with the US$ (2016)]]","v":0},{"$f":"1780000/(20*8)","v":11125},{"$f":"IF(ISERROR(Table37[[#This Row],[Minimum Hourly Wage Rate (LC)]]*'CPI 1960-2011'!AY95/'CPI 1960-2011'!BC95*1/Table37[[#This Row],[PPP Exchange rate with the US$ (2016)]]), \"n/a\", Table37[[#This Row],[Minimum Hourly Wage Rate (LC)]]*'GDP Deflator 1960-2011'!AZ95/'GDP Deflator 1960-2011'!BD95*1/Table37[[#This Row],[PPP Exchange rate with the US$ (2016)]])","v":1.2297033190513083},5167.5,null,539.49072075960294,32.369443245576178,9.8187311178247735E-2,0.9432342748697865,732.46197557131393,382.58300000000003,412.79995684074237,0.29763731134277266,0,{"$f":"IFERROR(Table37[[#This Row],[Operating Costs US$ - Bus]]/Table37[[#This Row],[Fare revenue US$- Bus]], \"\")","v":""},{"$f":"IFERROR(Table37[[#This Row],[Operating Costs US$ - Metro]]/Table37[[#This Row],[Fare revenue US$- Metro]], \"\")","v":""},{"$f":"IFERROR(Table37[[#This Row],[Operating Costs US$- LRT]]/Table37[[#This Row],[Fare revenue US$- LRT]], \"\")","v":""},{"$f":"IFERROR(Table37[[#This Row],[Operating Costs US$- Tram]]/Table37[[#This Row],[Fare revenue US$- Tram]], \"\")","v":""},{"$f":"IFERROR(Table37[[#This Row],[Operating Costs US$ - Trolley Bus]]/Table37[[#This Row],[Fare revenue US$- Trolley Buses]], \"\")","v":""},{"$f":"IFERROR((AVERAGEIF(Table37[[#This Row],[Fares for 10 km of journey (2007 US$ PPP) - Bus]:[Fares for 10 km of journey (2007 US$ PPP) - Trolley Bus]], \"<>0\")*40*12)/EO98, \"\")","v":""},{"$f":"IFERROR((AVERAGEIF(Table37[[#This Row],[Fares for 10 km of journey (2007 US$ PPP) - Regional/Commuter Rail]:[Fares for 10 km of journey (2007 US$ PPP) - BRT]], \"<>0\")*40*12)/EO98, \"\")","v":""},{"$f":"IFERROR(2*(AVERAGEIF(Table37[[#This Row],[Fares for avg. length of journey (2007 US$ PPP) - Metro]:[Fares for avg. length of journey (2007 US$ PPP) - BRT]], \"<>0\"))/(Table37[[#This Row],[Minimum Hourly Wage rate (PPP $ 2007)]]*8), \"\")","v":""},"",0,0,{"$f":"SUM(AP98:AQ98)+Table37[[#This Row],[Length of mass transit (km) - BRT]]","v":0},0,"",0,0,0.4378403609771277,0,0,0,0,0,0,0,0,0,1.2,{"$f":"Table37[[#This Row],[Fares for 10 km of journey (2007 US$ PPP) - Bus]]/10*Table37[[#This Row],[Average trip length by car (km)]]","v":0},{"$f":"Table37[[#This Row],[Fares for 10 km of journey (2007 US$ PPP) - Regional/Commuter Rail]]/10*Table37[[#This Row],[Average trip length by car (km)]]","v":0},{"$f":"Table37[[#This Row],[Fares for 10 km of journey (2007 US$ PPP) - Metro]]/10*Table37[[#This Row],[Average trip length by car (km)]]","v":0},{"$f":"Table37[[#This Row],[Fares for 10 km of journey (2007 US$ PPP) - LRT]]/10*Table37[[#This Row],[Average trip length by car (km)]]","v":0},{"$f":"Table37[[#This Row],[Fares for 10 km of journey (2007 US$ PPP) - Tram]]/10*Table37[[#This Row],[Average trip length by car (km)]]","v":0},{"$f":"Table37[[#This Row],[Fares for 10 km of journey (2007 US$ PPP) - BRT]]/10*Table37[[#This Row],[Average trip length by car (km)]]","v":0},{"$f":"Table37[[#This Row],[Fares for 10 km of journey (2007 US$ PPP) - Trolley Bus]]/10*Table37[[#This Row],[Average trip length by car (km)]]","v":0}]
[null,"Hanoi","Vietnam","EAP",6588500,2767700,12462000,null,3328.9,null,13436,null,1979.1823124755924,null,1500000,{"$f":"13*E99/1000","v":85650.5},1585650.5,1586437.5,6.9,73.5,9.6,null,null,10,null,0,null,null,{"$f":"24/30","v":0.8},null,0,0,0,0,0,0,0.8,0,624,null,0,0,0,0,0,0,0,0,0,0,0,0,null,null,787,null,null,0,0,0,0,0,0,null,3000,0,0,0,0,0,0,0.34093922693177175,0,0,0,0,0,0,32.26,0,0,0,0,0,0,19.18,0,0,0,0,0,0,null,0,0,0,0,0,105.07942041824214,0,0,0,0,62.474373329878603,0,0,0,0,0,0,null,0,0,0,0,0,null,0,0,0,0,0,0,null,null,null,15315,null,11300,0.68700000000000006,null,0.497,null,null,{"$f":"457/E99*100000","v":6.9363284510890182},null,null,null,null,null,38.659999999999997,"Euro 4 by 2017",null,{"$f":"EP99*10^9/E99","v":12294148.895803293},1358.94,81000,{"$f":"Table37[[#This Row],[City GDP (LC Billion)]]*'GDP Deflator 1960-2011'!AZ96/'GDP Deflator 1960-2011'!BD96*1/Table37[[#This Row],[PPP Exchange rate with the US$ (2016)]]","v":8.9533455139915485},null,{"$f":"Table37[[#This Row],[Median Annual household income (LC)]]*'GDP Deflator 1960-2011'!AZ96/'GDP Deflator 1960-2011'!AY96*1/Table37[[#This Row],[PPP Exchange rate with the US$ (2016)]]","v":0},{"$f":"1780000/(20*8)","v":11125},{"$f":"IF(ISERROR(Table37[[#This Row],[Minimum Hourly Wage Rate (LC)]]*'CPI 1960-2011'!AY96/'CPI 1960-2011'!BC96*1/Table37[[#This Row],[PPP Exchange rate with the US$ (2016)]]), \"n/a\", Table37[[#This Row],[Minimum Hourly Wage Rate (LC)]]*'GDP Deflator 1960-2011'!AZ96/'GDP Deflator 1960-2011'!BD96*1/Table37[[#This Row],[PPP Exchange rate with the US$ (2016)]])","v":1.2297033190513083},5167.5,null,120.3659123736158,6.8729337185042532,6.3151982025357087E-2,0.9455147145727455,1342.3365384615386,624,50.072219547424169,0.18744930757908018,0,{"$f":"IFERROR(Table37[[#This Row],[Operating Costs US$ - Bus]]/Table37[[#This Row],[Fare revenue US$- Bus]], \"\")","v":1.6819603753910326},{"$f":"IFERROR(Table37[[#This Row],[Operating Costs US$ - Metro]]/Table37[[#This Row],[Fare revenue US$- Metro]], \"\")","v":""},{"$f":"IFERROR(Table37[[#This Row],[Operating Costs US$- LRT]]/Table37[[#This Row],[Fare revenue US$- LRT]], \"\")","v":""},{"$f":"IFERROR(Table37[[#This Row],[Operating Costs US$- Tram]]/Table37[[#This Row],[Fare revenue US$- Tram]], \"\")","v":""},{"$f":"IFERROR(Table37[[#This Row],[Operating Costs US$ - Trolley Bus]]/Table37[[#This Row],[Fare revenue US$- Trolley Buses]], \"\")","v":""},{"$f":"IFERROR((AVERAGEIF(Table37[[#This Row],[Fares for 10 km of journey (2007 US$ PPP) - Bus]:[Fares for 10 km of journey (2007 US$ PPP) - Trolley Bus]], \"<>0\")*40*12)/EO99, \"\")","v":0.12042535279500967},{"$f":"IFERROR((AVERAGEIF(Table37[[#This Row],[Fares for 10 km of journey (2007 US$ PPP) - Regional/Commuter Rail]:[Fares for 10 km of journey (2007 US$ PPP) - BRT]], \"<>0\")*40*12)/EO99, \"\")","v":""},{"$f":"IFERROR(2*(AVERAGEIF(Table37[[#This Row],[Fares for avg. length of journey (2007 US$ PPP) - Metro]:[Fares for avg. length of journey (2007 US$ PPP) - BRT]], \"<>0\"))/(Table37[[#This Row],[Minimum Hourly Wage rate (PPP $ 2007)]]*8), \"\")","v":""},0.60664930018985386,0,0,{"$f":"SUM(AP99:AQ99)+Table37[[#This Row],[Length of mass transit (km) - BRT]]","v":0},0,"",0,0,"",0,0,0,0,0,0,0,0,0,0,{"$f":"Table37[[#This Row],[Fares for 10 km of journey (2007 US$ PPP) - Bus]]/10*Table37[[#This Row],[Average trip length by car (km)]]","v":0},{"$f":"Table37[[#This Row],[Fares for 10 km of journey (2007 US$ PPP) - Regional/Commuter Rail]]/10*Table37[[#This Row],[Average trip length by car (km)]]","v":0},{"$f":"Table37[[#This Row],[Fares for 10 km of journey (2007 US$ PPP) - Metro]]/10*Table37[[#This Row],[Average trip length by car (km)]]","v":0},{"$f":"Table37[[#This Row],[Fares for 10 km of journey (2007 US$ PPP) - LRT]]/10*Table37[[#This Row],[Average trip length by car (km)]]","v":0},{"$f":"Table37[[#This Row],[Fares for 10 km of journey (2007 US$ PPP) - Tram]]/10*Table37[[#This Row],[Average trip length by car (km)]]","v":0},{"$f":"Table37[[#This Row],[Fares for 10 km of journey (2007 US$ PPP) - BRT]]/10*Table37[[#This Row],[Average trip length by car (km)]]","v":0},{"$f":"Table37[[#This Row],[Fares for 10 km of journey (2007 US$ PPP) - Trolley Bus]]/10*Table37[[#This Row],[Average trip length by car (km)]]","v":0}]
[null,"Ho Chi Minh City","Vietnam","EAP",{"$f":"14.7*10^9/2300","v":6391304.3478260869},null,22000000,null,2095.6,null,30404,null,3049.8684614554722,3132625,5200000,509000,5709000,5712096,1.2,61.8,14.4,17.100000000000001,3.4,1.4,null,0.69999999999998863,4,20.5,null,null,0,0,0,0,0,0,0,0,3670,null,0,0,0,0,0,0,0,0,0,0,0,0,null,null,3096,null,null,0,0,0,0,0,0,null,3000,0,0,0,0,0,0,0.34093922693177175,0,0,0,0,0,0,null,0,0,0,0,0,0,null,0,0,0,0,0,0,null,0,0,0,0,0,null,0,0,0,0,null,0,0,0,0,0,0,null,0,0,0,0,0,null,0,0,0,0,0,0,null,0.59,0.68,15315,null,11300,0.68700000000000006,null,0.497,null,null,null,11.452999999999999,null,null,null,null,15.827,"Euro 4 by 2017",null,35797857,6927.3,228795,{"$f":"Table37[[#This Row],[City GDP (LC Billion)]]*'GDP Deflator 1960-2011'!AZ97/'GDP Deflator 1960-2011'!AZ97*1/Table37[[#This Row],[PPP Exchange rate with the US$ (2016)]]","v":44.275761973875184},null,{"$f":"Table37[[#This Row],[Median Annual household income (LC)]]*'GDP Deflator 1960-2011'!AZ97/'GDP Deflator 1960-2011'!AY97*1/Table37[[#This Row],[PPP Exchange rate with the US$ (2016)]]","v":0},{"$f":"2000000/(20*8)","v":12500},{"$f":"IF(ISERROR(Table37[[#This Row],[Minimum Hourly Wage Rate (LC)]]*'CPI 1960-2011'!AY97/'CPI 1960-2011'!BC97*1/Table37[[#This Row],[PPP Exchange rate with the US$ (2016)]]), \"n/a\", Table37[[#This Row],[Minimum Hourly Wage Rate (LC)]]*'GDP Deflator 1960-2011'!AZ97/'GDP Deflator 1960-2011'!BD97*1/Table37[[#This Row],[PPP Exchange rate with the US$ (2016)]])","v":1.3816891225295598},5167.5,null,236.36363636363635,23.136363636363637,0.14072727272727273,0.91034884567766372,849.24795640326977,3670,166.81818181818181,1.7512884138194313,0,{"$f":"IFERROR(Table37[[#This Row],[Operating Costs US$ - Bus]]/Table37[[#This Row],[Fare revenue US$- Bus]], \"\")","v":""},{"$f":"IFERROR(Table37[[#This Row],[Operating Costs US$ - Metro]]/Table37[[#This Row],[Fare revenue US$- Metro]], \"\")","v":""},{"$f":"IFERROR(Table37[[#This Row],[Operating Costs US$- LRT]]/Table37[[#This Row],[Fare revenue US$- LRT]], \"\")","v":""},{"$f":"IFERROR(Table37[[#This Row],[Operating Costs US$- Tram]]/Table37[[#This Row],[Fare revenue US$- Tram]], \"\")","v":""},{"$f":"IFERROR(Table37[[#This Row],[Operating Costs US$ - Trolley Bus]]/Table37[[#This Row],[Fare revenue US$- Trolley Buses]], \"\")","v":""},{"$f":"IFERROR((AVERAGEIF(Table37[[#This Row],[Fares for 10 km of journey (2007 US$ PPP) - Bus]:[Fares for 10 km of journey (2007 US$ PPP) - Trolley Bus]], \"<>0\")*40*12)/EO100, \"\")","v":2.362404240140465E-2},{"$f":"IFERROR((AVERAGEIF(Table37[[#This Row],[Fares for 10 km of journey (2007 US$ PPP) - Regional/Commuter Rail]:[Fares for 10 km of journey (2007 US$ PPP) - BRT]], \"<>0\")*40*12)/EO100, \"\")","v":""},{"$f":"IFERROR(2*(AVERAGEIF(Table37[[#This Row],[Fares for avg. length of journey (2007 US$ PPP) - Metro]:[Fares for avg. length of journey (2007 US$ PPP) - BRT]], \"<>0\"))/(Table37[[#This Row],[Minimum Hourly Wage rate (PPP $ 2007)]]*8), \"\")","v":""},0.11900740548265559,4,20.5,{"$f":"SUM(AP100:AQ100)+Table37[[#This Row],[Length of mass transit (km) - BRT]]","v":0},0,"",0,0,0.22258541706432525,0,0,0,0,0,0,0,0,0.59,0.68,{"$f":"Table37[[#This Row],[Fares for 10 km of journey (2007 US$ PPP) - Bus]]/10*Table37[[#This Row],[Average trip length by car (km)]]","v":0.1363756907727087},{"$f":"Table37[[#This Row],[Fares for 10 km of journey (2007 US$ PPP) - Regional/Commuter Rail]]/10*Table37[[#This Row],[Average trip length by car (km)]]","v":0},{"$f":"Table37[[#This Row],[Fares for 10 km of journey (2007 US$ PPP) - Metro]]/10*Table37[[#This Row],[Average trip length by car (km)]]","v":0},{"$f":"Table37[[#This Row],[Fares for 10 km of journey (2007 US$ PPP) - LRT]]/10*Table37[[#This Row],[Average trip length by car (km)]]","v":0},{"$f":"Table37[[#This Row],[Fares for 10 km of journey (2007 US$ PPP) - Tram]]/10*Table37[[#This Row],[Average trip length by car (km)]]","v":0},{"$f":"Table37[[#This Row],[Fares for 10 km of journey (2007 US$ PPP) - BRT]]/10*Table37[[#This Row],[Average trip length by car (km)]]","v":0},{"$f":"Table37[[#This Row],[Fares for 10 km of journey (2007 US$ PPP) - Trolley Bus]]/10*Table37[[#This Row],[Average trip length by car (km)]]","v":0}]
[null,"Medellin","Colombia","LAC",2441123,2223078,3731000,3442197,380.64,380,1152,null,{"$f":"E101/I101","v":6413.2067044976884},1790400,14480,156320,170800,199970,12.5,0,0,12.5,0,37.5,0,37.5,14.36,26.43,null,null,null,0.46500000000000002,null,null,0.06,null,0,0.49787600000000004,2800,null,null,33.5,null,null,18,null,null,27,null,null,null,29,20,0,4150,0,0,null,null,null,null,47,null,25000,1600,0,1800,0,0,1600,0,0.53,0,0.6,0,0,0.53,null,null,null,null,0,0,null,null,null,null,null,null,null,null,null,null,null,null,null,null,null,null,null,null,null,null,null,null,null,null,null,null,null,null,null,null,null,null,null,null,null,815,null,null,null,null,null,null,null,1974.58,null,1900.84,1.08,0.72,0.64,{"$f":"32178*373.1/10","v":1200561.1800000002},null,12.58,null,1,40,45,null,null,"Euro IV",1022370.89,25174000,11466,129888,{"$f":"Table37[[#This Row],[City Per Capita GDP (LC)]]*'GDP Deflator 1960-2011'!AZ96/'GDP Deflator 1960-2011'!BD96*1/Table37[[#This Row],[PPP Exchange rate with the US$ (2016)]]","v":11532.839421422159},8868,{"$f":"Table37[[#This Row],[Median Annual household income (LC)]]*'GDP Deflator 1960-2011'!AZ96/'GDP Deflator 1960-2011'!AY96*1/Table37[[#This Row],[PPP Exchange rate with the US$ (2016)]]","v":7.6986434140531639},3208.3330000000001,{"$f":"IF(ISERROR(Table37[[#This Row],[Minimum Hourly Wage Rate (LC)]]*'CPI 1960-2011'!AY96/'CPI 1960-2011'!BC96*1/Table37[[#This Row],[PPP Exchange rate with the US$ (2016)]]), \"n/a\", Table37[[#This Row],[Minimum Hourly Wage Rate (LC)]]*'GDP Deflator 1960-2011'!AZ96/'GDP Deflator 1960-2011'!BD96*1/Table37[[#This Row],[PPP Exchange rate with the US$ (2016)]])","v":1.4698176411952659},1246.8,null,{"$f":"IFERROR(O101/G101*1000, O101/E101*1000)","v":3.8809970517287589},{"$f":"IFERROR(P101/G101*1000,P101/E101*1000)","v":41.897614580541415},{"$f":"IFERROR(SUM(BA101:BE101)/G101*1000, SUM(BA101:BE101)/E101*1000)","v":1.1176628249798981},{"$f":"IFERROR(O101/R101, \"\")","v":7.2410861629244386E-2},{"$f":"IFERROR(((O101*0.5)+((P101+BL101)*1)+(SUM(BA101:BE101)*2.5))/AM101, \"\")","v":71.066071428571433},{"$f":"AM101","v":2800},{"$f":"IFERROR(AM101/G101*10^6,AM101/E101*10^6)","v":750.46904315197003},{"$f":"IFERROR(AM101/I101, \"\")","v":7.3560319461958805},{"$f":"IFERROR(DM101/SUM(BA101:BE101), \"\")","v":0},{"$f":"IFERROR(Table37[[#This Row],[Operating Costs US$ - Bus]]/Table37[[#This Row],[Fare revenue US$- Bus]], \"\")","v":""},{"$f":"IFERROR(Table37[[#This Row],[Operating Costs US$ - Metro]]/Table37[[#This Row],[Fare revenue US$- Metro]], \"\")","v":""},{"$f":"IFERROR(Table37[[#This Row],[Operating Costs US$- LRT]]/Table37[[#This Row],[Fare revenue US$- LRT]], \"\")","v":""},{"$f":"IFERROR(Table37[[#This Row],[Operating Costs US$- Tram]]/Table37[[#This Row],[Fare revenue US$- Tram]], \"\")","v":""},{"$f":"IFERROR(Table37[[#This Row],[Operating Costs US$ - Trolley Bus]]/Table37[[#This Row],[Fare revenue US$- Trolley Buses]], \"\")","v":""},{"$f":"IFERROR((AVERAGEIF(Table37[[#This Row],[Fares for 10 km of journey (2007 US$ PPP) - Bus]:[Fares for 10 km of journey (2007 US$ PPP) - Trolley Bus]], \"<>0\")*40*12)/EO101, \"\")","v":2.3164137449851737E-2},{"$f":"IFERROR((AVERAGEIF(Table37[[#This Row],[Fares for 10 km of journey (2007 US$ PPP) - Regional/Commuter Rail]:[Fares for 10 km of journey (2007 US$ PPP) - BRT]], \"<>0\")*40*12)/EO101, \"\")","v":2.3652537938252224E-2},{"$f":"IFERROR(2*(AVERAGEIF(Table37[[#This Row],[Fares for avg. length of journey (2007 US$ PPP) - Metro]:[Fares for avg. length of journey (2007 US$ PPP) - BRT]], \"<>0\"))/(Table37[[#This Row],[Minimum Hourly Wage rate (PPP $ 2007)]]*8), \"\")","v":0.13800011260924394},{"$f":"IFERROR(DZ101*100*12/EO101, \"\")","v":0.11302982731554161},{"$f":"AA101","v":14.36},26.43,{"$f":"SUM(AP101:AS101)","v":51.5},{"$f":"SUM(AF101:AI101)","v":0.52500000000000002},{"$f":"IFERROR(FS101*10^6/(AP101+AR101+AQ101+AS101), \"\")","v":10194.174757281553},{"$f":"IFERROR(FS101*10^6/G101, FS101*10^6/E101)","v":0.14071294559099437},{"$f":"IFERROR(FR101/I101, \"\")","v":0.13529844472467423},{"$f":"IFERROR(((AP113*4)+((AR113+AS113)*0.5)+((AQ113+AS113)*1))/I101, \"\")","v":0},{"$f":"IFERROR(ED101*E101/10^5, \"\")","v":0},{"$f":"ED101*10","v":0},{"$f":"IFERROR(FX101/AM101, \"\")","v":0},{"$f":"IFERROR(FX101/(R101/10^4), \"\")","v":0},{"$f":"IFERROR(EJ101/G101*10^6, EJ101/E101*10^6)","v":0},{"$f":"IFERROR(EG101/G101*10^6, EG101/E101*10^6)","v":0.2680246582685607},{"$f":"IFERROR(EH101/G101*10^6, EH101/E101*10^6)","v":10.720986330742429},{"$f":"IFERROR(EI101/G101*10^6, EI101/E101*10^6)","v":12.061109622085231},{"$f":"DU101","v":0},0,{"$f":"Table37[[#This Row],[Fares for 10 km of journey (2007 US$ PPP) - Bus]]/10*Table37[[#This Row],[Average trip length by car (km)]]","v":0.76108000000000009},{"$f":"Table37[[#This Row],[Fares for 10 km of journey (2007 US$ PPP) - Regional/Commuter Rail]]/10*Table37[[#This Row],[Average trip length by car (km)]]","v":0},{"$f":"Table37[[#This Row],[Fares for 10 km of journey (2007 US$ PPP) - Metro]]/10*Table37[[#This Row],[Average trip length by car (km)]]","v":0.86159999999999992},{"$f":"Table37[[#This Row],[Fares for 10 km of journey (2007 US$ PPP) - LRT]]/10*Table37[[#This Row],[Average trip length by car (km)]]","v":0},{"$f":"Table37[[#This Row],[Fares for 10 km of journey (2007 US$ PPP) - Tram]]/10*Table37[[#This Row],[Average trip length by car (km)]]","v":0},{"$f":"Table37[[#This Row],[Fares for 10 km of journey (2007 US$ PPP) - BRT]]/10*Table37[[#This Row],[Average trip length by car (km)]]","v":0.76108000000000009},{"$f":"Table37[[#This Row],[Fares for 10 km of journey (2007 US$ PPP) - Trolley Bus]]/10*Table37[[#This Row],[Average trip length by car (km)]]","v":0}]
[null,"Valparaiso","Chile","LAC",284630,275982,930220,648873,47.33,47.33,2153.9,2146.6,708.740039840637,18785.579999999984,1409,36630,{"$f":"O102+P102","v":38039},41661,null,null,null,20.9,0,null,null,79.099999999999994,9.09,null,null,0,null,5.1808E-2,0,0,0,0.66147400000000001,0,0,82452,null,6782,45,0,0,0,5,null,20,0,0,0,0,6,0,964,176,125,54,null,0,0,0,23,2351,null,null,null,null,null,null,null,null,null,null,null,null,null,null,null,null,null,0,0,null,null,null,null,null,null,null,null,null,null,null,null,null,null,null,null,null,null,null,null,null,null,null,null,null,null,null,null,null,null,null,null,null,null,null,null,null,null,null,null,null,null,null,440.03,null,622,0.85,1.52,0.92,12.412000000000001,null,2.9,null,null,null,43,null,null,"EURO V",{"$f":"230*12","v":2760},null,0,null,{"$f":"Table37[[#This Row],[City Per Capita GDP (LC)]]*'GDP Deflator 1960-2011'!AZ97/'GDP Deflator 1960-2011'!BD97*1/Table37[[#This Row],[PPP Exchange rate with the US$ (2016)]]","v":0},null,{"$f":"Table37[[#This Row],[Median Annual household income (LC)]]*'GDP Deflator 1960-2011'!AZ97/'GDP Deflator 1960-2011'!AY97*1/Table37[[#This Row],[PPP Exchange rate with the US$ (2016)]]","v":0},936.83,{"$f":"IF(ISERROR(Table37[[#This Row],[Minimum Hourly Wage Rate (LC)]]*'CPI 1960-2011'!AY97/'CPI 1960-2011'!BC97*1/Table37[[#This Row],[PPP Exchange rate with the US$ (2016)]]), \"n/a\", Table37[[#This Row],[Minimum Hourly Wage Rate (LC)]]*'GDP Deflator 1960-2011'!AZ97/'GDP Deflator 1960-2011'!BD97*1/Table37[[#This Row],[PPP Exchange rate with the US$ (2016)]])","v":1.3717205666767049},390.1,null,1.5146954483885533,39.377781600051598,1.366343445636516,3.3820599601545813E-2,0.51985397564643676,82452,88637.096600804114,1742.0663427001903,0,{"$f":"IFERROR(Table37[[#This Row],[Operating Costs US$ - Bus]]/Table37[[#This Row],[Fare revenue US$- Bus]], \"\")","v":""},{"$f":"IFERROR(Table37[[#This Row],[Operating Costs US$ - Metro]]/Table37[[#This Row],[Fare revenue US$- Metro]], \"\")","v":""},{"$f":"IFERROR(Table37[[#This Row],[Operating Costs US$- LRT]]/Table37[[#This Row],[Fare revenue US$- LRT]], \"\")","v":""},{"$f":"IFERROR(Table37[[#This Row],[Operating Costs US$- Tram]]/Table37[[#This Row],[Fare revenue US$- Tram]], \"\")","v":""},{"$f":"IFERROR(Table37[[#This Row],[Operating Costs US$ - Trolley Bus]]/Table37[[#This Row],[Fare revenue US$- Trolley Buses]], \"\")","v":""},{"$f":"IFERROR((AVERAGEIF(Table37[[#This Row],[Fares for 10 km of journey (2007 US$ PPP) - Bus]:[Fares for 10 km of journey (2007 US$ PPP) - Trolley Bus]], \"<>0\")*40*12)/EO102, \"\")","v":""},{"$f":"IFERROR((AVERAGEIF(Table37[[#This Row],[Fares for 10 km of journey (2007 US$ PPP) - Regional/Commuter Rail]:[Fares for 10 km of journey (2007 US$ PPP) - BRT]], \"<>0\")*40*12)/EO102, \"\")","v":""},{"$f":"IFERROR(2*(AVERAGEIF(Table37[[#This Row],[Fares for avg. length of journey (2007 US$ PPP) - Metro]:[Fares for avg. length of journey (2007 US$ PPP) - BRT]], \"<>0\"))/(Table37[[#This Row],[Minimum Hourly Wage rate (PPP $ 2007)]]*8), \"\")","v":""},"",9.09,0,45,5.1808E-2,1151.2888888888888,5.5694351873750297E-2,0.95077118106908942,0,0,0,0,0,0,0,0,46.225624045924619,0,0,{"$f":"Table37[[#This Row],[Fares for 10 km of journey (2007 US$ PPP) - Bus]]/10*Table37[[#This Row],[Average trip length by car (km)]]","v":0},{"$f":"Table37[[#This Row],[Fares for 10 km of journey (2007 US$ PPP) - Regional/Commuter Rail]]/10*Table37[[#This Row],[Average trip length by car (km)]]","v":0},{"$f":"Table37[[#This Row],[Fares for 10 km of journey (2007 US$ PPP) - Metro]]/10*Table37[[#This Row],[Average trip length by car (km)]]","v":0},{"$f":"Table37[[#This Row],[Fares for 10 km of journey (2007 US$ PPP) - LRT]]/10*Table37[[#This Row],[Average trip length by car (km)]]","v":0},{"$f":"Table37[[#This Row],[Fares for 10 km of journey (2007 US$ PPP) - Tram]]/10*Table37[[#This Row],[Average trip length by car (km)]]","v":0},{"$f":"Table37[[#This Row],[Fares for 10 km of journey (2007 US$ PPP) - BRT]]/10*Table37[[#This Row],[Average trip length by car (km)]]","v":0},{"$f":"Table37[[#This Row],[Fares for 10 km of journey (2007 US$ PPP) - Trolley Bus]]/10*Table37[[#This Row],[Average trip length by car (km)]]","v":0}]
[null,"Leon","Mexico","LAC",1239000,189176,1887703,1436480,1219.67,1196.0999999999999,1060,null,1015.8485491977337,295337,11563,185981,{"$f":"O103+P103","v":197544},203910,null,null,39,null,null,null,null,61,null,null,null,null,null,null,null,null,null,null,{"$f":"SUM(AC103:AD103, AF103:AJ103)","v":0},{"$f":"SUM(AF103:AJ103)","v":0},2647,null,null,null,null,null,null,null,null,null,null,null,null,null,55,null,1733,0,0,0,0,0,0,0,0,4578,0.27,"n/a","n/a",null,null,null,null,0.27,0,0,0,0,0,0,null,null,null,0,0,null,null,null,null,null,null,null,null,null,null,null,null,null,null,null,null,null,null,null,null,null,null,null,null,null,null,null,null,null,null,null,null,null,2295,0,0,0,0,0,0,7,null,null,14.03,null,13.77,1.03,0.59,0.73,5392,27,35,36,null,null,52,52,null,"Tier II EURO 4",null,2146524.69,232522.9,4052.0010000000002,{"$f":"Table37[[#This Row],[City Per Capita GDP (LC)]]*'GDP Deflator 1960-2011'!AZ98/'GDP Deflator 1960-2011'!BD98*1/Table37[[#This Row],[PPP Exchange rate with the US$ (2016)]]","v":{"$error":"#DIV/0!"}},null,{"$f":"Table37[[#This Row],[Median Annual household income (LC)]]*'GDP Deflator 1960-2011'!AZ98/'GDP Deflator 1960-2011'!AY98*1/Table37[[#This Row],[PPP Exchange rate with the US$ (2016)]]","v":{"$error":"#DIV/0!"}},8.5,{"$f":"IF(ISERROR(Table37[[#This Row],[Minimum Hourly Wage Rate (LC)]]*'CPI 1960-2011'!AY98/'CPI 1960-2011'!BC98*1/Table37[[#This Row],[PPP Exchange rate with the US$ (2016)]]), \"n/a\", Table37[[#This Row],[Minimum Hourly Wage Rate (LC)]]*'GDP Deflator 1960-2011'!AZ98/'GDP Deflator 1960-2011'!BD98*1/Table37[[#This Row],[PPP Exchange rate with the US$ (2016)]])","v":"n/a"},8.6,null,{"$f":"IFERROR(O103/G103*1000, O103/E103*1000)","v":6.1254339268412457},98.522384082665539,0.94718289900476926,5.6706390074052281E-2,75.863430298451078,2647,1402.2332962335706,2.1702591684636006,1.2835570469798658,{"$f":"IFERROR(Table37[[#This Row],[Operating Costs US$ - Bus]]/Table37[[#This Row],[Fare revenue US$- Bus]], \"\")","v":""},{"$f":"IFERROR(Table37[[#This Row],[Operating Costs US$ - Metro]]/Table37[[#This Row],[Fare revenue US$- Metro]], \"\")","v":""},{"$f":"IFERROR(Table37[[#This Row],[Operating Costs US$- LRT]]/Table37[[#This Row],[Fare revenue US$- LRT]], \"\")","v":""},{"$f":"IFERROR(Table37[[#This Row],[Operating Costs US$- Tram]]/Table37[[#This Row],[Fare revenue US$- Tram]], \"\")","v":""},{"$f":"IFERROR(Table37[[#This Row],[Operating Costs US$ - Trolley Bus]]/Table37[[#This Row],[Fare revenue US$- Trolley Buses]], \"\")","v":""},{"$f":"IFERROR((AVERAGEIF(Table37[[#This Row],[Fares for 10 km of journey (2007 US$ PPP) - Bus]:[Fares for 10 km of journey (2007 US$ PPP) - Trolley Bus]], \"<>0\")*40*12)/EO103, \"\")","v":5.5736445743623545E-4},{"$f":"IFERROR((AVERAGEIF(Table37[[#This Row],[Fares for 10 km of journey (2007 US$ PPP) - Regional/Commuter Rail]:[Fares for 10 km of journey (2007 US$ PPP) - BRT]], \"<>0\")*40*12)/EO103, \"\")","v":""},{"$f":"IFERROR(2*(AVERAGEIF(Table37[[#This Row],[Fares for avg. length of journey (2007 US$ PPP) - Metro]:[Fares for avg. length of journey (2007 US$ PPP) - BRT]], \"<>0\"))/(Table37[[#This Row],[Minimum Hourly Wage rate (PPP $ 2007)]]*8), \"\")","v":""},5.3156054736974295E-3,0,0,0,0,"",0,0,0,334.53,270,0.12638080846241026,16.405767250257465,27.546706235038034,0,0,27.546706235038034,0,0,{"$f":"Table37[[#This Row],[Fares for 10 km of journey (2007 US$ PPP) - Bus]]/10*Table37[[#This Row],[Average trip length by car (km)]]","v":0},{"$f":"Table37[[#This Row],[Fares for 10 km of journey (2007 US$ PPP) - Regional/Commuter Rail]]/10*Table37[[#This Row],[Average trip length by car (km)]]","v":0},{"$f":"Table37[[#This Row],[Fares for 10 km of journey (2007 US$ PPP) - Metro]]/10*Table37[[#This Row],[Average trip length by car (km)]]","v":0},{"$f":"Table37[[#This Row],[Fares for 10 km of journey (2007 US$ PPP) - LRT]]/10*Table37[[#This Row],[Average trip length by car (km)]]","v":0},{"$f":"Table37[[#This Row],[Fares for 10 km of journey (2007 US$ PPP) - Tram]]/10*Table37[[#This Row],[Average trip length by car (km)]]","v":0},{"$f":"Table37[[#This Row],[Fares for 10 km of journey (2007 US$ PPP) - BRT]]/10*Table37[[#This Row],[Average trip length by car (km)]]","v":0},{"$f":"Table37[[#This Row],[Fares for 10 km of journey (2007 US$ PPP) - Trolley Bus]]/10*Table37[[#This Row],[Average trip length by car (km)]]","v":0}]
[null,"Lyon","France","OECD",500715,454344,2214068,1677073,47.87,47.8,553.67999999999995,553,10459.891372467098,647877,null,591165,591165,592039,52.54,2.33,2.94,12.48,0,null,29.7,1.0000000000005116E-2,17,42.57,393440,null,0.88219199999999998,null,null,null,4.7000000000000002E-3,null,{"$f":"SUM(AC104:AD104, AF104:AJ104)","v":393440.00469999999},{"$f":"SUM(AF104:AJ104)","v":4.7000000000000002E-3},null,null,null,60,null,22,19.43,null,null,43,null,4,null,null,null,null,874,null,null,null,null,null,6,null,131,null,null,null,null,null,null,null,null,null,null,null,null,null,2.2000000000000002,null,null,null,null,0,0,null,null,null,null,null,null,null,null,null,null,null,null,null,null,null,null,null,null,null,null,null,null,null,null,null,null,null,null,null,null,null,null,null,null,null,null,null,null,null,4532,null,null,null,1.38,null,1.1499999999999999,1.79,1.42,1.28,null,null,null,null,null,null,22,33,null,"Euro 6b",{"$f":"1900*12","v":22800},43774,32243,77.91,{"$f":"Table37[[#This Row],[City Per Capita GDP (LC)]]*'GDP Deflator 1960-2011'!AZ99/'GDP Deflator 1960-2011'!BD99*1/Table37[[#This Row],[PPP Exchange rate with the US$ (2016)]]","v":{"$error":"#DIV/0!"}},null,{"$f":"Table37[[#This Row],[Median Annual household income (LC)]]*'GDP Deflator 1960-2011'!AZ99/'GDP Deflator 1960-2011'!AY99*1/Table37[[#This Row],[PPP Exchange rate with the US$ (2016)]]","v":{"$error":"#DIV/0!"}},9.67,{"$f":"IF(ISERROR(Table37[[#This Row],[Minimum Hourly Wage Rate (LC)]]*'CPI 1960-2011'!AY99/'CPI 1960-2011'!BC99*1/Table37[[#This Row],[PPP Exchange rate with the US$ (2016)]]), \"n/a\", Table37[[#This Row],[Minimum Hourly Wage Rate (LC)]]*'GDP Deflator 1960-2011'!AZ99/'GDP Deflator 1960-2011'!BD99*1/Table37[[#This Row],[PPP Exchange rate with the US$ (2016)]])","v":"n/a"},0.7,null,0,267.00399445726146,0.39474849010960822,0,"",0,0,0,0,{"$f":"IFERROR(Table37[[#This Row],[Operating Costs US$ - Bus]]/Table37[[#This Row],[Fare revenue US$- Bus]], \"\")","v":""},{"$f":"IFERROR(Table37[[#This Row],[Operating Costs US$ - Metro]]/Table37[[#This Row],[Fare revenue US$- Metro]], \"\")","v":""},{"$f":"IFERROR(Table37[[#This Row],[Operating Costs US$- LRT]]/Table37[[#This Row],[Fare revenue US$- LRT]], \"\")","v":""},{"$f":"IFERROR(Table37[[#This Row],[Operating Costs US$- Tram]]/Table37[[#This Row],[Fare revenue US$- Tram]], \"\")","v":""},{"$f":"IFERROR(Table37[[#This Row],[Operating Costs US$ - Trolley Bus]]/Table37[[#This Row],[Fare revenue US$- Trolley Buses]], \"\")","v":""},{"$f":"IFERROR((AVERAGEIF(Table37[[#This Row],[Fares for 10 km of journey (2007 US$ PPP) - Bus]:[Fares for 10 km of journey (2007 US$ PPP) - Trolley Bus]], \"<>0\")*40*12)/EO104, \"\")","v":3.2751294854697147E-2},{"$f":"IFERROR((AVERAGEIF(Table37[[#This Row],[Fares for 10 km of journey (2007 US$ PPP) - Regional/Commuter Rail]:[Fares for 10 km of journey (2007 US$ PPP) - BRT]], \"<>0\")*40*12)/EO104, \"\")","v":3.2751294854697147E-2},{"$f":"IFERROR(2*(AVERAGEIF(Table37[[#This Row],[Fares for avg. length of journey (2007 US$ PPP) - Metro]:[Fares for avg. length of journey (2007 US$ PPP) - BRT]], \"<>0\"))/(Table37[[#This Row],[Minimum Hourly Wage rate (PPP $ 2007)]]*8), \"\")","v":""},6.6619111124895325E-2,17,42.57,101.43,4.7000000000000002E-3,46.337375529922113,2.1227893632896552E-3,2.1188635888865681,0,0,0,"",0,14.904691274161408,0,0,9.9364608494409392,0,0,{"$f":"Table37[[#This Row],[Fares for 10 km of journey (2007 US$ PPP) - Bus]]/10*Table37[[#This Row],[Average trip length by car (km)]]","v":0},{"$f":"Table37[[#This Row],[Fares for 10 km of journey (2007 US$ PPP) - Regional/Commuter Rail]]/10*Table37[[#This Row],[Average trip length by car (km)]]","v":0},{"$f":"Table37[[#This Row],[Fares for 10 km of journey (2007 US$ PPP) - Metro]]/10*Table37[[#This Row],[Average trip length by car (km)]]","v":0},{"$f":"Table37[[#This Row],[Fares for 10 km of journey (2007 US$ PPP) - LRT]]/10*Table37[[#This Row],[Average trip length by car (km)]]","v":0},{"$f":"Table37[[#This Row],[Fares for 10 km of journey (2007 US$ PPP) - Tram]]/10*Table37[[#This Row],[Average trip length by car (km)]]","v":0},{"$f":"Table37[[#This Row],[Fares for 10 km of journey (2007 US$ PPP) - BRT]]/10*Table37[[#This Row],[Average trip length by car (km)]]","v":3.7400000000000007},{"$f":"Table37[[#This Row],[Fares for 10 km of journey (2007 US$ PPP) - Trolley Bus]]/10*Table37[[#This Row],[Average trip length by car (km)]]","v":0}]
[null,"Tunis","Tunisia","AFR",1056247,990000,2643695,2100000,212.63,null,2668,null,{"$f":"E105/I105","v":4967.5351549640218},null,null,500000,0,0,67,0,0,0,0,0,0,33,10.5,29.2,null,null,9.8000000000000004E-2,null,0.44,null,null,null,0.44,0.17,1164,null,41.2,0,45.2,null,23.2,null,71,156,66,null,0,37,null,null,1173,null,null,816,742,null,37,null,0,null,0.45,1.6975,null,0.48,null,0,0,0.15,2.2243556672036111,2.2243556672036111,0,0,2.36,0,268.50799999999998,null,376.19,null,null,0,0,117.004,null,218.024,null,null,null,0,14.246,null,17.984999999999999,null,184.096,null,363.09106668216157,508.70450182177944,0,null,0,158.21914865136097,null,294.8238664110998,null,null,20794,0,19.264213118246285,null,24.320291515629609,0,248.94458642542946,null,4221,2535,3555,null,null,0,0,8,null,null,1.6,null,1.42,0.91,0.68,0.65,null,null,null,null,null,null,90,87,null,"Euro V",{"$f":"393.03*12","v":4716.3599999999997},19973593,43682.01,19973593,46139000,null,{"$f":"Table37[[#This Row],[Median Annual household income (LC)]]*'GDP Deflator 1960-2011'!AZ100/'GDP Deflator 1960-2011'!AY100*1/Table37[[#This Row],[PPP Exchange rate with the US$ (2016)]]","v":{"$error":"#DIV/0!"}},1.77,{"$f":"IF(ISERROR(Table37[[#This Row],[Minimum Hourly Wage Rate (LC)]]*'CPI 1960-2011'!AY100/'CPI 1960-2011'!BC100*1/Table37[[#This Row],[PPP Exchange rate with the US$ (2016)]]), \"n/a\", Table37[[#This Row],[Minimum Hourly Wage Rate (LC)]]*'GDP Deflator 1960-2011'!AZ100/'GDP Deflator 1960-2011'!BD100*1/Table37[[#This Row],[PPP Exchange rate with the US$ (2016)]])","v":"n/a"},0.66,null,0,189.12923011164298,0.44369717384191443,"",432.07259450171819,1164,440.29284769990483,5.4742980764708653,3.5984654731457799,{"$f":"IFERROR(Table37[[#This Row],[Operating Costs US$ - Bus]]/Table37[[#This Row],[Fare revenue US$- Bus]], \"\")","v":2.2948617141294316},{"$f":"IFERROR(Table37[[#This Row],[Operating Costs US$ - Metro]]/Table37[[#This Row],[Fare revenue US$- Metro]], \"\")","v":1.7254522437896747},{"$f":"IFERROR(Table37[[#This Row],[Operating Costs US$- LRT]]/Table37[[#This Row],[Fare revenue US$- LRT]], \"\")","v":""},{"$f":"IFERROR(Table37[[#This Row],[Operating Costs US$- Tram]]/Table37[[#This Row],[Fare revenue US$- Tram]], \"\")","v":""},{"$f":"IFERROR(Table37[[#This Row],[Operating Costs US$ - Trolley Bus]]/Table37[[#This Row],[Fare revenue US$- Trolley Buses]], \"\")","v":""},{"$f":"IFERROR((AVERAGEIF(Table37[[#This Row],[Fares for 10 km of journey (2007 US$ PPP) - Bus]:[Fares for 10 km of journey (2007 US$ PPP) - Trolley Bus]], \"<>0\")*40*12)/EO105, \"\")","v":1.9116459158561305E-2},{"$f":"IFERROR((AVERAGEIF(Table37[[#This Row],[Fares for 10 km of journey (2007 US$ PPP) - Regional/Commuter Rail]:[Fares for 10 km of journey (2007 US$ PPP) - BRT]], \"<>0\")*40*12)/EO105, \"\")","v":2.4939186944583268E-2},{"$f":"IFERROR(2*(AVERAGEIF(Table37[[#This Row],[Fares for avg. length of journey (2007 US$ PPP) - Metro]:[Fares for avg. length of journey (2007 US$ PPP) - BRT]], \"<>0\"))/(Table37[[#This Row],[Minimum Hourly Wage rate (PPP $ 2007)]]*8), \"\")","v":""},2.499884964084757E-2,10.5,29.2,68.400000000000006,{"$f":"SUM(AF105:AI105)","v":0.44},6432.748538011695,0.16643372249824584,0.32168555707096841,0,0,0,0,"",32.908486039425881,0,0,34.043261420095732,0,0,{"$f":"Table37[[#This Row],[Fares for 10 km of journey (2007 US$ PPP) - Bus]]/10*Table37[[#This Row],[Average trip length by car (km)]]","v":0.1575},{"$f":"Table37[[#This Row],[Fares for 10 km of journey (2007 US$ PPP) - Regional/Commuter Rail]]/10*Table37[[#This Row],[Average trip length by car (km)]]","v":2.3355734505637917},{"$f":"Table37[[#This Row],[Fares for 10 km of journey (2007 US$ PPP) - Metro]]/10*Table37[[#This Row],[Average trip length by car (km)]]","v":2.3355734505637917},{"$f":"Table37[[#This Row],[Fares for 10 km of journey (2007 US$ PPP) - LRT]]/10*Table37[[#This Row],[Average trip length by car (km)]]","v":0},{"$f":"Table37[[#This Row],[Fares for 10 km of journey (2007 US$ PPP) - Tram]]/10*Table37[[#This Row],[Average trip length by car (km)]]","v":0},{"$f":"Table37[[#This Row],[Fares for 10 km of journey (2007 US$ PPP) - BRT]]/10*Table37[[#This Row],[Average trip length by car (km)]]","v":2.4779999999999998},{"$f":"Table37[[#This Row],[Fares for 10 km of journey (2007 US$ PPP) - Trolley Bus]]/10*Table37[[#This Row],[Average trip length by car (km)]]","v":0}]
[null,"Algiers","Algeria","AFR",2364230,2073000,5000000,2988145,363,273,1190,null,6513.030303030303,null,null,137000,0,0,75,null,0,0,0,0,12.5,null,15.17,32.5,0.01,null,9.8000000000000004E-2,0.25,null,0.185,null,null,0.44500000000000001,0.17,null,null,112,9.1999999999999993,22.8,27.2,null,null,null,14,38,28,null,null,null,null,618,null,null,84,64,41,41,null,null,null,25,null,50,null,40,null,null,0.22,null,0.44,null,null,0.38,null,null,null,null,0,0,null,null,null,null,null,null,null,null,null,null,null,null,null,null,null,null,null,null,null,null,null,null,null,null,null,null,null,null,null,null,null,null,null,null,11116,null,null,null,null,null,null,null,null,31.42,null,18.760000000000002,0.27,0.32,0.17,null,null,null,null,null,null,42,42,null,"Euro V",{"$f":"346.08*12","v":4152.96},0,0,null,{"$f":"Table37[[#This Row],[City Per Capita GDP (LC)]]*'GDP Deflator 1960-2011'!AZ101/'GDP Deflator 1960-2011'!BD101*1/Table37[[#This Row],[PPP Exchange rate with the US$ (2016)]]","v":{"$error":"#DIV/0!"}},null,{"$f":"Table37[[#This Row],[Median Annual household income (LC)]]*'GDP Deflator 1960-2011'!AZ101/'GDP Deflator 1960-2011'!AY101*1/Table37[[#This Row],[PPP Exchange rate with the US$ (2016)]]","v":{"$error":"#DIV/0!"}},112.5,{"$f":"IF(ISERROR(Table37[[#This Row],[Minimum Hourly Wage Rate (LC)]]*'CPI 1960-2011'!AY101/'CPI 1960-2011'!BC101*1/Table37[[#This Row],[PPP Exchange rate with the US$ (2016)]]), \"n/a\", Table37[[#This Row],[Minimum Hourly Wage Rate (LC)]]*'GDP Deflator 1960-2011'!AZ101/'GDP Deflator 1960-2011'!BD101*1/Table37[[#This Row],[PPP Exchange rate with the US$ (2016)]])","v":"n/a"},13.31,null,0,27.400000000000002,0.1236,"","",0,0,0,0,{"$f":"IFERROR(Table37[[#This Row],[Operating Costs US$ - Bus]]/Table37[[#This Row],[Fare revenue US$- Bus]], \"\")","v":""},{"$f":"IFERROR(Table37[[#This Row],[Operating Costs US$ - Metro]]/Table37[[#This Row],[Fare revenue US$- Metro]], \"\")","v":""},{"$f":"IFERROR(Table37[[#This Row],[Operating Costs US$- LRT]]/Table37[[#This Row],[Fare revenue US$- LRT]], \"\")","v":""},{"$f":"IFERROR(Table37[[#This Row],[Operating Costs US$- Tram]]/Table37[[#This Row],[Fare revenue US$- Tram]], \"\")","v":""},{"$f":"IFERROR(Table37[[#This Row],[Operating Costs US$ - Trolley Bus]]/Table37[[#This Row],[Fare revenue US$- Trolley Buses]], \"\")","v":""},{"$f":"IFERROR((AVERAGEIF(Table37[[#This Row],[Fares for 10 km of journey (2007 US$ PPP) - Bus]:[Fares for 10 km of journey (2007 US$ PPP) - Trolley Bus]], \"<>0\")*40*12)/EO106, \"\")","v":""},{"$f":"IFERROR((AVERAGEIF(Table37[[#This Row],[Fares for 10 km of journey (2007 US$ PPP) - Regional/Commuter Rail]:[Fares for 10 km of journey (2007 US$ PPP) - BRT]], \"<>0\")*40*12)/EO106, \"\")","v":""},{"$f":"IFERROR(2*(AVERAGEIF(Table37[[#This Row],[Fares for avg. length of journey (2007 US$ PPP) - Metro]:[Fares for avg. length of journey (2007 US$ PPP) - BRT]], \"<>0\"))/(Table37[[#This Row],[Minimum Hourly Wage rate (PPP $ 2007)]]*8), \"\")","v":""},"",15.17,32.5,59.2,0.435,7347.9729729729725,8.6999999999999994E-2,0.16308539944903583,0,0,0,"","",8.3999999999999986,0,0,8.3999999999999986,0,0,{"$f":"Table37[[#This Row],[Fares for 10 km of journey (2007 US$ PPP) - Bus]]/10*Table37[[#This Row],[Average trip length by car (km)]]","v":0.33373999999999998},{"$f":"Table37[[#This Row],[Fares for 10 km of journey (2007 US$ PPP) - Regional/Commuter Rail]]/10*Table37[[#This Row],[Average trip length by car (km)]]","v":0},{"$f":"Table37[[#This Row],[Fares for 10 km of journey (2007 US$ PPP) - Metro]]/10*Table37[[#This Row],[Average trip length by car (km)]]","v":0.66747999999999996},{"$f":"Table37[[#This Row],[Fares for 10 km of journey (2007 US$ PPP) - LRT]]/10*Table37[[#This Row],[Average trip length by car (km)]]","v":0},{"$f":"Table37[[#This Row],[Fares for 10 km of journey (2007 US$ PPP) - Tram]]/10*Table37[[#This Row],[Average trip length by car (km)]]","v":0},{"$f":"Table37[[#This Row],[Fares for 10 km of journey (2007 US$ PPP) - BRT]]/10*Table37[[#This Row],[Average trip length by car (km)]]","v":0.57645999999999997},{"$f":"Table37[[#This Row],[Fares for 10 km of journey (2007 US$ PPP) - Trolley Bus]]/10*Table37[[#This Row],[Average trip length by car (km)]]","v":0}]
[null,"Rabat","Morocco","AFR",577827,627932,1805000,1200000,113.3,114.5,184,183,5099.9735216240069,520000,null,547000,0,0,60,0,0,0,0,20,0,20,21.5,33.75,null,null,null,null,"na",null,null,null,0,0,null,null,null,null,null,20,null,null,null,null,null,31,null,null,null,null,387,null,null,null,null,null,25,null,null,null,null,null,null,4,null,null,null,1.37,null,null,null,null,null,null,null,null,null,0,0,null,null,null,null,null,null,null,null,null,null,null,null,null,null,null,null,null,null,null,null,null,null,null,null,null,null,null,null,null,null,null,null,null,null,null,null,null,null,null,null,null,null,null,9.8000000000000007,null,8.84,1.38,1.1000000000000001,0.9,null,null,40,null,null,null,null,null,null,"Euro 3",{"$f":"3916.67*12","v":47000.04},0,0,null,{"$f":"Table37[[#This Row],[City Per Capita GDP (LC)]]*'GDP Deflator 1960-2011'!AZ102/'GDP Deflator 1960-2011'!BD102*1/Table37[[#This Row],[PPP Exchange rate with the US$ (2016)]]","v":{"$error":"#DIV/0!"}},null,{"$f":"Table37[[#This Row],[Median Annual household income (LC)]]*'GDP Deflator 1960-2011'!AZ102/'GDP Deflator 1960-2011'!AY102*1/Table37[[#This Row],[PPP Exchange rate with the US$ (2016)]]","v":{"$error":"#DIV/0!"}},7.74,{"$f":"IF(ISERROR(Table37[[#This Row],[Minimum Hourly Wage Rate (LC)]]*'CPI 1960-2011'!AY102/'CPI 1960-2011'!BC102*1/Table37[[#This Row],[PPP Exchange rate with the US$ (2016)]]), \"n/a\", Table37[[#This Row],[Minimum Hourly Wage Rate (LC)]]*'GDP Deflator 1960-2011'!AZ102/'GDP Deflator 1960-2011'!BD102*1/Table37[[#This Row],[PPP Exchange rate with the US$ (2016)]])","v":"n/a"},3.58,null,{"$f":"IFERROR(O107/G107*1000, O107/E107*1000)","v":0},{"$f":"IFERROR(P107/G107*1000,P107/E107*1000)","v":303.04709141274236},{"$f":"IFERROR(SUM(BA107:BE107)/G107*1000, SUM(BA107:BE107)/E107*1000)","v":0.21440443213296398},{"$f":"IFERROR(O107/R107, \"\")","v":""},{"$f":"IFERROR(((O107*0.5)+((P107+BL107)*1)+(SUM(BA107:BE107)*2.5))/AM107, \"\")","v":""},{"$f":"AM107","v":0},{"$f":"IFERROR(AM107/G107*10^6,AM107/E107*10^6)","v":0},{"$f":"IFERROR(AM107/I107, \"\")","v":0},{"$f":"IFERROR(DM107/SUM(BA107:BE107), \"\")","v":0},{"$f":"IFERROR(Table37[[#This Row],[Operating Costs US$ - Bus]]/Table37[[#This Row],[Fare revenue US$- Bus]], \"\")","v":""},{"$f":"IFERROR(Table37[[#This Row],[Operating Costs US$ - Metro]]/Table37[[#This Row],[Fare revenue US$- Metro]], \"\")","v":""},{"$f":"IFERROR(Table37[[#This Row],[Operating Costs US$- LRT]]/Table37[[#This Row],[Fare revenue US$- LRT]], \"\")","v":""},{"$f":"IFERROR(Table37[[#This Row],[Operating Costs US$- Tram]]/Table37[[#This Row],[Fare revenue US$- Tram]], \"\")","v":""},{"$f":"IFERROR(Table37[[#This Row],[Operating Costs US$ - Trolley Bus]]/Table37[[#This Row],[Fare revenue US$- Trolley Buses]], \"\")","v":""},{"$f":"IFERROR((AVERAGEIF(Table37[[#This Row],[Fares for 10 km of journey (2007 US$ PPP) - Bus]:[Fares for 10 km of journey (2007 US$ PPP) - Trolley Bus]], \"<>0\")*40*12)/EO107, \"\")","v":""},{"$f":"IFERROR((AVERAGEIF(Table37[[#This Row],[Fares for 10 km of journey (2007 US$ PPP) - Regional/Commuter Rail]:[Fares for 10 km of journey (2007 US$ PPP) - BRT]], \"<>0\")*40*12)/EO107, \"\")","v":""},{"$f":"IFERROR(2*(AVERAGEIF(Table37[[#This Row],[Fares for avg. length of journey (2007 US$ PPP) - Metro]:[Fares for avg. length of journey (2007 US$ PPP) - BRT]], \"<>0\"))/(Table37[[#This Row],[Minimum Hourly Wage rate (PPP $ 2007)]]*8), \"\")","v":""},{"$f":"IFERROR(DZ107*100*12/EO107, \"\")","v":""},{"$f":"AA107","v":21.5},33.75,{"$f":"SUM(AP107:AS107)","v":20},{"$f":"SUM(AF107:AI107)","v":0},{"$f":"IFERROR(FS107*10^6/(AP107+AR107+AQ107+AS107), \"\")","v":0},{"$f":"IFERROR(FS107*10^6/G107, FS107*10^6/E107)","v":0},{"$f":"IFERROR(FR107/I107, \"\")","v":0.17652250661959401},{"$f":"IFERROR(((AP119*4)+((AR119+AS119)*0.5)+((AQ119+AS119)*1))/I107, \"\")","v":0},{"$f":"IFERROR(ED107*E107/10^5, \"\")","v":0},{"$f":"ED107*10","v":0},{"$f":"IFERROR(FX107/AM107, \"\")","v":""},{"$f":"IFERROR(FX107/(R107/10^4), \"\")","v":""},{"$f":"IFERROR(EJ107/G107*10^6, EJ107/E107*10^6)","v":0},{"$f":"IFERROR(EG107/G107*10^6, EG107/E107*10^6)","v":0},{"$f":"IFERROR(EH107/G107*10^6, EH107/E107*10^6)","v":0},{"$f":"IFERROR(EI107/G107*10^6, EI107/E107*10^6)","v":0},{"$f":"DU107","v":0},0,{"$f":"Table37[[#This Row],[Fares for 10 km of journey (2007 US$ PPP) - Bus]]/10*Table37[[#This Row],[Average trip length by car (km)]]","v":2.9455},{"$f":"Table37[[#This Row],[Fares for 10 km of journey (2007 US$ PPP) - Regional/Commuter Rail]]/10*Table37[[#This Row],[Average trip length by car (km)]]","v":0},{"$f":"Table37[[#This Row],[Fares for 10 km of journey (2007 US$ PPP) - Metro]]/10*Table37[[#This Row],[Average trip length by car (km)]]","v":0},{"$f":"Table37[[#This Row],[Fares for 10 km of journey (2007 US$ PPP) - LRT]]/10*Table37[[#This Row],[Average trip length by car (km)]]","v":0},{"$f":"Table37[[#This Row],[Fares for 10 km of journey (2007 US$ PPP) - Tram]]/10*Table37[[#This Row],[Average trip length by car (km)]]","v":0},{"$f":"Table37[[#This Row],[Fares for 10 km of journey (2007 US$ PPP) - BRT]]/10*Table37[[#This Row],[Average trip length by car (km)]]","v":0},{"$f":"Table37[[#This Row],[Fares for 10 km of journey (2007 US$ PPP) - Trolley Bus]]/10*Table37[[#This Row],[Average trip length by car (km)]]","v":0}]
[null,"Casablanca","Morocco","AFR",3359818,2949805,4270750,3830000,195,193.14,201.9,19879,17229.835897435896,1306100,null,1187000,0,0,60,0,0,20,0,0,0,20,7.25,21.75,142042,null,null,null,null,null,null,null,0,0,null,null,null,null,16,null,null,null,null,null,null,null,null,null,null,null,870,null,null,null,null,null,null,null,null,null,4,null,null,null,null,null,null,0.64,null,null,null,null,null,null,null,null,null,0,0,null,null,null,null,null,null,null,null,null,null,null,null,null,null,null,null,null,null,null,null,null,null,null,null,null,null,null,null,null,null,null,null,null,null,null,null,null,null,null,null,null,null,null,9.98,null,8.84,1.38,1.1000000000000001,0.9,null,null,null,null,null,null,61,null,null,"Euro 3",null,0,37888,null,8616,null,{"$f":"Table37[[#This Row],[Median Annual household income (LC)]]*'GDP Deflator 1960-2011'!AZ103/'GDP Deflator 1960-2011'!AY103*1/Table37[[#This Row],[PPP Exchange rate with the US$ (2016)]]","v":{"$error":"#DIV/0!"}},7.74,{"$f":"IF(ISERROR(Table37[[#This Row],[Minimum Hourly Wage Rate (LC)]]*'CPI 1960-2011'!AY103/'CPI 1960-2011'!BC103*1/Table37[[#This Row],[PPP Exchange rate with the US$ (2016)]]), \"n/a\", Table37[[#This Row],[Minimum Hourly Wage Rate (LC)]]*'GDP Deflator 1960-2011'!AZ103/'GDP Deflator 1960-2011'!BD103*1/Table37[[#This Row],[PPP Exchange rate with the US$ (2016)]])","v":"n/a"},3.58,null,0,277.93713048059476,0.20371129192764736,"","",0,0,0,0,{"$f":"IFERROR(Table37[[#This Row],[Operating Costs US$ - Bus]]/Table37[[#This Row],[Fare revenue US$- Bus]], \"\")","v":""},{"$f":"IFERROR(Table37[[#This Row],[Operating Costs US$ - Metro]]/Table37[[#This Row],[Fare revenue US$- Metro]], \"\")","v":""},{"$f":"IFERROR(Table37[[#This Row],[Operating Costs US$- LRT]]/Table37[[#This Row],[Fare revenue US$- LRT]], \"\")","v":""},{"$f":"IFERROR(Table37[[#This Row],[Operating Costs US$- Tram]]/Table37[[#This Row],[Fare revenue US$- Tram]], \"\")","v":""},{"$f":"IFERROR(Table37[[#This Row],[Operating Costs US$ - Trolley Bus]]/Table37[[#This Row],[Fare revenue US$- Trolley Buses]], \"\")","v":""},{"$f":"IFERROR((AVERAGEIF(Table37[[#This Row],[Fares for 10 km of journey (2007 US$ PPP) - Bus]:[Fares for 10 km of journey (2007 US$ PPP) - Trolley Bus]], \"<>0\")*40*12)/EO108, \"\")","v":8.1081081081081086E-3},{"$f":"IFERROR((AVERAGEIF(Table37[[#This Row],[Fares for 10 km of journey (2007 US$ PPP) - Regional/Commuter Rail]:[Fares for 10 km of journey (2007 US$ PPP) - BRT]], \"<>0\")*40*12)/EO108, \"\")","v":""},{"$f":"IFERROR(2*(AVERAGEIF(Table37[[#This Row],[Fares for avg. length of journey (2007 US$ PPP) - Metro]:[Fares for avg. length of journey (2007 US$ PPP) - BRT]], \"<>0\"))/(Table37[[#This Row],[Minimum Hourly Wage rate (PPP $ 2007)]]*8), \"\")","v":""},4.3707770270270271E-2,{"$f":"AA108","v":7.25},21.75,16,0,0,0,8.2051282051282051E-2,0,0,0,"","",0,0,0,14.283205525961483,0,0,{"$f":"Table37[[#This Row],[Fares for 10 km of journey (2007 US$ PPP) - Bus]]/10*Table37[[#This Row],[Average trip length by car (km)]]","v":0.46400000000000002},{"$f":"Table37[[#This Row],[Fares for 10 km of journey (2007 US$ PPP) - Regional/Commuter Rail]]/10*Table37[[#This Row],[Average trip length by car (km)]]","v":0},{"$f":"Table37[[#This Row],[Fares for 10 km of journey (2007 US$ PPP) - Metro]]/10*Table37[[#This Row],[Average trip length by car (km)]]","v":0},{"$f":"Table37[[#This Row],[Fares for 10 km of journey (2007 US$ PPP) - LRT]]/10*Table37[[#This Row],[Average trip length by car (km)]]","v":0},{"$f":"Table37[[#This Row],[Fares for 10 km of journey (2007 US$ PPP) - Tram]]/10*Table37[[#This Row],[Average trip length by car (km)]]","v":0},{"$f":"Table37[[#This Row],[Fares for 10 km of journey (2007 US$ PPP) - BRT]]/10*Table37[[#This Row],[Average trip length by car (km)]]","v":0},{"$f":"Table37[[#This Row],[Fares for 10 km of journey (2007 US$ PPP) - Trolley Bus]]/10*Table37[[#This Row],[Average trip length by car (km)]]","v":0}]
[null,"Agadir","Morocco","AFR",421844,346106,828000,609088,116.11,116,2413,2400,3633.1409869950908,null,null,null,0,0,null,null,null,null,null,null,null,0,null,null,0,null,null,null,null,null,null,null,0,0,null,272,null,null,null,null,null,null,null,null,null,null,null,null,null,null,null,null,null,null,null,null,null,null,null,null,3.48,null,0,null,null,null,null,null,null,null,null,null,null,null,null,null,null,0,0,null,null,null,null,null,null,null,null,null,null,null,null,null,null,null,null,null,null,null,null,null,null,null,null,null,null,null,null,null,null,null,null,null,null,null,null,null,null,null,null,null,null,null,10.44,null,8.84,1.38,1.1000000000000001,0.9,null,null,null,null,null,null,null,99.64,99.64,"Euro 3",{"$f":"2375*12","v":28500},1800,null,1.4903999999999999,{"$f":"Table37[[#This Row],[City Per Capita GDP (LC)]]*'GDP Deflator 1960-2011'!AZ104/'GDP Deflator 1960-2011'!BD104*1/Table37[[#This Row],[PPP Exchange rate with the US$ (2016)]]","v":{"$error":"#DIV/0!"}},null,{"$f":"Table37[[#This Row],[Median Annual household income (LC)]]*'GDP Deflator 1960-2011'!AZ104/'GDP Deflator 1960-2011'!AY104*1/Table37[[#This Row],[PPP Exchange rate with the US$ (2016)]]","v":{"$error":"#DIV/0!"}},7.74,{"$f":"IF(ISERROR(Table37[[#This Row],[Minimum Hourly Wage Rate (LC)]]*'CPI 1960-2011'!AY104/'CPI 1960-2011'!BC104*1/Table37[[#This Row],[PPP Exchange rate with the US$ (2016)]]), \"n/a\", Table37[[#This Row],[Minimum Hourly Wage Rate (LC)]]*'GDP Deflator 1960-2011'!AZ104/'GDP Deflator 1960-2011'!BD104*1/Table37[[#This Row],[PPP Exchange rate with the US$ (2016)]])","v":"n/a"},3.58,null,0,0,0,"","",0,0,0,"",{"$f":"IFERROR(Table37[[#This Row],[Operating Costs US$ - Bus]]/Table37[[#This Row],[Fare revenue US$- Bus]], \"\")","v":""},{"$f":"IFERROR(Table37[[#This Row],[Operating Costs US$ - Metro]]/Table37[[#This Row],[Fare revenue US$- Metro]], \"\")","v":""},{"$f":"IFERROR(Table37[[#This Row],[Operating Costs US$- LRT]]/Table37[[#This Row],[Fare revenue US$- LRT]], \"\")","v":""},{"$f":"IFERROR(Table37[[#This Row],[Operating Costs US$- Tram]]/Table37[[#This Row],[Fare revenue US$- Tram]], \"\")","v":""},{"$f":"IFERROR(Table37[[#This Row],[Operating Costs US$ - Trolley Bus]]/Table37[[#This Row],[Fare revenue US$- Trolley Buses]], \"\")","v":""},{"$f":"IFERROR((AVERAGEIF(Table37[[#This Row],[Fares for 10 km of journey (2007 US$ PPP) - Bus]:[Fares for 10 km of journey (2007 US$ PPP) - Trolley Bus]], \"<>0\")*40*12)/EO109, \"\")","v":""},{"$f":"IFERROR((AVERAGEIF(Table37[[#This Row],[Fares for 10 km of journey (2007 US$ PPP) - Regional/Commuter Rail]:[Fares for 10 km of journey (2007 US$ PPP) - BRT]], \"<>0\")*40*12)/EO109, \"\")","v":""},{"$f":"IFERROR(2*(AVERAGEIF(Table37[[#This Row],[Fares for avg. length of journey (2007 US$ PPP) - Metro]:[Fares for avg. length of journey (2007 US$ PPP) - BRT]], \"<>0\"))/(Table37[[#This Row],[Minimum Hourly Wage rate (PPP $ 2007)]]*8), \"\")","v":""},"",{"$f":"AA109","v":0},0,0,0,"",0,0,0,0,0,"","",120.33816425120773,0,0,0,0,0,{"$f":"Table37[[#This Row],[Fares for 10 km of journey (2007 US$ PPP) - Bus]]/10*Table37[[#This Row],[Average trip length by car (km)]]","v":0},{"$f":"Table37[[#This Row],[Fares for 10 km of journey (2007 US$ PPP) - Regional/Commuter Rail]]/10*Table37[[#This Row],[Average trip length by car (km)]]","v":0},{"$f":"Table37[[#This Row],[Fares for 10 km of journey (2007 US$ PPP) - Metro]]/10*Table37[[#This Row],[Average trip length by car (km)]]","v":0},{"$f":"Table37[[#This Row],[Fares for 10 km of journey (2007 US$ PPP) - LRT]]/10*Table37[[#This Row],[Average trip length by car (km)]]","v":0},{"$f":"Table37[[#This Row],[Fares for 10 km of journey (2007 US$ PPP) - Tram]]/10*Table37[[#This Row],[Average trip length by car (km)]]","v":0},{"$f":"Table37[[#This Row],[Fares for 10 km of journey (2007 US$ PPP) - BRT]]/10*Table37[[#This Row],[Average trip length by car (km)]]","v":0},{"$f":"Table37[[#This Row],[Fares for 10 km of journey (2007 US$ PPP) - Trolley Bus]]/10*Table37[[#This Row],[Average trip length by car (km)]]","v":0}]
[null,"Saint Petersburg","Russia","OECD",5191690,4661219,5191690,null,1439,1417.7,null,null,3607.8457261987492,5191690,null,null,0,1300,40,0,3.33,16.670000000000002,null,6.67,20,13.329999999999998,12.33,51.52,3000000,null,null,0.2147,null,null,null,821917.8,0,821918.01470000006,null,null,568,113.2,null,220,null,550,null,67,null,1215,null,null,null,null,1300,null,null,1709,null,null,950,null,700,null,null,null,null,null,null,null,null,null,null,null,null,null,null,null,null,null,null,0,0,null,null,null,null,null,null,null,null,null,null,null,null,null,null,null,null,null,null,null,null,null,null,null,null,null,null,null,null,null,null,null,null,null,8000,976116,12521,null,null,null,null,"n/a",null,null,34.299999999999997,null,35.82,0.55000000000000004,0.55000000000000004,0.57999999999999996,null,null,null,null,null,null,null,61,61,"Euro V",{"$f":"560.95*12","v":6731.4000000000005},0,119.6,null,{"$f":"Table37[[#This Row],[City Per Capita GDP (LC)]]*'GDP Deflator 1960-2011'!AZ105/'GDP Deflator 1960-2011'!BD105*1/Table37[[#This Row],[PPP Exchange rate with the US$ (2016)]]","v":{"$error":"#DIV/0!"}},null,{"$f":"Table37[[#This Row],[Median Annual household income (LC)]]*'GDP Deflator 1960-2011'!AZ105/'GDP Deflator 1960-2011'!AY105*1/Table37[[#This Row],[PPP Exchange rate with the US$ (2016)]]","v":{"$error":"#DIV/0!"}},34.46,{"$f":"IF(ISERROR(Table37[[#This Row],[Minimum Hourly Wage Rate (LC)]]*'CPI 1960-2011'!AY105/'CPI 1960-2011'!BC105*1/Table37[[#This Row],[PPP Exchange rate with the US$ (2016)]]), \"n/a\", Table37[[#This Row],[Minimum Hourly Wage Rate (LC)]]*'GDP Deflator 1960-2011'!AZ105/'GDP Deflator 1960-2011'!BD105*1/Table37[[#This Row],[PPP Exchange rate with the US$ (2016)]])","v":"n/a"},21.3,null,0,0,0.25040015871517751,0,"",0,0,0,6.1538461538461542,{"$f":"IFERROR(Table37[[#This Row],[Operating Costs US$ - Bus]]/Table37[[#This Row],[Fare revenue US$- Bus]], \"\")","v":""},{"$f":"IFERROR(Table37[[#This Row],[Operating Costs US$ - Metro]]/Table37[[#This Row],[Fare revenue US$- Metro]], \"\")","v":""},{"$f":"IFERROR(Table37[[#This Row],[Operating Costs US$- LRT]]/Table37[[#This Row],[Fare revenue US$- LRT]], \"\")","v":""},{"$f":"IFERROR(Table37[[#This Row],[Operating Costs US$- Tram]]/Table37[[#This Row],[Fare revenue US$- Tram]], \"\")","v":""},{"$f":"IFERROR(Table37[[#This Row],[Operating Costs US$ - Trolley Bus]]/Table37[[#This Row],[Fare revenue US$- Trolley Buses]], \"\")","v":""},{"$f":"IFERROR((AVERAGEIF(Table37[[#This Row],[Fares for 10 km of journey (2007 US$ PPP) - Bus]:[Fares for 10 km of journey (2007 US$ PPP) - Trolley Bus]], \"<>0\")*40*12)/EO110, \"\")","v":""},{"$f":"IFERROR((AVERAGEIF(Table37[[#This Row],[Fares for 10 km of journey (2007 US$ PPP) - Regional/Commuter Rail]:[Fares for 10 km of journey (2007 US$ PPP) - BRT]], \"<>0\")*40*12)/EO110, \"\")","v":""},{"$f":"IFERROR(2*(AVERAGEIF(Table37[[#This Row],[Fares for avg. length of journey (2007 US$ PPP) - Metro]:[Fares for avg. length of journey (2007 US$ PPP) - BRT]], \"<>0\"))/(Table37[[#This Row],[Minimum Hourly Wage rate (PPP $ 2007)]]*8), \"\")","v":""},5.5183946488294326,12.33,51.52,333.2,0.2147,644.35774309723888,4.1354549289345087E-2,0.23154968728283529,0,0,0,"",0,11.749545908942945,0,0,0,0,0,{"$f":"Table37[[#This Row],[Fares for 10 km of journey (2007 US$ PPP) - Bus]]/10*Table37[[#This Row],[Average trip length by car (km)]]","v":0},{"$f":"Table37[[#This Row],[Fares for 10 km of journey (2007 US$ PPP) - Regional/Commuter Rail]]/10*Table37[[#This Row],[Average trip length by car (km)]]","v":0},{"$f":"Table37[[#This Row],[Fares for 10 km of journey (2007 US$ PPP) - Metro]]/10*Table37[[#This Row],[Average trip length by car (km)]]","v":0},{"$f":"Table37[[#This Row],[Fares for 10 km of journey (2007 US$ PPP) - LRT]]/10*Table37[[#This Row],[Average trip length by car (km)]]","v":0},{"$f":"Table37[[#This Row],[Fares for 10 km of journey (2007 US$ PPP) - Tram]]/10*Table37[[#This Row],[Average trip length by car (km)]]","v":0},{"$f":"Table37[[#This Row],[Fares for 10 km of journey (2007 US$ PPP) - BRT]]/10*Table37[[#This Row],[Average trip length by car (km)]]","v":0},{"$f":"Table37[[#This Row],[Fares for 10 km of journey (2007 US$ PPP) - Trolley Bus]]/10*Table37[[#This Row],[Average trip length by car (km)]]","v":0}]
[null,"Belo Horizonte","Brazil","LAC",2513451,2375151,5156217,4803.1980000000003,331.40100000000001,null,9459,null,7584.3192989761646,1537138,215922,1074808,{"$f":"O111+P111","v":1290730},1301978,40,0,15,8,0,30,7,0,16.170000000000002,50.36,null,null,null,0.17780000000000001,null,null,1.047E-2,null,0,{"$f":"SUM(AF111:AJ111)","v":0.18827000000000002},11370,null,null,44,null,null,"39,30",null,null,19,null,null,null,82,23,0,3043,291,0,0,96,0,0,0,0,7891,1.1200000000000001,1.6,1.6,0,0,0,1.1200000000000001,1.1200000000000001,1.01,0,0,0,0,0,null,null,null,0,0,null,null,null,null,null,null,null,null,null,null,null,null,null,null,null,null,null,null,null,null,null,null,null,null,null,null,null,null,null,null,null,null,null,34534,792,null,null,null,null,null,4.5999999999999996,null,null,3.44,null,3.01,1.27,0.84,0.93,null,{"$f":"524/E111*100000","v":20.847830333672707},null,5.24,10.147,1.5840000000000001,51.2,3.2,2.8,"PROCONVE P7/PROCONVE L6",{"$f":"1647.76*12","v":19773.12},32844.410000000003,15298.78,54.9,{"$error":"#DIV/0!"},17313,{"$f":"Table37[[#This Row],[Median Annual household income (LC)]]*'GDP Deflator 1960-2011'!AZ106/'GDP Deflator 1960-2011'!AY106*1/Table37[[#This Row],[PPP Exchange rate with the US$ (2016)]]","v":{"$error":"#DIV/0!"}},788,{"$f":"IF(ISERROR(Table37[[#This Row],[Minimum Hourly Wage Rate (LC)]]*'CPI 1960-2011'!AY106/'CPI 1960-2011'!BC106*1/Table37[[#This Row],[PPP Exchange rate with the US$ (2016)]]), \"n/a\", Table37[[#This Row],[Minimum Hourly Wage Rate (LC)]]*'GDP Deflator 1960-2011'!AZ106/'GDP Deflator 1960-2011'!BD106*1/Table37[[#This Row],[PPP Exchange rate with the US$ (2016)]])","v":"n/a"},2,null,41.876049824900697,208.44894619446777,0.65105871223030376,0.16584151191494786,105.45756376429199,11370,2205.1050217630486,34.30888862737288,10.287161155793864,{"$f":"IFERROR(Table37[[#This Row],[Operating Costs US$ - Bus]]/Table37[[#This Row],[Fare revenue US$- Bus]], \"\")","v":""},{"$f":"IFERROR(Table37[[#This Row],[Operating Costs US$ - Metro]]/Table37[[#This Row],[Fare revenue US$- Metro]], \"\")","v":""},{"$f":"IFERROR(Table37[[#This Row],[Operating Costs US$- LRT]]/Table37[[#This Row],[Fare revenue US$- LRT]], \"\")","v":""},{"$f":"IFERROR(Table37[[#This Row],[Operating Costs US$- Tram]]/Table37[[#This Row],[Fare revenue US$- Tram]], \"\")","v":""},{"$f":"IFERROR(Table37[[#This Row],[Operating Costs US$ - Trolley Bus]]/Table37[[#This Row],[Fare revenue US$- Trolley Buses]], \"\")","v":""},{"$f":"IFERROR((AVERAGEIF(Table37[[#This Row],[Fares for 10 km of journey (2007 US$ PPP) - Bus]:[Fares for 10 km of journey (2007 US$ PPP) - Trolley Bus]], \"<>0\")*40*12)/EO111, \"\")","v":3.3414429124413836E-2},{"$f":"IFERROR((AVERAGEIF(Table37[[#This Row],[Fares for 10 km of journey (2007 US$ PPP) - Regional/Commuter Rail]:[Fares for 10 km of journey (2007 US$ PPP) - BRT]], \"<>0\")*40*12)/EO111, \"\")","v":3.1688801329256312E-2},{"$f":"IFERROR(2*(AVERAGEIF(Table37[[#This Row],[Fares for avg. length of journey (2007 US$ PPP) - Metro]:[Fares for avg. length of journey (2007 US$ PPP) - BRT]], \"<>0\"))/(Table37[[#This Row],[Minimum Hourly Wage rate (PPP $ 2007)]]*8), \"\")","v":""},9.9615786356820599E-2,{"$f":"AA111","v":16.170000000000002},50.36,44,0.18827000000000002,"",3.6513203381471342E-2,0.13276966575236646,0,524,208.47830333672707,4.6086191732629726E-2,4.0246455777286556,0.62061003251026869,1.9679156249630301,0.30720196609258299,9.9297605201642991,{"$f":"DU111","v":0},0,{"$f":"Table37[[#This Row],[Fares for 10 km of journey (2007 US$ PPP) - Bus]]/10*Table37[[#This Row],[Average trip length by car (km)]]","v":1.8110400000000004},{"$f":"Table37[[#This Row],[Fares for 10 km of journey (2007 US$ PPP) - Regional/Commuter Rail]]/10*Table37[[#This Row],[Average trip length by car (km)]]","v":1.6331700000000002},{"$f":"Table37[[#This Row],[Fares for 10 km of journey (2007 US$ PPP) - Metro]]/10*Table37[[#This Row],[Average trip length by car (km)]]","v":0},{"$f":"Table37[[#This Row],[Fares for 10 km of journey (2007 US$ PPP) - LRT]]/10*Table37[[#This Row],[Average trip length by car (km)]]","v":0},{"$f":"Table37[[#This Row],[Fares for 10 km of journey (2007 US$ PPP) - Tram]]/10*Table37[[#This Row],[Average trip length by car (km)]]","v":0},{"$f":"Table37[[#This Row],[Fares for 10 km of journey (2007 US$ PPP) - BRT]]/10*Table37[[#This Row],[Average trip length by car (km)]]","v":0},{"$f":"Table37[[#This Row],[Fares for 10 km of journey (2007 US$ PPP) - Trolley Bus]]/10*Table37[[#This Row],[Average trip length by car (km)]]","v":0}]
[null,"Istanbul","Turkey",null,14557000,10513000,14657434,13160068,1539,1539,5612,4343,{"$f":"E112/I112","v":9458.7394411955811},12300665,null,9300000,0,3390,38,7.08,0,8.85,null,29.2,7.96,8.9100000000000108,24.46,52,null,null,21,1.532,null,null,null,null,0,1.532,null,11000,null,90.5,15.3,22.3,52,null,46,70,22,31,10730,44,300,null,3090,null,null,268,null,78,92,415,null,null,null,null,null,null,null,null,null,null,null,null,null,null,0.97,null,null,null,null,0,0,null,null,null,null,null,null,null,null,null,null,null,null,null,null,null,null,null,null,null,null,null,null,null,null,null,152.47999999999999,null,null,null,null,null,null,null,8828,null,800,null,null,null,null,null,null,null,4.6900000000000004,null,null,1.47,null,null,null,null,null,null,null,null,59,null,null,"Euro V",null,null,null,null,{"$f":"Table37[[#This Row],[City Per Capita GDP (LC)]]*'GDP Deflator 1960-2011'!AZ107/'GDP Deflator 1960-2011'!BD107*1/Table37[[#This Row],[PPP Exchange rate with the US$ (2016)]]","v":{"$error":"#DIV/0!"}},null,{"$f":"Table37[[#This Row],[Median Annual household income (LC)]]*'GDP Deflator 1960-2011'!AZ107/'GDP Deflator 1960-2011'!AY107*1/Table37[[#This Row],[PPP Exchange rate with the US$ (2016)]]","v":{"$error":"#DIV/0!"}},8.5399999999999991,{"$f":"IF(ISERROR(Table37[[#This Row],[Minimum Hourly Wage Rate (LC)]]*'CPI 1960-2011'!AY107/'CPI 1960-2011'!BC107*1/Table37[[#This Row],[PPP Exchange rate with the US$ (2016)]]), \"n/a\", Table37[[#This Row],[Minimum Hourly Wage Rate (LC)]]*'GDP Deflator 1960-2011'!AZ107/'GDP Deflator 1960-2011'!BD107*1/Table37[[#This Row],[PPP Exchange rate with the US$ (2016)]])","v":"n/a"},1.3,null,0,634.49032074781985,0.23128195562743109,0,"",0,0,0,2.6041297935103245,{"$f":"IFERROR(Table37[[#This Row],[Operating Costs US$ - Bus]]/Table37[[#This Row],[Fare revenue US$- Bus]], \"\")","v":""},{"$f":"IFERROR(Table37[[#This Row],[Operating Costs US$ - Metro]]/Table37[[#This Row],[Fare revenue US$- Metro]], \"\")","v":""},{"$f":"IFERROR(Table37[[#This Row],[Operating Costs US$- LRT]]/Table37[[#This Row],[Fare revenue US$- LRT]], \"\")","v":""},{"$f":"IFERROR(Table37[[#This Row],[Operating Costs US$- Tram]]/Table37[[#This Row],[Fare revenue US$- Tram]], \"\")","v":""},{"$f":"IFERROR(Table37[[#This Row],[Operating Costs US$ - Trolley Bus]]/Table37[[#This Row],[Fare revenue US$- Trolley Buses]], \"\")","v":""},{"$f":"IFERROR((AVERAGEIF(Table37[[#This Row],[Fares for 10 km of journey (2007 US$ PPP) - Bus]:[Fares for 10 km of journey (2007 US$ PPP) - Trolley Bus]], \"<>0\")*40*12)/EO112, \"\")","v":""},{"$f":"IFERROR((AVERAGEIF(Table37[[#This Row],[Fares for 10 km of journey (2007 US$ PPP) - Regional/Commuter Rail]:[Fares for 10 km of journey (2007 US$ PPP) - BRT]], \"<>0\")*40*12)/EO112, \"\")","v":""},{"$f":"IFERROR(2*(AVERAGEIF(Table37[[#This Row],[Fares for avg. length of journey (2007 US$ PPP) - Metro]:[Fares for avg. length of journey (2007 US$ PPP) - BRT]], \"<>0\"))/(Table37[[#This Row],[Minimum Hourly Wage rate (PPP $ 2007)]]*8), \"\")","v":""},"",24.46,52,180.1,1.532,8506.3853414769583,0.10452034100921075,0.11702404158544509,0,0,0,"",0,0,0,0,4.0252611746367064,0,0,{"$f":"Table37[[#This Row],[Fares for 10 km of journey (2007 US$ PPP) - Bus]]/10*Table37[[#This Row],[Average trip length by car (km)]]","v":0},{"$f":"Table37[[#This Row],[Fares for 10 km of journey (2007 US$ PPP) - Regional/Commuter Rail]]/10*Table37[[#This Row],[Average trip length by car (km)]]","v":0},{"$f":"Table37[[#This Row],[Fares for 10 km of journey (2007 US$ PPP) - Metro]]/10*Table37[[#This Row],[Average trip length by car (km)]]","v":0},{"$f":"Table37[[#This Row],[Fares for 10 km of journey (2007 US$ PPP) - LRT]]/10*Table37[[#This Row],[Average trip length by car (km)]]","v":0},{"$f":"Table37[[#This Row],[Fares for 10 km of journey (2007 US$ PPP) - Tram]]/10*Table37[[#This Row],[Average trip length by car (km)]]","v":0},{"$f":"Table37[[#This Row],[Fares for 10 km of journey (2007 US$ PPP) - BRT]]/10*Table37[[#This Row],[Average trip length by car (km)]]","v":2.37262},{"$f":"Table37[[#This Row],[Fares for 10 km of journey (2007 US$ PPP) - Trolley Bus]]/10*Table37[[#This Row],[Average trip length by car (km)]]","v":0}]
[null,"Oran","Algeria","AFR",803329,705335,1454078,null,2121,null,null,null,{"$f":"E113/I113","v":378.75011786892975},722996.1,null,null,0,0,null,null,null,null,null,null,null,0,null,null,2,null,null,null,null,null,null,null,{"$f":"SUM(AC113:AD113, AF113:AJ113)","v":2},0,null,null,null,null,null,null,null,null,null,null,null,null,null,null,null,null,null,null,null,null,null,null,null,null,null,null,null,null,null,null,null,null,null,null,null,null,null,null,null,null,null,null,null,0,0,null,null,null,null,null,null,null,null,null,null,null,null,null,null,null,null,null,null,null,null,null,null,null,null,null,null,null,null,null,null,null,null,null,null,null,null,null,null,null,null,null,null,null,23,null,18.3,0.21,null,0.16,null,null,null,null,null,null,null,null,null,"Euro 3",null,null,null,null,{"$f":"Table37[[#This Row],[City Per Capita GDP (LC)]]*'GDP Deflator 1960-2011'!AZ108/'GDP Deflator 1960-2011'!BD108*1/Table37[[#This Row],[PPP Exchange rate with the US$ (2016)]]","v":{"$error":"#DIV/0!"}},null,{"$f":"Table37[[#This Row],[Median Annual household income (LC)]]*'GDP Deflator 1960-2011'!AZ108/'GDP Deflator 1960-2011'!AY108*1/Table37[[#This Row],[PPP Exchange rate with the US$ (2016)]]","v":{"$error":"#DIV/0!"}},"NA",{"$f":"IF(ISERROR(Table37[[#This Row],[Minimum Hourly Wage Rate (LC)]]*'CPI 1960-2011'!AY108/'CPI 1960-2011'!BC108*1/Table37[[#This Row],[PPP Exchange rate with the US$ (2016)]]), \"n/a\", Table37[[#This Row],[Minimum Hourly Wage Rate (LC)]]*'GDP Deflator 1960-2011'!AZ108/'GDP Deflator 1960-2011'!BD108*1/Table37[[#This Row],[PPP Exchange rate with the US$ (2016)]])","v":"n/a"},null,null,0,0,0,"","",0,0,0,"",{"$f":"IFERROR(Table37[[#This Row],[Operating Costs US$ - Bus]]/Table37[[#This Row],[Fare revenue US$- Bus]], \"\")","v":""},{"$f":"IFERROR(Table37[[#This Row],[Operating Costs US$ - Metro]]/Table37[[#This Row],[Fare revenue US$- Metro]], \"\")","v":""},{"$f":"IFERROR(Table37[[#This Row],[Operating Costs US$- LRT]]/Table37[[#This Row],[Fare revenue US$- LRT]], \"\")","v":""},{"$f":"IFERROR(Table37[[#This Row],[Operating Costs US$- Tram]]/Table37[[#This Row],[Fare revenue US$- Tram]], \"\")","v":""},{"$f":"IFERROR(Table37[[#This Row],[Operating Costs US$ - Trolley Bus]]/Table37[[#This Row],[Fare revenue US$- Trolley Buses]], \"\")","v":""},{"$f":"IFERROR((AVERAGEIF(Table37[[#This Row],[Fares for 10 km of journey (2007 US$ PPP) - Bus]:[Fares for 10 km of journey (2007 US$ PPP) - Trolley Bus]], \"<>0\")*40*12)/EO113, \"\")","v":""},{"$f":"IFERROR((AVERAGEIF(Table37[[#This Row],[Fares for 10 km of journey (2007 US$ PPP) - Regional/Commuter Rail]:[Fares for 10 km of journey (2007 US$ PPP) - BRT]], \"<>0\")*40*12)/EO113, \"\")","v":""},{"$f":"IFERROR(2*(AVERAGEIF(Table37[[#This Row],[Fares for avg. length of journey (2007 US$ PPP) - Metro]:[Fares for avg. length of journey (2007 US$ PPP) - BRT]], \"<>0\"))/(Table37[[#This Row],[Minimum Hourly Wage rate (PPP $ 2007)]]*8), \"\")","v":""},"",0,0,0,0,"",0,0,0,0,0,"","",0,0,0,0,0,0,{"$f":"Table37[[#This Row],[Fares for 10 km of journey (2007 US$ PPP) - Bus]]/10*Table37[[#This Row],[Average trip length by car (km)]]","v":0},{"$f":"Table37[[#This Row],[Fares for 10 km of journey (2007 US$ PPP) - Regional/Commuter Rail]]/10*Table37[[#This Row],[Average trip length by car (km)]]","v":0},{"$f":"Table37[[#This Row],[Fares for 10 km of journey (2007 US$ PPP) - Metro]]/10*Table37[[#This Row],[Average trip length by car (km)]]","v":0},{"$f":"Table37[[#This Row],[Fares for 10 km of journey (2007 US$ PPP) - LRT]]/10*Table37[[#This Row],[Average trip length by car (km)]]","v":0},{"$f":"Table37[[#This Row],[Fares for 10 km of journey (2007 US$ PPP) - Tram]]/10*Table37[[#This Row],[Average trip length by car (km)]]","v":0},{"$f":"Table37[[#This Row],[Fares for 10 km of journey (2007 US$ PPP) - BRT]]/10*Table37[[#This Row],[Average trip length by car (km)]]","v":0},{"$f":"Table37[[#This Row],[Fares for 10 km of journey (2007 US$ PPP) - Trolley Bus]]/10*Table37[[#This Row],[Average trip length by car (km)]]","v":0}]
[null,"Nairobi","Kenya","AFR",3915000,2750561,3915000,6547547,694,null,null,null,5641.2103746397697,3190725,null,null,0,0,35,0,0,29,0,29,0,7,17.739999999999998,48,null,null,null,null,null,null,null,null,0,0,null,null,null,null,null,null,null,null,null,null,null,null,null,null,null,null,null,null,null,null,null,null,null,null,null,null,null,null,null,null,null,null,null,null,null,null,null,null,null,null,null,null,null,0,0,null,null,null,null,null,null,null,null,null,null,null,null,null,null,null,null,null,null,null,null,null,null,null,null,null,null,null,null,null,null,null,null,null,null,null,null,null,null,null,null,null,null,null,91.39,null,82.46,0.89510000000000001,1.139,0.81,null,null,null,null,null,null,33,null,null,"Euro 3",null,null,null,null,{"$f":"Table37[[#This Row],[City Per Capita GDP (LC)]]*'GDP Deflator 1960-2011'!AZ109/'GDP Deflator 1960-2011'!BD109*1/Table37[[#This Row],[PPP Exchange rate with the US$ (2016)]]","v":{"$error":"#DIV/0!"}},null,{"$f":"Table37[[#This Row],[Median Annual household income (LC)]]*'GDP Deflator 1960-2011'!AZ109/'GDP Deflator 1960-2011'!AY109*1/Table37[[#This Row],[PPP Exchange rate with the US$ (2016)]]","v":{"$error":"#DIV/0!"}},97.9,{"$f":"IF(ISERROR(Table37[[#This Row],[Minimum Hourly Wage Rate (LC)]]*'CPI 1960-2011'!AY109/'CPI 1960-2011'!BC109*1/Table37[[#This Row],[PPP Exchange rate with the US$ (2016)]]), \"n/a\", Table37[[#This Row],[Minimum Hourly Wage Rate (LC)]]*'GDP Deflator 1960-2011'!AZ109/'GDP Deflator 1960-2011'!BD109*1/Table37[[#This Row],[PPP Exchange rate with the US$ (2016)]])","v":"n/a"},null,null,0,0,0,"","",0,0,0,"",{"$f":"IFERROR(Table37[[#This Row],[Operating Costs US$ - Bus]]/Table37[[#This Row],[Fare revenue US$- Bus]], \"\")","v":""},{"$f":"IFERROR(Table37[[#This Row],[Operating Costs US$ - Metro]]/Table37[[#This Row],[Fare revenue US$- Metro]], \"\")","v":""},{"$f":"IFERROR(Table37[[#This Row],[Operating Costs US$- LRT]]/Table37[[#This Row],[Fare revenue US$- LRT]], \"\")","v":""},{"$f":"IFERROR(Table37[[#This Row],[Operating Costs US$- Tram]]/Table37[[#This Row],[Fare revenue US$- Tram]], \"\")","v":""},{"$f":"IFERROR(Table37[[#This Row],[Operating Costs US$ - Trolley Bus]]/Table37[[#This Row],[Fare revenue US$- Trolley Buses]], \"\")","v":""},{"$f":"IFERROR((AVERAGEIF(Table37[[#This Row],[Fares for 10 km of journey (2007 US$ PPP) - Bus]:[Fares for 10 km of journey (2007 US$ PPP) - Trolley Bus]], \"<>0\")*40*12)/EO114, \"\")","v":""},{"$f":"IFERROR((AVERAGEIF(Table37[[#This Row],[Fares for 10 km of journey (2007 US$ PPP) - Regional/Commuter Rail]:[Fares for 10 km of journey (2007 US$ PPP) - BRT]], \"<>0\")*40*12)/EO114, \"\")","v":""},{"$f":"IFERROR(2*(AVERAGEIF(Table37[[#This Row],[Fares for avg. length of journey (2007 US$ PPP) - Metro]:[Fares for avg. length of journey (2007 US$ PPP) - BRT]], \"<>0\"))/(Table37[[#This Row],[Minimum Hourly Wage rate (PPP $ 2007)]]*8), \"\")","v":""},"",17.739999999999998,48,0,0,"",0,0,0,0,0,"","",0,0,0,8.4291187739463602,0,0,{"$f":"Table37[[#This Row],[Fares for 10 km of journey (2007 US$ PPP) - Bus]]/10*Table37[[#This Row],[Average trip length by car (km)]]","v":0},{"$f":"Table37[[#This Row],[Fares for 10 km of journey (2007 US$ PPP) - Regional/Commuter Rail]]/10*Table37[[#This Row],[Average trip length by car (km)]]","v":0},{"$f":"Table37[[#This Row],[Fares for 10 km of journey (2007 US$ PPP) - Metro]]/10*Table37[[#This Row],[Average trip length by car (km)]]","v":0},{"$f":"Table37[[#This Row],[Fares for 10 km of journey (2007 US$ PPP) - LRT]]/10*Table37[[#This Row],[Average trip length by car (km)]]","v":0},{"$f":"Table37[[#This Row],[Fares for 10 km of journey (2007 US$ PPP) - Tram]]/10*Table37[[#This Row],[Average trip length by car (km)]]","v":0},{"$f":"Table37[[#This Row],[Fares for 10 km of journey (2007 US$ PPP) - BRT]]/10*Table37[[#This Row],[Average trip length by car (km)]]","v":0},{"$f":"Table37[[#This Row],[Fares for 10 km of journey (2007 US$ PPP) - Trolley Bus]]/10*Table37[[#This Row],[Average trip length by car (km)]]","v":0}]
[null,"Almaty","Kazakhstan",null,1703481,1248000,1949837,null,682,null,682,null,2497.7727272727275,10351,null,null,0,0,17.649999999999999,6,0,53,0,5.88,0,17.47,8,25,null,null,null,null,null,null,null,null,0,0,null,null,null,null,null,null,null,null,null,null,null,null,null,null,null,null,null,null,null,null,null,null,null,null,null,null,null,null,null,null,null,null,null,null,null,null,null,null,null,null,null,null,null,0,0,null,null,null,null,null,null,null,null,null,null,null,null,null,null,null,null,null,null,null,null,null,null,null,null,null,null,null,null,null,null,null,null,null,null,null,null,null,null,null,null,null,null,null,35.5,null,99,0.106,null,0.28999999999999998,null,null,null,null,null,null,null,null,null,null,null,null,null,null,{"$f":"Table37[[#This Row],[City Per Capita GDP (LC)]]*'GDP Deflator 1960-2011'!AZ110/'GDP Deflator 1960-2011'!BD110*1/Table37[[#This Row],[PPP Exchange rate with the US$ (2016)]]","v":{"$error":"#DIV/0!"}},187292,{"$f":"Table37[[#This Row],[Median Annual household income (LC)]]*'GDP Deflator 1960-2011'!AZ110/'GDP Deflator 1960-2011'!AY110*1/Table37[[#This Row],[PPP Exchange rate with the US$ (2016)]]","v":{"$error":"#DIV/0!"}},"NA",{"$f":"IF(ISERROR(Table37[[#This Row],[Minimum Hourly Wage Rate (LC)]]*'CPI 1960-2011'!AY110/'CPI 1960-2011'!BC110*1/Table37[[#This Row],[PPP Exchange rate with the US$ (2016)]]), \"n/a\", Table37[[#This Row],[Minimum Hourly Wage Rate (LC)]]*'GDP Deflator 1960-2011'!AZ110/'GDP Deflator 1960-2011'!BD110*1/Table37[[#This Row],[PPP Exchange rate with the US$ (2016)]])","v":"n/a"},null,null,0,0,0,"","",0,0,0,"",{"$f":"IFERROR(Table37[[#This Row],[Operating Costs US$ - Bus]]/Table37[[#This Row],[Fare revenue US$- Bus]], \"\")","v":""},{"$f":"IFERROR(Table37[[#This Row],[Operating Costs US$ - Metro]]/Table37[[#This Row],[Fare revenue US$- Metro]], \"\")","v":""},{"$f":"IFERROR(Table37[[#This Row],[Operating Costs US$- LRT]]/Table37[[#This Row],[Fare revenue US$- LRT]], \"\")","v":""},{"$f":"IFERROR(Table37[[#This Row],[Operating Costs US$- Tram]]/Table37[[#This Row],[Fare revenue US$- Tram]], \"\")","v":""},{"$f":"IFERROR(Table37[[#This Row],[Operating Costs US$ - Trolley Bus]]/Table37[[#This Row],[Fare revenue US$- Trolley Buses]], \"\")","v":""},{"$f":"IFERROR((AVERAGEIF(Table37[[#This Row],[Fares for 10 km of journey (2007 US$ PPP) - Bus]:[Fares for 10 km of journey (2007 US$ PPP) - Trolley Bus]], \"<>0\")*40*12)/EO115, \"\")","v":""},{"$f":"IFERROR((AVERAGEIF(Table37[[#This Row],[Fares for 10 km of journey (2007 US$ PPP) - Regional/Commuter Rail]:[Fares for 10 km of journey (2007 US$ PPP) - BRT]], \"<>0\")*40*12)/EO115, \"\")","v":""},{"$f":"IFERROR(2*(AVERAGEIF(Table37[[#This Row],[Fares for avg. length of journey (2007 US$ PPP) - Metro]:[Fares for avg. length of journey (2007 US$ PPP) - BRT]], \"<>0\"))/(Table37[[#This Row],[Minimum Hourly Wage rate (PPP $ 2007)]]*8), \"\")","v":""},"",8,25,0,0,"",0,0,0,0,0,"","",0,0,0,0,0,0,{"$f":"Table37[[#This Row],[Fares for 10 km of journey (2007 US$ PPP) - Bus]]/10*Table37[[#This Row],[Average trip length by car (km)]]","v":0},{"$f":"Table37[[#This Row],[Fares for 10 km of journey (2007 US$ PPP) - Regional/Commuter Rail]]/10*Table37[[#This Row],[Average trip length by car (km)]]","v":0},{"$f":"Table37[[#This Row],[Fares for 10 km of journey (2007 US$ PPP) - Metro]]/10*Table37[[#This Row],[Average trip length by car (km)]]","v":0},{"$f":"Table37[[#This Row],[Fares for 10 km of journey (2007 US$ PPP) - LRT]]/10*Table37[[#This Row],[Average trip length by car (km)]]","v":0},{"$f":"Table37[[#This Row],[Fares for 10 km of journey (2007 US$ PPP) - Tram]]/10*Table37[[#This Row],[Average trip length by car (km)]]","v":0},{"$f":"Table37[[#This Row],[Fares for 10 km of journey (2007 US$ PPP) - BRT]]/10*Table37[[#This Row],[Average trip length by car (km)]]","v":0},{"$f":"Table37[[#This Row],[Fares for 10 km of journey (2007 US$ PPP) - Trolley Bus]]/10*Table37[[#This Row],[Average trip length by car (km)]]","v":0}]
[null,"Addis Ababa","Ethiopia","AFR",3390000,3384569,4600000,4567857,527,527,527,null,6432.6375711574956,134919,null,null,0,0,null,null,null,null,null,null,null,0,null,null,null,null,null,null,null,null,null,null,0,0,null,null,null,null,null,null,null,null,null,null,null,null,null,null,null,null,null,null,null,null,null,null,null,null,null,null,null,null,null,null,null,null,null,null,null,null,null,null,null,null,null,null,null,0,0,null,null,null,null,null,null,null,null,null,null,null,null,null,null,null,null,null,null,null,null,null,null,null,null,null,null,null,null,null,null,null,null,null,null,null,null,null,null,null,null,null,null,null,19,null,12.22,0.85,null,320.64999999999998,null,null,null,null,null,null,null,null,null,"Euro 3",null,null,null,null,{"$f":"Table37[[#This Row],[City Per Capita GDP (LC)]]*'GDP Deflator 1960-2011'!AZ111/'GDP Deflator 1960-2011'!BD111*1/Table37[[#This Row],[PPP Exchange rate with the US$ (2016)]]","v":{"$error":"#DIV/0!"}},null,{"$f":"Table37[[#This Row],[Median Annual household income (LC)]]*'GDP Deflator 1960-2011'!AZ111/'GDP Deflator 1960-2011'!AY111*1/Table37[[#This Row],[PPP Exchange rate with the US$ (2016)]]","v":{"$error":"#DIV/0!"}},2.1800000000000002,{"$f":"IF(ISERROR(Table37[[#This Row],[Minimum Hourly Wage Rate (LC)]]*'CPI 1960-2011'!AY111/'CPI 1960-2011'!BC111*1/Table37[[#This Row],[PPP Exchange rate with the US$ (2016)]]), \"n/a\", Table37[[#This Row],[Minimum Hourly Wage Rate (LC)]]*'GDP Deflator 1960-2011'!AZ111/'GDP Deflator 1960-2011'!BD111*1/Table37[[#This Row],[PPP Exchange rate with the US$ (2016)]])","v":"n/a"},null,null,0,0,0,"","",0,0,0,"",{"$f":"IFERROR(Table37[[#This Row],[Operating Costs US$ - Bus]]/Table37[[#This Row],[Fare revenue US$- Bus]], \"\")","v":""},{"$f":"IFERROR(Table37[[#This Row],[Operating Costs US$ - Metro]]/Table37[[#This Row],[Fare revenue US$- Metro]], \"\")","v":""},{"$f":"IFERROR(Table37[[#This Row],[Operating Costs US$- LRT]]/Table37[[#This Row],[Fare revenue US$- LRT]], \"\")","v":""},{"$f":"IFERROR(Table37[[#This Row],[Operating Costs US$- Tram]]/Table37[[#This Row],[Fare revenue US$- Tram]], \"\")","v":""},{"$f":"IFERROR(Table37[[#This Row],[Operating Costs US$ - Trolley Bus]]/Table37[[#This Row],[Fare revenue US$- Trolley Buses]], \"\")","v":""},{"$f":"IFERROR((AVERAGEIF(Table37[[#This Row],[Fares for 10 km of journey (2007 US$ PPP) - Bus]:[Fares for 10 km of journey (2007 US$ PPP) - Trolley Bus]], \"<>0\")*40*12)/EO116, \"\")","v":""},{"$f":"IFERROR((AVERAGEIF(Table37[[#This Row],[Fares for 10 km of journey (2007 US$ PPP) - Regional/Commuter Rail]:[Fares for 10 km of journey (2007 US$ PPP) - BRT]], \"<>0\")*40*12)/EO116, \"\")","v":""},{"$f":"IFERROR(2*(AVERAGEIF(Table37[[#This Row],[Fares for avg. length of journey (2007 US$ PPP) - Metro]:[Fares for avg. length of journey (2007 US$ PPP) - BRT]], \"<>0\"))/(Table37[[#This Row],[Minimum Hourly Wage rate (PPP $ 2007)]]*8), \"\")","v":""},"",0,0,0,0,"",0,0,0,0,0,"","",0,0,0,0,0,0,{"$f":"Table37[[#This Row],[Fares for 10 km of journey (2007 US$ PPP) - Bus]]/10*Table37[[#This Row],[Average trip length by car (km)]]","v":0},{"$f":"Table37[[#This Row],[Fares for 10 km of journey (2007 US$ PPP) - Regional/Commuter Rail]]/10*Table37[[#This Row],[Average trip length by car (km)]]","v":0},{"$f":"Table37[[#This Row],[Fares for 10 km of journey (2007 US$ PPP) - Metro]]/10*Table37[[#This Row],[Average trip length by car (km)]]","v":0},{"$f":"Table37[[#This Row],[Fares for 10 km of journey (2007 US$ PPP) - LRT]]/10*Table37[[#This Row],[Average trip length by car (km)]]","v":0},{"$f":"Table37[[#This Row],[Fares for 10 km of journey (2007 US$ PPP) - Tram]]/10*Table37[[#This Row],[Average trip length by car (km)]]","v":0},{"$f":"Table37[[#This Row],[Fares for 10 km of journey (2007 US$ PPP) - BRT]]/10*Table37[[#This Row],[Average trip length by car (km)]]","v":0},{"$f":"Table37[[#This Row],[Fares for 10 km of journey (2007 US$ PPP) - Trolley Bus]]/10*Table37[[#This Row],[Average trip length by car (km)]]","v":0}]
[null,"Abidjan","Ivory Coast","AFR",4395243,3386000,5054000,3660682,422,null,2119,null,10415.267772511848,3289000,null,null,0,0,null,null,null,null,null,null,null,0,null,null,null,null,null,null,null,null,null,null,0,0,null,null,null,null,null,null,null,null,null,null,null,null,null,null,null,null,null,null,null,null,null,null,null,null,null,null,null,null,null,null,null,null,null,null,null,null,null,null,null,null,null,null,null,0,0,null,null,null,null,null,null,null,null,null,null,null,null,null,null,null,null,null,null,null,null,null,null,null,null,null,null,null,null,null,null,null,null,null,null,null,null,null,null,null,null,null,null,null,628.33399999999995,null,615,1.0728599999999999,null,1.2,null,null,null,null,0,0,0,0,0,0,null,null,null,null,{"$f":"Table37[[#This Row],[City Per Capita GDP (LC)]]*'GDP Deflator 1960-2011'!AZ112/'GDP Deflator 1960-2011'!BD112*1/Table37[[#This Row],[PPP Exchange rate with the US$ (2016)]]","v":{"$error":"#DIV/0!"}},null,{"$f":"Table37[[#This Row],[Median Annual household income (LC)]]*'GDP Deflator 1960-2011'!AZ112/'GDP Deflator 1960-2011'!AY112*1/Table37[[#This Row],[PPP Exchange rate with the US$ (2016)]]","v":{"$error":"#DIV/0!"}},228.75,0.46,null,null,0,0,0,"","",0,0,0,"",{"$f":"IFERROR(Table37[[#This Row],[Operating Costs US$ - Bus]]/Table37[[#This Row],[Fare revenue US$- Bus]], \"\")","v":""},{"$f":"IFERROR(Table37[[#This Row],[Operating Costs US$ - Metro]]/Table37[[#This Row],[Fare revenue US$- Metro]], \"\")","v":""},{"$f":"IFERROR(Table37[[#This Row],[Operating Costs US$- LRT]]/Table37[[#This Row],[Fare revenue US$- LRT]], \"\")","v":""},{"$f":"IFERROR(Table37[[#This Row],[Operating Costs US$- Tram]]/Table37[[#This Row],[Fare revenue US$- Tram]], \"\")","v":""},{"$f":"IFERROR(Table37[[#This Row],[Operating Costs US$ - Trolley Bus]]/Table37[[#This Row],[Fare revenue US$- Trolley Buses]], \"\")","v":""},{"$f":"IFERROR((AVERAGEIF(Table37[[#This Row],[Fares for 10 km of journey (2007 US$ PPP) - Bus]:[Fares for 10 km of journey (2007 US$ PPP) - Trolley Bus]], \"<>0\")*40*12)/EO117, \"\")","v":""},{"$f":"IFERROR((AVERAGEIF(Table37[[#This Row],[Fares for 10 km of journey (2007 US$ PPP) - Regional/Commuter Rail]:[Fares for 10 km of journey (2007 US$ PPP) - BRT]], \"<>0\")*40*12)/EO117, \"\")","v":""},{"$f":"IFERROR(2*(AVERAGEIF(Table37[[#This Row],[Fares for avg. length of journey (2007 US$ PPP) - Metro]:[Fares for avg. length of journey (2007 US$ PPP) - BRT]], \"<>0\"))/(Table37[[#This Row],[Minimum Hourly Wage rate (PPP $ 2007)]]*8), \"\")","v":""},"",0,0,0,0,"",0,0,0,0,0,"","",0,0,0,0,0,0,{"$f":"Table37[[#This Row],[Fares for 10 km of journey (2007 US$ PPP) - Bus]]/10*Table37[[#This Row],[Average trip length by car (km)]]","v":0},{"$f":"Table37[[#This Row],[Fares for 10 km of journey (2007 US$ PPP) - Regional/Commuter Rail]]/10*Table37[[#This Row],[Average trip length by car (km)]]","v":0},{"$f":"Table37[[#This Row],[Fares for 10 km of journey (2007 US$ PPP) - Metro]]/10*Table37[[#This Row],[Average trip length by car (km)]]","v":0},{"$f":"Table37[[#This Row],[Fares for 10 km of journey (2007 US$ PPP) - LRT]]/10*Table37[[#This Row],[Average trip length by car (km)]]","v":0},{"$f":"Table37[[#This Row],[Fares for 10 km of journey (2007 US$ PPP) - Tram]]/10*Table37[[#This Row],[Average trip length by car (km)]]","v":0},{"$f":"Table37[[#This Row],[Fares for 10 km of journey (2007 US$ PPP) - BRT]]/10*Table37[[#This Row],[Average trip length by car (km)]]","v":0},{"$f":"Table37[[#This Row],[Fares for 10 km of journey (2007 US$ PPP) - Trolley Bus]]/10*Table37[[#This Row],[Average trip length by car (km)]]","v":0}]
[null,"Dakar","Senegal","AFR",1146053,1030594,2452656,2434000,83,null,546.99,null,{"$f":"E118/I118","v":13807.867469879518},974145.04999999993,null,null,0,0,null,null,null,null,null,null,null,0,null,null,null,null,null,null,null,null,null,null,0,0,null,null,null,null,null,null,null,null,null,null,null,null,null,null,null,null,null,null,null,null,null,null,null,null,null,null,null,null,null,null,null,null,null,null,null,null,null,null,null,null,null,null,null,0,0,null,null,null,null,null,null,null,null,null,null,null,null,null,null,null,null,null,null,null,null,null,null,null,null,null,null,null,null,null,null,null,null,null,null,null,null,null,null,null,null,null,null,null,837,null,580.84,1.43,null,0.99,null,null,null,null,null,null,141,null,null,"Euro 3",null,null,null,null,{"$f":"Table37[[#This Row],[City Per Capita GDP (LC)]]*'GDP Deflator 1960-2011'!AZ113/'GDP Deflator 1960-2011'!BD113*1/Table37[[#This Row],[PPP Exchange rate with the US$ (2016)]]","v":{"$error":"#DIV/0!"}},null,{"$f":"Table37[[#This Row],[Median Annual household income (LC)]]*'GDP Deflator 1960-2011'!AZ113/'GDP Deflator 1960-2011'!AY113*1/Table37[[#This Row],[PPP Exchange rate with the US$ (2016)]]","v":{"$error":"#DIV/0!"}},209.1,{"$f":"IF(ISERROR(Table37[[#This Row],[Minimum Hourly Wage Rate (LC)]]*'CPI 1960-2011'!AY113/'CPI 1960-2011'!BC113*1/Table37[[#This Row],[PPP Exchange rate with the US$ (2016)]]), \"n/a\", Table37[[#This Row],[Minimum Hourly Wage Rate (LC)]]*'GDP Deflator 1960-2011'!AZ113/'GDP Deflator 1960-2011'!BD113*1/Table37[[#This Row],[PPP Exchange rate with the US$ (2016)]])","v":"n/a"},null,null,0,0,0,"","",0,0,0,"",{"$f":"IFERROR(Table37[[#This Row],[Operating Costs US$ - Bus]]/Table37[[#This Row],[Fare revenue US$- Bus]], \"\")","v":""},{"$f":"IFERROR(Table37[[#This Row],[Operating Costs US$ - Metro]]/Table37[[#This Row],[Fare revenue US$- Metro]], \"\")","v":""},{"$f":"IFERROR(Table37[[#This Row],[Operating Costs US$- LRT]]/Table37[[#This Row],[Fare revenue US$- LRT]], \"\")","v":""},{"$f":"IFERROR(Table37[[#This Row],[Operating Costs US$- Tram]]/Table37[[#This Row],[Fare revenue US$- Tram]], \"\")","v":""},{"$f":"IFERROR(Table37[[#This Row],[Operating Costs US$ - Trolley Bus]]/Table37[[#This Row],[Fare revenue US$- Trolley Buses]], \"\")","v":""},{"$f":"IFERROR((AVERAGEIF(Table37[[#This Row],[Fares for 10 km of journey (2007 US$ PPP) - Bus]:[Fares for 10 km of journey (2007 US$ PPP) - Trolley Bus]], \"<>0\")*40*12)/EO118, \"\")","v":""},{"$f":"IFERROR((AVERAGEIF(Table37[[#This Row],[Fares for 10 km of journey (2007 US$ PPP) - Regional/Commuter Rail]:[Fares for 10 km of journey (2007 US$ PPP) - BRT]], \"<>0\")*40*12)/EO118, \"\")","v":""},{"$f":"IFERROR(2*(AVERAGEIF(Table37[[#This Row],[Fares for avg. length of journey (2007 US$ PPP) - Metro]:[Fares for avg. length of journey (2007 US$ PPP) - BRT]], \"<>0\"))/(Table37[[#This Row],[Minimum Hourly Wage rate (PPP $ 2007)]]*8), \"\")","v":""},"",0,0,0,0,"",0,0,0,0,0,"","",0,0,0,57.48869796661252,0,0,{"$f":"Table37[[#This Row],[Fares for 10 km of journey (2007 US$ PPP) - Bus]]/10*Table37[[#This Row],[Average trip length by car (km)]]","v":0},{"$f":"Table37[[#This Row],[Fares for 10 km of journey (2007 US$ PPP) - Regional/Commuter Rail]]/10*Table37[[#This Row],[Average trip length by car (km)]]","v":0},{"$f":"Table37[[#This Row],[Fares for 10 km of journey (2007 US$ PPP) - Metro]]/10*Table37[[#This Row],[Average trip length by car (km)]]","v":0},{"$f":"Table37[[#This Row],[Fares for 10 km of journey (2007 US$ PPP) - LRT]]/10*Table37[[#This Row],[Average trip length by car (km)]]","v":0},{"$f":"Table37[[#This Row],[Fares for 10 km of journey (2007 US$ PPP) - Tram]]/10*Table37[[#This Row],[Average trip length by car (km)]]","v":0},{"$f":"Table37[[#This Row],[Fares for 10 km of journey (2007 US$ PPP) - BRT]]/10*Table37[[#This Row],[Average trip length by car (km)]]","v":0},{"$f":"Table37[[#This Row],[Fares for 10 km of journey (2007 US$ PPP) - Trolley Bus]]/10*Table37[[#This Row],[Average trip length by car (km)]]","v":0}]
[null,null,null,null,null,null,null,null,null,null,null,null,{"$f":"E119/I119","v":{"$error":"#DIV/0!"}},null,null,null,{"$f":"O119+P119","v":0},null,null,null,null,null,null,null,null,0,null,null,null,null,null,null,null,null,null,null,{"$f":"SUM(AC119:AD119, AF119:AJ119)","v":0},{"$f":"SUM(AF119:AJ119)","v":0},null,null,null,null,null,null,null,null,null,null,null,null,null,null,null,null,null,null,null,null,null,null,null,null,null,null,null,null,null,null,null,null,null,null,null,null,null,null,null,null,null,null,null,null,null,null,null,null,null,null,null,null,null,null,null,null,null,null,null,null,null,null,null,null,null,null,null,null,null,null,null,null,null,null,null,null,null,null,null,null,null,null,null,null,null,null,null,null,null,null,null,null,null,null,null,null,null,null,null,null,null,null,null,"Euro 4",null,null,null,null,{"$f":"Table37[[#This Row],[City Per Capita GDP (LC)]]*'GDP Deflator 1960-2011'!AZ114/'GDP Deflator 1960-2011'!BD114*1/Table37[[#This Row],[PPP Exchange rate with the US$ (2016)]]","v":{"$error":"#DIV/0!"}},null,{"$f":"Table37[[#This Row],[Median Annual household income (LC)]]*'GDP Deflator 1960-2011'!AZ114/'GDP Deflator 1960-2011'!AY114*1/Table37[[#This Row],[PPP Exchange rate with the US$ (2016)]]","v":{"$error":"#DIV/0!"}},null,{"$f":"IF(ISERROR(Table37[[#This Row],[Minimum Hourly Wage Rate (LC)]]*'CPI 1960-2011'!AY114/'CPI 1960-2011'!BC114*1/Table37[[#This Row],[PPP Exchange rate with the US$ (2016)]]), \"n/a\", Table37[[#This Row],[Minimum Hourly Wage Rate (LC)]]*'GDP Deflator 1960-2011'!AZ114/'GDP Deflator 1960-2011'!BD114*1/Table37[[#This Row],[PPP Exchange rate with the US$ (2016)]])","v":"n/a"},null,null,{"$f":"IFERROR(O119/G119*1000, O119/E119*1000)","v":{"$error":"#DIV/0!"}},{"$f":"IFERROR(P119/G119*1000,P119/E119*1000)","v":{"$error":"#DIV/0!"}},{"$f":"IFERROR(SUM(BA119:BE119)/G119*1000, SUM(BA119:BE119)/E119*1000)","v":{"$error":"#DIV/0!"}},{"$f":"IFERROR(O119/R119, \"\")","v":""},{"$f":"IFERROR(((O119*0.5)+((P119+BL119)*1)+(SUM(BA119:BE119)*2.5))/AM119, \"\")","v":""},{"$f":"AM119","v":0},{"$f":"IFERROR(AM119/G119*10^6,AM119/E119*10^6)","v":{"$error":"#DIV/0!"}},{"$f":"IFERROR(AM119/I119, \"\")","v":""},{"$f":"IFERROR(DM119/SUM(BA119:BE119), \"\")","v":""},{"$f":"IFERROR(Table37[[#This Row],[Operating Costs US$ - Bus]]/Table37[[#This Row],[Fare revenue US$- Bus]], \"\")","v":""},{"$f":"IFERROR(Table37[[#This Row],[Operating Costs US$ - Metro]]/Table37[[#This Row],[Fare revenue US$- Metro]], \"\")","v":""},{"$f":"IFERROR(Table37[[#This Row],[Operating Costs US$- LRT]]/Table37[[#This Row],[Fare revenue US$- LRT]], \"\")","v":""},{"$f":"IFERROR(Table37[[#This Row],[Operating Costs US$- Tram]]/Table37[[#This Row],[Fare revenue US$- Tram]], \"\")","v":""},{"$f":"IFERROR(Table37[[#This Row],[Operating Costs US$ - Trolley Bus]]/Table37[[#This Row],[Fare revenue US$- Trolley Buses]], \"\")","v":""},{"$f":"IFERROR((AVERAGEIF(Table37[[#This Row],[Fares for 10 km of journey (2007 US$ PPP) - Bus]:[Fares for 10 km of journey (2007 US$ PPP) - Trolley Bus]], \"<>0\")*40*12)/EO119, \"\")","v":""},{"$f":"IFERROR((AVERAGEIF(Table37[[#This Row],[Fares for 10 km of journey (2007 US$ PPP) - Regional/Commuter Rail]:[Fares for 10 km of journey (2007 US$ PPP) - BRT]], \"<>0\")*40*12)/EO119, \"\")","v":""},{"$f":"IFERROR(2*(AVERAGEIF(Table37[[#This Row],[Fares for avg. length of journey (2007 US$ PPP) - Metro]:[Fares for avg. length of journey (2007 US$ PPP) - BRT]], \"<>0\"))/(Table37[[#This Row],[Minimum Hourly Wage rate (PPP $ 2007)]]*8), \"\")","v":""},{"$f":"IFERROR(DZ119*100*12/EO119, \"\")","v":""},{"$f":"AA119","v":0},{"$f":"AB119","v":0},{"$f":"SUM(AP119:AS119)","v":0},{"$f":"SUM(AF119:AI119)","v":0},{"$f":"IFERROR(FS119*10^6/(AP119+AR119+AQ119+AS119), \"\")","v":""},{"$f":"IFERROR(FS119*10^6/G119, FS119*10^6/E119)","v":{"$error":"#DIV/0!"}},{"$f":"IFERROR(FR119/I119, \"\")","v":""},{"$f":"IFERROR(((AP131*4)+((AR131+AS131)*0.5)+((AQ131+AS131)*1))/I119, \"\")","v":""},{"$f":"IFERROR(ED119*E119/10^5, \"\")","v":0},{"$f":"ED119*10","v":0},{"$f":"IFERROR(FX119/AM119, \"\")","v":""},{"$f":"IFERROR(FX119/(R119/10^4), \"\")","v":""},{"$f":"IFERROR(EJ119/G119*10^6, EJ119/E119*10^6)","v":{"$error":"#DIV/0!"}},{"$f":"IFERROR(EG119/G119*10^6, EG119/E119*10^6)","v":{"$error":"#DIV/0!"}},{"$f":"IFERROR(EH119/G119*10^6, EH119/E119*10^6)","v":{"$error":"#DIV/0!"}},{"$f":"IFERROR(EI119/G119*10^6, EI119/E119*10^6)","v":{"$error":"#DIV/0!"}},{"$f":"DU119","v":0},{"$f":"DV119","v":0},{"$f":"Table37[[#This Row],[Fares for 10 km of journey (2007 US$ PPP) - Bus]]/10*Table37[[#This Row],[Average trip length by car (km)]]","v":0},{"$f":"Table37[[#This Row],[Fares for 10 km of journey (2007 US$ PPP) - Regional/Commuter Rail]]/10*Table37[[#This Row],[Average trip length by car (km)]]","v":0},{"$f":"Table37[[#This Row],[Fares for 10 km of journey (2007 US$ PPP) - Metro]]/10*Table37[[#This Row],[Average trip length by car (km)]]","v":0},{"$f":"Table37[[#This Row],[Fares for 10 km of journey (2007 US$ PPP) - LRT]]/10*Table37[[#This Row],[Average trip length by car (km)]]","v":0},{"$f":"Table37[[#This Row],[Fares for 10 km of journey (2007 US$ PPP) - Tram]]/10*Table37[[#This Row],[Average trip length by car (km)]]","v":0},{"$f":"Table37[[#This Row],[Fares for 10 km of journey (2007 US$ PPP) - BRT]]/10*Table37[[#This Row],[Average trip length by car (km)]]","v":0},{"$f":"Table37[[#This Row],[Fares for 10 km of journey (2007 US$ PPP) - Trolley Bus]]/10*Table37[[#This Row],[Average trip length by car (km)]]","v":0}]
[]
[]
[]
[]
[]
[]
[]
[]
[]
[]
[]
[]
[null,null,null,null,"www.citypopulation.de/ unless otherwise mentioned",null,"www.citypopulation.de/ unless otherwise mentioned",null,"Wikipedia unless otherwise mentioned",null,"Wikipedia unless otherwise mentioned"]
[]
[]
[]
[]
[]
[]
[]
[]
[]
[]
[]
[]
[]
[]
[]
[]
[]
[null,null,null,null,null,null,null,null,null,null,null,null,null,null,null,null,null,null,null,null,null,null,null,null,null,null,null,null,null,null,null,null,null,null,null,null,null,null,null,null,null,null,null,null,null,null,null,null,null,null,null,null,null,null,null,null,null,null,null,null,null,null,null,null,null,null,null,null,null,null,null,null,null,null,null,null,null,null,null,null,null,null,null,null,null,null,null,null,null,null,null,null,null,null,null,null,null,null,null,null,null,null,null,null,null,null,null,null,null,null,null,null,null,null,null,null,null,null,null,null,null,null,null,null,null,null,null,null,null,null,null,null,null,null,null,null,null,null,null,null,null,null,null,null,null,null,null,null,null,null,null,"http://data.worldbank.org/indicator/PA.NUS.PPP"]

{"sheet":"GDP Deflator 1960-2011","index":2,"n_rows":97,"n_cols":56,"rows_kept":97,"cut":false,"hidden":true,"merged":[]}
[]
[null,"CITY","Country","Deflator Base Year","1960","1961","1962","1963","1964","1965","1966","1967","1968","1969","1970","1971","1972","1973","1974","1975","1976","1977","1978","1979","1980","1981","1982","1983","1984","1985","1986","1987","1988","1989","1990","1991","1992","1993","1994","1995","1996","1997","1998","1999","2000","2001","2002","2003","2004","2005","2006","2007","2008","2009","2010","2011"]
[null,"Buenos Aires","Argentina",1993,1.249356251799103E-10,1.5031092212197391E-10,1.9370845348162028E-10,2.4328068280509911E-10,3.1328376837301791E-10,3.7980310701846705E-10,4.7704585279197677E-10,6.1547627273538264E-10,6.7871837107432221E-10,7.3163010183375511E-10,7.7895101942679742E-10,1.0225372903587036E-9,1.6794641838110648E-9,2.7801058629140535E-9,3.6316645590474539E-9,1.0811369679721798E-8,5.8200065795762998E-8,1.5098678810641921E-7,3.9463744749567716E-7,9.762424524289393E-7,1.8630689218179554E-6,3.8447053942631017E-6,1.1826993589564396E-5,5.7047436737340639E-5,4.0317473895368498E-4,2.9262508844843452E-3,5.1051809937921206E-3,1.1593170527800673E-2,5.663163393902633E-2,1.7882168033715933,38.925786662854286,90.678876611088327,101.48848808199263,99.999997074237939,102.84931952519341,106.10469781446437,106.04907538344573,105.55705642611039,103.75709200163948,101.85150240128998,102.90798487804649,101.7803409487849,132.87961068253469,146.82613379909495,160.36445945285573,174.54146328687705,197.97588530202739,226.20376083862527,269.33731259091047,296.21033057554894,341.75614155178812,400.81336724902138]
[null,"Melbourne","Australia",2009,7.6234793712538123,7.8656766042336246,7.8475277488651169,7.9865498351655146,8.2469943252861402,8.4945448210280272,8.7218578266264846,9.1453202463484775,9.3513309408446066,9.7945233903047768,10.299243178649672,10.833630285978694,11.501823066589905,12.535155081280541,14.590056709959823,17.005653327275354,19.389178508269332,21.603538166748361,23.381916859683326,25.386245114277656,27.933646167778054,30.603975017813145,34.199546520236915,37.695682983204478,40.649909420289852,42.619204893844639,45.024851278617604,48.17406560439818,51.827834570653764,56.490565635882071,59.947652053599363,61.781360424028264,62.61908530758452,63.13672091719917,63.797119979196239,65.089038828904194,66.537253582520222,67.271526477052504,68.037750823858246,68.129077139144485,69.847606561240951,73.080138589794203,75.305925236574907,77.265329885061888,79.809826170531082,82.996520486486872,87.033000650070747,91.606463280060083,95.831312837422828,100,100.09395662569503,106.4285659647056]
[null,"Vienna","Austria",2005,21.773722463120386,22.881385194693113,23.645669958462413,24.515420625514199,25.295939699253328,26.642041742306677,27.473903816995833,28.366190981134864,29.17123254457125,29.968649445249142,29.616111451023031,31.453605233826408,33.844057878937647,36.566996170228883,40.041642879133562,42.627442438160429,45.025201589260263,47.373886088656398,50.168359720294042,52.228060305422218,55.112106706329641,58.795365531516666,61.933113987194531,64.074690994239262,67.246457911579213,69.255749952305266,71.312085751158378,73.033273414162053,74.148385504450033,76.346707864673519,78.636865124151996,81.500718715413285,84.336204590831898,86.661425116640274,88.849576617372577,90.461235117845945,91.195758703473231,90.994305516370204,91.285783990463599,91.544507152224412,92.385999841228966,94.117129341212248,95.283830706568565,96.379222956240866,98.001569575279206,100,101.88447183391827,103.92706663816644,105.76007193908652,106.86626605372069,108.77341733185435,111.06537869343171]
[null,"Curritiba","Brazil",2000,5.3473907789155702E-13,7.0212593142945359E-13,1.255617126853676E-12,2.1316158371316358E-12,4.1318107190443815E-12,6.2549361967182908E-12,8.7197494916575047E-12,1.1269825974802116E-11,1.427556509175923E-11,1.7261160011962073E-11,2.0211486638293893E-11,2.4305099497509446E-11,2.8958166889049949E-11,3.5521492852073559E-11,4.7883038332381762E-11,6.4097325552415037E-11,9.462494927505906E-11,1.3832233949122584E-10,1.9511721586334595E-10,3.0532053976799115E-10,5.7188636280076024E-10,1.1850288011047126E-9,2.4273225021890522E-9,5.8303225262486975E-9,1.8236419889444128E-8,6.0494490172262549E-8,1.4837576896172606E-7,4.5121579528240484E-7,3.3891443572158242E-6,4.4368011632067738E-5,1.2580498500209284E-3,6.4693401412480901E-3,6.9104471361324582E-2,1.4521255595160569,34.149695270552137,66.087164657814512,77.378404340892331,83.293889278401934,86.820030116443817,94.183922724491524,100,108.9710480472276,120.4710589285352,137.00425758671304,148.01641580947958,158.68773571684414,168.44955534884394,178.33489603875387,193.19532783074169,207.07669510508754,224.11607355832282,239.73446443524139]
[null,"Sao Paulo","Brazil",2000,5.3473907789155702E-13,7.0212593142945359E-13,1.255617126853676E-12,2.1316158371316358E-12,4.1318107190443815E-12,6.2549361967182908E-12,8.7197494916575047E-12,1.1269825974802116E-11,1.427556509175923E-11,1.7261160011962073E-11,2.0211486638293893E-11,2.4305099497509446E-11,2.8958166889049949E-11,3.5521492852073559E-11,4.7883038332381762E-11,6.4097325552415037E-11,9.462494927505906E-11,1.3832233949122584E-10,1.9511721586334595E-10,3.0532053976799115E-10,5.7188636280076024E-10,1.1850288011047126E-9,2.4273225021890522E-9,5.8303225262486975E-9,1.8236419889444128E-8,6.0494490172262549E-8,1.4837576896172606E-7,4.5121579528240484E-7,3.3891443572158242E-6,4.4368011632067738E-5,1.2580498500209284E-3,6.4693401412480901E-3,6.9104471361324582E-2,1.4521255595160569,34.149695270552137,66.087164657814512,77.378404340892331,83.293889278401934,86.820030116443817,94.183922724491524,100,108.9710480472276,120.4710589285352,137.00425758671304,148.01641580947958,158.68773571684414,168.44955534884394,178.33489603875387,193.19532783074169,207.07669510508754,224.11607355832282,239.73446443524139]
[null,"Toronto","Canada",2005,15.982845864512942,16.056059212406559,16.283125741350389,16.618746762767092,17.050709434460508,17.623542879050191,18.501305774046969,19.315656465685187,20.017940659242335,20.919906081305747,19.482918228424843,20.424304494521778,21.629364050010732,23.724539040816786,27.330217599500941,30.253226420113222,33.126347319907978,35.377794068792767,37.713777663229919,41.479692730270934,45.65736094218947,50.577688026266379,54.866659204387901,57.848202565924908,59.745365454480236,61.602341687359427,63.468337281113122,66.391307144168309,69.371710177902528,72.522402352346532,74.8250159391945,77.036066191701636,78.051683064428062,79.175646554716096,80.085042330977117,81.894213673625288,83.218651871354837,84.22081308737252,83.860670054739998,85.324418076337992,88.850282110195565,89.844939783502994,90.825893750750637,93.809342862089053,96.799798551901361,100,102.67415602370123,105.94869667061974,110.30285967717805,108.17874053454833,111.36396463575242,114.98490099377324]
[null,"Vancouver","Canada",2005,15.982845864512942,16.056059212406559,16.283125741350389,16.618746762767092,17.050709434460508,17.623542879050191,18.501305774046969,19.315656465685187,20.017940659242335,20.919906081305747,19.482918228424843,20.424304494521778,21.629364050010732,23.724539040816786,27.330217599500941,30.253226420113222,33.126347319907978,35.377794068792767,37.713777663229919,41.479692730270934,45.65736094218947,50.577688026266379,54.866659204387901,57.848202565924908,59.745365454480236,61.602341687359427,63.468337281113122,66.391307144168309,69.371710177902528,72.522402352346532,74.8250159391945,77.036066191701636,78.051683064428062,79.175646554716096,80.085042330977117,81.894213673625288,83.218651871354837,84.22081308737252,83.860670054739998,85.324418076337992,88.850282110195565,89.844939783502994,90.825893750750637,93.809342862089053,96.799798551901361,100,102.67415602370123,105.94869667061974,110.30285967717805,108.17874053454833,111.36396463575242,114.98490099377324]
[null,"Santiago","Chile",2008,3.5323779020034828E-5,3.7963807016778757E-5,4.2527057666729805E-5,6.1215993671593592E-5,8.9625123518341697E-5,1.2651581532873034E-4,1.6255850243737955E-4,2.0347849476851104E-4,2.7229654412997464E-4,3.8130001075828955E-4,5.3646510533625683E-4,6.3439991988288006E-4,1.1770901133075116E-3,6.0503219404266159E-3,4.6308245088414621E-2,0.20127670153061555,0.70569567144236811,1.4522557627097541,2.289684582612701,3.3367369693134301,4.2965311033545524,4.8568915734006577,5.2712331193664932,6.8873124860928909,7.7559638730226617,10.13778064868489,12.378155529316965,15.575533046713597,19.106986366457718,21.690606641231682,26.562156224285044,32.521409646479071,36.714458743340337,41.02852012871476,46.662062354226009,51.524561073588146,52.929873147715256,55.189984149407664,56.252983304452833,57.62086756191286,60.248466738272036,62.533968815210841,65.140299297351305,69.197509865404243,74.37186426318317,84.267514135766291,94.930978885413381,99.529202128344608,100,104.22491291720684,112.01104052962518,115.12478010501286]
[null,"Beijing","China",2000,25.945687698753733,29.052429521144298,28.695404937399836,28.141922212476928,28.320662255778515,28.945490157555987,28.462141117771107,28.662108064859293,29.031594868396198,27.930406537919637,27.192236896480381,27.37285995178928,27.367392158284492,27.406373906142651,27.469577901712388,27.149637771636197,27.097687989364331,27.39265896198383,27.918663871046313,28.917787450001153,30.014661693094364,30.702761057603269,30.626040048535508,30.932367338507817,32.45925320299915,35.771385541515514,37.4699615630403,39.402670628329673,44.163378160387587,47.922011851496102,50.719931824122014,54.19393272252632,58.65814112543967,67.527940363589295,81.443689494761188,92.631000122981916,98.592148429157348,100.08374924035439,99.224497212374672,97.97944362074135,100,102.05288237855663,102.64907261215441,105.32980053345689,112.61105551176666,117.03638927125593,121.46686069847115,130.70073664827743,140.89258571833682,140.05661048229749,149.41814792448034,160.84944281568951]
[null,"Guangzhou","China",2000,25.945687698753733,29.052429521144298,28.695404937399836,28.141922212476928,28.320662255778515,28.945490157555987,28.462141117771107,28.662108064859293,29.031594868396198,27.930406537919637,27.192236896480381,27.37285995178928,27.367392158284492,27.406373906142651,27.469577901712388,27.149637771636197,27.097687989364331,27.39265896198383,27.918663871046313,28.917787450001153,30.014661693094364,30.702761057603269,30.626040048535508,30.932367338507817,32.45925320299915,35.771385541515514,37.4699615630403,39.402670628329673,44.163378160387587,47.922011851496102,50.719931824122014,54.19393272252632,58.65814112543967,67.527940363589295,81.443689494761188,92.631000122981916,98.592148429157348,100.08374924035439,99.224497212374672,97.97944362074135,100,102.05288237855663,102.64907261215441,105.32980053345689,112.61105551176666,117.03638927125593,121.46686069847115,130.70073664827743,140.89258571833682,140.05661048229749,149.41814792448034,160.84944281568951]
[null,"Hongkong","China",2009,11.282927712655527,11.378023903830446,11.188003768996865,11.471896592623418,11.838985527500313,11.55591957327947,11.069012245569532,11.764728462094723,12.175815055079916,12.778093482267746,13.877441872912282,14.904273544039631,16.20886135651676,17.719367521074048,19.814146540243744,20.713070876671001,22.655624885629301,23.53292816578659,25.392978099897178,29.867903144897802,34.505144419099317,38.071350903992354,41.790814951688034,43.671213081403565,47.877065328552256,50.48704644312928,52.405709548472892,56.964836020606526,62.099817269073618,70.02377790574235,75.274006432128971,82.083319461025155,90.230844149658111,98.079514504310552,104.42713967118715,108.73949628971235,115.00278742255081,121.5359740157985,122.48358297195819,117.02012867273446,112.76364862482519,110.63605483016936,106.80454472480132,100.23338198502134,96.687434748930727,96.629543302243832,96.349530287248044,99.170212609232635,100.6208209933136,100,100.48743833550671,103.92866399232436]
[null,"Kunming","China",2000,25.945687698753733,29.052429521144298,28.695404937399836,28.141922212476928,28.320662255778515,28.945490157555987,28.462141117771107,28.662108064859293,29.031594868396198,27.930406537919637,27.192236896480381,27.37285995178928,27.367392158284492,27.406373906142651,27.469577901712388,27.149637771636197,27.097687989364331,27.39265896198383,27.918663871046313,28.917787450001153,30.014661693094364,30.702761057603269,30.626040048535508,30.932367338507817,32.45925320299915,35.771385541515514,37.4699615630403,39.402670628329673,44.163378160387587,47.922011851496102,50.719931824122014,54.19393272252632,58.65814112543967,67.527940363589295,81.443689494761188,92.631000122981916,98.592148429157348,100.08374924035439,99.224497212374672,97.97944362074135,100,102.05288237855663,102.64907261215441,105.32980053345689,112.61105551176666,117.03638927125593,121.46686069847115,130.70073664827743,140.89258571833682,140.05661048229749,149.41814792448034,160.84944281568951]
[null,"Shanghai","China",2000,25.945687698753733,29.052429521144298,28.695404937399836,28.141922212476928,28.320662255778515,28.945490157555987,28.462141117771107,28.662108064859293,29.031594868396198,27.930406537919637,27.192236896480381,27.37285995178928,27.367392158284492,27.406373906142651,27.469577901712388,27.149637771636197,27.097687989364331,27.39265896198383,27.918663871046313,28.917787450001153,30.014661693094364,30.702761057603269,30.626040048535508,30.932367338507817,32.45925320299915,35.771385541515514,37.4699615630403,39.402670628329673,44.163378160387587,47.922011851496102,50.719931824122014,54.19393272252632,58.65814112543967,67.527940363589295,81.443689494761188,92.631000122981916,98.592148429157348,100.08374924035439,99.224497212374672,97.97944362074135,100,102.05288237855663,102.64907261215441,105.32980053345689,112.61105551176666,117.03638927125593,121.46686069847115,130.70073664827743,140.89258571833682,140.05661048229749,149.41814792448034,160.84944281568951]
[null,"Wuhan","China",2000,25.945687698753733,29.052429521144298,28.695404937399836,28.141922212476928,28.320662255778515,28.945490157555987,28.462141117771107,28.662108064859293,29.031594868396198,27.930406537919637,27.192236896480381,27.37285995178928,27.367392158284492,27.406373906142651,27.469577901712388,27.149637771636197,27.097687989364331,27.39265896198383,27.918663871046313,28.917787450001153,30.014661693094364,30.702761057603269,30.626040048535508,30.932367338507817,32.45925320299915,35.771385541515514,37.4699615630403,39.402670628329673,44.163378160387587,47.922011851496102,50.719931824122014,54.19393272252632,58.65814112543967,67.527940363589295,81.443689494761188,92.631000122981916,98.592148429157348,100.08374924035439,99.224497212374672,97.97944362074135,100,102.05288237855663,102.64907261215441,105.32980053345689,112.61105551176666,117.03638927125593,121.46686069847115,130.70073664827743,140.89258571833682,140.05661048229749,149.41814792448034,160.84944281568951]
[null,"Bogota","Colombia",2005,4.9689222658482669E-2,5.3705246610250959E-2,5.7239641677790699E-2,7.0646246539837629E-2,8.2066335809984681E-2,8.981213250326027E-2,0.10324721471604817,0.11184327410518138,0.12196084401864624,0.13174960591081855,0.14739978019155708,0.16334451715476866,0.18452676241131352,0.2217199818367229,0.27799469891119294,0.34164796074591519,0.4282599882884372,0.55316556032294373,0.64779501663136618,0.80350051670355949,1.0252878745322094,1.2588717381052301,1.5706487434922374,1.8909075579936179,2.3102164008535939,2.8856065934639186,3.7268064015166087,4.5979072196219981,5.8740747287077317,7.323902143168354,9.2358169941470702,11.654475577988801,14.244794027867069,18.226718225984602,26.493822014375969,31.488161078280807,36.799703362908055,42.996719289241554,49.348644154107198,55.57789430814568,73.570856715432541,78.431658383441388,83.006388018464236,88.555375137799103,94.735059993966743,100,105.77509106238531,111.10589896980024,119.73719582619778,124.52452256359901,129.0907635401289,136.15364922982883]
[null,"Prague","Czech Republic",2005,null,null,null,null,null,null,null,null,null,null,null,null,null,null,null,null,null,null,null,null,null,null,null,null,null,null,null,null,null,null,28.46214935214072,38.763281006201453,43.553361443252378,52.703401311710273,59.771183192842656,65.878760908373962,72.382199544482035,78.116508113462075,85.639838638857029,87.797790248462221,89.00248142460751,93.131657370199704,95.602058799326642,96.458935355349823,100.35002252518453,100,100.53328295572619,103.87122097087665,105.86098592045209,107.92482488165496,106.05927034679064,105.27434177126685]
[null,"Copenhagen","Denmark",2005,10.236464787172658,10.677310977962605,11.385847158182601,12.043207313519314,12.598523362944199,13.53540874631887,14.460237032701734,15.364002369096175,16.439353350152683,17.585809112190319,16.98065378258725,18.217830030386406,19.966486730112504,22.216976233211096,25.117318090280875,28.463958154709868,31.134667420266464,33.914376647610567,36.97153961530983,39.575803213828834,42.941610912030768,47.427477270246058,52.217359313299774,56.082773578155674,59.438442595397248,61.996325745815419,63.6490921536057,66.701536378356124,69.324844047014452,72.758556481544019,74.820435866900922,76.82216550324425,78.111039599396548,78.630728116114994,79.836509812189774,80.839921026966593,82.462475104843008,84.102162174681965,85.100820061184621,86.531578846034535,89.126282604518011,91.351062607382431,93.454991064590246,94.993330001159705,97.202618712190272,100,102.12459801942025,104.45185180621191,108.87195334002364,109.9905166887812,114.23534206513828,115.15888133615675]
[null,"Cairo","Egypt",1992,5.9809551534986278,5.9912514785804003,6.0154445002702364,6.1617943539596443,6.5486465996717484,6.7485286889559335,7.059506748058082,7.1548393425667278,7.2187288251359938,7.3248898307632828,7.4860555013828574,7.669355186537798,7.8619471034485189,8.7658519659984648,9.7503081124465449,10.763380658919509,12.105373759221191,13.306985838194826,14.767517085087087,18.063947972122715,21.320900304113298,21.574208372058091,23.551979940632233,25.505200038174301,28.351578362242314,30.913879600899037,34.865405519960532,45.721845759695796,51.964266782145906,61.597032380990932,72.955899187272081,83.51887152303479,100,108.4291053900164,117.59014124255822,130.99511336856503,140.3058103975535,154.16458910701652,160.16509584498343,161.55846235012484,169.52792660890103,172.6942432981572,178.19532855477885,190.27238780520887,212.4770023105996,225.67762167824799,242.28744479608707,272.80534153382922,306.09846302912416,340.29650143214457,374.69200352273003,416.65750791727589]
[null,"Tallinn","Estonia",2005,null,null,null,null,null,null,null,null,null,null,null,null,null,null,null,null,null,null,null,null,null,null,null,null,null,null,null,null,null,null,null,null,null,null,null,48.341084041220228,60.008780097043214,66.152447878797773,69.559490953755315,74.26968674897067,77.829422431484957,82.871160724264243,86.754863890894853,90.26156441617502,94.285502391808294,100,108.77254948878625,121.43295194149832,127.90222398679705,126.62122525330095,127.98504642436576,132.76811310260101]
[null,"Helsinki","Finland",2005,8.0044119974098749,8.4319899182914764,8.767072559112842,9.2182796016077599,9.8797619953499431,10.376051085741162,10.86619951361361,11.666176116535901,13.073556364140012,13.616151560097927,13.773131457191232,14.787398264176266,16.006481706860235,18.210901265438988,22.230301658424583,25.246507434378906,28.560031115195589,31.250003995088861,33.579438861327915,36.36820438820633,39.872493193976219,44.494977996790617,48.588615815062262,52.522083456348327,56.966508453926089,59.991985871654265,62.883213668585171,65.602134031075394,70.618408730343518,75.127623045802039,79.206168878998568,80.394768151250574,81.133547257497042,82.694430771246346,84.048273754708404,87.849850651078924,87.530254172788062,89.273778148177158,92.320222197194539,93.182278701623829,95.613895787942482,98.494744009576934,99.746929236965926,99.062299276795386,99.540851886358098,100,100.84712963794462,103.86260709610326,106.9216668329817,108.40426433196156,108.86794283427506,112.82530400926368]
[null,"Marseilles","France",2005,12.45799993282067,12.881206988210838,13.483125432728302,14.347967199480999,14.942962599656504,15.351590871889309,15.795802338741224,16.298355175353681,16.990946411094008,18.107682209563347,17.238802389035243,18.251552924343741,19.512526515315781,21.021542955068359,23.405022580790018,26.597077359724558,29.475789365891163,32.082298814563117,35.04499718828616,38.63962122564358,43.083162408030162,48.107218222604871,53.92828735563576,59.172019341932284,63.36971933898301,66.800306345327968,70.280544248182906,72.081852664305799,74.442224116008177,76.972202436053607,79.093720169471155,81.190225151589885,82.757309805104711,84.204213961352707,85.151566524010249,86.203405318652287,87.462439508193597,88.261398133678554,89.174783696359682,89.332398791740431,90.737489849241243,92.564715847462921,94.617967153911891,96.507869770041012,98.123660179283078,100,102.14071156267765,104.78320310771898,107.44686969715407,108.2161593552688,109.3528252337764,110.81998522416816]
[null,"Nantes","France",2005,12.45799993282067,12.881206988210838,13.483125432728302,14.347967199480999,14.942962599656504,15.351590871889309,15.795802338741224,16.298355175353681,16.990946411094008,18.107682209563347,17.238802389035243,18.251552924343741,19.512526515315781,21.021542955068359,23.405022580790018,26.597077359724558,29.475789365891163,32.082298814563117,35.04499718828616,38.63962122564358,43.083162408030162,48.107218222604871,53.92828735563576,59.172019341932284,63.36971933898301,66.800306345327968,70.280544248182906,72.081852664305799,74.442224116008177,76.972202436053607,79.093720169471155,81.190225151589885,82.757309805104711,84.204213961352707,85.151566524010249,86.203405318652287,87.462439508193597,88.261398133678554,89.174783696359682,89.332398791740431,90.737489849241243,92.564715847462921,94.617967153911891,96.507869770041012,98.123660179283078,100,102.14071156267765,104.78320310771898,107.44686969715407,108.2161593552688,109.3528252337764,110.81998522416816]
[null,"Paris","France",2005,12.45799993282067,12.881206988210838,13.483125432728302,14.347967199480999,14.942962599656504,15.351590871889309,15.795802338741224,16.298355175353681,16.990946411094008,18.107682209563347,17.238802389035243,18.251552924343741,19.512526515315781,21.021542955068359,23.405022580790018,26.597077359724558,29.475789365891163,32.082298814563117,35.04499718828616,38.63962122564358,43.083162408030162,48.107218222604871,53.92828735563576,59.172019341932284,63.36971933898301,66.800306345327968,70.280544248182906,72.081852664305799,74.442224116008177,76.972202436053607,79.093720169471155,81.190225151589885,82.757309805104711,84.204213961352707,85.151566524010249,86.203405318652287,87.462439508193597,88.261398133678554,89.174783696359682,89.332398791740431,90.737489849241243,92.564715847462921,94.617967153911891,96.507869770041012,98.123660179283078,100,102.14071156267765,104.78320310771898,107.44686969715407,108.2161593552688,109.3528252337764,110.81998522416816]
[null,"Berlin","Germany",2005,null,null,null,null,null,null,null,null,null,null,36.723259801239251,39.52206298716316,41.313146416245146,43.915673741719729,47.110666449106844,49.780250619972563,51.426082505507594,53.020660428974452,54.900689178721926,57.249417894945587,60.370192096470795,62.890791765343913,65.771855755739054,67.618689038998639,68.96372371943076,70.429013668589377,72.541562307036315,73.469850264168088,74.71182964316354,76.862833084677504,79.473589518621452,81.925413130757079,86.349774797021453,89.79018358618724,92.029039659672463,93.878288477472822,94.477015752538307,94.725941299791273,95.284622367937956,95.467541713569162,94.825686259627915,95.892933794376148,97.265410491325795,98.332540201456112,99.385586418503578,100,100.31201245344654,101.94743486988315,102.73626995659725,103.94146744953335,104.56087900980712,105.37266476664684]
[null,"Hamburg","Germany",2005,null,null,null,null,null,null,null,null,null,null,36.723259801239251,39.52206298716316,41.313146416245146,43.915673741719729,47.110666449106844,49.780250619972563,51.426082505507594,53.020660428974452,54.900689178721926,57.249417894945587,60.370192096470795,62.890791765343913,65.771855755739054,67.618689038998639,68.96372371943076,70.429013668589377,72.541562307036315,73.469850264168088,74.71182964316354,76.862833084677504,79.473589518621452,81.925413130757079,86.349774797021453,89.79018358618724,92.029039659672463,93.878288477472822,94.477015752538307,94.725941299791273,95.284622367937956,95.467541713569162,94.825686259627915,95.892933794376148,97.265410491325795,98.332540201456112,99.385586418503578,100,100.31201245344654,101.94743486988315,102.73626995659725,103.94146744953335,104.56087900980712,105.37266476664684]
[null,"Munich","Germany",2005,null,null,null,null,null,null,null,null,null,null,36.723259801239251,39.52206298716316,41.313146416245146,43.915673741719729,47.110666449106844,49.780250619972563,51.426082505507594,53.020660428974452,54.900689178721926,57.249417894945587,60.370192096470795,62.890791765343913,65.771855755739054,67.618689038998639,68.96372371943076,70.429013668589377,72.541562307036315,73.469850264168088,74.71182964316354,76.862833084677504,79.473589518621452,81.925413130757079,86.349774797021453,89.79018358618724,92.029039659672463,93.878288477472822,94.477015752538307,94.725941299791273,95.284622367937956,95.467541713569162,94.825686259627915,95.892933794376148,97.265410491325795,98.332540201456112,99.385586418503578,100,100.31201245344654,101.94743486988315,102.73626995659725,103.94146744953335,104.56087900980712,105.37266476664684]
[null,"Stuttgart","Germany",2005,null,null,null,null,null,null,null,null,null,null,36.723259801239251,39.52206298716316,41.313146416245146,43.915673741719729,47.110666449106844,49.780250619972563,51.426082505507594,53.020660428974452,54.900689178721926,57.249417894945587,60.370192096470795,62.890791765343913,65.771855755739054,67.618689038998639,68.96372371943076,70.429013668589377,72.541562307036315,73.469850264168088,74.71182964316354,76.862833084677504,79.473589518621452,81.925413130757079,86.349774797021453,89.79018358618724,92.029039659672463,93.878288477472822,94.477015752538307,94.725941299791273,95.284622367937956,95.467541713569162,94.825686259627915,95.892933794376148,97.265410491325795,98.332540201456112,99.385586418503578,100,100.31201245344654,101.94743486988315,102.73626995659725,103.94146744953335,104.56087900980712,105.37266476664684]
[null,"Accra","Ghana",2006,1.6565040307308654E-3,1.7128417505407117E-3,1.7464490477235037E-3,1.8645973252169445E-3,2.0498006229561941E-3,2.3986682205110704E-3,2.5941957345322784E-3,2.4934240060582504E-3,2.8077773885485462E-3,3.11683272534214E-3,3.2077897211252862E-3,3.3742443017725902E-3,3.8961006359646533E-3,4.7093033935606083E-3,5.8661107001328119E-3,7.5943101541633053E-3,9.7247097599642857E-3,1.6264738191851674E-2,2.8187003563904675E-2,3.8883638310285733E-2,5.8763341333291828E-2,0.10320815856857909,0.13199350944959831,0.29442631093089722,0.39839538517602691,0.48065770532419916,0.68111984558199845,0.94812904169608681,1.2648311492028097,1.6227064536634466,2.1284489946590557,2.5550191343521331,2.8399054491658813,3.7417801329536338,4.8691383242548119,6.9650750144377467,9.7398037037678336,11.63499098238912,13.618578374951678,15.521252479893469,19.747707215663077,26.623452901182908,32.698547919654175,42.084472318176623,48.123657691801277,55.324746299137729,99.999555206594948,116.27613357162625,139.76635639841484,162.99317329925404,189.85083206983043,213.62554970802395]
[null,"Athens","Greece",2005,1.2670000603172489,1.2859073549285605,1.3451414058475863,1.3639166738481412,1.4146319457224612,1.4713164996000867,1.5427436296627783,1.5803839976656551,1.6078787127769814,1.6623828947550883,1.4729574611812455,1.5167789602475767,1.5933248910349713,1.9264951089894455,2.3653592438977449,2.6756945393369613,3.1154312203510166,3.5439401812287401,4.0325802617469844,4.8451738925139383,5.7773586655366476,7.0259634351962417,8.9379212221528022,10.780224030740362,13.143082547230748,15.643679230123785,18.597518802246242,21.434138738649676,25.009325240965563,28.635420537384647,34.560260180721038,41.398955651290152,47.525510211430706,54.382845919861708,60.463875242492129,66.384398773951531,71.257829880804579,76.086391281976105,80.040835447127961,82.464952614435887,85.266162413723947,87.924400851721344,90.914865412587716,94.480637927036199,97.264929678253793,100,102.5239362089675,106.15474119974179,111.16541483501766,114.26978206251597,116.22392530537027,118.13066578125544]
[null,"Budapest","Hungary",2005,4.3168008397315649,4.35907180773577,4.3335100331540115,4.3140178639424223,4.3313156525368406,3.0239830384303392,3.1110775359830001,3.1293747003517161,3.2657629385273528,3.3948339037412074,3.4521102516359941,3.5271903655070478,3.6018261153759812,3.6972266737457051,3.6535309648875707,3.6895022574833374,3.902242163948892,3.9910394350660821,4.1372489282950546,4.3653128931343721,4.6135526504678355,4.8512331698546864,5.128255598406394,5.3826635633896212,5.7234734972605521,6.0617175573899669,6.2885625421920484,6.807342056172935,8.0004025673195098,9.4994012114863597,11.937522678241297,16.529428523381277,20.084773002032893,24.358502405596855,29.106232851443064,36.887140652916358,45.079295761035986,54.191145180669444,61.589257663367725,66.42959303669322,72.901892124501728,81.112905380680928,87.972748009667782,92.721224910374488,97.574679188200747,100,103.494780706258,109.12226595687686,114.87945777453929,118.97464372611022,122.65423082311939,126.95670603301723]
[null,"Agra","India",2004,4.1148982789095205,4.2031804443404051,4.3883564651704443,4.7549432590270353,5.1615706464481734,5.5900000772405809,6.3318325841311207,6.8773962415167009,7.0435117415370803,7.2790020013805341,7.3927177358996481,7.7863682046341101,8.6303795828579162,10.169151721714178,11.864096684253981,11.668495511167237,12.366488499960006,13.063615817837103,13.385017647792303,15.490219006951843,17.272883104572127,19.14311868324808,20.692919364434093,22.462755706229963,24.242532144274893,25.986487893443371,27.750814620173585,30.339380999303284,32.837075201686766,35.607476476033121,39.40619025895262,44.825258195733106,48.843910888800401,53.660791317485668,59.016162317622175,64.364621370711163,69.240253210615805,73.724439831909052,79.629890968169704,81.917784001726901,84.911857843821721,87.615096354848092,90.867178379556563,94.399884477597055,100,104.23693654741248,110.9316337977455,117.31715309553377,127.48226476615305,135.0859873657451,146.54205421875056,158.25634183581565]
[null,"Ahmedabad","India",2004,4.1148982789095205,4.2031804443404051,4.3883564651704443,4.7549432590270353,5.1615706464481734,5.5900000772405809,6.3318325841311207,6.8773962415167009,7.0435117415370803,7.2790020013805341,7.3927177358996481,7.7863682046341101,8.6303795828579162,10.169151721714178,11.864096684253981,11.668495511167237,12.366488499960006,13.063615817837103,13.385017647792303,15.490219006951843,17.272883104572127,19.14311868324808,20.692919364434093,22.462755706229963,24.242532144274893,25.986487893443371,27.750814620173585,30.339380999303284,32.837075201686766,35.607476476033121,39.40619025895262,44.825258195733106,48.843910888800401,53.660791317485668,59.016162317622175,64.364621370711163,69.240253210615805,73.724439831909052,79.629890968169704,81.917784001726901,84.911857843821721,87.615096354848092,90.867178379556563,94.399884477597055,100,104.23693654741248,110.9316337977455,117.31715309553377,127.48226476615305,135.0859873657451,146.54205421875056,158.25634183581565]
[null,"Amritsar","India",2004,4.1148982789095205,4.2031804443404051,4.3883564651704443,4.7549432590270353,5.1615706464481734,5.5900000772405809,6.3318325841311207,6.8773962415167009,7.0435117415370803,7.2790020013805341,7.3927177358996481,7.7863682046341101,8.6303795828579162,10.169151721714178,11.864096684253981,11.668495511167237,12.366488499960006,13.063615817837103,13.385017647792303,15.490219006951843,17.272883104572127,19.14311868324808,20.692919364434093,22.462755706229963,24.242532144274893,25.986487893443371,27.750814620173585,30.339380999303284,32.837075201686766,35.607476476033121,39.40619025895262,44.825258195733106,48.843910888800401,53.660791317485668,59.016162317622175,64.364621370711163,69.240253210615805,73.724439831909052,79.629890968169704,81.917784001726901,84.911857843821721,87.615096354848092,90.867178379556563,94.399884477597055,100,104.23693654741248,110.9316337977455,117.31715309553377,127.48226476615305,135.0859873657451,146.54205421875056,158.25634183581565]
[null,"Bangalore","India",2004,4.1148982789095205,4.2031804443404051,4.3883564651704443,4.7549432590270353,5.1615706464481734,5.5900000772405809,6.3318325841311207,6.8773962415167009,7.0435117415370803,7.2790020013805341,7.3927177358996481,7.7863682046341101,8.6303795828579162,10.169151721714178,11.864096684253981,11.668495511167237,12.366488499960006,13.063615817837103,13.385017647792303,15.490219006951843,17.272883104572127,19.14311868324808,20.692919364434093,22.462755706229963,24.242532144274893,25.986487893443371,27.750814620173585,30.339380999303284,32.837075201686766,35.607476476033121,39.40619025895262,44.825258195733106,48.843910888800401,53.660791317485668,59.016162317622175,64.364621370711163,69.240253210615805,73.724439831909052,79.629890968169704,81.917784001726901,84.911857843821721,87.615096354848092,90.867178379556563,94.399884477597055,100,104.23693654741248,110.9316337977455,117.31715309553377,127.48226476615305,135.0859873657451,146.54205421875056,158.25634183581565]
[null,"Bhopal","India",2004,4.1148982789095205,4.2031804443404051,4.3883564651704443,4.7549432590270353,5.1615706464481734,5.5900000772405809,6.3318325841311207,6.8773962415167009,7.0435117415370803,7.2790020013805341,7.3927177358996481,7.7863682046341101,8.6303795828579162,10.169151721714178,11.864096684253981,11.668495511167237,12.366488499960006,13.063615817837103,13.385017647792303,15.490219006951843,17.272883104572127,19.14311868324808,20.692919364434093,22.462755706229963,24.242532144274893,25.986487893443371,27.750814620173585,30.339380999303284,32.837075201686766,35.607476476033121,39.40619025895262,44.825258195733106,48.843910888800401,53.660791317485668,59.016162317622175,64.364621370711163,69.240253210615805,73.724439831909052,79.629890968169704,81.917784001726901,84.911857843821721,87.615096354848092,90.867178379556563,94.399884477597055,100,104.23693654741248,110.9316337977455,117.31715309553377,127.48226476615305,135.0859873657451,146.54205421875056,158.25634183581565]
[null,"Bhuvaneshwar","India",2004,4.1148982789095205,4.2031804443404051,4.3883564651704443,4.7549432590270353,5.1615706464481734,5.5900000772405809,6.3318325841311207,6.8773962415167009,7.0435117415370803,7.2790020013805341,7.3927177358996481,7.7863682046341101,8.6303795828579162,10.169151721714178,11.864096684253981,11.668495511167237,12.366488499960006,13.063615817837103,13.385017647792303,15.490219006951843,17.272883104572127,19.14311868324808,20.692919364434093,22.462755706229963,24.242532144274893,25.986487893443371,27.750814620173585,30.339380999303284,32.837075201686766,35.607476476033121,39.40619025895262,44.825258195733106,48.843910888800401,53.660791317485668,59.016162317622175,64.364621370711163,69.240253210615805,73.724439831909052,79.629890968169704,81.917784001726901,84.911857843821721,87.615096354848092,90.867178379556563,94.399884477597055,100,104.23693654741248,110.9316337977455,117.31715309553377,127.48226476615305,135.0859873657451,146.54205421875056,158.25634183581565]
[null,"Chandigarh","India",2004,4.1148982789095205,4.2031804443404051,4.3883564651704443,4.7549432590270353,5.1615706464481734,5.5900000772405809,6.3318325841311207,6.8773962415167009,7.0435117415370803,7.2790020013805341,7.3927177358996481,7.7863682046341101,8.6303795828579162,10.169151721714178,11.864096684253981,11.668495511167237,12.366488499960006,13.063615817837103,13.385017647792303,15.490219006951843,17.272883104572127,19.14311868324808,20.692919364434093,22.462755706229963,24.242532144274893,25.986487893443371,27.750814620173585,30.339380999303284,32.837075201686766,35.607476476033121,39.40619025895262,44.825258195733106,48.843910888800401,53.660791317485668,59.016162317622175,64.364621370711163,69.240253210615805,73.724439831909052,79.629890968169704,81.917784001726901,84.911857843821721,87.615096354848092,90.867178379556563,94.399884477597055,100,104.23693654741248,110.9316337977455,117.31715309553377,127.48226476615305,135.0859873657451,146.54205421875056,158.25634183581565]
[null,"Chennai","India",2004,4.1148982789095205,4.2031804443404051,4.3883564651704443,4.7549432590270353,5.1615706464481734,5.5900000772405809,6.3318325841311207,6.8773962415167009,7.0435117415370803,7.2790020013805341,7.3927177358996481,7.7863682046341101,8.6303795828579162,10.169151721714178,11.864096684253981,11.668495511167237,12.366488499960006,13.063615817837103,13.385017647792303,15.490219006951843,17.272883104572127,19.14311868324808,20.692919364434093,22.462755706229963,24.242532144274893,25.986487893443371,27.750814620173585,30.339380999303284,32.837075201686766,35.607476476033121,39.40619025895262,44.825258195733106,48.843910888800401,53.660791317485668,59.016162317622175,64.364621370711163,69.240253210615805,73.724439831909052,79.629890968169704,81.917784001726901,84.911857843821721,87.615096354848092,90.867178379556563,94.399884477597055,100,104.23693654741248,110.9316337977455,117.31715309553377,127.48226476615305,135.0859873657451,146.54205421875056,158.25634183581565]
[null,"Cochin","India",2004,4.1148982789095205,4.2031804443404051,4.3883564651704443,4.7549432590270353,5.1615706464481734,5.5900000772405809,6.3318325841311207,6.8773962415167009,7.0435117415370803,7.2790020013805341,7.3927177358996481,7.7863682046341101,8.6303795828579162,10.169151721714178,11.864096684253981,11.668495511167237,12.366488499960006,13.063615817837103,13.385017647792303,15.490219006951843,17.272883104572127,19.14311868324808,20.692919364434093,22.462755706229963,24.242532144274893,25.986487893443371,27.750814620173585,30.339380999303284,32.837075201686766,35.607476476033121,39.40619025895262,44.825258195733106,48.843910888800401,53.660791317485668,59.016162317622175,64.364621370711163,69.240253210615805,73.724439831909052,79.629890968169704,81.917784001726901,84.911857843821721,87.615096354848092,90.867178379556563,94.399884477597055,100,104.23693654741248,110.9316337977455,117.31715309553377,127.48226476615305,135.0859873657451,146.54205421875056,158.25634183581565]
[null,"Delhi","India",2004,4.1148982789095205,4.2031804443404051,4.3883564651704443,4.7549432590270353,5.1615706464481734,5.5900000772405809,6.3318325841311207,6.8773962415167009,7.0435117415370803,7.2790020013805341,7.3927177358996481,7.7863682046341101,8.6303795828579162,10.169151721714178,11.864096684253981,11.668495511167237,12.366488499960006,13.063615817837103,13.385017647792303,15.490219006951843,17.272883104572127,19.14311868324808,20.692919364434093,22.462755706229963,24.242532144274893,25.986487893443371,27.750814620173585,30.339380999303284,32.837075201686766,35.607476476033121,39.40619025895262,44.825258195733106,48.843910888800401,53.660791317485668,59.016162317622175,64.364621370711163,69.240253210615805,73.724439831909052,79.629890968169704,81.917784001726901,84.911857843821721,87.615096354848092,90.867178379556563,94.399884477597055,100,104.23693654741248,110.9316337977455,117.31715309553377,127.48226476615305,135.0859873657451,146.54205421875056,158.25634183581565]
[null,"Guwahati","India",2004,4.1148982789095205,4.2031804443404051,4.3883564651704443,4.7549432590270353,5.1615706464481734,5.5900000772405809,6.3318325841311207,6.8773962415167009,7.0435117415370803,7.2790020013805341,7.3927177358996481,7.7863682046341101,8.6303795828579162,10.169151721714178,11.864096684253981,11.668495511167237,12.366488499960006,13.063615817837103,13.385017647792303,15.490219006951843,17.272883104572127,19.14311868324808,20.692919364434093,22.462755706229963,24.242532144274893,25.986487893443371,27.750814620173585,30.339380999303284,32.837075201686766,35.607476476033121,39.40619025895262,44.825258195733106,48.843910888800401,53.660791317485668,59.016162317622175,64.364621370711163,69.240253210615805,73.724439831909052,79.629890968169704,81.917784001726901,84.911857843821721,87.615096354848092,90.867178379556563,94.399884477597055,100,104.23693654741248,110.9316337977455,117.31715309553377,127.48226476615305,135.0859873657451,146.54205421875056,158.25634183581565]
[null,"Hubli-Dharwad","India",2004,4.1148982789095205,4.2031804443404051,4.3883564651704443,4.7549432590270353,5.1615706464481734,5.5900000772405809,6.3318325841311207,6.8773962415167009,7.0435117415370803,7.2790020013805341,7.3927177358996481,7.7863682046341101,8.6303795828579162,10.169151721714178,11.864096684253981,11.668495511167237,12.366488499960006,13.063615817837103,13.385017647792303,15.490219006951843,17.272883104572127,19.14311868324808,20.692919364434093,22.462755706229963,24.242532144274893,25.986487893443371,27.750814620173585,30.339380999303284,32.837075201686766,35.607476476033121,39.40619025895262,44.825258195733106,48.843910888800401,53.660791317485668,59.016162317622175,64.364621370711163,69.240253210615805,73.724439831909052,79.629890968169704,81.917784001726901,84.911857843821721,87.615096354848092,90.867178379556563,94.399884477597055,100,104.23693654741248,110.9316337977455,117.31715309553377,127.48226476615305,135.0859873657451,146.54205421875056,158.25634183581565]
[null,"Hyderabad","India",2004,4.1148982789095205,4.2031804443404051,4.3883564651704443,4.7549432590270353,5.1615706464481734,5.5900000772405809,6.3318325841311207,6.8773962415167009,7.0435117415370803,7.2790020013805341,7.3927177358996481,7.7863682046341101,8.6303795828579162,10.169151721714178,11.864096684253981,11.668495511167237,12.366488499960006,13.063615817837103,13.385017647792303,15.490219006951843,17.272883104572127,19.14311868324808,20.692919364434093,22.462755706229963,24.242532144274893,25.986487893443371,27.750814620173585,30.339380999303284,32.837075201686766,35.607476476033121,39.40619025895262,44.825258195733106,48.843910888800401,53.660791317485668,59.016162317622175,64.364621370711163,69.240253210615805,73.724439831909052,79.629890968169704,81.917784001726901,84.911857843821721,87.615096354848092,90.867178379556563,94.399884477597055,100,104.23693654741248,110.9316337977455,117.31715309553377,127.48226476615305,135.0859873657451,146.54205421875056,158.25634183581565]
[null,"Jaipur","India",2004,4.1148982789095205,4.2031804443404051,4.3883564651704443,4.7549432590270353,5.1615706464481734,5.5900000772405809,6.3318325841311207,6.8773962415167009,7.0435117415370803,7.2790020013805341,7.3927177358996481,7.7863682046341101,8.6303795828579162,10.169151721714178,11.864096684253981,11.668495511167237,12.366488499960006,13.063615817837103,13.385017647792303,15.490219006951843,17.272883104572127,19.14311868324808,20.692919364434093,22.462755706229963,24.242532144274893,25.986487893443371,27.750814620173585,30.339380999303284,32.837075201686766,35.607476476033121,39.40619025895262,44.825258195733106,48.843910888800401,53.660791317485668,59.016162317622175,64.364621370711163,69.240253210615805,73.724439831909052,79.629890968169704,81.917784001726901,84.911857843821721,87.615096354848092,90.867178379556563,94.399884477597055,100,104.23693654741248,110.9316337977455,117.31715309553377,127.48226476615305,135.0859873657451,146.54205421875056,158.25634183581565]
[null,"Kanpur","India",2004,4.1148982789095205,4.2031804443404051,4.3883564651704443,4.7549432590270353,5.1615706464481734,5.5900000772405809,6.3318325841311207,6.8773962415167009,7.0435117415370803,7.2790020013805341,7.3927177358996481,7.7863682046341101,8.6303795828579162,10.169151721714178,11.864096684253981,11.668495511167237,12.366488499960006,13.063615817837103,13.385017647792303,15.490219006951843,17.272883104572127,19.14311868324808,20.692919364434093,22.462755706229963,24.242532144274893,25.986487893443371,27.750814620173585,30.339380999303284,32.837075201686766,35.607476476033121,39.40619025895262,44.825258195733106,48.843910888800401,53.660791317485668,59.016162317622175,64.364621370711163,69.240253210615805,73.724439831909052,79.629890968169704,81.917784001726901,84.911857843821721,87.615096354848092,90.867178379556563,94.399884477597055,100,104.23693654741248,110.9316337977455,117.31715309553377,127.48226476615305,135.0859873657451,146.54205421875056,158.25634183581565]
[null,"Kolkata","India",2004,4.1148982789095205,4.2031804443404051,4.3883564651704443,4.7549432590270353,5.1615706464481734,5.5900000772405809,6.3318325841311207,6.8773962415167009,7.0435117415370803,7.2790020013805341,7.3927177358996481,7.7863682046341101,8.6303795828579162,10.169151721714178,11.864096684253981,11.668495511167237,12.366488499960006,13.063615817837103,13.385017647792303,15.490219006951843,17.272883104572127,19.14311868324808,20.692919364434093,22.462755706229963,24.242532144274893,25.986487893443371,27.750814620173585,30.339380999303284,32.837075201686766,35.607476476033121,39.40619025895262,44.825258195733106,48.843910888800401,53.660791317485668,59.016162317622175,64.364621370711163,69.240253210615805,73.724439831909052,79.629890968169704,81.917784001726901,84.911857843821721,87.615096354848092,90.867178379556563,94.399884477597055,100,104.23693654741248,110.9316337977455,117.31715309553377,127.48226476615305,135.0859873657451,146.54205421875056,158.25634183581565]
[null,"Madurai","India",2004,4.1148982789095205,4.2031804443404051,4.3883564651704443,4.7549432590270353,5.1615706464481734,5.5900000772405809,6.3318325841311207,6.8773962415167009,7.0435117415370803,7.2790020013805341,7.3927177358996481,7.7863682046341101,8.6303795828579162,10.169151721714178,11.864096684253981,11.668495511167237,12.366488499960006,13.063615817837103,13.385017647792303,15.490219006951843,17.272883104572127,19.14311868324808,20.692919364434093,22.462755706229963,24.242532144274893,25.986487893443371,27.750814620173585,30.339380999303284,32.837075201686766,35.607476476033121,39.40619025895262,44.825258195733106,48.843910888800401,53.660791317485668,59.016162317622175,64.364621370711163,69.240253210615805,73.724439831909052,79.629890968169704,81.917784001726901,84.911857843821721,87.615096354848092,90.867178379556563,94.399884477597055,100,104.23693654741248,110.9316337977455,117.31715309553377,127.48226476615305,135.0859873657451,146.54205421875056,158.25634183581565]
[null,"Mumbai","India",2004,4.1148982789095205,4.2031804443404051,4.3883564651704443,4.7549432590270353,5.1615706464481734,5.5900000772405809,6.3318325841311207,6.8773962415167009,7.0435117415370803,7.2790020013805341,7.3927177358996481,7.7863682046341101,8.6303795828579162,10.169151721714178,11.864096684253981,11.668495511167237,12.366488499960006,13.063615817837103,13.385017647792303,15.490219006951843,17.272883104572127,19.14311868324808,20.692919364434093,22.462755706229963,24.242532144274893,25.986487893443371,27.750814620173585,30.339380999303284,32.837075201686766,35.607476476033121,39.40619025895262,44.825258195733106,48.843910888800401,53.660791317485668,59.016162317622175,64.364621370711163,69.240253210615805,73.724439831909052,79.629890968169704,81.917784001726901,84.911857843821721,87.615096354848092,90.867178379556563,94.399884477597055,100,104.23693654741248,110.9316337977455,117.31715309553377,127.48226476615305,135.0859873657451,146.54205421875056,158.25634183581565]
[null,"Nagpur","India",2004,4.1148982789095205,4.2031804443404051,4.3883564651704443,4.7549432590270353,5.1615706464481734,5.5900000772405809,6.3318325841311207,6.8773962415167009,7.0435117415370803,7.2790020013805341,7.3927177358996481,7.7863682046341101,8.6303795828579162,10.169151721714178,11.864096684253981,11.668495511167237,12.366488499960006,13.063615817837103,13.385017647792303,15.490219006951843,17.272883104572127,19.14311868324808,20.692919364434093,22.462755706229963,24.242532144274893,25.986487893443371,27.750814620173585,30.339380999303284,32.837075201686766,35.607476476033121,39.40619025895262,44.825258195733106,48.843910888800401,53.660791317485668,59.016162317622175,64.364621370711163,69.240253210615805,73.724439831909052,79.629890968169704,81.917784001726901,84.911857843821721,87.615096354848092,90.867178379556563,94.399884477597055,100,104.23693654741248,110.9316337977455,117.31715309553377,127.48226476615305,135.0859873657451,146.54205421875056,158.25634183581565]
[null,"Patna","India",2004,4.1148982789095205,4.2031804443404051,4.3883564651704443,4.7549432590270353,5.1615706464481734,5.5900000772405809,6.3318325841311207,6.8773962415167009,7.0435117415370803,7.2790020013805341,7.3927177358996481,7.7863682046341101,8.6303795828579162,10.169151721714178,11.864096684253981,11.668495511167237,12.366488499960006,13.063615817837103,13.385017647792303,15.490219006951843,17.272883104572127,19.14311868324808,20.692919364434093,22.462755706229963,24.242532144274893,25.986487893443371,27.750814620173585,30.339380999303284,32.837075201686766,35.607476476033121,39.40619025895262,44.825258195733106,48.843910888800401,53.660791317485668,59.016162317622175,64.364621370711163,69.240253210615805,73.724439831909052,79.629890968169704,81.917784001726901,84.911857843821721,87.615096354848092,90.867178379556563,94.399884477597055,100,104.23693654741248,110.9316337977455,117.31715309553377,127.48226476615305,135.0859873657451,146.54205421875056,158.25634183581565]
[null,"Pune","India",2004,4.1148982789095205,4.2031804443404051,4.3883564651704443,4.7549432590270353,5.1615706464481734,5.5900000772405809,6.3318325841311207,6.8773962415167009,7.0435117415370803,7.2790020013805341,7.3927177358996481,7.7863682046341101,8.6303795828579162,10.169151721714178,11.864096684253981,11.668495511167237,12.366488499960006,13.063615817837103,13.385017647792303,15.490219006951843,17.272883104572127,19.14311868324808,20.692919364434093,22.462755706229963,24.242532144274893,25.986487893443371,27.750814620173585,30.339380999303284,32.837075201686766,35.607476476033121,39.40619025895262,44.825258195733106,48.843910888800401,53.660791317485668,59.016162317622175,64.364621370711163,69.240253210615805,73.724439831909052,79.629890968169704,81.917784001726901,84.911857843821721,87.615096354848092,90.867178379556563,94.399884477597055,100,104.23693654741248,110.9316337977455,117.31715309553377,127.48226476615305,135.0859873657451,146.54205421875056,158.25634183581565]
[null,"Surat","India",2004,4.1148982789095205,4.2031804443404051,4.3883564651704443,4.7549432590270353,5.1615706464481734,5.5900000772405809,6.3318325841311207,6.8773962415167009,7.0435117415370803,7.2790020013805341,7.3927177358996481,7.7863682046341101,8.6303795828579162,10.169151721714178,11.864096684253981,11.668495511167237,12.366488499960006,13.063615817837103,13.385017647792303,15.490219006951843,17.272883104572127,19.14311868324808,20.692919364434093,22.462755706229963,24.242532144274893,25.986487893443371,27.750814620173585,30.339380999303284,32.837075201686766,35.607476476033121,39.40619025895262,44.825258195733106,48.843910888800401,53.660791317485668,59.016162317622175,64.364621370711163,69.240253210615805,73.724439831909052,79.629890968169704,81.917784001726901,84.911857843821721,87.615096354848092,90.867178379556563,94.399884477597055,100,104.23693654741248,110.9316337977455,117.31715309553377,127.48226476615305,135.0859873657451,146.54205421875056,158.25634183581565]
[null,"Varanasi","India",2004,4.1148982789095205,4.2031804443404051,4.3883564651704443,4.7549432590270353,5.1615706464481734,5.5900000772405809,6.3318325841311207,6.8773962415167009,7.0435117415370803,7.2790020013805341,7.3927177358996481,7.7863682046341101,8.6303795828579162,10.169151721714178,11.864096684253981,11.668495511167237,12.366488499960006,13.063615817837103,13.385017647792303,15.490219006951843,17.272883104572127,19.14311868324808,20.692919364434093,22.462755706229963,24.242532144274893,25.986487893443371,27.750814620173585,30.339380999303284,32.837075201686766,35.607476476033121,39.40619025895262,44.825258195733106,48.843910888800401,53.660791317485668,59.016162317622175,64.364621370711163,69.240253210615805,73.724439831909052,79.629890968169704,81.917784001726901,84.911857843821721,87.615096354848092,90.867178379556563,94.399884477597055,100,104.23693654741248,110.9316337977455,117.31715309553377,127.48226476615305,135.0859873657451,146.54205421875056,158.25634183581565]
[null,"Jakarta","Indonesia",2000,2.6516895166869223E-4,3.0086497239698132E-4,8.3865938545763614E-4,2.0618558259134514E-3,4.4311279023830875E-3,1.4589090667661335E-2,0.18898845854111082,0.50155748596864835,1.1071665578892012,1.3355417723287921,1.5173896664660709,1.5590298387166999,1.7961609400697847,2.4209680527132482,3.5460473470985763,3.943029050834125,4.5512287782616943,5.1553064248645306,5.6416660390088973,7.5379119921335729,9.8739440230173674,10.904703817062012,11.56567115148107,13.213995009921891,14.277447920969388,14.889297442808891,14.874870326466699,17.171227139434482,19.359759670347508,21.294412476912953,22.939173845882383,24.964182231263472,26.303339902065247,28.639104230539154,30.866189154016034,33.861220943958301,36.859155052561874,41.492833302472611,72.725021717669975,83.023752081004773,99.999999999999972,114.29571543628296,121.03464990150255,127.67633801096937,138.59360037881899,158.45653840051199,180.7789795903015,201.13212294101905,237.63710539761536,257.3009819952066,278.16428352593329,301.51670363264486]
[null,"Surabaya","Indonesia",2000,2.6516895166869223E-4,3.0086497239698132E-4,8.3865938545763614E-4,2.0618558259134514E-3,4.4311279023830875E-3,1.4589090667661335E-2,0.18898845854111082,0.50155748596864835,1.1071665578892012,1.3355417723287921,1.5173896664660709,1.5590298387166999,1.7961609400697847,2.4209680527132482,3.5460473470985763,3.943029050834125,4.5512287782616943,5.1553064248645306,5.6416660390088973,7.5379119921335729,9.8739440230173674,10.904703817062012,11.56567115148107,13.213995009921891,14.277447920969388,14.889297442808891,14.874870326466699,17.171227139434482,19.359759670347508,21.294412476912953,22.939173845882383,24.964182231263472,26.303339902065247,28.639104230539154,30.866189154016034,33.861220943958301,36.859155052561874,41.492833302472611,72.725021717669975,83.023752081004773,99.999999999999972,114.29571543628296,121.03464990150255,127.67633801096937,138.59360037881899,158.45653840051199,180.7789795903015,201.13212294101905,237.63710539761536,257.3009819952066,278.16428352593329,301.51670363264486]
[null,"Dublin","Ireland",2005,null,null,null,null,null,null,null,null,null,null,null,null,null,null,null,null,null,null,null,null,null,null,null,null,null,null,null,null,null,null,null,null,null,null,null,null,null,null,null,null,82.384067042690532,87.728399317197855,92.131386365128805,94.948185056852324,97.025632701560525,100,103.57432566268183,104.89753839450337,102.45119613616576,98.287038008172019,95.880615004697461,96.832588514278712]
[null,"Bologna","Italy",2005,4.104681938811038,4.2188807119526528,4.4633112658774712,4.8408118796587463,5.1549712732297355,5.3713274896642744,5.4912368050479463,5.643632847655744,5.7415189013070558,5.9741260131062894,5.5660168357239472,5.9655922440254541,6.3016324559338237,7.1043742696749037,8.5427528740032788,9.9935761505847189,11.737882574609525,13.906709602259632,15.845996634154059,18.294365894945503,22.102483548566543,26.254927073954587,30.860290740045411,35.519188351487045,39.341708401096241,42.951169477411959,46.167532495489759,48.941870162490545,52.19670158555639,55.431533638243764,60.084874448346071,64.615628573465912,67.786873184606762,70.421038421799437,72.915685092884715,76.506960846732866,80.177168660164639,82.232145596368326,84.421390938025766,85.935737191310409,87.607185158442405,90.128302608694923,93.019654311699114,95.920721418631288,98.215332025349014,100,101.70759937821323,104.12199229157054,106.75956730878906,108.98971924358396,109.41584557698923,110.8438952615839]
[null,"Milan","Italy",2005,4.104681938811038,4.2188807119526528,4.4633112658774712,4.8408118796587463,5.1549712732297355,5.3713274896642744,5.4912368050479463,5.643632847655744,5.7415189013070558,5.9741260131062894,5.5660168357239472,5.9655922440254541,6.3016324559338237,7.1043742696749037,8.5427528740032788,9.9935761505847189,11.737882574609525,13.906709602259632,15.845996634154059,18.294365894945503,22.102483548566543,26.254927073954587,30.860290740045411,35.519188351487045,39.341708401096241,42.951169477411959,46.167532495489759,48.941870162490545,52.19670158555639,55.431533638243764,60.084874448346071,64.615628573465912,67.786873184606762,70.421038421799437,72.915685092884715,76.506960846732866,80.177168660164639,82.232145596368326,84.421390938025766,85.935737191310409,87.607185158442405,90.128302608694923,93.019654311699114,95.920721418631288,98.215332025349014,100,101.70759937821323,104.12199229157054,106.75956730878906,108.98971924358396,109.41584557698923,110.8438952615839]
[null,"Rome","Italy",2005,4.104681938811038,4.2188807119526528,4.4633112658774712,4.8408118796587463,5.1549712732297355,5.3713274896642744,5.4912368050479463,5.643632847655744,5.7415189013070558,5.9741260131062894,5.5660168357239472,5.9655922440254541,6.3016324559338237,7.1043742696749037,8.5427528740032788,9.9935761505847189,11.737882574609525,13.906709602259632,15.845996634154059,18.294365894945503,22.102483548566543,26.254927073954587,30.860290740045411,35.519188351487045,39.341708401096241,42.951169477411959,46.167532495489759,48.941870162490545,52.19670158555639,55.431533638243764,60.084874448346071,64.615628573465912,67.786873184606762,70.421038421799437,72.915685092884715,76.506960846732866,80.177168660164639,82.232145596368326,84.421390938025766,85.935737191310409,87.607185158442405,90.128302608694923,93.019654311699114,95.920721418631288,98.215332025349014,100,101.70759937821323,104.12199229157054,106.75956730878906,108.98971924358396,109.41584557698923,110.8438952615839]
[null,"Turin","Italy",2005,4.104681938811038,4.2188807119526528,4.4633112658774712,4.8408118796587463,5.1549712732297355,5.3713274896642744,5.4912368050479463,5.643632847655744,5.7415189013070558,5.9741260131062894,5.5660168357239472,5.9655922440254541,6.3016324559338237,7.1043742696749037,8.5427528740032788,9.9935761505847189,11.737882574609525,13.906709602259632,15.845996634154059,18.294365894945503,22.102483548566543,26.254927073954587,30.860290740045411,35.519188351487045,39.341708401096241,42.951169477411959,46.167532495489759,48.941870162490545,52.19670158555639,55.431533638243764,60.084874448346071,64.615628573465912,67.786873184606762,70.421038421799437,72.915685092884715,76.506960846732866,80.177168660164639,82.232145596368326,84.421390938025766,85.935737191310409,87.607185158442405,90.128302608694923,93.019654311699114,95.920721418631288,98.215332025349014,100,101.70759937821323,104.12199229157054,106.75956730878906,108.98971924358396,109.41584557698923,110.8438952615839]
[null,"Tokyo","Japan",2005,22.099497751597521,23.820102241122417,24.820445911899608,26.188168904216912,27.583659401414323,29.000592618746278,30.442174129694028,32.115090345761821,33.694787700577486,35.188611982046396,43.16387633793353,45.361501192204813,47.903750972165106,53.990112308704177,65.225481904140963,69.907002288835301,75.505075677630074,80.600993746515599,84.311668678046871,86.631614715250521,91.342627972753178,94.26237579556053,95.730412671821412,96.605659603893017,98.289991766242963,99.278043031837143,101.04195487671839,100.93436236942139,101.26982658208723,103.52468614093659,105.869102972674,108.62777095024938,110.35296890001756,110.83565703563782,110.96316296449722,110.15833111090161,109.54486078508452,110.19671734185812,110.13669594827043,108.73388511179476,107.37732322965235,106.09108512465247,104.44638367838294,102.65538301005168,101.26700401723254,100,98.878567812454406,97.958265064569815,96.718895723491215,96.235027141406334,94.228111965459959,92.230261084179418]
[null,"Kuala Lumpur","Malaysia",2000,29.655397059189276,27.354714633778787,26.988919878562502,26.771256874526532,27.204028392813491,27.772373897742973,27.414668305220729,27.354132117868126,26.423660347825745,27.82697843391777,27.719214973673235,27.587380320929189,27.685300328170005,32.629219677867525,36.780799016296406,35.64622292425566,40.184126992217763,42.939699022947487,45.157995685437982,50.603815703990151,54.081653579719813,54.655007420207426,56.036928405952281,58.945082970470864,62.214275882712265,61.275288069933524,55.982435156848965,59.078678230420046,61.217342415787279,63.949333080592965,66.383723557120987,68.762872861486713,70.42349399075411,73.230836536284045,76.114231285184303,78.879827846555969,81.783219037770138,84.630864568324142,91.823400154698845,91.865143699505722,100,98.418126092126641,101.49751429577893,104.84584916903263,111.14633254241421,116.29271007234279,120.80117596093589,126.801700830073,139.90839307423207,130.25603306156881,136.8885165486646,144.94963855002271]
[null,"Mexico city","Mexico",2003,1.3579983502575804E-2,1.4020387788865597E-2,1.4405485200984612E-2,1.4826864843751651E-2,1.5701052134151582E-2,1.6025323847417495E-2,1.6839545638646685E-2,1.7358685625862871E-2,1.7540749802676156E-2,1.878163792609934E-2,1.9276058257969134E-2,2.0489691122440843E-2,2.181849936355441E-2,2.4747510007311662E-2,3.0467179502782347E-2,3.5227828076537827E-2,4.2046308856694872E-2,5.4855206042652011E-2,6.3635136958419311E-2,7.6129375712706421E-2,0.10156351466406512,0.1279796346971914,0.20594780658588452,0.39226991802347178,0.62407585687574496,0.97818094533585875,1.6983125246869724,4.0701547113833456,8.6574472517715879,10.954116457054862,14.035563410345336,17.29891884563791,19.791871864891426,21.670715494529897,23.506561393859279,32.409551439094322,42.373182299170828,49.867939252929716,57.540236843206102,66.223492426972371,74.238084525214404,78.60209312051677,84.070235662774877,100.0000066174312,109.06569398752059,114.02070897030787,121.64936540264115,128.49785698406885,136.63729456575481,142.65027678027664,148.40428290541712,156.56664668922585]
[null,"Amsterdam","Netherlands",2005,19.829279900025483,20.873104730855889,21.03147182263362,22.019839599870362,23.930718803747343,24.737614833896547,26.21773769980776,27.320880127804354,28.46744524346456,30.292200515402566,27.956384873790135,30.409737093551659,33.221312654704626,36.135726211648375,39.419639355394075,43.613614291553482,47.474987592626242,50.5091833530687,53.221143696648063,55.389192098062935,57.749484162200027,61.439729483880342,64.280490780885231,65.173393390285781,66.677014253298111,67.254359509461253,67.396737116306809,66.690665710754999,67.237287716609401,68.1436041298616,69.206538565321736,71.363807770371437,73.144858985019283,74.313307378748476,75.846198903811555,77.412180599089098,78.416489890010183,80.48639381389475,82.025101042331414,83.484221585234565,86.925596630790821,91.357825683299836,94.852780762510221,96.919356641367187,97.629350183160383,100,101.76759922612194,103.6487233637575,105.85544438449637,105.42885359077778,106.81191095104631,108.02957556445479]
[null,"Rotterdam","Netherlands",2005,19.829279900025483,20.873104730855889,21.03147182263362,22.019839599870362,23.930718803747343,24.737614833896547,26.21773769980776,27.320880127804354,28.46744524346456,30.292200515402566,27.956384873790135,30.409737093551659,33.221312654704626,36.135726211648375,39.419639355394075,43.613614291553482,47.474987592626242,50.5091833530687,53.221143696648063,55.389192098062935,57.749484162200027,61.439729483880342,64.280490780885231,65.173393390285781,66.677014253298111,67.254359509461253,67.396737116306809,66.690665710754999,67.237287716609401,68.1436041298616,69.206538565321736,71.363807770371437,73.144858985019283,74.313307378748476,75.846198903811555,77.412180599089098,78.416489890010183,80.48639381389475,82.025101042331414,83.484221585234565,86.925596630790821,91.357825683299836,94.852780762510221,96.919356641367187,97.629350183160383,100,101.76759922612194,103.6487233637575,105.85544438449637,105.42885359077778,106.81191095104631,108.02957556445479]
[null,"Cebu","Philippines",2000,1.6985284976443631,1.7502336930662152,1.8690819726392947,2.0292075972860766,2.1207451067094145,2.2050767449462128,2.3227130285355044,2.3683169284232108,2.5200820965676183,2.6684074748877484,3.0728180824302593,3.515279793478328,3.7441857268420238,4.3758800328260659,5.802405608540206,6.3429477049740539,6.8697002738721826,7.4380220589830683,8.1321189227902604,9.3388882548604624,10.669675076888439,11.918361974932397,12.955405389893947,14.797907735056992,22.690513530628689,26.691499995011707,27.479667441852435,29.540145694996255,32.389890308122233,35.315689688702541,39.896587131951918,46.490248171409334,50.178160713824958,53.606411999826989,58.962397268094648,63.414571375317323,68.272785683272247,72.522351508753502,88.75410334126768,94.598608129105557,99.999999405408744,105.54947719210486,109.94268900411032,113.46232386862489,119.72189390984676,126.6993106442315,132.96969820208324,137.07889248482317,147.42705982455598,151.51557591165391,157.91315271799016,164.61828590580717]
[null,"Manila","Philippines",2000,1.6985284976443631,1.7502336930662152,1.8690819726392947,2.0292075972860766,2.1207451067094145,2.2050767449462128,2.3227130285355044,2.3683169284232108,2.5200820965676183,2.6684074748877484,3.0728180824302593,3.515279793478328,3.7441857268420238,4.3758800328260659,5.802405608540206,6.3429477049740539,6.8697002738721826,7.4380220589830683,8.1321189227902604,9.3388882548604624,10.669675076888439,11.918361974932397,12.955405389893947,14.797907735056992,22.690513530628689,26.691499995011707,27.479667441852435,29.540145694996255,32.389890308122233,35.315689688702541,39.896587131951918,46.490248171409334,50.178160713824958,53.606411999826989,58.962397268094648,63.414571375317323,68.272785683272247,72.522351508753502,88.75410334126768,94.598608129105557,99.999999405408744,105.54947719210486,109.94268900411032,113.46232386862489,119.72189390984676,126.6993106442315,132.96969820208324,137.07889248482317,147.42705982455598,151.51557591165391,157.91315271799016,164.61828590580717]
[null,"Krakow","Poland",2005,null,null,null,null,null,null,null,null,null,null,null,null,null,null,null,null,null,null,null,null,null,null,null,null,null,null,null,null,null,null,10.521278449894131,16.334915530124231,22.644352943053462,29.583215891542608,40.598240805613393,51.956942440519057,61.263947057606096,69.793507780075061,77.517639470365225,82.158172714245055,88.116384800193586,91.182533218793566,93.230406459401138,93.597734573827807,97.424697600523331,100,101.48333663623212,105.49799780672373,108.77014536741214,112.81414581214302,114.39745746113603,118.00868831195569]
[null,"Warsaw","Poland",2005,null,null,null,null,null,null,null,null,null,null,null,null,null,null,null,null,null,null,null,null,null,null,null,null,null,null,null,null,null,null,10.521278449894131,16.334915530124231,22.644352943053462,29.583215891542608,40.598240805613393,51.956942440519057,61.263947057606096,69.793507780075061,77.517639470365225,82.158172714245055,88.116384800193586,91.182533218793566,93.230406459401138,93.597734573827807,97.424697600523331,100,101.48333663623212,105.49799780672373,108.77014536741214,112.81414581214302,114.39745746113603,118.00868831195569]
[null,"Lisbon","Portugal",2005,1.9959173149148697,2.0240949934478949,2.0377919613428963,2.0493625948996859,2.0905217892957708,2.1714701265486465,2.285759836424357,2.3757424244716869,2.4154840586652759,2.5941622231219412,2.2714207262517938,2.3853717975999738,2.5715397559769713,2.8149695682631366,3.3460193747489471,3.889091948457426,4.5220081227866604,5.7158204235054511,6.9932065153120986,8.3525054050412884,10.098433138564696,11.876657408491804,14.333977192471318,17.860889721811148,22.268193582283903,27.108086752947969,32.651997668236518,35.948798614485654,39.962622842487932,44.164215008494452,49.969446706235182,55.009458316588379,61.305858332370036,65.828042071805456,70.61876137485838,73.040008692680601,74.752709891462615,77.687830401086217,80.634387908381285,83.294136835205919,86.002410137083899,89.075860346806465,92.407537096146598,95.184437410360061,97.537468511335106,100,102.78105668875151,105.68927319790313,107.36121141410098,108.34003553073926,109.48436619411656,110.20972604046845]
[null,"Moscow","Russia",2000,null,null,null,null,null,null,null,null,null,null,null,null,null,null,null,null,null,null,null,null,null,null,null,null,null,null,null,null,null,5.1202421893235071E-3,5.9345098509779393E-3,1.3568056322925542E-2,0.21578886765379904,2.1316503389270469,8.6821704101439199,21.184764275181731,30.887787955992131,35.539229002409151,42.127735435830054,72.622645641699577,100,116.48952797749297,134.53719631231189,153.07650466261856,184.12359909731791,219.67067575426049,252.99482074226498,287.91929009548278,339.6287712549103,346.44228070312397,386.64337689733685,447.94843673946485]
[null,"Singapore","Singapore",2005,31.127935058616018,31.381005731669649,31.659602159730081,32.778482780782241,32.89643664064748,32.947389354133058,33.432324158411895,33.623291319012964,34.087126391873412,34.906114257436634,35.49230778523409,37.336057399451235,39.408043465871309,44.40981840566328,51.465723507780261,52.64928866311638,53.546294377799853,54.283710199658266,55.980777819242974,58.994111298142791,65.535474264864689,69.438796818563574,72.445375020873755,74.730681327435903,75.165891720091466,74.090198603265861,73.446393811325379,73.782387967988754,77.985534438398432,81.320826113799754,84.88117460363398,88.395131071297939,89.640779636843774,92.735878245123189,96.012215438728404,98.729160032707085,99.767396047442574,101.00757168851669,99.636686790819681,94.871071187643309,98.321953036697749,96.137106148669318,95.291985995616429,93.855178922417636,97.968968262621814,100,101.99137669063987,108.27808447239649,100,100,108.53407127741693,109.08059315537071]
[null,"Johannesburg","South Africa",2005,1.400393764781195,1.4180488692090372,1.4264628946482691,1.4739179736524364,1.4989373115142046,1.5037176416563662,1.5697051306713568,1.6336931589633508,1.6967007446448907,1.8261934530320076,1.9044088402922943,2.018298397468846,2.2406465961218118,2.6513228752481419,3.0729096369392161,3.4008068974530357,3.7550638828295422,4.174449386217896,4.6620113394648195,5.3673988294283888,6.7046663683964693,7.3702562387081008,8.3974035588812157,9.7887558608554546,10.916388345611933,12.750403170463368,14.925842578840362,17.089717526826377,19.684485212008294,23.081790908373886,26.66443274741674,30.857950403826617,35.354309175355844,39.981328738729445,43.81714147777879,48.308541302435607,52.21653877282003,56.44945966834819,60.801946039688694,65.102607192080313,70.83785053400247,76.268936070023372,84.467429053651983,89.155565457549173,94.836463784819713,100,106.52761311561964,115.13392512984213,124.68790850753804,134.22732205814611,144.779748719444,156.37026103727024]
[null,"Busan","South Korea",2005,0.65210947806568753,0.7440350451112433,0.88130087063210349,1.1321388000369341,1.504855050213209,1.6014694421373816,1.8255106610466092,2.1194942408528985,2.4573431376818076,2.8159698458246911,3.3347074521567945,3.8119745190562542,4.5003821872290493,5.1938011246124693,6.910840239281911,8.710457127633914,10.849616886733369,12.657717294843609,15.6116745519492,18.748344624363401,23.25570843301676,27.49736491607274,29.331081842268009,31.152733036771892,33.023237614316074,34.597263373442487,36.503303364737867,38.566092104063394,41.49963873106605,43.879884222292581,48.495733729004186,53.667726516111323,57.758266656880686,61.425522372403087,66.238323851542091,71.131447534366131,74.772697660977997,78.224855998124269,82.778888469551021,82.696620520842927,86.843017148312882,90.195104322867124,93.108699992311344,96.424573786735678,99.349685746324084,100.00002311494984,99.856579151232523,101.93394872738469,104.90067029208416,108.497307169509,112.41858628567387,114.38010144103067]
[null,"Seoul","South Korea",2005,0.65210947806568753,0.7440350451112433,0.88130087063210349,1.1321388000369341,1.504855050213209,1.6014694421373816,1.8255106610466092,2.1194942408528985,2.4573431376818076,2.8159698458246911,3.3347074521567945,3.8119745190562542,4.5003821872290493,5.1938011246124693,6.910840239281911,8.710457127633914,10.849616886733369,12.657717294843609,15.6116745519492,18.748344624363401,23.25570843301676,27.49736491607274,29.331081842268009,31.152733036771892,33.023237614316074,34.597263373442487,36.503303364737867,38.566092104063394,41.49963873106605,43.879884222292581,48.495733729004186,53.667726516111323,57.758266656880686,61.425522372403087,66.238323851542091,71.131447534366131,74.772697660977997,78.224855998124269,82.778888469551021,82.696620520842927,86.843017148312882,90.195104322867124,93.108699992311344,96.424573786735678,99.349685746324084,100.00002311494984,99.856579151232523,101.93394872738469,104.90067029208416,108.497307169509,112.41858628567387,114.38010144103067]
[null,"Barcelona","Spain",2005,3.5440970125806817,3.6315082581607059,3.852879250121974,4.1551520636481243,4.4150285541895222,4.8196600336097521,5.2136066755734349,5.6587297678996196,5.9932246469932116,6.3008718896501792,5.4323228554671683,5.8585440689834263,6.3575704438887142,7.1109168198100159,8.2447602820699242,9.6283779682792225,11.216089958402103,13.838756143440511,16.693835778278679,19.520374533322528,22.127286781661688,24.860270520978062,28.236872846116938,31.592612213614025,35.025065389493896,38.035637694686123,42.173464928350732,44.68033931582422,47.332620645850803,50.596770028478801,54.303616483282703,58.069648038711762,61.966569252873562,64.778141988259691,67.291431553911679,70.611005166860338,73.05317709358799,74.794803711146272,76.649766332034858,78.663342375084213,81.333408847692752,84.743074693989357,88.432016572089466,92.113096246953887,95.836898354554847,99.999999999999986,104.14048309158326,107.54346317762358,110.09702831758166,110.17820321399263,110.62423899406788,112.14947087857266]
[null,"Madrid","Spain",2005,3.5440970125806817,3.6315082581607059,3.852879250121974,4.1551520636481243,4.4150285541895222,4.8196600336097521,5.2136066755734349,5.6587297678996196,5.9932246469932116,6.3008718896501792,5.4323228554671683,5.8585440689834263,6.3575704438887142,7.1109168198100159,8.2447602820699242,9.6283779682792225,11.216089958402103,13.838756143440511,16.693835778278679,19.520374533322528,22.127286781661688,24.860270520978062,28.236872846116938,31.592612213614025,35.025065389493896,38.035637694686123,42.173464928350732,44.68033931582422,47.332620645850803,50.596770028478801,54.303616483282703,58.069648038711762,61.966569252873562,64.778141988259691,67.291431553911679,70.611005166860338,73.05317709358799,74.794803711146272,76.649766332034858,78.663342375084213,81.333408847692752,84.743074693989357,88.432016572089466,92.113096246953887,95.836898354554847,99.999999999999986,104.14048309158326,107.54346317762358,110.09702831758166,110.17820321399263,110.62423899406788,112.14947087857266]
[null,"Seville","Spain",2005,3.5440970125806817,3.6315082581607059,3.852879250121974,4.1551520636481243,4.4150285541895222,4.8196600336097521,5.2136066755734349,5.6587297678996196,5.9932246469932116,6.3008718896501792,5.4323228554671683,5.8585440689834263,6.3575704438887142,7.1109168198100159,8.2447602820699242,9.6283779682792225,11.216089958402103,13.838756143440511,16.693835778278679,19.520374533322528,22.127286781661688,24.860270520978062,28.236872846116938,31.592612213614025,35.025065389493896,38.035637694686123,42.173464928350732,44.68033931582422,47.332620645850803,50.596770028478801,54.303616483282703,58.069648038711762,61.966569252873562,64.778141988259691,67.291431553911679,70.611005166860338,73.05317709358799,74.794803711146272,76.649766332034858,78.663342375084213,81.333408847692752,84.743074693989357,88.432016572089466,92.113096246953887,95.836898354554847,99.999999999999986,104.14048309158326,107.54346317762358,110.09702831758166,110.17820321399263,110.62423899406788,112.14947087857266]
[null,"Valencia","Spain",2005,3.5440970125806817,3.6315082581607059,3.852879250121974,4.1551520636481243,4.4150285541895222,4.8196600336097521,5.2136066755734349,5.6587297678996196,5.9932246469932116,6.3008718896501792,5.4323228554671683,5.8585440689834263,6.3575704438887142,7.1109168198100159,8.2447602820699242,9.6283779682792225,11.216089958402103,13.838756143440511,16.693835778278679,19.520374533322528,22.127286781661688,24.860270520978062,28.236872846116938,31.592612213614025,35.025065389493896,38.035637694686123,42.173464928350732,44.68033931582422,47.332620645850803,50.596770028478801,54.303616483282703,58.069648038711762,61.966569252873562,64.778141988259691,67.291431553911679,70.611005166860338,73.05317709358799,74.794803711146272,76.649766332034858,78.663342375084213,81.333408847692752,84.743074693989357,88.432016572089466,92.113096246953887,95.836898354554847,99.999999999999986,104.14048309158326,107.54346317762358,110.09702831758166,110.17820321399263,110.62423899406788,112.14947087857266]
[null,"Stockholm","Sweden",2005,9.8825339897788158,10.172962745104298,10.581847012127499,10.874246798699144,11.352332723569686,12.032763312728436,12.820894743937039,13.462997385993367,13.785013757815115,14.256102647971167,14.011564036733182,15.007836277874109,16.054334876387713,17.183558285706141,18.808829815369936,21.538433568467749,24.105590136605141,26.643802920375254,29.188085974022002,31.50647446422094,35.198003736692371,38.535316384162954,41.660349009235325,45.905782778834983,49.375318864806026,52.615089594973426,56.051880369839161,58.777085348913886,62.50650828137676,67.477217815153764,73.358343259718353,79.944048556211712,80.725670901425332,83.344516312309338,85.532884995001297,88.713354250416714,89.445048598774733,90.800785222632413,91.285597016506486,92.105430910837271,93.417528598061011,95.631775847837403,97.097597861304237,98.812287998707802,99.122153172090535,100,101.94226521441085,104.75552493408415,108.04224016227646,110.26382029971349,111.390966932353,112.40306060707491]
[null,"Bern","Switzerland",2005,24.241601180693216,25.225395432866954,26.695296431406852,27.989420446482477,29.475862506570248,30.595132208611776,32.065231257945072,33.493197129256593,34.525157949718718,35.413970673890773,null,null,null,null,null,null,null,null,null,null,58.661212173211872,61.982086368628984,66.536555484580745,68.111398654541389,70.672140638788278,72.276914562081842,74.470225431982627,76.103716738435494,78.227191902104991,80.932648361225617,84.65848097752388,89.256348456572383,91.059732149230896,93.228432929089905,94.408436197309882,95.101619867900965,95.28533138989323,95.161282234649221,95.436470869986522,96.023344066801755,97.109982575153737,97.88232251044424,98.342205879855698,99.325092898372816,99.891932991407998,100,102.06130402917309,104.60631472981339,107.16386894469194,107.33576672462364,107.41052750616598,108.09762770552025]
[null,"Geneva","Switzerland",2005,24.241601180693216,25.225395432866954,26.695296431406852,27.989420446482477,29.475862506570248,30.595132208611776,32.065231257945072,33.493197129256593,34.525157949718718,35.413970673890773,null,null,null,null,null,null,null,null,null,null,58.661212173211872,61.982086368628984,66.536555484580745,68.111398654541389,70.672140638788278,72.276914562081842,74.470225431982627,76.103716738435494,78.227191902104991,80.932648361225617,84.65848097752388,89.256348456572383,91.059732149230896,93.228432929089905,94.408436197309882,95.101619867900965,95.28533138989323,95.161282234649221,95.436470869986522,96.023344066801755,97.109982575153737,97.88232251044424,98.342205879855698,99.325092898372816,99.891932991407998,100,102.06130402917309,104.60631472981339,107.16386894469194,107.33576672462364,107.41052750616598,108.09762770552025]
[null,"Zurich","Switzerland",2005,24.241601180693216,25.225395432866954,26.695296431406852,27.989420446482477,29.475862506570248,30.595132208611776,32.065231257945072,33.493197129256593,34.525157949718718,35.413970673890773,null,null,null,null,null,null,null,null,null,null,58.661212173211872,61.982086368628984,66.536555484580745,68.111398654541389,70.672140638788278,72.276914562081842,74.470225431982627,76.103716738435494,78.227191902104991,80.932648361225617,84.65848097752388,89.256348456572383,91.059732149230896,93.228432929089905,94.408436197309882,95.101619867900965,95.28533138989323,95.161282234649221,95.436470869986522,96.023344066801755,97.109982575153737,97.88232251044424,98.342205879855698,99.325092898372816,99.891932991407998,100,102.06130402917309,104.60631472981339,107.16386894469194,107.33576672462364,107.41052750616598,108.09762770552025]
[null,"Bangkok","Thailand",1988,27.217570926070433,28.224252291517921,28.37680573096506,28.045723059407791,28.796719112756936,30.039752754954606,32.516627893719267,31.974348883944625,31.893460330480998,32.956587720209747,31.310339239987549,31.064138994707335,33.032654286633161,39.125740986991325,47.081835175880506,48.724064883995325,50.91522632999822,53.9776238548896,59.211929978123038,64.331147105197701,72.502798824798404,78.573037477527791,82.547147464080751,85.559422075392291,86.798210788693638,88.68798600965566,90.154135448484112,94.412304278096187,100,106.11674386644849,112.24305872317832,118.69313170096649,124.02299168711019,128.09955180300466,134.77078524351066,142.30413536755853,148.01094675385227,154.02547679841544,168.25376396244064,161.45930523687412,163.63280692966131,167.01914139148184,168.38345007571726,170.61954358586064,175.95291347596341,183.84805777265484,193.48702085384551,200.16776136140049,208.03696269708371,212.08670418675064,219.85584772520772,229.19606884159219]
[null,"Dubai","UAE",2007,null,null,null,null,null,null,null,null,null,null,null,null,null,null,null,31.611302773895883,35.333322320735491,37.190355559927539,35.828775163951079,38.355069461664797,42.004928690653827,44.968159654921877,45.558532561455394,43.910217014437379,41.232805934439028,41.538148429414626,40.83262907339909,42.337550249669839,43.345626690030855,44.104728499083677,45.576018371354955,45.945570937437083,46.775727504016054,47.373538284844017,47.249194631859375,49.095447339652736,51.929749078070884,51.435221698802771,49.246938320601402,53.40504320592202,59.525013251952565,58.126587553275911,60.318447902987963,62.774860473428099,68.111616306087924,79.367753514807063,88.802132947794391,100,118.07184994041609,103.03830705842061,111.84708527015978,129.04570967878942]
[null,"Glasgow","UK",2005,7.1212746854357478,7.3617143107007328,7.635396240777359,7.7860269793506287,8.1017178823076748,8.4902628641431725,8.8569283385844972,9.112701434869992,9.4960828527394003,10.013775249323659,10.10895622926062,11.052712752170603,11.948300487233496,12.831714252200378,14.727037982035418,18.722681826857933,21.576897355608686,24.51763931660561,27.376241949806563,31.367681764885308,37.446619166973385,41.66222489673391,44.700364017542263,47.125655158448424,49.28231627658343,52.14954773128666,53.933086484310358,56.817610186064606,60.385724166276169,64.80856837724761,69.817725534432526,74.327292354315645,77.121420906822863,79.339835615800638,80.594699863245879,82.753266060771395,85.748145248174282,85.723636685073927,87.441812374914633,89.128671532400503,89.680300088332444,90.979018401032647,93.285927448414085,95.478858338719249,97.859878143021675,100,103.23266327523335,105.57177474305087,108.88087044753452,110.68278726820564,113.84987189502004,116.49789502032475]
[null,"London","UK",2005,7.1212746854357478,7.3617143107007328,7.635396240777359,7.7860269793506287,8.1017178823076748,8.4902628641431725,8.8569283385844972,9.112701434869992,9.4960828527394003,10.013775249323659,10.10895622926062,11.052712752170603,11.948300487233496,12.831714252200378,14.727037982035418,18.722681826857933,21.576897355608686,24.51763931660561,27.376241949806563,31.367681764885308,37.446619166973385,41.66222489673391,44.700364017542263,47.125655158448424,49.28231627658343,52.14954773128666,53.933086484310358,56.817610186064606,60.385724166276169,64.80856837724761,69.817725534432526,74.327292354315645,77.121420906822863,79.339835615800638,80.594699863245879,82.753266060771395,85.748145248174282,85.723636685073927,87.441812374914633,89.128671532400503,89.680300088332444,90.979018401032647,93.285927448414085,95.478858338719249,97.859878143021675,100,103.23266327523335,105.57177474305087,108.88087044753452,110.68278726820564,113.84987189502004,116.49789502032475]
[null,"Manchester","UK",2005,7.1212746854357478,7.3617143107007328,7.635396240777359,7.7860269793506287,8.1017178823076748,8.4902628641431725,8.8569283385844972,9.112701434869992,9.4960828527394003,10.013775249323659,10.10895622926062,11.052712752170603,11.948300487233496,12.831714252200378,14.727037982035418,18.722681826857933,21.576897355608686,24.51763931660561,27.376241949806563,31.367681764885308,37.446619166973385,41.66222489673391,44.700364017542263,47.125655158448424,49.28231627658343,52.14954773128666,53.933086484310358,56.817610186064606,60.385724166276169,64.80856837724761,69.817725534432526,74.327292354315645,77.121420906822863,79.339835615800638,80.594699863245879,82.753266060771395,85.748145248174282,85.723636685073927,87.441812374914633,89.128671532400503,89.680300088332444,90.979018401032647,93.285927448414085,95.478858338719249,97.859878143021675,100,103.23266327523335,105.57177474305087,108.88087044753452,110.68278726820564,113.84987189502004,116.49789502032475]
[null,"Newcastle upon Tyne","UK",2005,7.1212746854357478,7.3617143107007328,7.635396240777359,7.7860269793506287,8.1017178823076748,8.4902628641431725,8.8569283385844972,9.112701434869992,9.4960828527394003,10.013775249323659,10.10895622926062,11.052712752170603,11.948300487233496,12.831714252200378,14.727037982035418,18.722681826857933,21.576897355608686,24.51763931660561,27.376241949806563,31.367681764885308,37.446619166973385,41.66222489673391,44.700364017542263,47.125655158448424,49.28231627658343,52.14954773128666,53.933086484310358,56.817610186064606,60.385724166276169,64.80856837724761,69.817725534432526,74.327292354315645,77.121420906822863,79.339835615800638,80.594699863245879,82.753266060771395,85.748145248174282,85.723636685073927,87.441812374914633,89.128671532400503,89.680300088332444,90.979018401032647,93.285927448414085,95.478858338719249,97.859878143021675,100,103.23266327523335,105.57177474305087,108.88087044753452,110.68278726820564,113.84987189502004,116.49789502032475]
[null,"Chicago","USA",2005,null,null,null,null,null,null,null,null,null,null,24.322399962025923,25.535087518065652,26.631592677942518,28.107231561877782,30.659871244635195,33.562819161032891,35.479505785448126,37.739668259769473,40.385400216477102,43.754623178682628,47.745152163411774,52.219997644564828,55.401647785787844,57.593076152469166,59.756097560975604,61.58102301489199,62.957956889805786,64.802581677262765,67.059244343172068,69.583626479053407,72.222640845954842,74.677025359490287,76.249969557487631,77.921662859104416,79.50816876428253,81.357886451069305,82.798513042920931,84.394676588437321,85.5802933286338,86.835152318622733,88.714028374006332,90.725259527841061,92.198532164404554,94.140668109851873,96.787372635240459,100,103.22598151708739,106.21861781443047,108.56748007207648,109.72204634671394,110.98640239686563,114.01775561781437]
[null,"New York","USA",2005,null,null,null,null,null,null,null,null,null,null,24.322399962025923,25.535087518065652,26.631592677942518,28.107231561877782,30.659871244635195,33.562819161032891,35.479505785448126,37.739668259769473,40.385400216477102,43.754623178682628,47.745152163411774,52.219997644564828,55.401647785787844,57.593076152469166,59.756097560975604,61.58102301489199,62.957956889805786,64.802581677262765,67.059244343172068,69.583626479053407,72.222640845954842,74.677025359490287,76.249969557487631,77.921662859104416,79.50816876428253,81.357886451069305,82.798513042920931,84.394676588437321,85.5802933286338,86.835152318622733,88.714028374006332,90.725259527841061,92.198532164404554,94.140668109851873,96.787372635240459,100,103.22598151708739,106.21861781443047,108.56748007207648,109.72204634671394,110.98640239686563,114.01775561781437]
[null,"Washington DC","USA",2005,null,null,null,null,null,null,null,null,null,null,24.322399962025923,25.535087518065652,26.631592677942518,28.107231561877782,30.659871244635195,33.562819161032891,35.479505785448126,37.739668259769473,40.385400216477102,43.754623178682628,47.745152163411774,52.219997644564828,55.401647785787844,57.593076152469166,59.756097560975604,61.58102301489199,62.957956889805786,64.802581677262765,67.059244343172068,69.583626479053407,72.222640845954842,74.677025359490287,76.249969557487631,77.921662859104416,79.50816876428253,81.357886451069305,82.798513042920931,84.394676588437321,85.5802933286338,86.835152318622733,88.714028374006332,90.725259527841061,92.198532164404554,94.140668109851873,96.787372635240459,100,103.22598151708739,106.21861781443047,108.56748007207648,109.72204634671394,110.98640239686563,114.01775561781437]
[null,"Danang","Vietnam",1994,null,null,null,null,null,null,null,null,null,null,null,null,null,null,null,null,null,null,null,null,null,null,null,null,null,0.11209282624296169,0.55830421995396828,2.5824713255125911,13.197468224108238,22.394615068934591,31.821649389360719,54.907108367626556,72.822848763677868,85.504933034830771,100,117.0401885541897,127.21890332574672,135.61205412559173,147.59725902729792,156.06151802795182,161.38138611330308,164.52562231152177,171.00627049728809,182.44037741729403,197.36145791659195,213.52285188700128,229.038044257628,247.90936914753416,302.78596740189784,321.04001796472102,359.11560543790984,434.0223852117141]
[null,"Hanoi","Vietnam",1994,null,null,null,null,null,null,null,null,null,null,null,null,null,null,null,null,null,null,null,null,null,null,null,null,null,0.11209282624296169,0.55830421995396828,2.5824713255125911,13.197468224108238,22.394615068934591,31.821649389360719,54.907108367626556,72.822848763677868,85.504933034830771,100,117.0401885541897,127.21890332574672,135.61205412559173,147.59725902729792,156.06151802795182,161.38138611330308,164.52562231152177,171.00627049728809,182.44037741729403,197.36145791659195,213.52285188700128,229.038044257628,247.90936914753416,302.78596740189784,321.04001796472102,359.11560543790984,434.0223852117141]
[null,"Ho Chi Minh City","Vietnam",1994,null,null,null,null,null,null,null,null,null,null,null,null,null,null,null,null,null,null,null,null,null,null,null,null,null,0.11209282624296169,0.55830421995396828,2.5824713255125911,13.197468224108238,22.394615068934591,31.821649389360719,54.907108367626556,72.822848763677868,85.504933034830771,100,117.0401885541897,127.21890332574672,135.61205412559173,147.59725902729792,156.06151802795182,161.38138611330308,164.52562231152177,171.00627049728809,182.44037741729403,197.36145791659195,213.52285188700128,229.038044257628,247.90936914753416,302.78596740189784,321.04001796472102,359.11560543790984,434.0223852117141]

{"sheet":"CPI 1960-2011","index":3,"n_rows":97,"n_cols":55,"rows_kept":97,"cut":false,"hidden":true,"merged":[]}
[]
[null,"CITY","Country","1960","1961","1962","1963","1964","1965","1966","1967","1968","1969","1970","1971","1972","1973","1974","1975","1976","1977","1978","1979","1980","1981","1982","1983","1984","1985","1986","1987","1988","1989","1990","1991","1992","1993","1994","1995","1996","1997","1998","1999","2000","2001","2002","2003","2004","2005","2006","2007","2008","2009","2010","2011"]
[null,"Buenos Aires","Argentina",4.2916802091186699E-11,4.86652256657963E-11,6.2447160447159199E-11,7.7371639044593303E-11,9.4545500779918601E-11,1.21609507423113E-10,1.6042029267529199E-10,2.0726458913422499E-10,2.40862518225578E-10,2.5910751478847E-10,2.9431214612117402E-10,3.9653411316532302E-10,6.2829198535658201E-10,1.01311502440717E-9,1.2509426606213099E-9,3.5392524056602998E-9,1.9252312654927899E-8,5.3136731622419501E-8,1.46399519459751E-7,3.7991717025575099E-7,7.6273831454508697E-7,1.5596171208148501E-6,4.1295044696521798E-6,1.8327181715147899E-5,1.3318703692615801E-4,1.0284445288532399E-3,1.95503813442889E-3,4.5225314754043901E-3,2.0032784280325899E-2,0.63700441833749999,15.3770615629481,41.775124015037001,52.177108421876802,57.713879201595901,60.124788343638798,62.154671453815702,62.251443729389102,62.579669606593399,63.155613126970799,62.4186531385309,61.834452363381097,61.1749041384329,76.999932909804997,87.350917845475806,91.208087981049601,100,110.901124534884,120.695260851839,131.055758640904,139.28969618290199,154.30528622012099,168.91134051870199]
[null,"Melbourne","Australia",9.2425688936212307,9.4747544667694008,9.4483697425774,9.4985007185923305,9.7227708744486101,10.107987848037,10.4087737041002,10.7412212292519,11.026176250810501,11.3480698862748,11.7913332531436,12.506359279488301,13.2398546127594,14.4931290130799,16.683061123205899,19.1975253412444,21.793782204280699,24.4744701848687,26.4137474150256,28.814757318793099,31.7327074270253,34.808160523805398,38.687707826878899,42.6004136538266,44.283208744653699,47.2674759007174,51.561504753421403,55.938429915769802,59.983769838546202,64.518197989691203,69.210129129632705,71.440550058695294,72.144893509978203,73.452959919503598,74.844876739895994,78.316283749790401,80.362233774945494,80.563474761026299,81.2510481301358,82.441723964447405,86.131142042595997,89.904410531611603,92.604393761529494,95.170216334060001,97.400637263122604,100,103.538487338588,105.953379171558,110.565151769244,112.577561630052,115.780647325172,119.704846553748]
[null,"Vienna","Austria",19.4725840415677,20.162352889918498,21.045823949163601,21.615906878633002,22.452133496192399,23.559228246008999,24.0789171043793,25.036054059137999,25.7303295022739,26.522927190313201,27.682728364134,28.984996464256199,30.829040199146501,33.148642546888297,36.304987264047703,39.371036041944997,42.252479788789103,44.565803056979,46.160834168970297,47.8720596004163,50.900153985279601,54.364857328030901,57.322530913210599,59.234455623547703,62.5900067268093,64.586436396900098,65.685000871479204,66.604590883679904,67.890922150746107,69.631574673840305,71.903180953979401,74.300683485788397,77.294824775513106,80.097384812696504,82.467518594142106,84.323119868761395,85.877664889386594,87.001232520572898,87.802755475102899,88.296552034883703,90.411413605672493,92.819469123406407,94.492164782307896,95.773056015106803,97.747138091528697,100,101.449635626725,103.649627725087,106.98294908624101,107.524613807428,109.47460680370401,113.051075331669]
[null,"Curritiba","Brazil",null,null,null,null,null,null,null,null,null,null,null,null,null,null,null,null,null,null,null,null,4.49067989561526E-10,9.0588159723921602E-10,1.8166866436691201E-9,4.2697149292999297E-9,1.2472766806269E-8,4.0660166629915799E-8,1.0048841645809401E-7,3.2993877746235602E-7,2.4056322172069299E-6,3.6823571209063403E-5,1.12228410565646E-3,5.9793569005811001E-3,6.28818147587802E-2,1.27523282651299,27.747627614246198,46.063247328204703,53.321634090022599,57.014326250951598,58.837981867257199,61.696311163402299,66.042632708145902,70.558516160287894,76.520866495951296,87.781161326043303,93.573949754308302,100,104.183680531525,107.972870094816,114.087480102429,119.662260364039,125.69122430618,134.032343645466]
[null,"Sao Paulo","Brazil",null,null,null,null,null,null,null,null,null,null,null,null,null,null,null,null,null,null,null,null,4.49067989561526E-10,9.0588159723921602E-10,1.8166866436691201E-9,4.2697149292999297E-9,1.2472766806269E-8,4.0660166629915799E-8,1.0048841645809401E-7,3.2993877746235602E-7,2.4056322172069299E-6,3.6823571209063403E-5,1.12228410565646E-3,5.9793569005811001E-3,6.28818147587802E-2,1.27523282651299,27.747627614246198,46.063247328204703,53.321634090022599,57.014326250951598,58.837981867257199,61.696311163402299,66.042632708145902,70.558516160287894,76.520866495951296,87.781161326043303,93.573949754308302,100,104.183680531525,107.972870094816,114.087480102429,119.662260364039,125.69122430618,134.032343645466]
[null,"Toronto","Canada",14.5211395653265,14.646890143368701,14.819513042579301,15.0817044271474,15.352038401380799,15.7298545580561,16.3177495259952,16.900758940184101,17.5912505369452,18.384338762397899,19.003175570739501,19.542215001240599,20.475355767470599,22.033847413872302,24.427768751465202,27.0692248124565,29.101615172688302,31.427138757809299,34.228189574611903,37.358201010667997,41.162418864268602,46.2922503020582,51.293366285915504,54.276667342680199,56.631636156325001,58.869111948898599,61.3262486069533,64.0030461304884,66.577675809614107,69.903239145151502,73.233910872909803,77.346166610402094,78.5108800366732,79.956555035071005,80.104698409465399,81.841551764430903,83.126898808132694,84.474565708498901,85.315883773467306,86.7959803692452,89.156344940406598,91.407649762405498,93.471995014411405,96.050479083898097,97.834384980914606,100,102.002025395342,104.18322037859301,106.652644698917,106.97203396432199,108.872789592584,112.043312300381]
[null,"Vancouver","Canada",14.5211395653265,14.646890143368701,14.819513042579301,15.0817044271474,15.352038401380799,15.7298545580561,16.3177495259952,16.900758940184101,17.5912505369452,18.384338762397899,19.003175570739501,19.542215001240599,20.475355767470599,22.033847413872302,24.427768751465202,27.0692248124565,29.101615172688302,31.427138757809299,34.228189574611903,37.358201010667997,41.162418864268602,46.2922503020582,51.293366285915504,54.276667342680199,56.631636156325001,58.869111948898599,61.3262486069533,64.0030461304884,66.577675809614107,69.903239145151502,73.233910872909803,77.346166610402094,78.5108800366732,79.956555035071005,80.104698409465399,81.841551764430903,83.126898808132694,84.474565708498901,85.315883773467306,86.7959803692452,89.156344940406598,91.407649762405498,93.471995014411405,96.050479083898097,97.834384980914606,100,102.002025395342,104.18322037859301,106.652644698917,106.97203396432199,108.872789592584,112.043312300381]
[null,"Santiago","Chile",null,null,null,null,null,null,null,null,null,null,null,null,null,null,null,null,null,null,null,null,null,null,null,null,null,null,null,null,null,null,null,null,null,null,null,null,null,null,null,null,null,null,null,null,null,null,null,null,null,100,101.409964750881,104.797380065498]
[null,"Beijing","China",null,null,null,null,null,null,null,null,null,null,null,null,null,null,null,null,null,null,null,null,null,null,null,null,null,null,30.114221051666,32.288463532995102,38.338167850509997,45.366721029740397,46.754176300705602,48.410945743677402,51.480366664351102,58.987885471643096,73.284831194230094,85.6678160050797,92.798817911702002,95.403535208127707,94.5977319926794,93.265898536585794,93.504010831475199,94.179953670510599,93.458582987050605,94.538879823589795,98.210942567780506,100,101.4631890432,106.282991484517,112.51583393704099,111.724904853925,115.428078139243,121.673694807982]
[null,"Guangzhou","China",null,null,null,null,null,null,null,null,null,null,null,null,null,null,null,null,null,null,null,null,null,null,null,null,null,null,30.114221051666,32.288463532995102,38.338167850509997,45.366721029740397,46.754176300705602,48.410945743677402,51.480366664351102,58.987885471643096,73.284831194230094,85.6678160050797,92.798817911702002,95.403535208127707,94.5977319926794,93.265898536585794,93.504010831475199,94.179953670510599,93.458582987050605,94.538879823589795,98.210942567780506,100,101.4631890432,106.282991484517,112.51583393704099,111.724904853925,115.428078139243,121.673694807982]
[null,"Hongkong","China",null,null,null,null,null,null,null,null,null,null,null,null,null,null,null,null,null,null,null,null,null,32.297447280799098,35.849056603773597,39.400665926748097,42.841287458379597,44.395116537180897,45.948945615982197,48.501664816870203,52.386237513873503,57.713651498335203,63.596004439511702,70.810210876803595,77.580466148723701,84.350721420643694,91.786903440621501,100.11098779134301,106.437291897891,112.652608213097,115.87125416204201,111.20976692563799,107.103218645949,105.327413984462,102.10876803551599,99.5560488346282,99.1120976692564,100,102.10876803551599,104.10654827968899,108.54605993340699,109.21198668146501,111.764705882353,117.64705882352899]
[null,"Kunming","China",null,null,null,null,null,null,null,null,null,null,null,null,null,null,null,null,null,null,null,null,null,null,null,null,null,null,30.114221051666,32.288463532995102,38.338167850509997,45.366721029740397,46.754176300705602,48.410945743677402,51.480366664351102,58.987885471643096,73.284831194230094,85.6678160050797,92.798817911702002,95.403535208127707,94.5977319926794,93.265898536585794,93.504010831475199,94.179953670510599,93.458582987050605,94.538879823589795,98.210942567780506,100,101.4631890432,106.282991484517,112.51583393704099,111.724904853925,115.428078139243,121.673694807982]
[null,"Shanghai","China",null,null,null,null,null,null,null,null,null,null,null,null,null,null,null,null,null,null,null,null,null,null,null,null,null,null,30.114221051666,32.288463532995102,38.338167850509997,45.366721029740397,46.754176300705602,48.410945743677402,51.480366664351102,58.987885471643096,73.284831194230094,85.6678160050797,92.798817911702002,95.403535208127707,94.5977319926794,93.265898536585794,93.504010831475199,94.179953670510599,93.458582987050605,94.538879823589795,98.210942567780506,100,101.4631890432,106.282991484517,112.51583393704099,111.724904853925,115.428078139243,121.673694807982]
[null,"Wuhan","China",null,null,null,null,null,null,null,null,null,null,null,null,null,null,null,null,null,null,null,null,null,null,null,null,null,null,30.114221051666,32.288463532995102,38.338167850509997,45.366721029740397,46.754176300705602,48.410945743677402,51.480366664351102,58.987885471643096,73.284831194230094,85.6678160050797,92.798817911702002,95.403535208127707,94.5977319926794,93.265898536585794,93.504010831475199,94.179953670510599,93.458582987050605,94.538879823589795,98.210942567780506,100,101.4631890432,106.282991484517,112.51583393704099,111.724904853925,115.428078139243,121.673694807982]
[null,"Bogota","Colombia",7.1879605636760296E-2,7.7833530271025006E-2,8.1489444312942902E-2,0.102966342268559,0.12054520434711299,0.129695409487633,0.151391075831493,0.16399921433515,0.17621311942686799,0.188515725727222,0.201539566058132,0.22473676478620899,0.25539067722049302,0.309584445236052,0.38568714997491499,0.47503764726979802,0.570602988987988,0.762973237779772,0.89566186798198799,1.1149819944986401,1.4108260779521999,1.7988630245261601,2.2406900281838,2.68279627832649,3.1162113808824401,3.8655262033918301,4.5950408635435798,5.6657141433147702,7.2582764832481397,9.1357209243280604,11.7983697755887,15.3819849494274,19.5385965263896,23.9227475435762,29.388583462006199,35.528877189914702,42.9181759354409,50.844359429225598,60.340154479733897,66.901991887070906,73.071113827718094,78.893762186462098,83.903614977931994,89.886938048038104,95.194472459084693,100,104.29633343543399,110.07826552447899,117.780431598747,122.730664353195,125.52673908888499,129.80922955611399]
[null,"Prague","Czech Republic",null,null,null,null,null,null,null,null,null,null,null,null,null,null,null,null,null,null,null,null,null,null,null,null,null,null,null,null,null,null,null,null,null,53.767952234952404,59.125383249959597,64.547361626593499,70.227529449733694,76.230434081006905,84.331127965144404,86.138454090688995,89.500295842073896,93.712011188209104,95.384863643698594,95.487601527621095,98.187294927653397,100,102.52810499704201,105.52955731267799,112.231725028239,113.404335431123,115.00188263138099,117.228766607498]
[null,"Copenhagen","Denmark",9.1593650688314199,9.4755123318046799,10.174598532911199,10.7957611129569,11.1296506319143,11.7362165912702,12.5653755633478,13.5967231886554,14.678154241667301,15.190118170707599,16.179729606052799,17.129459793337201,18.253554507169799,19.951753699394999,22.999423030758301,25.208658681221099,27.477437962530999,30.538189270616598,33.594739135672597,36.823548168425603,41.354804566417101,46.231193770318299,50.8958947607167,54.411431163529102,57.851364632947799,60.542829061767598,62.795796476903298,65.298253572238593,68.269448854615604,71.535495577228403,73.433129205413195,75.1719966734709,76.752097981401704,77.712255235503093,79.262115370076401,80.925379904740296,82.634006199440506,84.448476600892107,86.013457322144106,88.145460043849695,90.723520072578793,92.855522794284397,95.108490209419799,97.096847357677504,98.223331065245304,100,101.890073334845,103.63650109624299,107.159597792394,108.580932940198,111.075829742194,114.137748544643]
[null,"Cairo","Egypt",2.0927591833079502,2.1072747023679002,2.0439916291381799,2.0592530049117901,2.1346419062953901,2.4514015140102701,2.6729209571174399,2.69168212207421,2.6465760052341101,2.7368194906507002,2.8398032328341301,2.9289850301912699,2.9905629378788099,3.1434460190679201,3.4585550363708299,3.7929867764484002,4.1843249967416103,4.7170800671144804,5.23964293207771,5.7585960576285196,6.9574911238157702,7.6753152579569601,8.8130279178753703,10.2301516923735,11.972997815911899,13.422539454532499,16.625733171399101,19.899937447772199,23.414960143340998,28.393417847868601,33.1511253348,39.697990179730802,45.111773488189101,50.565693199846898,54.688936774666402,63.298195260914603,67.847502192772794,70.985860181394401,73.734841185883596,76.005504976042999,78.045344787533594,79.816784623828198,82.001560421924793,85.698007380073804,95.356703567035694,100,107.64452644526401,117.67588655732099,139.23038062970201,155.60874010428401,173.13835763432101,190.545544240754]
[null,"Tallinn","Estonia",null,null,null,null,null,null,null,null,null,null,null,null,null,null,null,null,null,null,null,null,null,null,null,null,null,null,null,null,null,null,null,null,14.711001873307,27.9232393772295,41.2299727131848,53.094562698070497,65.333041699900207,72.246505075317003,78.176739033582294,80.753531047935496,84.004623776324806,88.825873881684004,91.9980975086999,93.229298366024906,96.0709942323207,100,104.429914869535,111.31982323688401,122.85879420582999,122.756444990307,126.407301713447,132.69937025129701]
[null,"Helsinki","Finland",8.6719687823618603,8.8285176361838005,9.2222458571751993,9.6709494282041994,10.672547947825,11.1866983640732,11.6270247388847,12.2814931913445,13.410367107090201,13.706146401438099,14.0807319438048,14.9936562710486,16.0641930941967,17.829018175311202,20.8016370524902,24.506698508808899,28.021619478470502,31.5686768684123,34.030828484837002,36.571895217200101,40.8122674455064,45.712896143635199,50.0860965409953,54.276445354238298,58.112519222367801,61.521939393118799,63.3060756355192,65.889997090030207,69.248069615237696,73.841707756590793,78.348189817136799,81.572964806992999,83.695471716055593,85.453973817041998,86.381929736221295,87.232983231159906,87.770875136760196,88.819764352680195,90.0624691060451,91.106531832434101,94.174696337214797,96.5914440852453,98.100342111044895,98.961112331690799,99.146291704591803,100,101.566666666667,104.116666666667,108.35,108.35,109.666666666667,113.48333333333299]
[null,"Marseilles","France",11.1837480941882,11.4537865882776,12.054795339256,12.650264839059499,13.058784612176099,13.4132966865137,13.7581150712916,14.145862652609599,14.7898006000864,15.683004849743201,16.599750916959199,17.495724792251899,18.556491389559302,19.926071239153,22.645843559193601,25.2922208014466,27.7267216867324,30.3592508010411,33.167651139714501,36.698923754924103,41.667632046395497,47.223316319201999,52.879949742434398,57.882154191132898,62.323916805112503,65.958086216728105,67.632449710203304,69.856812022602895,71.743516832063406,74.253321569371195,76.763126306679496,79.232545987850898,81.1070018598286,82.815123763644195,84.190577731136401,85.687583444592804,87.405429461504198,88.473520249221195,89.000148345942804,89.474855362705796,90.995401275774796,92.478860703159796,94.251594718884704,96.239430351579898,98.294021658507305,100,101.68372645008201,103.196855066014,106.10072689512,106.19418483904499,107.818572912031,110.10161697077601]
[null,"Nantes","France",11.1837480941882,11.4537865882776,12.054795339256,12.650264839059499,13.058784612176099,13.4132966865137,13.7581150712916,14.145862652609599,14.7898006000864,15.683004849743201,16.599750916959199,17.495724792251899,18.556491389559302,19.926071239153,22.645843559193601,25.2922208014466,27.7267216867324,30.3592508010411,33.167651139714501,36.698923754924103,41.667632046395497,47.223316319201999,52.879949742434398,57.882154191132898,62.323916805112503,65.958086216728105,67.632449710203304,69.856812022602895,71.743516832063406,74.253321569371195,76.763126306679496,79.232545987850898,81.1070018598286,82.815123763644195,84.190577731136401,85.687583444592804,87.405429461504198,88.473520249221195,89.000148345942804,89.474855362705796,90.995401275774796,92.478860703159796,94.251594718884704,96.239430351579898,98.294021658507305,100,101.68372645008201,103.196855066014,106.10072689512,106.19418483904499,107.818572912031,110.10161697077601]
[null,"Paris","France",11.1837480941882,11.4537865882776,12.054795339256,12.650264839059499,13.058784612176099,13.4132966865137,13.7581150712916,14.145862652609599,14.7898006000864,15.683004849743201,16.599750916959199,17.495724792251899,18.556491389559302,19.926071239153,22.645843559193601,25.2922208014466,27.7267216867324,30.3592508010411,33.167651139714501,36.698923754924103,41.667632046395497,47.223316319201999,52.879949742434398,57.882154191132898,62.323916805112503,65.958086216728105,67.632449710203304,69.856812022602895,71.743516832063406,74.253321569371195,76.763126306679496,79.232545987850898,81.1070018598286,82.815123763644195,84.190577731136401,85.687583444592804,87.405429461504198,88.473520249221195,89.000148345942804,89.474855362705796,90.995401275774796,92.478860703159796,94.251594718884704,96.239430351579898,98.294021658507305,100,101.68372645008201,103.196855066014,106.10072689512,106.19418483904499,107.818572912031,110.10161697077601]
[null,"Berlin","Germany",null,null,null,null,null,null,null,null,null,null,null,null,null,null,null,null,null,null,null,null,null,null,null,null,null,null,null,null,null,null,null,75.914474999999996,79.768903472222206,83.306635416666694,85.593029861111106,87.068372222222195,88.327434027777798,89.988159722222207,90.830109027777794,91.347637500000005,92.691666666666706,94.525000000000006,95.85,96.85,98.466666666666697,100,101.575,103.9,106.633333333333,106.966666666667,108.183333333333,110.675]
[null,"Hamburg","Germany",null,null,null,null,null,null,null,null,null,null,null,null,null,null,null,null,null,null,null,null,null,null,null,null,null,null,null,null,null,null,null,75.914474999999996,79.768903472222206,83.306635416666694,85.593029861111106,87.068372222222195,88.327434027777798,89.988159722222207,90.830109027777794,91.347637500000005,92.691666666666706,94.525000000000006,95.85,96.85,98.466666666666697,100,101.575,103.9,106.633333333333,106.966666666667,108.183333333333,110.675]
[null,"Munich","Germany",null,null,null,null,null,null,null,null,null,null,null,null,null,null,null,null,null,null,null,null,null,null,null,null,null,null,null,null,null,null,null,75.914474999999996,79.768903472222206,83.306635416666694,85.593029861111106,87.068372222222195,88.327434027777798,89.988159722222207,90.830109027777794,91.347637500000005,92.691666666666706,94.525000000000006,95.85,96.85,98.466666666666697,100,101.575,103.9,106.633333333333,106.966666666667,108.183333333333,110.675]
[null,"Stuttgart","Germany",null,null,null,null,null,null,null,null,null,null,null,null,null,null,null,null,null,null,null,null,null,null,null,null,null,null,null,null,null,null,null,75.914474999999996,79.768903472222206,83.306635416666694,85.593029861111106,87.068372222222195,88.327434027777798,89.988159722222207,90.830109027777794,91.347637500000005,92.691666666666706,94.525000000000006,95.85,96.85,98.466666666666697,100,101.575,103.9,106.633333333333,106.966666666667,108.183333333333,110.675]
[null,"Accra","Ghana",null,null,null,null,2.47526233295302E-3,3.1298401313512099E-3,3.5441647831036698E-3,3.2456580040518602E-3,3.50189416226648E-3,3.75813032019639E-3,3.87201305718067E-3,4.2421319526642701E-3,4.6691922163553104E-3,5.4948420592066003E-3,6.4913160078190098E-3,8.4273225365516999E-3,1.31534561213991E-2,2.8470684245902898E-2,4.92803818728298E-2,7.6109256660590305E-2,0.114217267523954,0.24728450057573001,0.302417980618505,0.67401260628372806,0.94136182158218296,1.0383733055937601,1.2934540285401801,1.8084436279681799,2.3755583051366802,2.9747618160075202,4.0831302988210396,4.8193774483103304,5.3040196708890397,6.6278946255461602,8.2762689490118806,13.197467054414201,19.342342286383701,24.7359947889504,28.353427893544598,31.871710885692899,39.901220927475997,53.030880828161102,60.888063439581401,77.129923751296104,86.867248099966403,100,110.91516996720399,122.81939354868599,143.111789768596,170.66183173334801,188.93556362422899,205.42366197788701]
[null,"Athens","Greece",1.31304736689917,1.3369073377960401,1.33252052700054,1.37200182413342,1.3840923026606999,1.42549951672251,1.49686543863743,1.5227583218462699,1.52778710494751,1.5654494805345101,1.6154163254127101,1.66509328613626,1.7365539181687999,2.00589388507515,2.5448766181715499,2.8850417927835101,3.2691060890780199,3.6669551337146,4.1265174363524402,4.9124601652665403,6.13442508808554,7.6348419275513004,9.2319733101807593,11.1006785743756,13.148637987033601,15.6866613162347,19.297901542764201,22.459852401545,25.497940951716402,28.9911588621015,34.906681162899702,41.704007254944699,48.3207229319151,55.285910468559003,61.324672817290399,66.805293847731306,72.280802358553998,76.284416471369099,79.9203038484183,82.027628617175594,84.624691029353599,87.479899679048302,90.654862734506395,93.855569363533505,96.576299630027606,100,103.19594597032599,106.18346965857501,110.593052920624,111.931310644954,117.20657186581801,121.109440742004]
[null,"Budapest","Hungary",null,null,null,null,null,null,null,null,null,null,null,null,2.9412020764362001,3.0408493598910602,3.0954946443438098,3.2144284988307099,3.38249162488184,3.5147096944124998,3.6794491549860799,4.00973168323595,4.3820696510362103,4.5797570037114204,4.9010637761142597,5.2148991452183102,5.6660313273247098,6.0630421768105496,6.3838781586667999,6.9381412643301896,8.0335308842739792,9.39518910648267,12.1169897903559,16.2651211463238,19.997934113180101,24.487680990158601,29.1076223978787,37.345915030412897,46.095369674514203,54.537335497257203,62.268039298878797,68.514100104447706,75.215180809402,82.102087570279295,86.421922285343101,90.439208685663701,96.570950655143506,100,103.878312373225,112.12106567951299,118.92250572535499,123.928179757156,129.97754185758399,135.12110052911501]
[null,"Agra","India",3.9313365247087901,4.0002143883492201,4.1432684128332404,4.2651292485048202,4.8346961978392997,5.2929989059084601,5.8652150038445097,6.6308189496941203,6.8295050948108003,6.8687551240913196,7.2187345518426502,7.4411513844322501,7.9219642431186497,9.2630069102031491,11.9123838866384,12.5959885632741,11.6343628459014,12.6025302348209,12.919801304838501,13.727697740862499,15.287886404763301,17.292908733843198,18.6568472513414,20.871203069917499,22.608016865580598,23.864017802557299,25.9475401901983,28.230583560015301,30.8799605364506,31.8874378109453,34.748134328358198,39.567786069651703,44.2319651741293,47.046019900497598,51.850124378109498,57.151741293532297,62.282338308457703,66.744402985074601,75.575248756218798,79.104477611940297,82.276119402985103,85.307835820895505,89.054726368159194,92.444029850746304,95.926616915422898,100,106.14552238806,112.90698871004599,122.336773159099,135.643822459457,151.91063240076099,165.366641208212]
[null,"Ahmedabad","India",3.9313365247087901,4.0002143883492201,4.1432684128332404,4.2651292485048202,4.8346961978392997,5.2929989059084601,5.8652150038445097,6.6308189496941203,6.8295050948108003,6.8687551240913196,7.2187345518426502,7.4411513844322501,7.9219642431186497,9.2630069102031491,11.9123838866384,12.5959885632741,11.6343628459014,12.6025302348209,12.919801304838501,13.727697740862499,15.287886404763301,17.292908733843198,18.6568472513414,20.871203069917499,22.608016865580598,23.864017802557299,25.9475401901983,28.230583560015301,30.8799605364506,31.8874378109453,34.748134328358198,39.567786069651703,44.2319651741293,47.046019900497598,51.850124378109498,57.151741293532297,62.282338308457703,66.744402985074601,75.575248756218798,79.104477611940297,82.276119402985103,85.307835820895505,89.054726368159194,92.444029850746304,95.926616915422898,100,106.14552238806,112.90698871004599,122.336773159099,135.643822459457,151.91063240076099,165.366641208212]
[null,"Amritsar","India",3.9313365247087901,4.0002143883492201,4.1432684128332404,4.2651292485048202,4.8346961978392997,5.2929989059084601,5.8652150038445097,6.6308189496941203,6.8295050948108003,6.8687551240913196,7.2187345518426502,7.4411513844322501,7.9219642431186497,9.2630069102031491,11.9123838866384,12.5959885632741,11.6343628459014,12.6025302348209,12.919801304838501,13.727697740862499,15.287886404763301,17.292908733843198,18.6568472513414,20.871203069917499,22.608016865580598,23.864017802557299,25.9475401901983,28.230583560015301,30.8799605364506,31.8874378109453,34.748134328358198,39.567786069651703,44.2319651741293,47.046019900497598,51.850124378109498,57.151741293532297,62.282338308457703,66.744402985074601,75.575248756218798,79.104477611940297,82.276119402985103,85.307835820895505,89.054726368159194,92.444029850746304,95.926616915422898,100,106.14552238806,112.90698871004599,122.336773159099,135.643822459457,151.91063240076099,165.366641208212]
[null,"Bangalore","India",3.9313365247087901,4.0002143883492201,4.1432684128332404,4.2651292485048202,4.8346961978392997,5.2929989059084601,5.8652150038445097,6.6308189496941203,6.8295050948108003,6.8687551240913196,7.2187345518426502,7.4411513844322501,7.9219642431186497,9.2630069102031491,11.9123838866384,12.5959885632741,11.6343628459014,12.6025302348209,12.919801304838501,13.727697740862499,15.287886404763301,17.292908733843198,18.6568472513414,20.871203069917499,22.608016865580598,23.864017802557299,25.9475401901983,28.230583560015301,30.8799605364506,31.8874378109453,34.748134328358198,39.567786069651703,44.2319651741293,47.046019900497598,51.850124378109498,57.151741293532297,62.282338308457703,66.744402985074601,75.575248756218798,79.104477611940297,82.276119402985103,85.307835820895505,89.054726368159194,92.444029850746304,95.926616915422898,100,106.14552238806,112.90698871004599,122.336773159099,135.643822459457,151.91063240076099,165.366641208212]
[null,"Bhopal","India",3.9313365247087901,4.0002143883492201,4.1432684128332404,4.2651292485048202,4.8346961978392997,5.2929989059084601,5.8652150038445097,6.6308189496941203,6.8295050948108003,6.8687551240913196,7.2187345518426502,7.4411513844322501,7.9219642431186497,9.2630069102031491,11.9123838866384,12.5959885632741,11.6343628459014,12.6025302348209,12.919801304838501,13.727697740862499,15.287886404763301,17.292908733843198,18.6568472513414,20.871203069917499,22.608016865580598,23.864017802557299,25.9475401901983,28.230583560015301,30.8799605364506,31.8874378109453,34.748134328358198,39.567786069651703,44.2319651741293,47.046019900497598,51.850124378109498,57.151741293532297,62.282338308457703,66.744402985074601,75.575248756218798,79.104477611940297,82.276119402985103,85.307835820895505,89.054726368159194,92.444029850746304,95.926616915422898,100,106.14552238806,112.90698871004599,122.336773159099,135.643822459457,151.91063240076099,165.366641208212]
[null,"Bhuvaneshwar","India",3.9313365247087901,4.0002143883492201,4.1432684128332404,4.2651292485048202,4.8346961978392997,5.2929989059084601,5.8652150038445097,6.6308189496941203,6.8295050948108003,6.8687551240913196,7.2187345518426502,7.4411513844322501,7.9219642431186497,9.2630069102031491,11.9123838866384,12.5959885632741,11.6343628459014,12.6025302348209,12.919801304838501,13.727697740862499,15.287886404763301,17.292908733843198,18.6568472513414,20.871203069917499,22.608016865580598,23.864017802557299,25.9475401901983,28.230583560015301,30.8799605364506,31.8874378109453,34.748134328358198,39.567786069651703,44.2319651741293,47.046019900497598,51.850124378109498,57.151741293532297,62.282338308457703,66.744402985074601,75.575248756218798,79.104477611940297,82.276119402985103,85.307835820895505,89.054726368159194,92.444029850746304,95.926616915422898,100,106.14552238806,112.90698871004599,122.336773159099,135.643822459457,151.91063240076099,165.366641208212]
[null,"Chandigarh","India",3.9313365247087901,4.0002143883492201,4.1432684128332404,4.2651292485048202,4.8346961978392997,5.2929989059084601,5.8652150038445097,6.6308189496941203,6.8295050948108003,6.8687551240913196,7.2187345518426502,7.4411513844322501,7.9219642431186497,9.2630069102031491,11.9123838866384,12.5959885632741,11.6343628459014,12.6025302348209,12.919801304838501,13.727697740862499,15.287886404763301,17.292908733843198,18.6568472513414,20.871203069917499,22.608016865580598,23.864017802557299,25.9475401901983,28.230583560015301,30.8799605364506,31.8874378109453,34.748134328358198,39.567786069651703,44.2319651741293,47.046019900497598,51.850124378109498,57.151741293532297,62.282338308457703,66.744402985074601,75.575248756218798,79.104477611940297,82.276119402985103,85.307835820895505,89.054726368159194,92.444029850746304,95.926616915422898,100,106.14552238806,112.90698871004599,122.336773159099,135.643822459457,151.91063240076099,165.366641208212]
[null,"Chennai","India",3.9313365247087901,4.0002143883492201,4.1432684128332404,4.2651292485048202,4.8346961978392997,5.2929989059084601,5.8652150038445097,6.6308189496941203,6.8295050948108003,6.8687551240913196,7.2187345518426502,7.4411513844322501,7.9219642431186497,9.2630069102031491,11.9123838866384,12.5959885632741,11.6343628459014,12.6025302348209,12.919801304838501,13.727697740862499,15.287886404763301,17.292908733843198,18.6568472513414,20.871203069917499,22.608016865580598,23.864017802557299,25.9475401901983,28.230583560015301,30.8799605364506,31.8874378109453,34.748134328358198,39.567786069651703,44.2319651741293,47.046019900497598,51.850124378109498,57.151741293532297,62.282338308457703,66.744402985074601,75.575248756218798,79.104477611940297,82.276119402985103,85.307835820895505,89.054726368159194,92.444029850746304,95.926616915422898,100,106.14552238806,112.90698871004599,122.336773159099,135.643822459457,151.91063240076099,165.366641208212]
[null,"Cochin","India",3.9313365247087901,4.0002143883492201,4.1432684128332404,4.2651292485048202,4.8346961978392997,5.2929989059084601,5.8652150038445097,6.6308189496941203,6.8295050948108003,6.8687551240913196,7.2187345518426502,7.4411513844322501,7.9219642431186497,9.2630069102031491,11.9123838866384,12.5959885632741,11.6343628459014,12.6025302348209,12.919801304838501,13.727697740862499,15.287886404763301,17.292908733843198,18.6568472513414,20.871203069917499,22.608016865580598,23.864017802557299,25.9475401901983,28.230583560015301,30.8799605364506,31.8874378109453,34.748134328358198,39.567786069651703,44.2319651741293,47.046019900497598,51.850124378109498,57.151741293532297,62.282338308457703,66.744402985074601,75.575248756218798,79.104477611940297,82.276119402985103,85.307835820895505,89.054726368159194,92.444029850746304,95.926616915422898,100,106.14552238806,112.90698871004599,122.336773159099,135.643822459457,151.91063240076099,165.366641208212]
[null,"Delhi","India",3.9313365247087901,4.0002143883492201,4.1432684128332404,4.2651292485048202,4.8346961978392997,5.2929989059084601,5.8652150038445097,6.6308189496941203,6.8295050948108003,6.8687551240913196,7.2187345518426502,7.4411513844322501,7.9219642431186497,9.2630069102031491,11.9123838866384,12.5959885632741,11.6343628459014,12.6025302348209,12.919801304838501,13.727697740862499,15.287886404763301,17.292908733843198,18.6568472513414,20.871203069917499,22.608016865580598,23.864017802557299,25.9475401901983,28.230583560015301,30.8799605364506,31.8874378109453,34.748134328358198,39.567786069651703,44.2319651741293,47.046019900497598,51.850124378109498,57.151741293532297,62.282338308457703,66.744402985074601,75.575248756218798,79.104477611940297,82.276119402985103,85.307835820895505,89.054726368159194,92.444029850746304,95.926616915422898,100,106.14552238806,112.90698871004599,122.336773159099,135.643822459457,151.91063240076099,165.366641208212]
[null,"Guwahati","India",3.9313365247087901,4.0002143883492201,4.1432684128332404,4.2651292485048202,4.8346961978392997,5.2929989059084601,5.8652150038445097,6.6308189496941203,6.8295050948108003,6.8687551240913196,7.2187345518426502,7.4411513844322501,7.9219642431186497,9.2630069102031491,11.9123838866384,12.5959885632741,11.6343628459014,12.6025302348209,12.919801304838501,13.727697740862499,15.287886404763301,17.292908733843198,18.6568472513414,20.871203069917499,22.608016865580598,23.864017802557299,25.9475401901983,28.230583560015301,30.8799605364506,31.8874378109453,34.748134328358198,39.567786069651703,44.2319651741293,47.046019900497598,51.850124378109498,57.151741293532297,62.282338308457703,66.744402985074601,75.575248756218798,79.104477611940297,82.276119402985103,85.307835820895505,89.054726368159194,92.444029850746304,95.926616915422898,100,106.14552238806,112.90698871004599,122.336773159099,135.643822459457,151.91063240076099,165.366641208212]
[null,"Hubli-Dharwad","India",3.9313365247087901,4.0002143883492201,4.1432684128332404,4.2651292485048202,4.8346961978392997,5.2929989059084601,5.8652150038445097,6.6308189496941203,6.8295050948108003,6.8687551240913196,7.2187345518426502,7.4411513844322501,7.9219642431186497,9.2630069102031491,11.9123838866384,12.5959885632741,11.6343628459014,12.6025302348209,12.919801304838501,13.727697740862499,15.287886404763301,17.292908733843198,18.6568472513414,20.871203069917499,22.608016865580598,23.864017802557299,25.9475401901983,28.230583560015301,30.8799605364506,31.8874378109453,34.748134328358198,39.567786069651703,44.2319651741293,47.046019900497598,51.850124378109498,57.151741293532297,62.282338308457703,66.744402985074601,75.575248756218798,79.104477611940297,82.276119402985103,85.307835820895505,89.054726368159194,92.444029850746304,95.926616915422898,100,106.14552238806,112.90698871004599,122.336773159099,135.643822459457,151.91063240076099,165.366641208212]
[null,"Hyderabad","India",3.9313365247087901,4.0002143883492201,4.1432684128332404,4.2651292485048202,4.8346961978392997,5.2929989059084601,5.8652150038445097,6.6308189496941203,6.8295050948108003,6.8687551240913196,7.2187345518426502,7.4411513844322501,7.9219642431186497,9.2630069102031491,11.9123838866384,12.5959885632741,11.6343628459014,12.6025302348209,12.919801304838501,13.727697740862499,15.287886404763301,17.292908733843198,18.6568472513414,20.871203069917499,22.608016865580598,23.864017802557299,25.9475401901983,28.230583560015301,30.8799605364506,31.8874378109453,34.748134328358198,39.567786069651703,44.2319651741293,47.046019900497598,51.850124378109498,57.151741293532297,62.282338308457703,66.744402985074601,75.575248756218798,79.104477611940297,82.276119402985103,85.307835820895505,89.054726368159194,92.444029850746304,95.926616915422898,100,106.14552238806,112.90698871004599,122.336773159099,135.643822459457,151.91063240076099,165.366641208212]
[null,"Jaipur","India",3.9313365247087901,4.0002143883492201,4.1432684128332404,4.2651292485048202,4.8346961978392997,5.2929989059084601,5.8652150038445097,6.6308189496941203,6.8295050948108003,6.8687551240913196,7.2187345518426502,7.4411513844322501,7.9219642431186497,9.2630069102031491,11.9123838866384,12.5959885632741,11.6343628459014,12.6025302348209,12.919801304838501,13.727697740862499,15.287886404763301,17.292908733843198,18.6568472513414,20.871203069917499,22.608016865580598,23.864017802557299,25.9475401901983,28.230583560015301,30.8799605364506,31.8874378109453,34.748134328358198,39.567786069651703,44.2319651741293,47.046019900497598,51.850124378109498,57.151741293532297,62.282338308457703,66.744402985074601,75.575248756218798,79.104477611940297,82.276119402985103,85.307835820895505,89.054726368159194,92.444029850746304,95.926616915422898,100,106.14552238806,112.90698871004599,122.336773159099,135.643822459457,151.91063240076099,165.366641208212]
[null,"Kanpur","India",3.9313365247087901,4.0002143883492201,4.1432684128332404,4.2651292485048202,4.8346961978392997,5.2929989059084601,5.8652150038445097,6.6308189496941203,6.8295050948108003,6.8687551240913196,7.2187345518426502,7.4411513844322501,7.9219642431186497,9.2630069102031491,11.9123838866384,12.5959885632741,11.6343628459014,12.6025302348209,12.919801304838501,13.727697740862499,15.287886404763301,17.292908733843198,18.6568472513414,20.871203069917499,22.608016865580598,23.864017802557299,25.9475401901983,28.230583560015301,30.8799605364506,31.8874378109453,34.748134328358198,39.567786069651703,44.2319651741293,47.046019900497598,51.850124378109498,57.151741293532297,62.282338308457703,66.744402985074601,75.575248756218798,79.104477611940297,82.276119402985103,85.307835820895505,89.054726368159194,92.444029850746304,95.926616915422898,100,106.14552238806,112.90698871004599,122.336773159099,135.643822459457,151.91063240076099,165.366641208212]
[null,"Kolkata","India",3.9313365247087901,4.0002143883492201,4.1432684128332404,4.2651292485048202,4.8346961978392997,5.2929989059084601,5.8652150038445097,6.6308189496941203,6.8295050948108003,6.8687551240913196,7.2187345518426502,7.4411513844322501,7.9219642431186497,9.2630069102031491,11.9123838866384,12.5959885632741,11.6343628459014,12.6025302348209,12.919801304838501,13.727697740862499,15.287886404763301,17.292908733843198,18.6568472513414,20.871203069917499,22.608016865580598,23.864017802557299,25.9475401901983,28.230583560015301,30.8799605364506,31.8874378109453,34.748134328358198,39.567786069651703,44.2319651741293,47.046019900497598,51.850124378109498,57.151741293532297,62.282338308457703,66.744402985074601,75.575248756218798,79.104477611940297,82.276119402985103,85.307835820895505,89.054726368159194,92.444029850746304,95.926616915422898,100,106.14552238806,112.90698871004599,122.336773159099,135.643822459457,151.91063240076099,165.366641208212]
[null,"Madurai","India",3.9313365247087901,4.0002143883492201,4.1432684128332404,4.2651292485048202,4.8346961978392997,5.2929989059084601,5.8652150038445097,6.6308189496941203,6.8295050948108003,6.8687551240913196,7.2187345518426502,7.4411513844322501,7.9219642431186497,9.2630069102031491,11.9123838866384,12.5959885632741,11.6343628459014,12.6025302348209,12.919801304838501,13.727697740862499,15.287886404763301,17.292908733843198,18.6568472513414,20.871203069917499,22.608016865580598,23.864017802557299,25.9475401901983,28.230583560015301,30.8799605364506,31.8874378109453,34.748134328358198,39.567786069651703,44.2319651741293,47.046019900497598,51.850124378109498,57.151741293532297,62.282338308457703,66.744402985074601,75.575248756218798,79.104477611940297,82.276119402985103,85.307835820895505,89.054726368159194,92.444029850746304,95.926616915422898,100,106.14552238806,112.90698871004599,122.336773159099,135.643822459457,151.91063240076099,165.366641208212]
[null,"Mumbai","India",3.9313365247087901,4.0002143883492201,4.1432684128332404,4.2651292485048202,4.8346961978392997,5.2929989059084601,5.8652150038445097,6.6308189496941203,6.8295050948108003,6.8687551240913196,7.2187345518426502,7.4411513844322501,7.9219642431186497,9.2630069102031491,11.9123838866384,12.5959885632741,11.6343628459014,12.6025302348209,12.919801304838501,13.727697740862499,15.287886404763301,17.292908733843198,18.6568472513414,20.871203069917499,22.608016865580598,23.864017802557299,25.9475401901983,28.230583560015301,30.8799605364506,31.8874378109453,34.748134328358198,39.567786069651703,44.2319651741293,47.046019900497598,51.850124378109498,57.151741293532297,62.282338308457703,66.744402985074601,75.575248756218798,79.104477611940297,82.276119402985103,85.307835820895505,89.054726368159194,92.444029850746304,95.926616915422898,100,106.14552238806,112.90698871004599,122.336773159099,135.643822459457,151.91063240076099,165.366641208212]
[null,"Nagpur","India",3.9313365247087901,4.0002143883492201,4.1432684128332404,4.2651292485048202,4.8346961978392997,5.2929989059084601,5.8652150038445097,6.6308189496941203,6.8295050948108003,6.8687551240913196,7.2187345518426502,7.4411513844322501,7.9219642431186497,9.2630069102031491,11.9123838866384,12.5959885632741,11.6343628459014,12.6025302348209,12.919801304838501,13.727697740862499,15.287886404763301,17.292908733843198,18.6568472513414,20.871203069917499,22.608016865580598,23.864017802557299,25.9475401901983,28.230583560015301,30.8799605364506,31.8874378109453,34.748134328358198,39.567786069651703,44.2319651741293,47.046019900497598,51.850124378109498,57.151741293532297,62.282338308457703,66.744402985074601,75.575248756218798,79.104477611940297,82.276119402985103,85.307835820895505,89.054726368159194,92.444029850746304,95.926616915422898,100,106.14552238806,112.90698871004599,122.336773159099,135.643822459457,151.91063240076099,165.366641208212]
[null,"Patna","India",3.9313365247087901,4.0002143883492201,4.1432684128332404,4.2651292485048202,4.8346961978392997,5.2929989059084601,5.8652150038445097,6.6308189496941203,6.8295050948108003,6.8687551240913196,7.2187345518426502,7.4411513844322501,7.9219642431186497,9.2630069102031491,11.9123838866384,12.5959885632741,11.6343628459014,12.6025302348209,12.919801304838501,13.727697740862499,15.287886404763301,17.292908733843198,18.6568472513414,20.871203069917499,22.608016865580598,23.864017802557299,25.9475401901983,28.230583560015301,30.8799605364506,31.8874378109453,34.748134328358198,39.567786069651703,44.2319651741293,47.046019900497598,51.850124378109498,57.151741293532297,62.282338308457703,66.744402985074601,75.575248756218798,79.104477611940297,82.276119402985103,85.307835820895505,89.054726368159194,92.444029850746304,95.926616915422898,100,106.14552238806,112.90698871004599,122.336773159099,135.643822459457,151.91063240076099,165.366641208212]
[null,"Pune","India",3.9313365247087901,4.0002143883492201,4.1432684128332404,4.2651292485048202,4.8346961978392997,5.2929989059084601,5.8652150038445097,6.6308189496941203,6.8295050948108003,6.8687551240913196,7.2187345518426502,7.4411513844322501,7.9219642431186497,9.2630069102031491,11.9123838866384,12.5959885632741,11.6343628459014,12.6025302348209,12.919801304838501,13.727697740862499,15.287886404763301,17.292908733843198,18.6568472513414,20.871203069917499,22.608016865580598,23.864017802557299,25.9475401901983,28.230583560015301,30.8799605364506,31.8874378109453,34.748134328358198,39.567786069651703,44.2319651741293,47.046019900497598,51.850124378109498,57.151741293532297,62.282338308457703,66.744402985074601,75.575248756218798,79.104477611940297,82.276119402985103,85.307835820895505,89.054726368159194,92.444029850746304,95.926616915422898,100,106.14552238806,112.90698871004599,122.336773159099,135.643822459457,151.91063240076099,165.366641208212]
[null,"Surat","India",3.9313365247087901,4.0002143883492201,4.1432684128332404,4.2651292485048202,4.8346961978392997,5.2929989059084601,5.8652150038445097,6.6308189496941203,6.8295050948108003,6.8687551240913196,7.2187345518426502,7.4411513844322501,7.9219642431186497,9.2630069102031491,11.9123838866384,12.5959885632741,11.6343628459014,12.6025302348209,12.919801304838501,13.727697740862499,15.287886404763301,17.292908733843198,18.6568472513414,20.871203069917499,22.608016865580598,23.864017802557299,25.9475401901983,28.230583560015301,30.8799605364506,31.8874378109453,34.748134328358198,39.567786069651703,44.2319651741293,47.046019900497598,51.850124378109498,57.151741293532297,62.282338308457703,66.744402985074601,75.575248756218798,79.104477611940297,82.276119402985103,85.307835820895505,89.054726368159194,92.444029850746304,95.926616915422898,100,106.14552238806,112.90698871004599,122.336773159099,135.643822459457,151.91063240076099,165.366641208212]
[null,"Varanasi","India",3.9313365247087901,4.0002143883492201,4.1432684128332404,4.2651292485048202,4.8346961978392997,5.2929989059084601,5.8652150038445097,6.6308189496941203,6.8295050948108003,6.8687551240913196,7.2187345518426502,7.4411513844322501,7.9219642431186497,9.2630069102031491,11.9123838866384,12.5959885632741,11.6343628459014,12.6025302348209,12.919801304838501,13.727697740862499,15.287886404763301,17.292908733843198,18.6568472513414,20.871203069917499,22.608016865580598,23.864017802557299,25.9475401901983,28.230583560015301,30.8799605364506,31.8874378109453,34.748134328358198,39.567786069651703,44.2319651741293,47.046019900497598,51.850124378109498,57.151741293532297,62.282338308457703,66.744402985074601,75.575248756218798,79.104477611940297,82.276119402985103,85.307835820895505,89.054726368159194,92.444029850746304,95.926616915422898,100,106.14552238806,112.90698871004599,122.336773159099,135.643822459457,151.91063240076099,165.366641208212]
[null,"Jakarta","Indonesia",4.0386928463748302E-4,4.5916679060251699E-4,1.0625020788995901E-3,2.6128071568478702E-3,5.4606287140471403E-3,2.2211823199597899E-2,0.274594577701333,0.56566483006474499,1.29448460504703,1.4953963043985099,1.6800611579026501,1.75328637862301,1.8674719571838101,2.4470953449483801,3.4406700585976999,4.0962646128596303,4.90975104929983,5.4516176826304603,5.8937149527296002,6.8520500289072297,8.0865942156675992,9.0767471954509702,9.9373542981610505,11.1086990653875,12.2701716176601,12.850476792727401,13.5992993832526,14.8607011678444,16.055972045467001,17.0863898668958,18.421294387042298,20.155867681924999,21.672745015767902,23.7723540678925,25.7974013936782,28.230626375190699,30.4801782396231,32.379061695894102,51.284252677530297,61.791943482434,64.090618613420006,71.4623808594541,79.951223019971806,85.216586054816005,90.537101437689003,100,113.109415283592,120.356842770529,132.12363204215001,138.483435210523,145.59145051635201,153.39151190106]
[null,"Surabaya","Indonesia",4.0386928463748302E-4,4.5916679060251699E-4,1.0625020788995901E-3,2.6128071568478702E-3,5.4606287140471403E-3,2.2211823199597899E-2,0.274594577701333,0.56566483006474499,1.29448460504703,1.4953963043985099,1.6800611579026501,1.75328637862301,1.8674719571838101,2.4470953449483801,3.4406700585976999,4.0962646128596303,4.90975104929983,5.4516176826304603,5.8937149527296002,6.8520500289072297,8.0865942156675992,9.0767471954509702,9.9373542981610505,11.1086990653875,12.2701716176601,12.850476792727401,13.5992993832526,14.8607011678444,16.055972045467001,17.0863898668958,18.421294387042298,20.155867681924999,21.672745015767902,23.7723540678925,25.7974013936782,28.230626375190699,30.4801782396231,32.379061695894102,51.284252677530297,61.791943482434,64.090618613420006,71.4623808594541,79.951223019971806,85.216586054816005,90.537101437689003,100,113.109415283592,120.356842770529,132.12363204215001,138.483435210523,145.59145051635201,153.39151190106]
[null,"Dublin","Ireland",5.4531431927359897,5.6034863155851902,5.8424036813718301,5.98575410085546,6.3878345456925896,6.7064676227936397,6.9113031722827403,7.13131172559505,7.46511780636758,8.0189324403006896,8.6770614745510901,9.4546779127333398,10.2683302346733,11.4404447682381,13.3825892382064,16.176318539217402,19.0857419932425,21.688343174108802,23.344164758798801,26.434753661168799,31.252068346942501,37.609775457995397,44.047381940051203,48.670131275341703,52.847726971257998,55.724104335580797,57.849995021215598,59.6537810575119,60.9421996548664,63.454615919707599,65.532190907941697,67.6258711286427,69.735656581810602,70.718075762293395,72.376914706387296,74.196805975150497,75.453014107571093,76.537433093677706,78.394903238197102,79.680792488144903,84.114893350033896,88.213269432379803,92.316908791373393,95.529429384454104,97.626179421896097,100,103.938894713195,109.011034519134,113.42980365246,108.348219149136,107.32306471020399,110.090787517138]
[null,"Bologna","Italy",4.5565990438107704,4.6797503693191702,4.8644773575817704,5.2339313341069698,5.5418096478779599,5.7881122988947604,5.9728392871573597,6.1575662754199598,6.2807176009283596,6.4038689264367603,6.7117472402077496,7.0812012167329499,7.4506551932581502,8.2511388090627396,9.8521060406719307,11.5146489350353,13.423494480415499,15.7633696650751,17.672215210455299,20.258393046131701,24.568689438925599,28.940561494473801,33.6818875265472,38.6079405468831,42.795085614168698,46.735928030437499,49.445257191622296,51.785132376281901,54.432885874712397,57.819547326193401,61.575662754199598,65.454929507714198,68.780015296440894,71.858798434150899,74.752854583598307,78.673171778949197,81.800056096181194,83.471317557965307,85.109809187165496,86.518911988277296,88.698598772781295,91.171352687975002,93.415147907317504,95.915376866013304,98.040113563513103,100,102.069786610495,103.928931220808,107.436578441249,108.242513050646,109.90933235644199,112.922428793846]
[null,"Milan","Italy",4.5565990438107704,4.6797503693191702,4.8644773575817704,5.2339313341069698,5.5418096478779599,5.7881122988947604,5.9728392871573597,6.1575662754199598,6.2807176009283596,6.4038689264367603,6.7117472402077496,7.0812012167329499,7.4506551932581502,8.2511388090627396,9.8521060406719307,11.5146489350353,13.423494480415499,15.7633696650751,17.672215210455299,20.258393046131701,24.568689438925599,28.940561494473801,33.6818875265472,38.6079405468831,42.795085614168698,46.735928030437499,49.445257191622296,51.785132376281901,54.432885874712397,57.819547326193401,61.575662754199598,65.454929507714198,68.780015296440894,71.858798434150899,74.752854583598307,78.673171778949197,81.800056096181194,83.471317557965307,85.109809187165496,86.518911988277296,88.698598772781295,91.171352687975002,93.415147907317504,95.915376866013304,98.040113563513103,100,102.069786610495,103.928931220808,107.436578441249,108.242513050646,109.90933235644199,112.922428793846]
[null,"Rome","Italy",4.5565990438107704,4.6797503693191702,4.8644773575817704,5.2339313341069698,5.5418096478779599,5.7881122988947604,5.9728392871573597,6.1575662754199598,6.2807176009283596,6.4038689264367603,6.7117472402077496,7.0812012167329499,7.4506551932581502,8.2511388090627396,9.8521060406719307,11.5146489350353,13.423494480415499,15.7633696650751,17.672215210455299,20.258393046131701,24.568689438925599,28.940561494473801,33.6818875265472,38.6079405468831,42.795085614168698,46.735928030437499,49.445257191622296,51.785132376281901,54.432885874712397,57.819547326193401,61.575662754199598,65.454929507714198,68.780015296440894,71.858798434150899,74.752854583598307,78.673171778949197,81.800056096181194,83.471317557965307,85.109809187165496,86.518911988277296,88.698598772781295,91.171352687975002,93.415147907317504,95.915376866013304,98.040113563513103,100,102.069786610495,103.928931220808,107.436578441249,108.242513050646,109.90933235644199,112.922428793846]
[null,"Turin","Italy",4.5565990438107704,4.6797503693191702,4.8644773575817704,5.2339313341069698,5.5418096478779599,5.7881122988947604,5.9728392871573597,6.1575662754199598,6.2807176009283596,6.4038689264367603,6.7117472402077496,7.0812012167329499,7.4506551932581502,8.2511388090627396,9.8521060406719307,11.5146489350353,13.423494480415499,15.7633696650751,17.672215210455299,20.258393046131701,24.568689438925599,28.940561494473801,33.6818875265472,38.6079405468831,42.795085614168698,46.735928030437499,49.445257191622296,51.785132376281901,54.432885874712397,57.819547326193401,61.575662754199598,65.454929507714198,68.780015296440894,71.858798434150899,74.752854583598307,78.673171778949197,81.800056096181194,83.471317557965307,85.109809187165496,86.518911988277296,88.698598772781295,91.171352687975002,93.415147907317504,95.915376866013304,98.040113563513103,100,102.069786610495,103.928931220808,107.436578441249,108.242513050646,109.90933235644199,112.922428793846]
[null,"Tokyo","Japan",18.597961081592899,19.603129918350799,20.930887823602902,22.534482758523598,23.3993954785246,24.942212762850598,26.209193017554799,27.251763485307599,28.715102303658401,30.220517956755799,32.5394190871368,34.605809128630597,36.282157676348398,40.497925311203197,49.8838174273858,55.7593360995849,60.995850622406401,65.958506224066099,68.738589211618006,71.278008298754997,76.846473029045399,80.622406639003898,82.813278008298497,84.365145228215496,86.298755186721706,88.058091286306805,88.589211618256897,88.713692946057805,89.302904564315099,91.336099585062001,94.107883817427094,97.211618257261094,98.8713692946055,100.12448132780101,100.813278008298,100.68879668049701,100.821576763485,102.597510373444,103.278008298755,102.9377593361,102.265560165975,101.44398340249001,100.531313937303,100.28215767634801,100.273858921162,100,100.24066390041401,100.298755186722,101.676348547717,100.30705394190799,99.585062240663603,99.302904564315099]
[null,"Kuala Lumpur","Malaysia",24.281130870920801,24.2373258359302,24.263608856985901,25.017055458115301,24.916303877649899,24.890020856637999,25.130948548911299,26.280830716221899,26.239215933044399,26.1318935973589,26.6137489818835,27.0430383243188,27.916948771464199,30.865027623342399,36.213622390416603,37.838789186900399,38.835353731940998,40.694877465434097,42.672674793261599,44.232134037456603,47.184593392851397,51.761498951958004,54.773448829887201,56.802386345858203,59.016130185912097,59.2205967572026,59.657054246283302,59.8300644221355,61.359631657953997,63.085801366242301,64.737262134992093,67.5587278097086,70.779406600924503,73.282580736810999,76.0123352901701,78.635198001465895,81.3784336391263,83.545146313675303,87.948261251720098,90.362055196173799,91.7488780162289,93.048762111799903,94.730965059010302,95.671469434040901,97.1242810702675,100,103.609235642244,105.70976077352699,111.46119863299199,112.11136117362599,114.028507126782,117.648308927757]
[null,"Mexico city","Mexico",1.6014627660247201E-2,1.62722645346801E-2,1.64673664118778E-2,1.6565191626809399E-2,1.69524697673573E-2,1.75573404420457E-2,1.8297520759779199E-2,1.88495475333081E-2,1.9289486724142799E-2,1.99389643916443E-2,2.09781286596466E-2,2.2082240695048501E-2,2.3186352729151399E-2,2.5979106700057E-2,3.21491445413205E-2,3.7020227047581199E-2,4.2865526055094097E-2,5.5297611073525703E-2,6.4953179063768005E-2,7.6757435670444005E-2,9.6994077326846603E-2,0.124082708375769,0.19719765679479601,0.39786460679758501,0.65862447798399804,1.0389694247005701,1.9349130423918,4.48564457216807,9.6065324262915208,11.528607460123,14.6012863050722,17.910158528436199,20.6877634320978,22.7051370043961,24.286726474297399,32.786904661827897,44.0582746771777,53.145947798963299,61.611031725228798,71.829594141535907,78.649827852550999,83.653923423653694,87.862627207177198,91.858740676343999,96.165338281598196,100,103.62937691313,107.740186874922,113.26242119182101,119.26097470102199,124.21922371660401,128.45184422556201]
[null,"Amsterdam","Netherlands",17.788769481450402,18.021382434064101,18.433358114262901,19.049619255377301,20.152760745860899,21.320592632285202,22.556519672575099,23.343018698046901,24.201017635206998,25.998729693559699,26.955466603525199,28.9710831540161,31.228437500076001,33.730934399731801,36.972263717146703,40.748139991507301,44.438897323467899,47.315917568601101,49.246415176828201,51.319912607886899,54.677003686743902,58.366862831248099,61.788368583424699,63.532665633553897,74.195129687961298,67.071575994873896,67.138664342955707,66.669045906382493,67.161027125649696,67.887817563203598,69.553844873903898,71.733198679952693,74.016883253312997,75.929613987345405,78.056802409738694,79.558006228266905,81.162426020537197,82.928659348812104,84.575176623332794,86.429932385721699,88.432225538300699,92.113072655841705,95.140539902541093,97.150420692329703,98.353482725479296,100,101.167653059504,102.800681201207,105.35687187009999,106.61051815131501,107.970391353466,110.49791761512201]
[null,"Rotterdam","Netherlands",17.788769481450402,18.021382434064101,18.433358114262901,19.049619255377301,20.152760745860899,21.320592632285202,22.556519672575099,23.343018698046901,24.201017635206998,25.998729693559699,26.955466603525199,28.9710831540161,31.228437500076001,33.730934399731801,36.972263717146703,40.748139991507301,44.438897323467899,47.315917568601101,49.246415176828201,51.319912607886899,54.677003686743902,58.366862831248099,61.788368583424699,63.532665633553897,74.195129687961298,67.071575994873896,67.138664342955707,66.669045906382493,67.161027125649696,67.887817563203598,69.553844873903898,71.733198679952693,74.016883253312997,75.929613987345405,78.056802409738694,79.558006228266905,81.162426020537197,82.928659348812104,84.575176623332794,86.429932385721699,88.432225538300699,92.113072655841705,95.140539902541093,97.150420692329703,98.353482725479296,100,101.167653059504,102.800681201207,105.35687187009999,106.61051815131501,107.970391353466,110.49791761512201]
[null,"Cebu","Philippines",1.5662565789331,1.59124828584214,1.68348741462699,1.7781928302760599,1.9237037553635099,1.9730294926840299,2.0795730852826599,2.2096286126707998,2.2617494751043101,2.3059782195670602,2.6376115934648499,3.2021486639756902,3.46485403342133,4.0393279500577703,5.41930745575094,5.7857286566325596,6.3179709772352002,6.9433712302653596,7.4526345942025296,8.7593298596758995,10.353572609977199,11.708088947448701,12.904857852694899,14.1991320605671,21.346829689265299,26.278610631991299,26.476105448768699,27.479726907473299,29.887548934283501,33.051192319522499,37.2420571729958,44.128970130098402,47.921628709563997,51.2193915963432,55.502320675105501,59.2240506329114,63.673945147679298,67.233860759493695,73.463713080168802,77.832700421940899,80.907172995780599,85.232067510548504,87.552742616033797,89.556962025316494,93.881856540084399,100,105.48523206751101,108.544303797468,117.51054852320701,122.362869198312,127.10970464135001,133.01687763713099]
[null,"Manila","Philippines",1.5662565789331,1.59124828584214,1.68348741462699,1.7781928302760599,1.9237037553635099,1.9730294926840299,2.0795730852826599,2.2096286126707998,2.2617494751043101,2.3059782195670602,2.6376115934648499,3.2021486639756902,3.46485403342133,4.0393279500577703,5.41930745575094,5.7857286566325596,6.3179709772352002,6.9433712302653596,7.4526345942025296,8.7593298596758995,10.353572609977199,11.708088947448701,12.904857852694899,14.1991320605671,21.346829689265299,26.278610631991299,26.476105448768699,27.479726907473299,29.887548934283501,33.051192319522499,37.2420571729958,44.128970130098402,47.921628709563997,51.2193915963432,55.502320675105501,59.2240506329114,63.673945147679298,67.233860759493695,73.463713080168802,77.832700421940899,80.907172995780599,85.232067510548504,87.552742616033797,89.556962025316494,93.881856540084399,100,105.48523206751101,108.544303797468,117.51054852320701,122.362869198312,127.10970464135001,133.01687763713099]
[null,"Krakow","Poland",null,null,null,null,null,null,null,null,null,null,2.4559707373066699E-2,2.4829864153924901E-2,2.4805304446797401E-2,2.5419297131124102E-2,2.7212155769112401E-2,2.7826148453439E-2,2.90541338220924E-2,3.04785968497302E-2,3.2947748999581798E-2,3.5262579140067599E-2,3.8676953597284298E-2,4.6074764921253598E-2,9.3789201192018001E-2,0.11773804802046101,0.13587088412093401,0.151524922945969,0.17660224946789899,0.223188206045176,0.35424617249901702,1.2205584924084001,7.9993102908490004,14.135278769862699,20.542688079370802,28.115915415107601,37.465055734469303,47.982132465328199,57.490857808268203,66.161408713210903,73.918935567327793,79.296538129850902,87.273623259825101,92.066034249106806,93.815449057533598,94.554638413206803,97.936429715412103,100,101.114943944807,103.52962917334,108.03252433165,112.16582481212301,115.20266108168001,120.068991006529]
[null,"Warsaw","Poland",null,null,null,null,null,null,null,null,null,null,2.4559707373066699E-2,2.4829864153924901E-2,2.4805304446797401E-2,2.5419297131124102E-2,2.7212155769112401E-2,2.7826148453439E-2,2.90541338220924E-2,3.04785968497302E-2,3.2947748999581798E-2,3.5262579140067599E-2,3.8676953597284298E-2,4.6074764921253598E-2,9.3789201192018001E-2,0.11773804802046101,0.13587088412093401,0.151524922945969,0.17660224946789899,0.223188206045176,0.35424617249901702,1.2205584924084001,7.9993102908490004,14.135278769862699,20.542688079370802,28.115915415107601,37.465055734469303,47.982132465328199,57.490857808268203,66.161408713210903,73.918935567327793,79.296538129850902,87.273623259825101,92.066034249106806,93.815449057533598,94.554638413206803,97.936429715412103,100,101.114943944807,103.52962917334,108.03252433165,112.16582481212301,115.20266108168001,120.068991006529]
[null,"Lisbon","Portugal",1.3781811290552901,1.39952918348427,1.43678564385024,1.4658313140591901,1.51566957872254,1.56843950604333,1.6475943969878699,1.7384759384595401,1.8440157930718,1.98051927542152,2.0703028158967598,2.2254942750279598,2.4245618534842599,2.67563075856178,3.4239623494321001,4.1227301758420101,4.8751243703380398,6.2007519387316297,7.6047877573948304,9.3947709220447404,10.962935927843301,13.159991977418199,16.1512870389972,20.206171734042801,26.022181498158101,31.134342946870898,34.796711573666201,38.047819959654198,41.737335385571001,47.003145786512299,53.288621999422503,59.111061563419298,64.396575651548403,68.583609178957303,72.159828403544097,75.135085168902904,77.479823944251905,79.154637355215399,81.304825820993301,83.177996140873404,85.5458417212852,89.305373701326303,92.471295368729301,95.507436233335895,97.757571087308307,100,102.743315095939,105.625337134931,108.361464103546,107.46748202469099,108.957452156115,112.943709215605]
[null,"Moscow","Russia",null,null,null,null,null,null,null,null,null,null,null,null,null,null,null,null,null,null,null,null,null,null,null,null,null,null,null,null,null,null,null,null,8.7238132925040804E-2,0.85024190231393504,3.4658785553222802,10.3099969307655,15.2321612987951,17.481458962523799,22.3194250222855,41.456497658608001,50.069640927851601,60.813516896120099,70.417188151856493,80.050062578222807,88.744263662912104,100,109.678765123071,119.557780559032,136.42469753859001,152.32373800584099,162.77012932832699,176.49979140592399]
[null,"Singapore","Singapore",31.288950260653198,31.4141060616959,31.545913499716999,32.241563867050601,32.798084160917398,32.8566652444824,33.515702434587901,34.636065657767297,34.863067356581404,34.767873095788403,34.928971075591903,35.544072453023702,36.283658633031003,43.408582921616102,53.118397522503898,54.4657624444974,53.462561388447902,55.154090176385402,57.841497384926697,60.199385998415302,65.332553445792698,70.6780773210929,73.446033519536002,74.324749773009998,76.257925530652798,76.624057302933707,75.5622751633192,75.957697477382496,77.114673877789997,78.923364832857303,81.654707854072399,84.451954594298002,86.363162445603905,88.340274015920201,91.0789396725812,92.645983657942807,93.9274448609264,95.809362170449305,95.553069929853294,95.569036688969305,96.870327556925801,97.836316483445003,97.4531142646604,97.948083797257198,99.576693227091695,100,101.020916334661,103.137450199203,109.860557768924,110.52369996873701,113.618363567861,119.57282790367699]
[null,"Johannesburg","South Africa",2.35336241130135,2.40283835687781,2.43278432393724,2.4653342881322802,2.5278302193867601,2.6306881062430798,2.7224790052730898,2.8188268992904102,2.8748128377058801,2.96790573530369,3.08834060282534,3.2647614087624501,3.4756851767463099,3.8089968101035101,4.2523273224399398,4.7848447366707898,5.31215415663043,5.9045635049801399,6.56207278171994,7.4344118221469904,8.4499707050322197,9.7389492871557906,11.164637718898501,12.5382462079292,13.983464618188901,16.261962111841701,19.2956187748193,22.413905344704101,25.278302193867599,29.002018097780098,33.155393529067098,38.239697936332298,43.545342100123698,47.776837445478797,52.047392747868003,56.565327778139398,60.7252132022655,65.946227459149796,70.483692467938297,74.135798450621706,78.093874096738503,82.546709198619894,90.111320877547001,95.390925069982401,96.712453616301005,100,104.641624894213,112.06952672352099,124.99837250179,133.91075646116801,139.6231820845,146.59809127010001]
[null,"Busan","South Korea",null,null,null,null,null,null,3.9023333948697898,4.3144198013055997,4.7853151777220102,5.3834795749531699,6.2489089156280402,7.0888844521654102,7.9161330866340398,8.1706711281362701,10.156067850733701,12.7269020687481,14.6741180851393,16.166878658128301,18.5045980462986,21.884433305896501,28.165293829982598,34.176236954770701,36.633658841249101,37.887014416800497,38.760719151779099,39.713851589937597,40.805982508660897,42.050349858478803,45.055364628784197,47.623527031600297,51.708498405646402,56.517388757371499,60.081548408737298,62.9328761298299,66.870423935148295,69.866015261177196,73.305819075381393,76.565633155121404,82.317305114221,82.985267017677003,84.865159799858404,88.3165581211762,90.7568000557239,93.945831737076105,97.319448797873207,100,102.241725583069,104.832886381314,109.73310579412301,112.758448554081,116.09143361311401,120.73509095763799]
[null,"Seoul","South Korea",null,null,null,null,null,null,3.9023333948697898,4.3144198013055997,4.7853151777220102,5.3834795749531699,6.2489089156280402,7.0888844521654102,7.9161330866340398,8.1706711281362701,10.156067850733701,12.7269020687481,14.6741180851393,16.166878658128301,18.5045980462986,21.884433305896501,28.165293829982598,34.176236954770701,36.633658841249101,37.887014416800497,38.760719151779099,39.713851589937597,40.805982508660897,42.050349858478803,45.055364628784197,47.623527031600297,51.708498405646402,56.517388757371499,60.081548408737298,62.9328761298299,66.870423935148295,69.866015261177196,73.305819075381393,76.565633155121404,82.317305114221,82.985267017677003,84.865159799858404,88.3165581211762,90.7568000557239,93.945831737076105,97.319448797873207,100,102.241725583069,104.832886381314,109.73310579412301,112.758448554081,116.09143361311401,120.73509095763799]
[null,"Barcelona","Spain",3.1770114546353798,3.2407397343829101,3.42334760807862,3.7247606044197399,3.9836384333939798,4.5109278357522697,4.7903398834553403,5.0976197994332697,5.3506307087706997,5.46430227673389,5.7789158422578204,6.2548696977940397,6.7733587206971198,7.5448586529376298,8.7307097845278498,10.2084401680494,12.008117766640799,14.9533114243195,17.911705651180799,20.718293332439799,23.9399655780031,27.424915842268199,31.3762862176597,35.197117631132301,39.165355400479598,42.618770971696897,46.367732619618401,48.800304174030799,51.162472692801401,54.637155847702097,58.307647445481301,61.768396666244598,65.428621154659496,68.4178167096142,71.646089239768898,74.995366987432803,77.664082057226693,79.194614717479496,80.646677327589998,82.510157677231703,85.342413131901793,88.407145277180405,91.118395514341202,93.8882898425706,96.740133707138199,100,103.515804736588,106.400483325278,110.73707104881601,110.41817303045001,112.405413243113,115.998163363944]
[null,"Madrid","Spain",3.1770114546353798,3.2407397343829101,3.42334760807862,3.7247606044197399,3.9836384333939798,4.5109278357522697,4.7903398834553403,5.0976197994332697,5.3506307087706997,5.46430227673389,5.7789158422578204,6.2548696977940397,6.7733587206971198,7.5448586529376298,8.7307097845278498,10.2084401680494,12.008117766640799,14.9533114243195,17.911705651180799,20.718293332439799,23.9399655780031,27.424915842268199,31.3762862176597,35.197117631132301,39.165355400479598,42.618770971696897,46.367732619618401,48.800304174030799,51.162472692801401,54.637155847702097,58.307647445481301,61.768396666244598,65.428621154659496,68.4178167096142,71.646089239768898,74.995366987432803,77.664082057226693,79.194614717479496,80.646677327589998,82.510157677231703,85.342413131901793,88.407145277180405,91.118395514341202,93.8882898425706,96.740133707138199,100,103.515804736588,106.400483325278,110.73707104881601,110.41817303045001,112.405413243113,115.998163363944]
[null,"Seville","Spain",3.1770114546353798,3.2407397343829101,3.42334760807862,3.7247606044197399,3.9836384333939798,4.5109278357522697,4.7903398834553403,5.0976197994332697,5.3506307087706997,5.46430227673389,5.7789158422578204,6.2548696977940397,6.7733587206971198,7.5448586529376298,8.7307097845278498,10.2084401680494,12.008117766640799,14.9533114243195,17.911705651180799,20.718293332439799,23.9399655780031,27.424915842268199,31.3762862176597,35.197117631132301,39.165355400479598,42.618770971696897,46.367732619618401,48.800304174030799,51.162472692801401,54.637155847702097,58.307647445481301,61.768396666244598,65.428621154659496,68.4178167096142,71.646089239768898,74.995366987432803,77.664082057226693,79.194614717479496,80.646677327589998,82.510157677231703,85.342413131901793,88.407145277180405,91.118395514341202,93.8882898425706,96.740133707138199,100,103.515804736588,106.400483325278,110.73707104881601,110.41817303045001,112.405413243113,115.998163363944]
[null,"Valencia","Spain",3.1770114546353798,3.2407397343829101,3.42334760807862,3.7247606044197399,3.9836384333939798,4.5109278357522697,4.7903398834553403,5.0976197994332697,5.3506307087706997,5.46430227673389,5.7789158422578204,6.2548696977940397,6.7733587206971198,7.5448586529376298,8.7307097845278498,10.2084401680494,12.008117766640799,14.9533114243195,17.911705651180799,20.718293332439799,23.9399655780031,27.424915842268199,31.3762862176597,35.197117631132301,39.165355400479598,42.618770971696897,46.367732619618401,48.800304174030799,51.162472692801401,54.637155847702097,58.307647445481301,61.768396666244598,65.428621154659496,68.4178167096142,71.646089239768898,74.995366987432803,77.664082057226693,79.194614717479496,80.646677327589998,82.510157677231703,85.342413131901793,88.407145277180405,91.118395514341202,93.8882898425706,96.740133707138199,100,103.515804736588,106.400483325278,110.73707104881601,110.41817303045001,112.405413243113,115.998163363944]
[null,"Stockholm","Sweden",9.9355602635315101,10.149966864668,10.6337347685665,10.939003972962199,11.309688006895501,11.8766165293633,12.6372915994233,13.179344792920901,13.435435784216301,13.7971168225199,14.765173034662601,15.8571375277009,16.809737730010799,17.939015216491399,19.717080833111201,21.645387191842602,23.870219961531198,26.612438757501099,29.252502175336399,31.3615449723323,35.659200394661397,39.980266931299802,43.406807314192598,47.2583219164257,51.068230651042697,54.827617974834403,57.151602866049899,59.540968406287199,63.018030199916197,67.074602292483306,74.097078376539002,81.015539791554602,82.864029052782996,86.715543654956605,88.623469869922204,90.864243025816407,91.292189092724598,91.764712874935697,91.6398952720875,92.055953948248202,93.010808610037103,95.248609918244497,97.304534148015804,99.178284114582496,99.548873521134297,100,101.360214686277,103.602473766015,107.163341664413,106.633461221845,107.868263935737,111.06240582957599]
[null,"Bern","Switzerland",25.105829601955499,25.569125216617099,26.672590387514202,27.590052639276799,28.4401886809571,29.411283676244601,30.816005108911,32.0552638220055,32.828549375745702,33.645654444096103,34.862290382046602,37.153793239783802,39.628307011782901,43.097781529705003,47.307032560652502,50.474925712657203,51.341005532875002,52.000875872088798,52.549908615210903,54.466741510204798,56.657407675855801,60.3345973108094,63.746646794984002,65.638447792285405,67.549319634855607,69.866251743972001,70.383779534668093,71.4029111840388,72.748483439848698,75.049491616943499,79.086208384373094,83.735996534627105,87.119832089178402,89.970215921012297,90.742526624051095,92.374729656246402,93.131116427263805,93.616796353917096,93.632720285938504,94.405030988977202,95.862070768937002,96.810166204285196,97.432364419288703,98.054323215814605,98.841604400779701,100,101.05877758998599,101.79917100087,104.26946738405,103.768369271043,104.49320182581,104.72894016549]
[null,"Geneva","Switzerland",25.105829601955499,25.569125216617099,26.672590387514202,27.590052639276799,28.4401886809571,29.411283676244601,30.816005108911,32.0552638220055,32.828549375745702,33.645654444096103,34.862290382046602,37.153793239783802,39.628307011782901,43.097781529705003,47.307032560652502,50.474925712657203,51.341005532875002,52.000875872088798,52.549908615210903,54.466741510204798,56.657407675855801,60.3345973108094,63.746646794984002,65.638447792285405,67.549319634855607,69.866251743972001,70.383779534668093,71.4029111840388,72.748483439848698,75.049491616943499,79.086208384373094,83.735996534627105,87.119832089178402,89.970215921012297,90.742526624051095,92.374729656246402,93.131116427263805,93.616796353917096,93.632720285938504,94.405030988977202,95.862070768937002,96.810166204285196,97.432364419288703,98.054323215814605,98.841604400779701,100,101.05877758998599,101.79917100087,104.26946738405,103.768369271043,104.49320182581,104.72894016549]
[null,"Zurich","Switzerland",25.105829601955499,25.569125216617099,26.672590387514202,27.590052639276799,28.4401886809571,29.411283676244601,30.816005108911,32.0552638220055,32.828549375745702,33.645654444096103,34.862290382046602,37.153793239783802,39.628307011782901,43.097781529705003,47.307032560652502,50.474925712657203,51.341005532875002,52.000875872088798,52.549908615210903,54.466741510204798,56.657407675855801,60.3345973108094,63.746646794984002,65.638447792285405,67.549319634855607,69.866251743972001,70.383779534668093,71.4029111840388,72.748483439848698,75.049491616943499,79.086208384373094,83.735996534627105,87.119832089178402,89.970215921012297,90.742526624051095,92.374729656246402,93.131116427263805,93.616796353917096,93.632720285938504,94.405030988977202,95.862070768937002,96.810166204285196,97.432364419288703,98.054323215814605,98.841604400779701,100,101.05877758998599,101.79917100087,104.26946738405,103.768369271043,104.49320182581,104.72894016549]
[null,"Bangkok","Thailand",11.797742352300199,12.6692404091956,13.137508021855799,13.137508021855799,13.033448552375701,13.0551276084849,13.581928672673399,14.167263188487899,14.4209081453563,14.774276760454701,14.761269326813199,14.8328102120482,15.5503869703485,17.962181966099099,22.329427825829001,23.519608008028602,24.495508409607702,26.357477376868999,28.4460675672062,31.261478977154201,37.421084650845899,42.159714007283803,44.376927053873999,46.030649491917899,46.428767856820897,47.557790706512002,48.433651108894303,49.644492386616697,51.533404779863602,54.294122893070501,57.477927405689798,60.759832337465397,63.274770355836999,65.370552037813297,68.670293409435502,72.665655935075407,76.883973958797796,81.209310621599897,87.701774725764693,87.951484883617198,89.351645411575802,90.805315259074305,91.438508873628805,93.0883795594399,95.656826897351294,100,104.63747436011801,107.01863907964,112.79764558994,111.83447783822299,115.537322750379,119.938464282529]
[null,"Dubai","UAE"]
[null,"Glasgow","UK",null,null,null,null,null,null,null,null,null,null,null,null,null,null,null,null,null,null,null,null,null,null,null,null,null,null,null,null,63.488624052004297,66.8139011584298,71.472622718559904,76.856404700391707,80.1316776398033,82.140178348195604,83.765313776147906,85.990499208267295,88.124010334194494,89.690807567297199,91.115926327193904,92.332694391199198,93.057754812900995,94.207850654221104,95.391282606883806,96.691390949245701,97.991499291607596,100,102.333527793983,104.708725727144,108.49237436452999,110.84257021418399,114.484540378365,119.61830152512699]
[null,"London","UK",null,null,null,null,null,null,null,null,null,null,null,null,null,null,null,null,null,null,null,null,null,null,null,null,null,null,null,null,63.488624052004297,66.8139011584298,71.472622718559904,76.856404700391707,80.1316776398033,82.140178348195604,83.765313776147906,85.990499208267295,88.124010334194494,89.690807567297199,91.115926327193904,92.332694391199198,93.057754812900995,94.207850654221104,95.391282606883806,96.691390949245701,97.991499291607596,100,102.333527793983,104.708725727144,108.49237436452999,110.84257021418399,114.484540378365,119.61830152512699]
[null,"Manchester","UK",null,null,null,null,null,null,null,null,null,null,null,null,null,null,null,null,null,null,null,null,null,null,null,null,null,null,null,null,63.488624052004297,66.8139011584298,71.472622718559904,76.856404700391707,80.1316776398033,82.140178348195604,83.765313776147906,85.990499208267295,88.124010334194494,89.690807567297199,91.115926327193904,92.332694391199198,93.057754812900995,94.207850654221104,95.391282606883806,96.691390949245701,97.991499291607596,100,102.333527793983,104.708725727144,108.49237436452999,110.84257021418399,114.484540378365,119.61830152512699]
[null,"Newcastle upon Tyne","UK",null,null,null,null,null,null,null,null,null,null,null,null,null,null,null,null,null,null,null,null,null,null,null,null,null,null,null,null,63.488624052004297,66.8139011584298,71.472622718559904,76.856404700391707,80.1316776398033,82.140178348195604,83.765313776147906,85.990499208267295,88.124010334194494,89.690807567297199,91.115926327193904,92.332694391199198,93.057754812900995,94.207850654221104,95.391282606883806,96.691390949245701,97.991499291607596,100,102.333527793983,104.708725727144,108.49237436452999,110.84257021418399,114.484540378365,119.61830152512699]
[null,"Chicago","USA",15.154181877448799,15.317116896778201,15.488066862145899,15.676111824221399,15.8812517826626,16.1462242288972,16.629157881075301,17.090722787582401,17.8115618081452,18.7760045295135,19.882905555226898,20.729107883768801,21.414332328327099,22.746317475136401,25.256432799952801,27.5628327493013,29.1441199289956,31.0345416293395,33.407896981875702,37.171645386041199,42.1933006187327,46.545764881587402,49.413270748879903,51.000640068273903,53.202474930659299,55.097077021548998,56.121186259867699,58.220610198421198,60.554725837422502,63.477704288457602,66.904203114998793,69.737572007680996,71.849797311713402,73.970556859398201,75.899295924898695,78.028589716236198,80.315767015148296,82.193300618732806,83.469170044804599,85.295498186473196,88.175805419244696,90.667804565820504,92.105824621292896,94.196714316193706,96.718583315553701,100,103.225944100704,106.17064220183499,110.246639641562,109.85466183059501,111.656326008108,115.18113932152799]
[null,"New York","USA",15.154181877448799,15.317116896778201,15.488066862145899,15.676111824221399,15.8812517826626,16.1462242288972,16.629157881075301,17.090722787582401,17.8115618081452,18.7760045295135,19.882905555226898,20.729107883768801,21.414332328327099,22.746317475136401,25.256432799952801,27.5628327493013,29.1441199289956,31.0345416293395,33.407896981875702,37.171645386041199,42.1933006187327,46.545764881587402,49.413270748879903,51.000640068273903,53.202474930659299,55.097077021548998,56.121186259867699,58.220610198421198,60.554725837422502,63.477704288457602,66.904203114998793,69.737572007680996,71.849797311713402,73.970556859398201,75.899295924898695,78.028589716236198,80.315767015148296,82.193300618732806,83.469170044804599,85.295498186473196,88.175805419244696,90.667804565820504,92.105824621292896,94.196714316193706,96.718583315553701,100,103.225944100704,106.17064220183499,110.246639641562,109.85466183059501,111.656326008108,115.18113932152799]
[null,"Washington DC","USA",15.154181877448799,15.317116896778201,15.488066862145899,15.676111824221399,15.8812517826626,16.1462242288972,16.629157881075301,17.090722787582401,17.8115618081452,18.7760045295135,19.882905555226898,20.729107883768801,21.414332328327099,22.746317475136401,25.256432799952801,27.5628327493013,29.1441199289956,31.0345416293395,33.407896981875702,37.171645386041199,42.1933006187327,46.545764881587402,49.413270748879903,51.000640068273903,53.202474930659299,55.097077021548998,56.121186259867699,58.220610198421198,60.554725837422502,63.477704288457602,66.904203114998793,69.737572007680996,71.849797311713402,73.970556859398201,75.899295924898695,78.028589716236198,80.315767015148296,82.193300618732806,83.469170044804599,85.295498186473196,88.175805419244696,90.667804565820504,92.105824621292896,94.196714316193706,96.718583315553701,100,103.225944100704,106.17064220183499,110.246639641562,109.85466183059501,111.656326008108,115.18113932152799]
[null,"Danang","Vietnam",null,null,null,null,null,null,null,null,null,null,null,null,null,null,null,null,null,null,null,null,null,null,null,null,null,null,null,null,null,null,null,null,null,null,null,67.080399761999203,70.887212448492605,73.162356007087297,78.478477688225794,81.709516943428298,80.3120086150535,79.965426549616495,83.028764805414497,85.702199661590498,92.351945854483901,100,107.38578680203,116.302876480541,143.187817258883,153.28908559098301,166.872951753016,198.04060913705601]
[null,"Hanoi","Vietnam",null,null,null,null,null,null,null,null,null,null,null,null,null,null,null,null,null,null,null,null,null,null,null,null,null,null,null,null,null,null,null,null,null,null,null,67.080399761999203,70.887212448492605,73.162356007087297,78.478477688225794,81.709516943428298,80.3120086150535,79.965426549616495,83.028764805414497,85.702199661590498,92.351945854483901,100,107.38578680203,116.302876480541,143.187817258883,153.28908559098301,166.872951753016,198.04060913705601]
[null,"Ho Chi Minh City","Vietnam",null,null,null,null,null,null,null,null,null,null,null,null,null,null,null,null,null,null,null,null,null,null,null,null,null,null,null,null,null,null,null,null,null,null,null,67.080399761999203,70.887212448492605,73.162356007087297,78.478477688225794,81.709516943428298,80.3120086150535,79.965426549616495,83.028764805414497,85.702199661590498,92.351945854483901,100,107.38578680203,116.302876480541,143.187817258883,153.28908559098301,166.872951753016,198.04060913705601]

{"sheet":"Update Form","index":4,"n_rows":95,"n_cols":3,"rows_kept":95,"cut":false,"hidden":false,"merged":[]}
[]
[null,null,"UPDATE FORM"]
[]
[]
[null,"City","Casablanca"]
[null,"Category","Supply"]
[]
[]
[null,"Sub Category","Value"]
[null,"Length of roads in km"]
[null,"Length of mass transit (km) - Bus"]
[null,"Length of mass transit (km) - Regional/Commuter rail"]
[null,"Length of mass transit (km) - Metro rail"]
[null,"Length of mass transit (km) - Light rail",16]
[null,"Length of mass transit (km) - Tram"]
[null,"Length of mass transit (km) - BRT"]
[null,"Length of mass transit (km) - Trolley Bus2"]
[null,"Stations - Regional/Commuter rail"]
[null,"Stations - Metro rail"]
[null,"Stations - Light rail"]
[null,"Stations - Tram"]
[null,"Stations - Trolley Bus"]
[null,"Stations - BRT"]
[null,"Public vehicles available - Articulated bus"]
[null,"Public vehicles available - Double-decker bus"]
[null,"Public vehicles available - Standard bus",870]
[null,"Public vehicles available - Mini bus"]
[null,"Public vehicles available - Midi bus"]
[null,"Public vehicles available - Metro coaches"]
[null,"Public vehicles available - Suburban/Regional rail coaches"]
[null,"Public vehicles available - LRT coaches"]
[null,"Public vehicles available -Tram"]
[null,"Public vehicles available - BRT"]
[null,"Public vehicles available - Trolley"]
[null,"Public vehicles available - Taxi"]
[null,"Fares for 10 km of journey (Local currency) - Bus",4]
[null,"Fares for 10 km of journey (Local currency) - Regional/Commuter rail"]
[null,"Fares for 10 km of journey (Local currency) - Metro"]
[null,"Fares for 10 km of journey (Local currency) - LRT"]
[null,"Fares for 10 km of journey (Local currency) - Tram"]
[null,"Fares for 10 km of journey (Local currency) - BRT"]
[null,"Fares for 10 km of journey (Local currency) - Trolley Bus"]
[null,"Fares for 10 km of journey (2007 US$ PPP) - Bus",0.64]
[null,"Fares for 10 km of journey (2007 US$ PPP) - Regional/Commuter Rail"]
[null,"Fares for 10 km of journey (2007 US$ PPP) - Metro"]
[null,"Fares for 10 km of journey (2007 US$ PPP) - LRT"]
[null,"Fares for 10 km of journey (2007 US$ PPP) - Tram"]
[null,"Fares for 10 km of journey (2007 US$ PPP) - BRT"]
[null,"Fares for 10 km of journey (2007 US$ PPP) - Trolley Bus"]
[null,"Operating Costs (LC) - Bus"]
[null,"Operating Costs (LC) - Regional Rail"]
[null,"Operating Costs (LC) - Metro"]
[null,"Operating Costs (LC) - LRT",0]
[null,"Operating Costs (LC) - Tram",0]
[null,"Operating Costs (LC) - BRT"]
[null,"Operating Costs (LC) - Trolley Bus"]
[null,"Fare revenue (LC) - Bus"]
[null,"Fare revenue (LC) - Regional Rail"]
[null,"Fare revenue (LC) - Metro"]
[null,"Fare revenue (LC) - LRT"]
[null,"Fare revenue (LC) - Tram"]
[null,"Fare revenue (LC) - BRT"]
[null,"Fare revenue (LC) - Trolley Buses"]
[null,"Non fare earnings (LC) - Bus"]
[null,"Non fare earnings (LC) - Regional Rail"]
[null,"Non fare earnings (LC) - Metro"]
[null,"Non fare earnings (LC) - LRT"]
[null,"Public Subsidy (LC) - Metro"]
[null,"Public Subsidy (LC) - LRT"]
[null,"Operating Costs US$ - Bus"]
[null,"Operating Costs US$ - Metro"]
[null,"Operating Costs US$- LRT"]
[null,"Operating Costs US$- Tram"]
[null,"Operating Costs US$ - Trolley Bus"]
[null,"Fare revenue US$- Bus"]
[null,"Fare revenue US$- Regional Rail"]
[null,"Fare revenue US$- Metro"]
[null,"Fare revenue US$- LRT"]
[null,"Fare revenue US$- Tram"]
[null,"Fare revenue US$- BRT"]
[null,"Fare revenue US$- Trolley Buses"]
[null,"Non fare earnings US$ - Bus"]
[null,"Non fare earnings US$- Regional Rail"]
[null,"Non fare earnings US$- Metro"]
[null,"Non fare earnings US$ - LRT"]
[null,"Public Subsidy US$- Metro"]
[null,"Public Subsidy US$- LRT"]
[null,"Manpower strength - Bus"]
[null,"Manpower strength - Regional Rail"]
[null,"Manpower strength - Metro"]
[null,"Manpower strength - LRT"]
[null,"Manpower strength - Tram"]
[null,"Manpower strength - BRT"]
[null,"Manpower strength - Trolley Bus"]
[null,"Age profile of bus fleet (Yrs)"]

{"sheet":"Report1 - Graphs","index":5,"n_rows":23,"n_cols":7,"rows_kept":23,"cut":false,"hidden":false,"merged":[[1,6,1,16]]}
[]
[null,null,null,null,null,null,"Results Report "]
[null,null,null,"Buses per 1k pop.","Rank"]
[null,null,"Primary City"]
[null,null,"Tunis",0.44369717384191398,4]
[null,null,"Peer Cities"]
[null,null,"Sao Paulo",0.85929729403261956,1]
[null,null,"Seoul",0.73062240663900413,2]
[null,null,"London",0.49732533571125681,3]
[null,null,"Moscow",0.36968695720500633,5]
[null,null,"Paris",0.31623533864974868,6]
[null,null,"New York",0.30075933436157293,7]
[null,null,"Tokyo",0.11204032716082071,8]
[null,null,"Cairo",0.11189096663178492,9]
[null,null,"Mexico city",1.9516165940446792E-2,10]
[]
[null,null,"Top Ranked Cities"]
[null,null,"Sao Paulo",0.85929729403261956,1]
[]
[null,null,"Bottom Ranked Cities"]
[null,null,"Mexico city",1.9516165940446792E-2,10]
[]
[null,null,"Tunis is in the 2nd Quintile of the cities compared"]

{"sheet":"Report2 - Scatter Plots","index":6,"n_rows":31,"n_cols":7,"rows_kept":31,"cut":false,"hidden":false,"merged":[[1,6,1,16]]}
[]
[null,null,null,null,null,null,"Results Report "]
[null,null,{"$f":"D3&CHAR(10)&\" vs. \" &CHAR(10)&E3","v":"Emission levels - Particulate matter (Weighted PM10)\n vs. \nPrivate Transport Energy Usage - (MJ/Passenger Km)"},"Emission levels - Particulate matter (Weighted PM10)","Private Transport Energy Usage - (MJ/Passenger Km)"]
[null,null,"Primary City"]
[null,null,"Chicago",22,2.82]
[null,null,"Peer Cities"]
[null,null,"Mumbai",117,2.02]
[null,null,"Bogota",52,2.08]
[null,null,"Krakow",51,2.67]
[null,null,"Hong Kong",49,3.05]
[null,null,"Athens",40,2.37]
[null,null,"Sao Paulo",38,2.59]
[null,null,"Milan",37,2.5499999999999998]
[null,null,"Warsaw",33,2.4700000000000002]
[null,null,"Singapore",30,2.2000000000000002]
[null,null,"Budapest",29,2.5299999999999998]
[null,null,"Marseilles",29,3.73]
[null,null,"Rome",28,2.65]
[null,null,"Amsterdam",27,2.29]
[null,null,"Stockholm",26,2.17]
[null,null,"Bologna",25,2.0099999999999998]
[null,null,"Vienna",25,3.13]
[null,null,"Berlin",24,2.91]
[null,null,"Stuttgart",24,2.19]
[null,null,"Barcelona",22,2.25]
[null,null,"Geneva",21,3.26]
[null,null,"Hamburg",21,2.33]
[null,null,"Helsinki",19,1.82]
[null,null,"Madrid",19,2.71]
[null,null,"Washington DC",18,2.88]
[null,null,"New York",16,3.38]