{"text_format":"1","workbook":"xlsx","n_sheets":15,"sheets":["About","Sheet1","A - Policy objectives","B - Technical objectives","C - Data availability","Radar Diagram","Methodological Approaches","Assessment Framework","Multicriteria Decision Analysis","Results to print","Help text","Assets","Styles","AppSettings","Temp"],"not_rendered":{"charts":6,"images":252,"macros":1,"external_links":0,"defined_names":5,"comments":4,"pivot_tables":0},"unopened":[],"bounds":{"document_bytes":16777216,"sheet_cells":100000,"rows_first":2000,"rows_last":500,"rows_between":2000,"halvings":0,"cell_chars":16384,"cell_head_chars":4096},"cells_cut":0,"cells_raw":0,"read":"whole","date_system":"1900"}

{"sheet":"About","index":0,"n_rows":40,"n_cols":2,"rows_kept":40,"cut":false,"hidden":false,"merged":[]}
[null,"Aim of PLAST toolkit"]
[null,"In response to the plastic pollution crisis, many methodologies for quantification of plastic pollution have been developed. However, the breadth of these plastic pollution assessment methodologies makes it difficult for practitioners to assess which methods are best suited for their needs. The ‘Plastic Pollution Assessment Methodologies Suitability Toolkit’ (PLAST) has been designed to characterize and compare assessment plastic pollution assessment methodologies to suggest the most suitable options based on a user’s requirements."]
[null,"Users"]
[null,"PLAST is designed to aid all users interested in applying plastic pollution assessment methodologies, for example those shown below:"]
[]
[]
[]
[]
[]
[]
[null,"To apply PLAST, we recommend input from both high-level users focused on overall objectives policies and resources; as well as technical users familiar with plastic pollution assessment methodologies terminology, data availability and required outputs. "]
[]
[null,"Acknowledgements"]
[null,"PLAST has been developed by the University of Leeds (project lead), Deltares, IUCN, and David Newby Associates under the management of a team from the World Bank. Funding for development of the toolkit was provided by PROBLUE, an umbrella multi-donor trust fund administered by the World Bank that supports the sustainable and integrated development of marine and coastal resources in healthy oceans."]
[]
[null,"Cite as:"]
[null,"World Bank. 2023. Plastic Pollution Assessment Methodologies Suitability Toolkit (PLAST). Washington DC."]
[]
[null,"Technical support"]
[null,"Please direct technical support to Dr Costas Velis (University of Leeds) "]
[]
[null,"Training"]
[null,"PLAST works by allowing users to answer a series of questions on their objectives, technical requirements and data availability in regards to applying plastic pollution assessment methodologies. Users specify how important each requirement is to their needs, with this information used to calculate two types of results:\n\n• The broad methodological approach best suited to their overall objectives and resources \n• The most suitable assessment methodologies based on user’s more specific needs\n\nUsers can view the details of the top-ranked methodologies, including links to further explore the methods. Note: methodologies are recommended based on the scoring criteria only, with no indication given of the scientific rigour, accuracy of track record of the methodology.\nTraining for PLAST can be completed by watching the training video below, with more detailed instructions provided in the accompanying user manual or basic troubleshooting in the FAQ’s.\n\n"]
[]
[]
[]
[]
[]
[]
[]
[]
[]
[]
[]
[]
[]
[]
[]
[null,"Disclaimer"]
[null,"Copyright © by International Bank for Reconstruction and Development / The World Bank\n1818 H Street NW, Washington DC 20433\nTelephone: 202-473-1000, Internet: www.worldbank.org\n\nThis work is a product of staff at The World Bank with external contributions. The findings, interpretations, and conclusions expressed in this work do not necessarily reflect the views of The World Bank, its Board of Executive Directors, or the governments they represent.\n\nThe World Bank does not guarantee the accuracy, completeness, or currency of the data included in this work and does not assume responsibility for any errors, omissions, or discrepancies in the information, or liability with respect to the use of or failure to use the information, methods, processes, or conclusions set forth. The boundaries, colors, denominations, and other information shown on any map in this work do not imply any judgment on the part of The World Bank concerning the legal status of any territory or the endorsement or acceptance of such boundaries. Nothing herein shall constitute or be construed or considered to be a limitation upon or waiver of the privileges and immunities of The World Bank, all of which are specifically reserved.\n\nRights and Permissions\nThe material in this work is subject to copyright. Because The World Bank encourages dissemination of its knowledge, this work may be reproduced, in whole or in part, for noncommercial purposes as long as full attribution to this work is given.\n\nAny queries on rights and licenses, including subsidiary rights, should be addressed to World Bank Publications, The World Bank Group, 1818 H Street NW, Washington, DC 20433, USA; fax: 202-522-2625;\n e-mail: pubrights@worldbank.org."]

{"sheet":"Sheet1","index":1,"n_rows":0,"n_cols":0,"rows_kept":0,"cut":false,"hidden":false,"merged":[]}

{"sheet":"A - Policy objectives","index":2,"n_rows":158,"n_cols":26,"rows_kept":158,"cut":false,"hidden":true,"merged":[[13,7,15,15],[78,9,78,15],[79,9,79,15],[74,9,74,15],[75,9,75,15],[76,9,76,15],[77,9,77,15],[59,9,59,15],[44,9,44,15],[46,9,46,15],[48,9,48,15],[73,9,73,13],[61,9,61,15],[63,9,63,15],[64,9,64,15],[60,9,60,15],[62,9,62,15],[72,9,72,13],[67,9,67,15],[47,9,47,15],[49,9,49,15],[58,9,58,13],[57,9,57,13],[4,7,5,7],[6,7,7,7],[8,7,9,7],[10,7,11,7],[84,9,84,15],[52,9,52,15],[43,9,43,13],[45,9,45,15],[38,9,38,15],[16,7,30,15],[4,9,5,14],[6,9,7,14],[8,9,9,14],[10,9,11,14],[42,9,42,13],[37,9,37,15],[85,9,85,15],[86,9,86,15],[87,9,87,15],[88,9,88,15],[89,9,89,15],[90,9,90,15],[91,9,91,15],[92,9,92,15],[93,9,93,15],[94,9,94,15],[95,9,95,15],[96,9,96,15],[97,9,97,15],[98,9,98,15],[99,9,99,15],[100,9,100,15],[101,9,101,15],[102,9,102,15],[103,9,103,15],[104,9,104,15],[105,9,105,15],[106,9,106,15],[107,9,107,15],[108,9,108,15],[109,9,109,15],[110,9,110,15],[111,9,111,15],[112,9,112,15],[113,9,113,15],[114,9,114,15],[115,9,115,15],[116,9,116,15],[117,9,117,15],[118,9,118,15],[119,9,119,15],[120,9,120,15],[121,9,121,15],[122,9,122,15],[123,9,123,15],[124,9,124,15],[130,9,130,15],[125,9,125,15],[126,9,126,15],[127,9,127,15],[128,9,128,15],[129,9,129,15]]}
[null,"PART A: Policy-related objectives",null,null,null,null,null,"Suitability of methodological approaches"]
[null,"Click the questions or answers for definitions"]
[{"$f":"IF(COUNTIF(C:C,\"Essential\")>0,1,\"\")","v":""},{"$f":"IF(COUNTIF(C:C,\"Essential\")>0,\"Please note - selecting 'essential' acts as a hard filter and removes all methodologies that do not meet this criteria.\",\"\")","v":""}]
[null,null,null,null,null,null,null,null,null,"Relative suitability*"]
[null,null,null,null,null,null,null,"Transfer coefficient ",null,{"$f":"'Methodological Approaches'!C50","v":0}]
["A1","1. Which of these stages are you focused on in your efforts to quantify plastic pollution?"]
[null,"Baselining",null,null,"Select from the dropdown box",null,null,"Material Flow Analysis",null,{"$f":"'Methodological Approaches'!D50","v":0}]
[null,"Developing and implementing action plans",null,null,"Select from the dropdown box"]
[null,"Monitoring",null,null,"Select from the dropdown box",null,null,"Statistical / trend analysis",null,{"$f":"'Methodological Approaches'!E50","v":0}]
[null,"Benchmarking",null,null,"Select from the dropdown box"]
[null,null,null,null,null,null,null,"Hydrological / transport modelling",null,{"$f":"'Methodological Approaches'!F50","v":0}]
["A2","2. How important is it that the assessment methodology works at the following scales?"]
[null,"Global","Non-essential",{"$f":"IF(C13=\"Essential\",1,\"\")","v":""},"Select from the dropdown box"]
[null,"Regional (multiple countries)","Non-essential","","Select from the dropdown box",null,null,"* The relative suitability of methodological approcahes is scored based on the overall scope, environmental compartment and general level of resources able to be commited (Part A - Q 3,4,5), as shown in the 'Methodological Approaches' sheet.. "]
[null,"National","Non-essential","","Select from the dropdown box"]
[null,"Provincial","Non-essential","","Select from the dropdown box"]
[null,"Municipal","Non-essential","","Select from the dropdown box",null,null,"Note: \nAssessment of a methodologies suitability is based on the scoring criteria only. No indication is given to the methodologies scientific rigour or accuracy of results. As such, the results presented here should be used as a guide only.\n\nFuthermore, whilst the level of resources and data requirements are included as scoring criteria, it should be acknowledged that primary data collection is always encouraged and that the quality of the results will likely reflect the resources allocated."]
[null,"Sub-municipal (local)","Non-essential","","Select from the dropdown box"]
[]
["A3","3. How important is it that the assessment methodology assesses the following scopes?"]
[null,"Pre-leakage / upstream","Non-essential",{"$f":"IF(C21=\"Essential\",1,\"\")","v":""},"Select from the dropdown box"]
[null,"Point of uncontrolled release into environment (sources)","Non-essential","","Select from the dropdown box"]
[null,"Plastic discharge to oceans (marine litter)","Non-essential","","Select from the dropdown box"]
[null,"State of the environment (accumulations)","Non-essential","","Select from the dropdown box"]
[]
["A4","4. How important is it that the assessment methodology analyzes the following environmental compartments?"]
[null,"Land","Non-essential","","Select from the dropdown box"]
[null,"Riverine","Non-essential","","Select from the dropdown box"]
[null,"Coastal","Non-essential","","Select from the dropdown box"]
[null,"Marine","Non-essential","","Select from the dropdown box"]
[]
["A5","5. What level of resources can you commit towards applying the assessment methodology?"]
[null,"Ability to employ / subcontract specialist expertise",null,null,"Select from the dropdown box"]
[null,"Ability to purchase / hire specialist equipment",null,null,"Select from the dropdown box",null,null,"Suitability of Plastic Pollution Assessment Methodologies"]
[null,"Time available to implement methodology",null,null,"Select from the dropdown box",null,null,{"$f":"IFERROR(IF((COUNTA('A - Policy objectives'!$C$7:$C$35)+COUNTA('B - Technical objectives'!$C$7:$C$82)+COUNTA('C - Data availability'!$C$7:$C$21)-COUNTIF('A - Policy objectives'!$C$7:$C$35,\"Non-essential\")-COUNTIF('A - Policy objectives'!$C$7:$C$35,\"No\")-COUNTIF('B - Technical objectives'!$C$7:$C$82,\"Non-essential\")-COUNTIF('C - Data availability'!$C$21,\"Non-essential\")-COUNTIF('C - Data availability'!$C$7:$C$21,\"No\"))>9,IF(COUNTIF('Multicriteria Decision Analysis'!$H$95:$CN$95,\"Yes\")=0,\"No methodologies match criteria, try removing some 'essential' components\",IF(COUNTIF('Multicriteria Decision Analysis'!$H$95:$CN$95,\"Yes\")>3,COUNTIFS('Multicriteria Decision Analysis'!$H$95:$CN$95,\"Yes\",'Multicriteria Decision Analysis'!$H$1:$CN$1,\">0\")&\" methodologies match your essential criteria. The top 3 are below. Any equally ranked results can be seen by clicking 'Compare'.\",IF(AND(COUNTIF('Multicriteria Decision Analysis'!$H$95:$CN$95,\"Yes\")>0,COUNTIF('Multicriteria Decision Analysis'!$H$95:$CN$95,\"Yes\")<4),COUNTIF('Multicriteria Decision Analysis'!$H$95:$CN$95,\"Yes\")&\" methodologies match your criteria.\",\"\"))),\"\"),\"\")","v":""},null,null,null,null,null,null,null,null,null,null,null,null,null,null,null,null,null,{"$f":"IFERROR(IF((COUNTA('A - Policy objectives'!$C$7:$C$35)+COUNTA('B - Technical objectives'!$C$7:$C$82)+COUNTA('C - Data availability'!$C$7:$C$21)-COUNTIF('A - Policy objectives'!$C$7:$C$35,\"Non-essential\")-COUNTIF('A - Policy objectives'!$C$7:$C$35,\"No\")-COUNTIF('B - Technical objectives'!$C$7:$C$82,\"Non-essential\")-COUNTIF('C - Data availability'!$C$21,\"Non-essential\")-COUNTIF('C - Data availability'!$C$7:$C$21,\"No\"))>9,IF(COUNTIF('Multicriteria Decision Analysis'!$H$95:$CN$95,\"Yes\")=0,0,IF(COUNTIF('Multicriteria Decision Analysis'!$H$95:$CN$95,\"Yes\")>3,COUNTIFS('Multicriteria Decision Analysis'!$H$95:$CN$95,\"Yes\",'Multicriteria Decision Analysis'!$H$1:$CN$1,\">0\"),IF(AND(COUNTIF('Multicriteria Decision Analysis'!$H$95:$CN$95,\"Yes\")>0,COUNTIF('Multicriteria Decision Analysis'!$H$95:$CN$95,\"Yes\")<4),COUNTIF('Multicriteria Decision Analysis'!$H$95:$CN$95,\"Yes\"),0))),0),0)","v":0}]
[]
[null,"Calculated overall resource availability\n(proxy for budget based on Q5 above)",{"$f":"IFERROR(IF(ROUND(((IF(C33=\"High\",3,IF(C33=\"Medium\",2,IF(C33=\"Low\",1,0)))+IF(C34=\"High\",3,IF(C34=\"Medium\",2,IF(C34=\"Low\",1,0)))+IF(C35=\"High\",3,IF(C35=\"Medium\",2,IF(C35=\"Low\",1,0))))/COUNTA(C33:C35)),0)=3,\"High\",IF(ROUND(((IF(C33=\"High\",3,IF(C33=\"Medium\",2,IF(C33=\"Low\",1,0)))+IF(C34=\"High\",3,IF(C34=\"Medium\",2,IF(C34=\"Low\",1,0)))+IF(C35=\"High\",3,IF(C35=\"Medium\",2,IF(C35=\"Low\",1,0))))/COUNTA(C33:C35)),0)=2,\"Medium\",IF(ROUND(((IF(C33=\"High\",3,IF(C33=\"Medium\",2,IF(C33=\"Low\",1,0)))+IF(C34=\"High\",3,IF(C34=\"Medium\",2,IF(C34=\"Low\",1,0)))+IF(C35=\"High\",3,IF(C35=\"Medium\",2,IF(C35=\"Low\",1,0))))/COUNTA(C33:C35)),0)=1,\"Low\"))),\"\")","v":""},null,"Calculated",null,null,{"$f":"IFERROR(IF((COUNTA('A - Policy objectives'!$C$7:$C$35)+COUNTA('B - Technical objectives'!$C$7:$C$82)+COUNTA('C - Data availability'!$C$7:$C$21)-COUNTIF('A - Policy objectives'!$C$7:$C$35,\"Non-essential\")-COUNTIF('B - Technical objectives'!$C$7:$C$82,\"Non-essential\")-COUNTIF('C - Data availability'!$C$21,\"Non-essential\"))>3,INDEX('Multicriteria Decision Analysis'!$H$119:$CN$119,MATCH(1,'Multicriteria Decision Analysis'!$H$118:$CN$118,0)),\"\"),\"1\")","v":""},null,null,null,null,null,null,null,null,null,null,null,null,null,{"$f":"IFERROR(IF((COUNTA('A - Policy objectives'!$C$7:$C$35)+COUNTA('B - Technical objectives'!$C$7:$C$82)+COUNTA('C - Data availability'!$C$7:$C$21)-COUNTIF($C$7:$C$35,\"Non-essential\")-COUNTIF('B - Technical objectives'!$C$7:$C$82,\"Non-essential\")-COUNTIF('C - Data availability'!$C$21,\"Non-essential\"))>3,INDEX('Multicriteria Decision Analysis'!$H$119:$CN$119,MATCH(1,'Multicriteria Decision Analysis'!$H$118:$CN$118,0)),\"\"),\"1\")","v":""}]
[null,null,null,null,null,null,null,"Assessment Name:",null,{"$f":"IFERROR(IF((COUNTA('A - Policy objectives'!$C$7:$C$35)+COUNTA('B - Technical objectives'!$C$7:$C$82)+COUNTA('C - Data availability'!$C$7:$C$21)-COUNTIF('A - Policy objectives'!$C$7:$C$35,\"Non-essential\")-COUNTIF('B - Technical objectives'!$C$7:$C$82,\"Non-essential\")-COUNTIF('C - Data availability'!$C$21,\"Non-essential\"))>3,HYPERLINK(INDEX('Multicriteria Decision Analysis'!$H$4:$CN$4,MATCH(1,'Multicriteria Decision Analysis'!$H$118:$CN$118,0)),INDEX('Multicriteria Decision Analysis'!$H$2:$CN$2,MATCH(1,'Multicriteria Decision Analysis'!$H$118:$CN$118,0))),\"\"),\"No methodologies match criteria\")","v":""},null,null,null,null,null,null,null,{"$f":"IF(I38<>\"\",1,0)","v":0}]
["END",null,null,null,null,null,null,"Organization(s) / Author(s): ",null,{"$f":"IFERROR(IF((COUNTA('A - Policy objectives'!$C$7:$C$35)+COUNTA('B - Technical objectives'!$C$7:$C$82)+COUNTA('C - Data availability'!$C$7:$C$21)-COUNTIF('A - Policy objectives'!$C$7:$C$35,\"Non-essential\")-COUNTIF('B - Technical objectives'!$C$7:$C$82,\"Non-essential\")-COUNTIF('C - Data availability'!$C$21,\"Non-essential\"))>3,INDEX('Multicriteria Decision Analysis'!$H$3:$CN$3,MATCH(1,'Multicriteria Decision Analysis'!$H$118:$CN$118,0)),\"\"),\"\")","v":""}]
[null,null,null,null,null,null,null,"Important components provided:",{"$f":"IFERROR(IF((COUNTA('A - Policy objectives'!$C$7:$C$35)+COUNTA('B - Technical objectives'!$C$7:$C$82)+COUNTA('C - Data availability'!$C$7:$C$21)-COUNTIF('A - Policy objectives'!$C$7:$C$35,\"Non-essential\")-COUNTIF('B - Technical objectives'!$C$7:$C$82,\"Non-essential\")-COUNTIF('C - Data availability'!$C$21,\"Non-essential\"))>3,INDEX('Multicriteria Decision Analysis'!$H$100:$CN$100,MATCH(1,'Multicriteria Decision Analysis'!$H$118:$CN$118,0)),0),0)","v":0},{"$f":"IF(I40>=0.2,1,IF(I40>=0.1,0.5,0))","v":0},{"$f":"IF(I40>=0.4,1,IF(I40>=0.3,0.5,0))","v":0},{"$f":"IF(I40>=0.6,1,IF(I40>=0.5,0.5,0))","v":0},{"$f":"IF(I40>=0.8,1,IF(I40>=0.7,0.5,0))","v":0},{"$f":"IF(I40>=1,1,IF(I40>=0.9,0.5,0))","v":0},{"$f":"SUM(J40:N40)*10","v":0}]
[null,null,null,null,null,null,null,"Preferred components provided:",{"$f":"IFERROR(IF((COUNTA('A - Policy objectives'!$C$7:$C$35)+COUNTA('B - Technical objectives'!$C$7:$C$82)+COUNTA('C - Data availability'!$C$7:$C$21)-COUNTIF('A - Policy objectives'!$C$7:$C$35,\"Non-essential\")-COUNTIF('B - Technical objectives'!$C$7:$C$82,\"Non-essential\")-COUNTIF('C - Data availability'!$C$21,\"Non-essential\"))>3,INDEX('Multicriteria Decision Analysis'!$H$105:$CN$105,MATCH(1,'Multicriteria Decision Analysis'!$H$118:$CN$118,0)),0),0)","v":0},{"$f":"IF(I41>=0.2,1,IF(I41>=0.1,0.5,0))","v":0},{"$f":"IF(I41>=0.4,1,IF(I41>=0.3,0.5,0))","v":0},{"$f":"IF(I41>=0.6,1,IF(I41>=0.5,0.5,0))","v":0},{"$f":"IF(I41>=0.8,1,IF(I41>=0.7,0.5,0))","v":0},{"$f":"IF(I41>=1,1,IF(I41>=0.9,0.5,0))","v":0},{"$f":"SUM(J41:N41)*10","v":0}]
[null,null,null,null,null,null,null,"Matching data requirements",{"$f":"IFERROR(IF((COUNTA('A - Policy objectives'!$C$7:$C$35)+COUNTA('B - Technical objectives'!$C$7:$C$82)+COUNTA('C - Data availability'!$C$7:$C$21)-COUNTIF('A - Policy objectives'!$C$7:$C$35,\"Non-essential\")-COUNTIF('B - Technical objectives'!$C$7:$C$82,\"Non-essential\")-COUNTIF('C - Data availability'!$C$21,\"Non-essential\"))>3,INDEX('Multicriteria Decision Analysis'!$H$111:$CN$111,MATCH(1,'Multicriteria Decision Analysis'!$H$118:$CN$118,0)),0),0)","v":0},{"$f":"IF(I42>=0.2,1,IF(I42>=0.1,0.5,0))","v":0},{"$f":"IF(I42>=0.4,1,IF(I42>=0.3,0.5,0))","v":0},{"$f":"IF(I42>=0.6,1,IF(I42>=0.5,0.5,0))","v":0},{"$f":"IF(I42>=0.8,1,IF(I42>=0.7,0.5,0))","v":0},{"$f":"IF(I42>=1,1,IF(I42>=0.9,0.5,0))","v":0},{"$f":"SUM(J42:N42)*10","v":0}]
[null,null,null,null,null,null,null,"Approximate level of resources required:",null,{"$f":"IFERROR(IF((COUNTA('A - Policy objectives'!$C$7:$C$35)+COUNTA('B - Technical objectives'!$C$7:$C$82)+COUNTA('C - Data availability'!$C$7:$C$21)-COUNTIF('A - Policy objectives'!$C$7:$C$35,\"Non-essential\")-COUNTIF('B - Technical objectives'!$C$7:$C$82,\"Non-essential\")-COUNTIF('C - Data availability'!$C$21,\"Non-essential\"))>3,INDEX('Assessment Framework'!$X$30:$AK$30,MATCH(J38,'Assessment Framework'!$G$2:$AF$2,0)),\"\"),\"\")","v":""},null,null,null,null,{"$f":"IF(J43<>\"\",1,\"\")","v":""}]
[null,null,null,null,null,null,null,"Short description:",null,"     Click to toggle"]
[null,null,null,null,null,null,null,null,null,"Objective:"]
[null,null,null,null,null,null,null,null,null,{"$f":"IFERROR(IF((COUNTA('A - Policy objectives'!$C$7:$C$35)+COUNTA('B - Technical objectives'!$C$7:$C$82)+COUNTA('C - Data availability'!$C$7:$C$21)-COUNTIF('A - Policy objectives'!$C$7:$C$35,\"Non-essential\")-COUNTIF('B - Technical objectives'!$C$7:$C$82,\"Non-essential\")-COUNTIF('C - Data availability'!$C$21,\"Non-essential\"))>3,INDEX('Multicriteria Decision Analysis'!$H$5:$CN$5,MATCH(1,'Multicriteria Decision Analysis'!$H$118:$CN$118,0)),\"\"),\"\")","v":""},null,null,null,null,null,null,null,{"$f":"J46","v":""}]
[null,null,null,null,null,null,null,null,null,"Methodology:"]
[null,null,null,null,null,null,null,null,null,{"$f":"IFERROR(IF((COUNTA('A - Policy objectives'!$C$7:$C$35)+COUNTA('B - Technical objectives'!$C$7:$C$82)+COUNTA('C - Data availability'!$C$7:$C$21)-COUNTIF('A - Policy objectives'!$C$7:$C$35,\"Non-essential\")-COUNTIF('B - Technical objectives'!$C$7:$C$82,\"Non-essential\")-COUNTIF('C - Data availability'!$C$21,\"Non-essential\"))>3,INDEX('Multicriteria Decision Analysis'!$H$6:$CN$6,MATCH(1,'Multicriteria Decision Analysis'!$H$118:$CN$118,0)),\"\"),\"\")","v":""},null,null,null,null,null,null,null,{"$f":"J48","v":""}]
[null,null,null,null,null,null,null,null,null,"Key outputs:"]
[null,null,null,null,null,null,null,null,null,{"$f":"IFERROR(IF((COUNTA('A - Policy objectives'!$C$7:$C$35)+COUNTA('B - Technical objectives'!$C$7:$C$82)+COUNTA('C - Data availability'!$C$7:$C$21)-COUNTIF('A - Policy objectives'!$C$7:$C$35,\"Non-essential\")-COUNTIF('B - Technical objectives'!$C$7:$C$82,\"Non-essential\")-COUNTIF('C - Data availability'!$C$21,\"Non-essential\"))>3,INDEX('Multicriteria Decision Analysis'!$H$7:$CN$7,MATCH(1,'Multicriteria Decision Analysis'!$H$118:$CN$118,0)),\"\"),\"\")","v":""},null,null,null,null,null,null,null,{"$f":"J50","v":""}]
[]
[null,null,null,null,null,null,null,{"$f":"IFERROR(IF((COUNTA('A - Policy objectives'!$C$7:$C$35)+COUNTA('B - Technical objectives'!$C$7:$C$82)+COUNTA('C - Data availability'!$C$7:$C$21)-COUNTIF('A - Policy objectives'!$C$7:$C$35,\"Non-essential\")-COUNTIF('B - Technical objectives'!$C$7:$C$82,\"Non-essential\")-COUNTIF('C - Data availability'!$C$21,\"Non-essential\"))>3,INDEX('Multicriteria Decision Analysis'!$H$119:$CN$119,MATCH(2,'Multicriteria Decision Analysis'!$H$118:$CN$118,0)),\"\"),\"2\")","v":""}]
[null,null,null,null,null,null,null,"Assessment Name:",null,{"$f":"IFERROR(IF((COUNTA('A - Policy objectives'!$C$7:$C$35)+COUNTA('B - Technical objectives'!$C$7:$C$82)+COUNTA('C - Data availability'!$C$7:$C$21)-COUNTIF('A - Policy objectives'!$C$7:$C$35,\"Non-essential\")-COUNTIF('B - Technical objectives'!$C$7:$C$82,\"Non-essential\")-COUNTIF('C - Data availability'!$C$21,\"Non-essential\"))>3,HYPERLINK(INDEX('Multicriteria Decision Analysis'!$H$4:$CN$4,MATCH(2,'Multicriteria Decision Analysis'!$H$118:$CN$118,0)),INDEX('Multicriteria Decision Analysis'!$H$2:$CN$2,MATCH(2,'Multicriteria Decision Analysis'!$H$118:$CN$118,0))),\"\"),\"No methodologies match criteria\")","v":""},null,null,null,null,null,null,null,{"$f":"IF(I53<>\"\",1,0)","v":0}]
[null,null,null,null,null,null,null,"Organization(s) / Author(s): ",null,{"$f":"IFERROR(IF((COUNTA('A - Policy objectives'!$C$7:$C$35)+COUNTA('B - Technical objectives'!$C$7:$C$82)+COUNTA('C - Data availability'!$C$7:$C$21)-COUNTIF('A - Policy objectives'!$C$7:$C$35,\"Non-essential\")-COUNTIF('B - Technical objectives'!$C$7:$C$82,\"Non-essential\")-COUNTIF('C - Data availability'!$C$21,\"Non-essential\"))>3,INDEX('Multicriteria Decision Analysis'!$H$3:$CN$3,MATCH(2,'Multicriteria Decision Analysis'!$H$118:$CN$118,0)),\"\"),\"\")","v":""}]
[null,null,null,null,null,null,null,"Important components provided:",{"$f":"IFERROR(IF((COUNTA('A - Policy objectives'!$C$7:$C$35)+COUNTA('B - Technical objectives'!$C$7:$C$82)+COUNTA('C - Data availability'!$C$7:$C$21)-COUNTIF('A - Policy objectives'!$C$7:$C$35,\"Non-essential\")-COUNTIF('B - Technical objectives'!$C$7:$C$82,\"Non-essential\")-COUNTIF('C - Data availability'!$C$21,\"Non-essential\"))>3,INDEX('Multicriteria Decision Analysis'!$H$100:$CN$100,MATCH(2,'Multicriteria Decision Analysis'!$H$118:$CN$118,0)),0),0)","v":0},{"$f":"IF(I55>=0.2,1,IF(I55>=0.1,0.5,0))","v":0},{"$f":"IF(I55>=0.4,1,IF(I55>=0.3,0.5,0))","v":0},{"$f":"IF(I55>=0.6,1,IF(I55>=0.5,0.5,0))","v":0},{"$f":"IF(I55>=0.8,1,IF(I55>=0.7,0.5,0))","v":0},{"$f":"IF(I55>=1,1,IF(I55>=0.9,0.5,0))","v":0},{"$f":"SUM(J55:N55)*10","v":0}]
[null,null,null,null,null,null,null,"Preferred components provided:",{"$f":"IFERROR(IF((COUNTA('A - Policy objectives'!$C$7:$C$35)+COUNTA('B - Technical objectives'!$C$7:$C$82)+COUNTA('C - Data availability'!$C$7:$C$21)-COUNTIF('A - Policy objectives'!$C$7:$C$35,\"Non-essential\")-COUNTIF('B - Technical objectives'!$C$7:$C$82,\"Non-essential\")-COUNTIF('C - Data availability'!$C$21,\"Non-essential\"))>3,INDEX('Multicriteria Decision Analysis'!$H$105:$CN$105,MATCH(2,'Multicriteria Decision Analysis'!$H$118:$CN$118,0)),0),0)","v":0},{"$f":"IF(I56>=0.2,1,IF(I56>=0.1,0.5,0))","v":0},{"$f":"IF(I56>=0.4,1,IF(I56>=0.3,0.5,0))","v":0},{"$f":"IF(I56>=0.6,1,IF(I56>=0.5,0.5,0))","v":0},{"$f":"IF(I56>=0.8,1,IF(I56>=0.7,0.5,0))","v":0},{"$f":"IF(I56>=1,1,IF(I56>=0.9,0.5,0))","v":0},{"$f":"SUM(J56:N56)*10","v":0}]
[null,null,null,null,null,null,null,"Matching data requirements",{"$f":"IFERROR(IF((COUNTA('A - Policy objectives'!$C$7:$C$35)+COUNTA('B - Technical objectives'!$C$7:$C$82)+COUNTA('C - Data availability'!$C$7:$C$21)-COUNTIF('A - Policy objectives'!$C$7:$C$35,\"Non-essential\")-COUNTIF('B - Technical objectives'!$C$7:$C$82,\"Non-essential\")-COUNTIF('C - Data availability'!$C$21,\"Non-essential\"))>3,INDEX('Multicriteria Decision Analysis'!$H$111:$CN$111,MATCH(2,'Multicriteria Decision Analysis'!$H$118:$CN$118,0)),0),0)","v":0},{"$f":"IF(I57>=0.2,1,IF(I57>=0.1,0.5,0))","v":0},{"$f":"IF(I57>=0.4,1,IF(I57>=0.3,0.5,0))","v":0},{"$f":"IF(I57>=0.6,1,IF(I57>=0.5,0.5,0))","v":0},{"$f":"IF(I57>=0.8,1,IF(I57>=0.7,0.5,0))","v":0},{"$f":"IF(I57>=1,1,IF(I57>=0.9,0.5,0))","v":0},{"$f":"SUM(J57:N57)*10","v":0}]
[null,null,null,null,null,null,null,"Approximate level of resources required:",null,{"$f":"IFERROR(IF((COUNTA('A - Policy objectives'!$C$7:$C$35)+COUNTA('B - Technical objectives'!$C$7:$C$82)+COUNTA('C - Data availability'!$C$7:$C$21)-COUNTIF('A - Policy objectives'!$C$7:$C$35,\"Non-essential\")-COUNTIF('B - Technical objectives'!$C$7:$C$82,\"Non-essential\")-COUNTIF('C - Data availability'!$C$21,\"Non-essential\"))>3,INDEX('Assessment Framework'!$X$30:$AK$30,MATCH(J53,'Assessment Framework'!$G$2:$AF$2,0)),\"\"),\"\")","v":""},null,null,null,null,{"$f":"IF(J58<>\"\",1,\"\")","v":""}]
[null,null,null,null,null,null,null,"Short description:",null,"     Click to toggle"]
[null,null,null,null,null,null,null,null,null,"Objective:"]
[null,null,null,null,null,null,null,null,null,{"$f":"IFERROR(IF((COUNTA('A - Policy objectives'!$C$7:$C$35)+COUNTA('B - Technical objectives'!$C$7:$C$82)+COUNTA('C - Data availability'!$C$7:$C$21)-COUNTIF('A - Policy objectives'!$C$7:$C$35,\"Non-essential\")-COUNTIF('B - Technical objectives'!$C$7:$C$82,\"Non-essential\")-COUNTIF('C - Data availability'!$C$21,\"Non-essential\"))>3,INDEX('Multicriteria Decision Analysis'!$H$5:$CN$5,MATCH(2,'Multicriteria Decision Analysis'!$H$118:$CN$118,0)),\"\"),\"\")","v":""},null,null,null,null,null,null,null,{"$f":"J61","v":""}]
[null,null,null,null,null,null,null,null,null,"Methodology:"]
[null,null,null,null,null,null,null,null,null,{"$f":"IFERROR(IF((COUNTA('A - Policy objectives'!$C$7:$C$35)+COUNTA('B - Technical objectives'!$C$7:$C$82)+COUNTA('C - Data availability'!$C$7:$C$21)-COUNTIF('A - Policy objectives'!$C$7:$C$35,\"Non-essential\")-COUNTIF('B - Technical objectives'!$C$7:$C$82,\"Non-essential\")-COUNTIF('C - Data availability'!$C$21,\"Non-essential\"))>3,INDEX('Multicriteria Decision Analysis'!$H$6:$CN$6,MATCH(2,'Multicriteria Decision Analysis'!$H$118:$CN$118,0)),\"\"),\"\")","v":""},null,null,null,null,null,null,null,{"$f":"J63","v":""}]
[null,null,null,null,null,null,null,null,null,"Key outputs:"]
[null,null,null,null,null,null,null,null,null,{"$f":"IFERROR(IF((COUNTA('A - Policy objectives'!$C$7:$C$35)+COUNTA('B - Technical objectives'!$C$7:$C$82)+COUNTA('C - Data availability'!$C$7:$C$21)-COUNTIF('A - Policy objectives'!$C$7:$C$35,\"Non-essential\")-COUNTIF('B - Technical objectives'!$C$7:$C$82,\"Non-essential\")-COUNTIF('C - Data availability'!$C$21,\"Non-essential\"))>3,INDEX('Multicriteria Decision Analysis'!$H$7:$CN$7,MATCH(2,'Multicriteria Decision Analysis'!$H$118:$CN$118,0)),\"\"),\"\")","v":""},null,null,null,null,null,null,null,{"$f":"J65","v":""}]
[]
[null,null,null,null,null,null,null,{"$f":"IFERROR(IF((COUNTA('A - Policy objectives'!$C$7:$C$35)+COUNTA('B - Technical objectives'!$C$7:$C$82)+COUNTA('C - Data availability'!$C$7:$C$21)-COUNTIF('A - Policy objectives'!$C$7:$C$35,\"Non-essential\")-COUNTIF('B - Technical objectives'!$C$7:$C$82,\"Non-essential\")-COUNTIF('C - Data availability'!$C$21,\"Non-essential\"))>3,INDEX('Multicriteria Decision Analysis'!$H$119:$CN$119,MATCH(3,'Multicriteria Decision Analysis'!$H$118:$CN$118,0)),\"\"),\"3\")","v":""}]
[null,null,null,null,null,null,null,"Assessment Name:",null,{"$f":"IFERROR(IF((COUNTA('A - Policy objectives'!$C$7:$C$35)+COUNTA('B - Technical objectives'!$C$7:$C$82)+COUNTA('C - Data availability'!$C$7:$C$21)-COUNTIF('A - Policy objectives'!$C$7:$C$35,\"Non-essential\")-COUNTIF('B - Technical objectives'!$C$7:$C$82,\"Non-essential\")-COUNTIF('C - Data availability'!$C$21,\"Non-essential\"))>3,HYPERLINK(INDEX('Multicriteria Decision Analysis'!$H$4:$CN$4,MATCH(3,'Multicriteria Decision Analysis'!$H$118:$CN$118,0)),INDEX('Multicriteria Decision Analysis'!$H$2:$CN$2,MATCH(3,'Multicriteria Decision Analysis'!$H$118:$CN$118,0))),\"\"),\"No methodologies match criteria\")","v":""},null,null,null,null,null,null,null,{"$f":"IF(I68<>\"\",1,0)","v":0}]
[null,null,null,null,null,null,null,"Organization(s) / Author(s): ",null,{"$f":"IFERROR(IF((COUNTA('A - Policy objectives'!$C$7:$C$35)+COUNTA('B - Technical objectives'!$C$7:$C$82)+COUNTA('C - Data availability'!$C$7:$C$21)-COUNTIF('A - Policy objectives'!$C$7:$C$35,\"Non-essential\")-COUNTIF('B - Technical objectives'!$C$7:$C$82,\"Non-essential\")-COUNTIF('C - Data availability'!$C$21,\"Non-essential\"))>3,INDEX('Multicriteria Decision Analysis'!$H$3:$CN$3,MATCH(3,'Multicriteria Decision Analysis'!$H$118:$CN$118,0)),\"\"),\"\")","v":""}]
[null,null,null,null,null,null,null,"Important components provided:",{"$f":"IFERROR(IF((COUNTA('A - Policy objectives'!$C$7:$C$35)+COUNTA('B - Technical objectives'!$C$7:$C$82)+COUNTA('C - Data availability'!$C$7:$C$21)-COUNTIF('A - Policy objectives'!$C$7:$C$35,\"Non-essential\")-COUNTIF('B - Technical objectives'!$C$7:$C$82,\"Non-essential\")-COUNTIF('C - Data availability'!$C$21,\"Non-essential\"))>3,INDEX('Multicriteria Decision Analysis'!$H$100:$CN$100,MATCH(3,'Multicriteria Decision Analysis'!$H$118:$CN$118,0)),0),0)","v":0},{"$f":"IF(I70>=0.2,1,IF(I70>=0.1,0.5,0))","v":0},{"$f":"IF(I70>=0.4,1,IF(I70>=0.3,0.5,0))","v":0},{"$f":"IF(I70>=0.6,1,IF(I70>=0.5,0.5,0))","v":0},{"$f":"IF(I70>=0.8,1,IF(I70>=0.7,0.5,0))","v":0},{"$f":"IF(I70>=1,1,IF(I70>=0.9,0.5,0))","v":0},{"$f":"SUM(J70:N70)*10","v":0}]
[null,null,null,null,null,null,null,"Preferred components provided:",{"$f":"IFERROR(IF((COUNTA('A - Policy objectives'!$C$7:$C$35)+COUNTA('B - Technical objectives'!$C$7:$C$82)+COUNTA('C - Data availability'!$C$7:$C$21)-COUNTIF('A - Policy objectives'!$C$7:$C$35,\"Non-essential\")-COUNTIF('B - Technical objectives'!$C$7:$C$82,\"Non-essential\")-COUNTIF('C - Data availability'!$C$21,\"Non-essential\"))>3,INDEX('Multicriteria Decision Analysis'!$H$105:$CN$105,MATCH(3,'Multicriteria Decision Analysis'!$H$118:$CN$118,0)),0),0)","v":0},{"$f":"IF(I71>=0.2,1,IF(I71>=0.1,0.5,0))","v":0},{"$f":"IF(I71>=0.4,1,IF(I71>=0.3,0.5,0))","v":0},{"$f":"IF(I71>=0.6,1,IF(I71>=0.5,0.5,0))","v":0},{"$f":"IF(I71>=0.8,1,IF(I71>=0.7,0.5,0))","v":0},{"$f":"IF(I71>=1,1,IF(I71>=0.9,0.5,0))","v":0},{"$f":"SUM(J71:N71)*10","v":0}]
[null,null,null,null,null,null,null,"Matching data requirements",{"$f":"IFERROR(IF((COUNTA('A - Policy objectives'!$C$7:$C$35)+COUNTA('B - Technical objectives'!$C$7:$C$82)+COUNTA('C - Data availability'!$C$7:$C$21)-COUNTIF('A - Policy objectives'!$C$7:$C$35,\"Non-essential\")-COUNTIF('B - Technical objectives'!$C$7:$C$82,\"Non-essential\")-COUNTIF('C - Data availability'!$C$21,\"Non-essential\"))>3,INDEX('Multicriteria Decision Analysis'!$H$111:$CN$111,MATCH(3,'Multicriteria Decision Analysis'!$H$118:$CN$118,0)),0),0)","v":0},{"$f":"IF(I72>=0.2,1,IF(I72>=0.1,0.5,0))","v":0},{"$f":"IF(I72>=0.4,1,IF(I72>=0.3,0.5,0))","v":0},{"$f":"IF(I72>=0.6,1,IF(I72>=0.5,0.5,0))","v":0},{"$f":"IF(I72>=0.8,1,IF(I72>=0.7,0.5,0))","v":0},{"$f":"IF(I72>=1,1,IF(I72>=0.9,0.5,0))","v":0},{"$f":"SUM(J72:N72)*10","v":0}]
[null,null,null,null,null,null,null,"Approximate level of resources required:",null,{"$f":"IFERROR(IF((COUNTA('A - Policy objectives'!$C$7:$C$35)+COUNTA('B - Technical objectives'!$C$7:$C$82)+COUNTA('C - Data availability'!$C$7:$C$21)-COUNTIF('A - Policy objectives'!$C$7:$C$35,\"Non-essential\")-COUNTIF('B - Technical objectives'!$C$7:$C$82,\"Non-essential\")-COUNTIF('C - Data availability'!$C$21,\"Non-essential\"))>3,INDEX('Assessment Framework'!$X$30:$AK$30,MATCH(J68,'Assessment Framework'!$G$2:$AF$2,0)),\"\"),\"\")","v":""},null,null,null,null,{"$f":"IF(J73<>\"\",1,\"\")","v":""}]
[null,null,null,null,null,null,null,"Short description:",null,"     Click to toggle"]
[null,null,null,null,null,null,null,null,null,"Objective:"]
[null,null,null,null,null,null,null,null,null,{"$f":"IFERROR(IF((COUNTA('A - Policy objectives'!$C$7:$C$35)+COUNTA('B - Technical objectives'!$C$7:$C$82)+COUNTA('C - Data availability'!$C$7:$C$21)-COUNTIF('A - Policy objectives'!$C$7:$C$35,\"Non-essential\")-COUNTIF('B - Technical objectives'!$C$7:$C$82,\"Non-essential\")-COUNTIF('C - Data availability'!$C$21,\"Non-essential\"))>3,INDEX('Multicriteria Decision Analysis'!$H$5:$CN$5,MATCH(3,'Multicriteria Decision Analysis'!$H$118:$CN$118,0)),\"\"),\"\")","v":""},null,null,null,null,null,null,null,{"$f":"J76","v":""}]
[null,null,null,null,null,null,null,null,null,"Methodology:"]
[null,null,null,null,null,null,null,null,null,{"$f":"IFERROR(IF((COUNTA('A - Policy objectives'!$C$7:$C$35)+COUNTA('B - Technical objectives'!$C$7:$C$82)+COUNTA('C - Data availability'!$C$7:$C$21)-COUNTIF('A - Policy objectives'!$C$7:$C$35,\"Non-essential\")-COUNTIF('B - Technical objectives'!$C$7:$C$82,\"Non-essential\")-COUNTIF('C - Data availability'!$C$21,\"Non-essential\"))>3,INDEX('Multicriteria Decision Analysis'!$H$6:$CN$6,MATCH(3,'Multicriteria Decision Analysis'!$H$118:$CN$118,0)),\"\"),\"\")","v":""},null,null,null,null,null,null,null,{"$f":"J78","v":""}]
[null,null,null,null,null,null,null,null,null,"Key outputs:"]
[null,null,null,null,null,null,null,null,null,{"$f":"IFERROR(IF((COUNTA('A - Policy objectives'!$C$7:$C$35)+COUNTA('B - Technical objectives'!$C$7:$C$82)+COUNTA('C - Data availability'!$C$7:$C$21)-COUNTIF('A - Policy objectives'!$C$7:$C$35,\"Non-essential\")-COUNTIF('B - Technical objectives'!$C$7:$C$82,\"Non-essential\")-COUNTIF('C - Data availability'!$C$21,\"Non-essential\"))>3,INDEX('Multicriteria Decision Analysis'!$H$7:$CN$7,MATCH(3,'Multicriteria Decision Analysis'!$H$118:$CN$118,0)),\"\"),\"\")","v":""},null,null,null,null,null,null,null,{"$f":"J80","v":""}]
[]
[null,null,null,null,null,null,null,"Do not delete - formats bars to 100%",null,1]
[null,null,null,null,null,null,null,null,null,null,null,null,null,null,null,null,null,{"$f":"SUM(R38:R68)","v":0}]
[null,null,null,null,null,null,null,null,null,{"$f":"IF((COUNTA('A - Policy objectives'!$C$7:$C$35)+COUNTA('B - Technical objectives'!$C$7:$C$82)+COUNTA('C - Data availability'!$C$7:$C$21)-COUNTIF('A - Policy objectives'!$C$7:$C$35,\"Non-essential\")-COUNTIF('B - Technical objectives'!$C$7:$C$82,\"Non-essential\")-COUNTIF('C - Data availability'!$C$21,\"Non-essential\"))>3,IF('Multicriteria Decision Analysis'!H121>3,\"Equally ranked methodologies not shown above (in alphabetical order):\",\"\"),\"\")","v":""}]
[null,null,null,null,null,null,null,{"$f":"IFERROR(IF((COUNTA('A - Policy objectives'!$C$7:$C$35)+COUNTA('B - Technical objectives'!$C$7:$C$82)+COUNTA('C - Data availability'!$C$7:$C$21))>3,INDEX('Multicriteria Decision Analysis'!$H$119:$CN$119,MATCH(I85,'Multicriteria Decision Analysis'!$H$118:$CN$118,0)),\"\"),\"\")","v":""},{"$f":"IF((COUNTA('A - Policy objectives'!$C$7:$C$35)+COUNTA('B - Technical objectives'!$C$7:$C$82)+COUNTA('C - Data availability'!$C$7:$C$21)-COUNTIF('A - Policy objectives'!$C$7:$C$35,\"Non-essential\")-COUNTIF('B - Technical objectives'!$C$7:$C$82,\"Non-essential\")-COUNTIF('C - Data availability'!$C$21,\"Non-essential\"))>3,IF('Multicriteria Decision Analysis'!$H$121>3,4,\"\"),\"\")","v":""},{"$f":"IFERROR(IF((COUNTA('A - Policy objectives'!$C$7:$C$35)+COUNTA('B - Technical objectives'!$C$7:$C$82)+COUNTA('C - Data availability'!$C$7:$C$21)-COUNTIF('A - Policy objectives'!$C$7:$C$35,\"Non-essential\")-COUNTIF('B - Technical objectives'!$C$7:$C$82,\"Non-essential\")-COUNTIF('C - Data availability'!$C$21,\"Non-essential\"))>3,HYPERLINK(INDEX('Multicriteria Decision Analysis'!$H$4:$CN$4,MATCH(I85,'Multicriteria Decision Analysis'!$H$118:$CN$118,0)),INDEX('Multicriteria Decision Analysis'!$H$2:$CN$2,MATCH(I85,'Multicriteria Decision Analysis'!$H$118:$CN$118,0))),\"\"),\"\")","v":""}]
[null,null,null,null,null,null,null,{"$f":"IFERROR(IF((COUNTA('A - Policy objectives'!$C$7:$C$35)+COUNTA('B - Technical objectives'!$C$7:$C$82)+COUNTA('C - Data availability'!$C$7:$C$21))>3,INDEX('Multicriteria Decision Analysis'!$H$119:$CN$119,MATCH(I86,'Multicriteria Decision Analysis'!$H$118:$CN$118,0)),\"\"),\"\")","v":""},{"$f":"IF(AND(I85<>\"\",'Multicriteria Decision Analysis'!$H$121>3,'Multicriteria Decision Analysis'!$H$121>=3+COUNT($I$85)+1),3+COUNT($I$85)+1,\"\")","v":""},{"$f":"IFERROR(IF((COUNTA('A - Policy objectives'!$C$7:$C$35)+COUNTA('B - Technical objectives'!$C$7:$C$82)+COUNTA('C - Data availability'!$C$7:$C$21)-COUNTIF('A - Policy objectives'!$C$7:$C$35,\"Non-essential\")-COUNTIF('B - Technical objectives'!$C$7:$C$82,\"Non-essential\")-COUNTIF('C - Data availability'!$C$21,\"Non-essential\"))>3,HYPERLINK(INDEX('Multicriteria Decision Analysis'!$H$4:$CN$4,MATCH(I86,'Multicriteria Decision Analysis'!$H$118:$CN$118,0)),INDEX('Multicriteria Decision Analysis'!$H$2:$CN$2,MATCH(I86,'Multicriteria Decision Analysis'!$H$118:$CN$118,0))),\"\"),\"\")","v":""}]
[null,null,null,null,null,null,null,{"$f":"IFERROR(IF((COUNTA('A - Policy objectives'!$C$7:$C$35)+COUNTA('B - Technical objectives'!$C$7:$C$82)+COUNTA('C - Data availability'!$C$7:$C$21))>3,INDEX('Multicriteria Decision Analysis'!$H$119:$CN$119,MATCH(I87,'Multicriteria Decision Analysis'!$H$118:$CN$118,0)),\"\"),\"\")","v":""},{"$f":"IF(AND(I86<>\"\",'Multicriteria Decision Analysis'!$H$121>3,'Multicriteria Decision Analysis'!$H$121>=3+COUNT($I$85:$I86)+1),3+COUNT($I$85:$I86)+1,\"\")","v":""},{"$f":"IFERROR(IF((COUNTA('A - Policy objectives'!$C$7:$C$35)+COUNTA('B - Technical objectives'!$C$7:$C$82)+COUNTA('C - Data availability'!$C$7:$C$21)-COUNTIF('A - Policy objectives'!$C$7:$C$35,\"Non-essential\")-COUNTIF('B - Technical objectives'!$C$7:$C$82,\"Non-essential\")-COUNTIF('C - Data availability'!$C$21,\"Non-essential\"))>3,HYPERLINK(INDEX('Multicriteria Decision Analysis'!$H$4:$CN$4,MATCH(I87,'Multicriteria Decision Analysis'!$H$118:$CN$118,0)),INDEX('Multicriteria Decision Analysis'!$H$2:$CN$2,MATCH(I87,'Multicriteria Decision Analysis'!$H$118:$CN$118,0))),\"\"),\"\")","v":""}]
[null,null,null,null,null,null,null,{"$f":"IFERROR(IF((COUNTA('A - Policy objectives'!$C$7:$C$35)+COUNTA('B - Technical objectives'!$C$7:$C$82)+COUNTA('C - Data availability'!$C$7:$C$21))>3,INDEX('Multicriteria Decision Analysis'!$H$119:$CN$119,MATCH(I88,'Multicriteria Decision Analysis'!$H$118:$CN$118,0)),\"\"),\"\")","v":""},{"$f":"IF(AND(I87<>\"\",'Multicriteria Decision Analysis'!$H$121>3,'Multicriteria Decision Analysis'!$H$121>=3+COUNT($I$85:$I87)+1),3+COUNT($I$85:$I87)+1,\"\")","v":""},{"$f":"IFERROR(IF((COUNTA('A - Policy objectives'!$C$7:$C$35)+COUNTA('B - Technical objectives'!$C$7:$C$82)+COUNTA('C - Data availability'!$C$7:$C$21)-COUNTIF('A - Policy objectives'!$C$7:$C$35,\"Non-essential\")-COUNTIF('B - Technical objectives'!$C$7:$C$82,\"Non-essential\")-COUNTIF('C - Data availability'!$C$21,\"Non-essential\"))>3,HYPERLINK(INDEX('Multicriteria Decision Analysis'!$H$4:$CN$4,MATCH(I88,'Multicriteria Decision Analysis'!$H$118:$CN$118,0)),INDEX('Multicriteria Decision Analysis'!$H$2:$CN$2,MATCH(I88,'Multicriteria Decision Analysis'!$H$118:$CN$118,0))),\"\"),\"\")","v":""}]
[null,null,null,null,null,null,null,{"$f":"IFERROR(IF((COUNTA('A - Policy objectives'!$C$7:$C$35)+COUNTA('B - Technical objectives'!$C$7:$C$82)+COUNTA('C - Data availability'!$C$7:$C$21))>3,INDEX('Multicriteria Decision Analysis'!$H$119:$CN$119,MATCH(I89,'Multicriteria Decision Analysis'!$H$118:$CN$118,0)),\"\"),\"\")","v":""},{"$f":"IF(AND(I88<>\"\",'Multicriteria Decision Analysis'!$H$121>3,'Multicriteria Decision Analysis'!$H$121>=3+COUNT($I$85:$I88)+1),3+COUNT($I$85:$I88)+1,\"\")","v":""},{"$f":"IFERROR(IF((COUNTA('A - Policy objectives'!$C$7:$C$35)+COUNTA('B - Technical objectives'!$C$7:$C$82)+COUNTA('C - Data availability'!$C$7:$C$21)-COUNTIF('A - Policy objectives'!$C$7:$C$35,\"Non-essential\")-COUNTIF('B - Technical objectives'!$C$7:$C$82,\"Non-essential\")-COUNTIF('C - Data availability'!$C$21,\"Non-essential\"))>3,HYPERLINK(INDEX('Multicriteria Decision Analysis'!$H$4:$CN$4,MATCH(I89,'Multicriteria Decision Analysis'!$H$118:$CN$118,0)),INDEX('Multicriteria Decision Analysis'!$H$2:$CN$2,MATCH(I89,'Multicriteria Decision Analysis'!$H$118:$CN$118,0))),\"\"),\"\")","v":""}]
[null,null,null,null,null,null,null,{"$f":"IFERROR(IF((COUNTA('A - Policy objectives'!$C$7:$C$35)+COUNTA('B - Technical objectives'!$C$7:$C$82)+COUNTA('C - Data availability'!$C$7:$C$21))>3,INDEX('Multicriteria Decision Analysis'!$H$119:$CN$119,MATCH(I90,'Multicriteria Decision Analysis'!$H$118:$CN$118,0)),\"\"),\"\")","v":""},{"$f":"IF(AND(I89<>\"\",'Multicriteria Decision Analysis'!$H$121>3,'Multicriteria Decision Analysis'!$H$121>=3+COUNT($I$85:$I89)+1),3+COUNT($I$85:$I89)+1,\"\")","v":""},{"$f":"IFERROR(IF((COUNTA('A - Policy objectives'!$C$7:$C$35)+COUNTA('B - Technical objectives'!$C$7:$C$82)+COUNTA('C - Data availability'!$C$7:$C$21)-COUNTIF('A - Policy objectives'!$C$7:$C$35,\"Non-essential\")-COUNTIF('B - Technical objectives'!$C$7:$C$82,\"Non-essential\")-COUNTIF('C - Data availability'!$C$21,\"Non-essential\"))>3,HYPERLINK(INDEX('Multicriteria Decision Analysis'!$H$4:$CN$4,MATCH(I90,'Multicriteria Decision Analysis'!$H$118:$CN$118,0)),INDEX('Multicriteria Decision Analysis'!$H$2:$CN$2,MATCH(I90,'Multicriteria Decision Analysis'!$H$118:$CN$118,0))),\"\"),\"\")","v":""}]
[null,null,null,null,null,null,null,{"$f":"IFERROR(IF((COUNTA('A - Policy objectives'!$C$7:$C$35)+COUNTA('B - Technical objectives'!$C$7:$C$82)+COUNTA('C - Data availability'!$C$7:$C$21))>3,INDEX('Multicriteria Decision Analysis'!$H$119:$CN$119,MATCH(I91,'Multicriteria Decision Analysis'!$H$118:$CN$118,0)),\"\"),\"\")","v":""},{"$f":"IF(AND(I90<>\"\",'Multicriteria Decision Analysis'!$H$121>3,'Multicriteria Decision Analysis'!$H$121>=3+COUNT($I$85:$I90)+1),3+COUNT($I$85:$I90)+1,\"\")","v":""},{"$f":"IFERROR(IF((COUNTA('A - Policy objectives'!$C$7:$C$35)+COUNTA('B - Technical objectives'!$C$7:$C$82)+COUNTA('C - Data availability'!$C$7:$C$21)-COUNTIF('A - Policy objectives'!$C$7:$C$35,\"Non-essential\")-COUNTIF('B - Technical objectives'!$C$7:$C$82,\"Non-essential\")-COUNTIF('C - Data availability'!$C$21,\"Non-essential\"))>3,HYPERLINK(INDEX('Multicriteria Decision Analysis'!$H$4:$CN$4,MATCH(I91,'Multicriteria Decision Analysis'!$H$118:$CN$118,0)),INDEX('Multicriteria Decision Analysis'!$H$2:$CN$2,MATCH(I91,'Multicriteria Decision Analysis'!$H$118:$CN$118,0))),\"\"),\"\")","v":""}]
[null,null,null,null,null,null,null,{"$f":"IFERROR(IF((COUNTA('A - Policy objectives'!$C$7:$C$35)+COUNTA('B - Technical objectives'!$C$7:$C$82)+COUNTA('C - Data availability'!$C$7:$C$21))>3,INDEX('Multicriteria Decision Analysis'!$H$119:$CN$119,MATCH(I92,'Multicriteria Decision Analysis'!$H$118:$CN$118,0)),\"\"),\"\")","v":""},{"$f":"IF(AND(I91<>\"\",'Multicriteria Decision Analysis'!$H$121>3,'Multicriteria Decision Analysis'!$H$121>=3+COUNT($I$85:$I91)+1),3+COUNT($I$85:$I91)+1,\"\")","v":""},{"$f":"IFERROR(IF((COUNTA('A - Policy objectives'!$C$7:$C$35)+COUNTA('B - Technical objectives'!$C$7:$C$82)+COUNTA('C - Data availability'!$C$7:$C$21)-COUNTIF('A - Policy objectives'!$C$7:$C$35,\"Non-essential\")-COUNTIF('B - Technical objectives'!$C$7:$C$82,\"Non-essential\")-COUNTIF('C - Data availability'!$C$21,\"Non-essential\"))>3,HYPERLINK(INDEX('Multicriteria Decision Analysis'!$H$4:$CN$4,MATCH(I92,'Multicriteria Decision Analysis'!$H$118:$CN$118,0)),INDEX('Multicriteria Decision Analysis'!$H$2:$CN$2,MATCH(I92,'Multicriteria Decision Analysis'!$H$118:$CN$118,0))),\"\"),\"\")","v":""}]
[null,null,null,null,null,null,null,{"$f":"IFERROR(IF((COUNTA('A - Policy objectives'!$C$7:$C$35)+COUNTA('B - Technical objectives'!$C$7:$C$82)+COUNTA('C - Data availability'!$C$7:$C$21))>3,INDEX('Multicriteria Decision Analysis'!$H$119:$CN$119,MATCH(I93,'Multicriteria Decision Analysis'!$H$118:$CN$118,0)),\"\"),\"\")","v":""},{"$f":"IF(AND(I92<>\"\",'Multicriteria Decision Analysis'!$H$121>3,'Multicriteria Decision Analysis'!$H$121>=3+COUNT($I$85:$I92)+1),3+COUNT($I$85:$I92)+1,\"\")","v":""},{"$f":"IFERROR(IF((COUNTA('A - Policy objectives'!$C$7:$C$35)+COUNTA('B - Technical objectives'!$C$7:$C$82)+COUNTA('C - Data availability'!$C$7:$C$21)-COUNTIF('A - Policy objectives'!$C$7:$C$35,\"Non-essential\")-COUNTIF('B - Technical objectives'!$C$7:$C$82,\"Non-essential\")-COUNTIF('C - Data availability'!$C$21,\"Non-essential\"))>3,HYPERLINK(INDEX('Multicriteria Decision Analysis'!$H$4:$CN$4,MATCH(I93,'Multicriteria Decision Analysis'!$H$118:$CN$118,0)),INDEX('Multicriteria Decision Analysis'!$H$2:$CN$2,MATCH(I93,'Multicriteria Decision Analysis'!$H$118:$CN$118,0))),\"\"),\"\")","v":""}]
[null,null,null,null,null,null,null,{"$f":"IFERROR(IF((COUNTA('A - Policy objectives'!$C$7:$C$35)+COUNTA('B - Technical objectives'!$C$7:$C$82)+COUNTA('C - Data availability'!$C$7:$C$21))>3,INDEX('Multicriteria Decision Analysis'!$H$119:$CN$119,MATCH(I94,'Multicriteria Decision Analysis'!$H$118:$CN$118,0)),\"\"),\"\")","v":""},{"$f":"IF(AND(I93<>\"\",'Multicriteria Decision Analysis'!$H$121>3,'Multicriteria Decision Analysis'!$H$121>=3+COUNT($I$85:$I93)+1),3+COUNT($I$85:$I93)+1,\"\")","v":""},{"$f":"IFERROR(IF((COUNTA('A - Policy objectives'!$C$7:$C$35)+COUNTA('B - Technical objectives'!$C$7:$C$82)+COUNTA('C - Data availability'!$C$7:$C$21)-COUNTIF('A - Policy objectives'!$C$7:$C$35,\"Non-essential\")-COUNTIF('B - Technical objectives'!$C$7:$C$82,\"Non-essential\")-COUNTIF('C - Data availability'!$C$21,\"Non-essential\"))>3,HYPERLINK(INDEX('Multicriteria Decision Analysis'!$H$4:$CN$4,MATCH(I94,'Multicriteria Decision Analysis'!$H$118:$CN$118,0)),INDEX('Multicriteria Decision Analysis'!$H$2:$CN$2,MATCH(I94,'Multicriteria Decision Analysis'!$H$118:$CN$118,0))),\"\"),\"\")","v":""}]
[null,null,null,null,null,null,null,{"$f":"IFERROR(IF((COUNTA('A - Policy objectives'!$C$7:$C$35)+COUNTA('B - Technical objectives'!$C$7:$C$82)+COUNTA('C - Data availability'!$C$7:$C$21))>3,INDEX('Multicriteria Decision Analysis'!$H$119:$CN$119,MATCH(I95,'Multicriteria Decision Analysis'!$H$118:$CN$118,0)),\"\"),\"\")","v":""},{"$f":"IF(AND(I94<>\"\",'Multicriteria Decision Analysis'!$H$121>3,'Multicriteria Decision Analysis'!$H$121>=3+COUNT($I$85:$I94)+1),3+COUNT($I$85:$I94)+1,\"\")","v":""},{"$f":"IFERROR(IF((COUNTA('A - Policy objectives'!$C$7:$C$35)+COUNTA('B - Technical objectives'!$C$7:$C$82)+COUNTA('C - Data availability'!$C$7:$C$21)-COUNTIF('A - Policy objectives'!$C$7:$C$35,\"Non-essential\")-COUNTIF('B - Technical objectives'!$C$7:$C$82,\"Non-essential\")-COUNTIF('C - Data availability'!$C$21,\"Non-essential\"))>3,HYPERLINK(INDEX('Multicriteria Decision Analysis'!$H$4:$CN$4,MATCH(I95,'Multicriteria Decision Analysis'!$H$118:$CN$118,0)),INDEX('Multicriteria Decision Analysis'!$H$2:$CN$2,MATCH(I95,'Multicriteria Decision Analysis'!$H$118:$CN$118,0))),\"\"),\"\")","v":""}]
[null,null,null,null,null,null,null,{"$f":"IFERROR(IF((COUNTA('A - Policy objectives'!$C$7:$C$35)+COUNTA('B - Technical objectives'!$C$7:$C$82)+COUNTA('C - Data availability'!$C$7:$C$21))>3,INDEX('Multicriteria Decision Analysis'!$H$119:$CN$119,MATCH(I96,'Multicriteria Decision Analysis'!$H$118:$CN$118,0)),\"\"),\"\")","v":""},{"$f":"IF(AND(I95<>\"\",'Multicriteria Decision Analysis'!$H$121>3,'Multicriteria Decision Analysis'!$H$121>=3+COUNT($I$85:$I95)+1),3+COUNT($I$85:$I95)+1,\"\")","v":""},{"$f":"IFERROR(IF((COUNTA('A - Policy objectives'!$C$7:$C$35)+COUNTA('B - Technical objectives'!$C$7:$C$82)+COUNTA('C - Data availability'!$C$7:$C$21)-COUNTIF('A - Policy objectives'!$C$7:$C$35,\"Non-essential\")-COUNTIF('B - Technical objectives'!$C$7:$C$82,\"Non-essential\")-COUNTIF('C - Data availability'!$C$21,\"Non-essential\"))>3,HYPERLINK(INDEX('Multicriteria Decision Analysis'!$H$4:$CN$4,MATCH(I96,'Multicriteria Decision Analysis'!$H$118:$CN$118,0)),INDEX('Multicriteria Decision Analysis'!$H$2:$CN$2,MATCH(I96,'Multicriteria Decision Analysis'!$H$118:$CN$118,0))),\"\"),\"\")","v":""}]
[null,null,null,null,null,null,null,{"$f":"IFERROR(IF((COUNTA('A - Policy objectives'!$C$7:$C$35)+COUNTA('B - Technical objectives'!$C$7:$C$82)+COUNTA('C - Data availability'!$C$7:$C$21))>3,INDEX('Multicriteria Decision Analysis'!$H$119:$CN$119,MATCH(I97,'Multicriteria Decision Analysis'!$H$118:$CN$118,0)),\"\"),\"\")","v":""},{"$f":"IF(AND(I96<>\"\",'Multicriteria Decision Analysis'!$H$121>3,'Multicriteria Decision Analysis'!$H$121>=3+COUNT($I$85:$I96)+1),3+COUNT($I$85:$I96)+1,\"\")","v":""},{"$f":"IFERROR(IF((COUNTA('A - Policy objectives'!$C$7:$C$35)+COUNTA('B - Technical objectives'!$C$7:$C$82)+COUNTA('C - Data availability'!$C$7:$C$21)-COUNTIF('A - Policy objectives'!$C$7:$C$35,\"Non-essential\")-COUNTIF('B - Technical objectives'!$C$7:$C$82,\"Non-essential\")-COUNTIF('C - Data availability'!$C$21,\"Non-essential\"))>3,HYPERLINK(INDEX('Multicriteria Decision Analysis'!$H$4:$CN$4,MATCH(I97,'Multicriteria Decision Analysis'!$H$118:$CN$118,0)),INDEX('Multicriteria Decision Analysis'!$H$2:$CN$2,MATCH(I97,'Multicriteria Decision Analysis'!$H$118:$CN$118,0))),\"\"),\"\")","v":""}]
[null,null,null,null,null,null,null,{"$f":"IFERROR(IF((COUNTA('A - Policy objectives'!$C$7:$C$35)+COUNTA('B - Technical objectives'!$C$7:$C$82)+COUNTA('C - Data availability'!$C$7:$C$21))>3,INDEX('Multicriteria Decision Analysis'!$H$119:$CN$119,MATCH(I98,'Multicriteria Decision Analysis'!$H$118:$CN$118,0)),\"\"),\"\")","v":""},{"$f":"IF(AND(I97<>\"\",'Multicriteria Decision Analysis'!$H$121>3,'Multicriteria Decision Analysis'!$H$121>=3+COUNT($I$85:$I97)+1),3+COUNT($I$85:$I97)+1,\"\")","v":""},{"$f":"IFERROR(IF((COUNTA('A - Policy objectives'!$C$7:$C$35)+COUNTA('B - Technical objectives'!$C$7:$C$82)+COUNTA('C - Data availability'!$C$7:$C$21)-COUNTIF('A - Policy objectives'!$C$7:$C$35,\"Non-essential\")-COUNTIF('B - Technical objectives'!$C$7:$C$82,\"Non-essential\")-COUNTIF('C - Data availability'!$C$21,\"Non-essential\"))>3,HYPERLINK(INDEX('Multicriteria Decision Analysis'!$H$4:$CN$4,MATCH(I98,'Multicriteria Decision Analysis'!$H$118:$CN$118,0)),INDEX('Multicriteria Decision Analysis'!$H$2:$CN$2,MATCH(I98,'Multicriteria Decision Analysis'!$H$118:$CN$118,0))),\"\"),\"\")","v":""}]
[null,null,null,null,null,null,null,{"$f":"IFERROR(IF((COUNTA('A - Policy objectives'!$C$7:$C$35)+COUNTA('B - Technical objectives'!$C$7:$C$82)+COUNTA('C - Data availability'!$C$7:$C$21))>3,INDEX('Multicriteria Decision Analysis'!$H$119:$CN$119,MATCH(I99,'Multicriteria Decision Analysis'!$H$118:$CN$118,0)),\"\"),\"\")","v":""},{"$f":"IF(AND(I98<>\"\",'Multicriteria Decision Analysis'!$H$121>3,'Multicriteria Decision Analysis'!$H$121>=3+COUNT($I$85:$I98)+1),3+COUNT($I$85:$I98)+1,\"\")","v":""},{"$f":"IFERROR(IF((COUNTA('A - Policy objectives'!$C$7:$C$35)+COUNTA('B - Technical objectives'!$C$7:$C$82)+COUNTA('C - Data availability'!$C$7:$C$21)-COUNTIF('A - Policy objectives'!$C$7:$C$35,\"Non-essential\")-COUNTIF('B - Technical objectives'!$C$7:$C$82,\"Non-essential\")-COUNTIF('C - Data availability'!$C$21,\"Non-essential\"))>3,HYPERLINK(INDEX('Multicriteria Decision Analysis'!$H$4:$CN$4,MATCH(I99,'Multicriteria Decision Analysis'!$H$118:$CN$118,0)),INDEX('Multicriteria Decision Analysis'!$H$2:$CN$2,MATCH(I99,'Multicriteria Decision Analysis'!$H$118:$CN$118,0))),\"\"),\"\")","v":""}]
[null,null,null,null,null,null,null,{"$f":"IFERROR(IF((COUNTA('A - Policy objectives'!$C$7:$C$35)+COUNTA('B - Technical objectives'!$C$7:$C$82)+COUNTA('C - Data availability'!$C$7:$C$21))>3,INDEX('Multicriteria Decision Analysis'!$H$119:$CN$119,MATCH(I100,'Multicriteria Decision Analysis'!$H$118:$CN$118,0)),\"\"),\"\")","v":""},{"$f":"IF(AND(I99<>\"\",'Multicriteria Decision Analysis'!$H$121>3,'Multicriteria Decision Analysis'!$H$121>=3+COUNT($I$85:$I99)+1),3+COUNT($I$85:$I99)+1,\"\")","v":""},{"$f":"IFERROR(IF((COUNTA('A - Policy objectives'!$C$7:$C$35)+COUNTA('B - Technical objectives'!$C$7:$C$82)+COUNTA('C - Data availability'!$C$7:$C$21)-COUNTIF('A - Policy objectives'!$C$7:$C$35,\"Non-essential\")-COUNTIF('B - Technical objectives'!$C$7:$C$82,\"Non-essential\")-COUNTIF('C - Data availability'!$C$21,\"Non-essential\"))>3,HYPERLINK(INDEX('Multicriteria Decision Analysis'!$H$4:$CN$4,MATCH(I100,'Multicriteria Decision Analysis'!$H$118:$CN$118,0)),INDEX('Multicriteria Decision Analysis'!$H$2:$CN$2,MATCH(I100,'Multicriteria Decision Analysis'!$H$118:$CN$118,0))),\"\"),\"\")","v":""}]
[null,null,null,null,null,null,null,{"$f":"IFERROR(IF((COUNTA('A - Policy objectives'!$C$7:$C$35)+COUNTA('B - Technical objectives'!$C$7:$C$82)+COUNTA('C - Data availability'!$C$7:$C$21))>3,INDEX('Multicriteria Decision Analysis'!$H$119:$CN$119,MATCH(I101,'Multicriteria Decision Analysis'!$H$118:$CN$118,0)),\"\"),\"\")","v":""},{"$f":"IF(AND(I100<>\"\",'Multicriteria Decision Analysis'!$H$121>3,'Multicriteria Decision Analysis'!$H$121>=3+COUNT($I$85:$I100)+1),3+COUNT($I$85:$I100)+1,\"\")","v":""},{"$f":"IFERROR(IF((COUNTA('A - Policy objectives'!$C$7:$C$35)+COUNTA('B - Technical objectives'!$C$7:$C$82)+COUNTA('C - Data availability'!$C$7:$C$21)-COUNTIF('A - Policy objectives'!$C$7:$C$35,\"Non-essential\")-COUNTIF('B - Technical objectives'!$C$7:$C$82,\"Non-essential\")-COUNTIF('C - Data availability'!$C$21,\"Non-essential\"))>3,HYPERLINK(INDEX('Multicriteria Decision Analysis'!$H$4:$CN$4,MATCH(I101,'Multicriteria Decision Analysis'!$H$118:$CN$118,0)),INDEX('Multicriteria Decision Analysis'!$H$2:$CN$2,MATCH(I101,'Multicriteria Decision Analysis'!$H$118:$CN$118,0))),\"\"),\"\")","v":""}]
[null,null,null,null,null,null,null,{"$f":"IFERROR(IF((COUNTA('A - Policy objectives'!$C$7:$C$35)+COUNTA('B - Technical objectives'!$C$7:$C$82)+COUNTA('C - Data availability'!$C$7:$C$21))>3,INDEX('Multicriteria Decision Analysis'!$H$119:$CN$119,MATCH(I102,'Multicriteria Decision Analysis'!$H$118:$CN$118,0)),\"\"),\"\")","v":""},{"$f":"IF(AND(I101<>\"\",'Multicriteria Decision Analysis'!$H$121>3,'Multicriteria Decision Analysis'!$H$121>=3+COUNT($I$85:$I101)+1),3+COUNT($I$85:$I101)+1,\"\")","v":""},{"$f":"IFERROR(IF((COUNTA('A - Policy objectives'!$C$7:$C$35)+COUNTA('B - Technical objectives'!$C$7:$C$82)+COUNTA('C - Data availability'!$C$7:$C$21)-COUNTIF('A - Policy objectives'!$C$7:$C$35,\"Non-essential\")-COUNTIF('B - Technical objectives'!$C$7:$C$82,\"Non-essential\")-COUNTIF('C - Data availability'!$C$21,\"Non-essential\"))>3,HYPERLINK(INDEX('Multicriteria Decision Analysis'!$H$4:$CN$4,MATCH(I102,'Multicriteria Decision Analysis'!$H$118:$CN$118,0)),INDEX('Multicriteria Decision Analysis'!$H$2:$CN$2,MATCH(I102,'Multicriteria Decision Analysis'!$H$118:$CN$118,0))),\"\"),\"\")","v":""}]
[null,null,null,null,null,null,null,{"$f":"IFERROR(IF((COUNTA('A - Policy objectives'!$C$7:$C$35)+COUNTA('B - Technical objectives'!$C$7:$C$82)+COUNTA('C - Data availability'!$C$7:$C$21))>3,INDEX('Multicriteria Decision Analysis'!$H$119:$CN$119,MATCH(I103,'Multicriteria Decision Analysis'!$H$118:$CN$118,0)),\"\"),\"\")","v":""},{"$f":"IF(AND(I102<>\"\",'Multicriteria Decision Analysis'!$H$121>3,'Multicriteria Decision Analysis'!$H$121>=3+COUNT($I$85:$I102)+1),3+COUNT($I$85:$I102)+1,\"\")","v":""},{"$f":"IFERROR(IF((COUNTA('A - Policy objectives'!$C$7:$C$35)+COUNTA('B - Technical objectives'!$C$7:$C$82)+COUNTA('C - Data availability'!$C$7:$C$21)-COUNTIF('A - Policy objectives'!$C$7:$C$35,\"Non-essential\")-COUNTIF('B - Technical objectives'!$C$7:$C$82,\"Non-essential\")-COUNTIF('C - Data availability'!$C$21,\"Non-essential\"))>3,HYPERLINK(INDEX('Multicriteria Decision Analysis'!$H$4:$CN$4,MATCH(I103,'Multicriteria Decision Analysis'!$H$118:$CN$118,0)),INDEX('Multicriteria Decision Analysis'!$H$2:$CN$2,MATCH(I103,'Multicriteria Decision Analysis'!$H$118:$CN$118,0))),\"\"),\"\")","v":""}]
[null,null,null,null,null,null,null,{"$f":"IFERROR(IF((COUNTA('A - Policy objectives'!$C$7:$C$35)+COUNTA('B - Technical objectives'!$C$7:$C$82)+COUNTA('C - Data availability'!$C$7:$C$21))>3,INDEX('Multicriteria Decision Analysis'!$H$119:$CN$119,MATCH(I104,'Multicriteria Decision Analysis'!$H$118:$CN$118,0)),\"\"),\"\")","v":""},{"$f":"IF(AND(I103<>\"\",'Multicriteria Decision Analysis'!$H$121>3,'Multicriteria Decision Analysis'!$H$121>=3+COUNT($I$85:$I103)+1),3+COUNT($I$85:$I103)+1,\"\")","v":""},{"$f":"IFERROR(IF((COUNTA('A - Policy objectives'!$C$7:$C$35)+COUNTA('B - Technical objectives'!$C$7:$C$82)+COUNTA('C - Data availability'!$C$7:$C$21)-COUNTIF('A - Policy objectives'!$C$7:$C$35,\"Non-essential\")-COUNTIF('B - Technical objectives'!$C$7:$C$82,\"Non-essential\")-COUNTIF('C - Data availability'!$C$21,\"Non-essential\"))>3,HYPERLINK(INDEX('Multicriteria Decision Analysis'!$H$4:$CN$4,MATCH(I104,'Multicriteria Decision Analysis'!$H$118:$CN$118,0)),INDEX('Multicriteria Decision Analysis'!$H$2:$CN$2,MATCH(I104,'Multicriteria Decision Analysis'!$H$118:$CN$118,0))),\"\"),\"\")","v":""}]
[null,null,null,null,null,null,null,{"$f":"IFERROR(IF((COUNTA('A - Policy objectives'!$C$7:$C$35)+COUNTA('B - Technical objectives'!$C$7:$C$82)+COUNTA('C - Data availability'!$C$7:$C$21))>3,INDEX('Multicriteria Decision Analysis'!$H$119:$CN$119,MATCH(I105,'Multicriteria Decision Analysis'!$H$118:$CN$118,0)),\"\"),\"\")","v":""},{"$f":"IF(AND(I104<>\"\",'Multicriteria Decision Analysis'!$H$121>3,'Multicriteria Decision Analysis'!$H$121>=3+COUNT($I$85:$I104)+1),3+COUNT($I$85:$I104)+1,\"\")","v":""},{"$f":"IFERROR(IF((COUNTA('A - Policy objectives'!$C$7:$C$35)+COUNTA('B - Technical objectives'!$C$7:$C$82)+COUNTA('C - Data availability'!$C$7:$C$21)-COUNTIF('A - Policy objectives'!$C$7:$C$35,\"Non-essential\")-COUNTIF('B - Technical objectives'!$C$7:$C$82,\"Non-essential\")-COUNTIF('C - Data availability'!$C$21,\"Non-essential\"))>3,HYPERLINK(INDEX('Multicriteria Decision Analysis'!$H$4:$CN$4,MATCH(I105,'Multicriteria Decision Analysis'!$H$118:$CN$118,0)),INDEX('Multicriteria Decision Analysis'!$H$2:$CN$2,MATCH(I105,'Multicriteria Decision Analysis'!$H$118:$CN$118,0))),\"\"),\"\")","v":""}]
[null,null,null,null,null,null,null,{"$f":"IFERROR(IF((COUNTA('A - Policy objectives'!$C$7:$C$35)+COUNTA('B - Technical objectives'!$C$7:$C$82)+COUNTA('C - Data availability'!$C$7:$C$21))>3,INDEX('Multicriteria Decision Analysis'!$H$119:$CN$119,MATCH(I106,'Multicriteria Decision Analysis'!$H$118:$CN$118,0)),\"\"),\"\")","v":""},{"$f":"IF(AND(I105<>\"\",'Multicriteria Decision Analysis'!$H$121>3,'Multicriteria Decision Analysis'!$H$121>=3+COUNT($I$85:$I105)+1),3+COUNT($I$85:$I105)+1,\"\")","v":""},{"$f":"IFERROR(IF((COUNTA('A - Policy objectives'!$C$7:$C$35)+COUNTA('B - Technical objectives'!$C$7:$C$82)+COUNTA('C - Data availability'!$C$7:$C$21)-COUNTIF('A - Policy objectives'!$C$7:$C$35,\"Non-essential\")-COUNTIF('B - Technical objectives'!$C$7:$C$82,\"Non-essential\")-COUNTIF('C - Data availability'!$C$21,\"Non-essential\"))>3,HYPERLINK(INDEX('Multicriteria Decision Analysis'!$H$4:$CN$4,MATCH(I106,'Multicriteria Decision Analysis'!$H$118:$CN$118,0)),INDEX('Multicriteria Decision Analysis'!$H$2:$CN$2,MATCH(I106,'Multicriteria Decision Analysis'!$H$118:$CN$118,0))),\"\"),\"\")","v":""}]
[null,null,null,null,null,null,null,{"$f":"IFERROR(IF((COUNTA('A - Policy objectives'!$C$7:$C$35)+COUNTA('B - Technical objectives'!$C$7:$C$82)+COUNTA('C - Data availability'!$C$7:$C$21))>3,INDEX('Multicriteria Decision Analysis'!$H$119:$CN$119,MATCH(I107,'Multicriteria Decision Analysis'!$H$118:$CN$118,0)),\"\"),\"\")","v":""},{"$f":"IF(AND(I106<>\"\",'Multicriteria Decision Analysis'!$H$121>3,'Multicriteria Decision Analysis'!$H$121>=3+COUNT($I$85:$I106)+1),3+COUNT($I$85:$I106)+1,\"\")","v":""},{"$f":"IFERROR(IF((COUNTA('A - Policy objectives'!$C$7:$C$35)+COUNTA('B - Technical objectives'!$C$7:$C$82)+COUNTA('C - Data availability'!$C$7:$C$21)-COUNTIF('A - Policy objectives'!$C$7:$C$35,\"Non-essential\")-COUNTIF('B - Technical objectives'!$C$7:$C$82,\"Non-essential\")-COUNTIF('C - Data availability'!$C$21,\"Non-essential\"))>3,HYPERLINK(INDEX('Multicriteria Decision Analysis'!$H$4:$CN$4,MATCH(I107,'Multicriteria Decision Analysis'!$H$118:$CN$118,0)),INDEX('Multicriteria Decision Analysis'!$H$2:$CN$2,MATCH(I107,'Multicriteria Decision Analysis'!$H$118:$CN$118,0))),\"\"),\"\")","v":""}]
[null,null,null,null,null,null,null,{"$f":"IFERROR(IF((COUNTA('A - Policy objectives'!$C$7:$C$35)+COUNTA('B - Technical objectives'!$C$7:$C$82)+COUNTA('C - Data availability'!$C$7:$C$21))>3,INDEX('Multicriteria Decision Analysis'!$H$119:$CN$119,MATCH(I108,'Multicriteria Decision Analysis'!$H$118:$CN$118,0)),\"\"),\"\")","v":""},{"$f":"IF(AND(I107<>\"\",'Multicriteria Decision Analysis'!$H$121>3,'Multicriteria Decision Analysis'!$H$121>=3+COUNT($I$85:$I107)+1),3+COUNT($I$85:$I107)+1,\"\")","v":""},{"$f":"IFERROR(IF((COUNTA('A - Policy objectives'!$C$7:$C$35)+COUNTA('B - Technical objectives'!$C$7:$C$82)+COUNTA('C - Data availability'!$C$7:$C$21)-COUNTIF('A - Policy objectives'!$C$7:$C$35,\"Non-essential\")-COUNTIF('B - Technical objectives'!$C$7:$C$82,\"Non-essential\")-COUNTIF('C - Data availability'!$C$21,\"Non-essential\"))>3,HYPERLINK(INDEX('Multicriteria Decision Analysis'!$H$4:$CN$4,MATCH(I108,'Multicriteria Decision Analysis'!$H$118:$CN$118,0)),INDEX('Multicriteria Decision Analysis'!$H$2:$CN$2,MATCH(I108,'Multicriteria Decision Analysis'!$H$118:$CN$118,0))),\"\"),\"\")","v":""}]
[null,null,null,null,null,null,null,{"$f":"IFERROR(IF((COUNTA('A - Policy objectives'!$C$7:$C$35)+COUNTA('B - Technical objectives'!$C$7:$C$82)+COUNTA('C - Data availability'!$C$7:$C$21))>3,INDEX('Multicriteria Decision Analysis'!$H$119:$CN$119,MATCH(I109,'Multicriteria Decision Analysis'!$H$118:$CN$118,0)),\"\"),\"\")","v":""},{"$f":"IF(AND(I108<>\"\",'Multicriteria Decision Analysis'!$H$121>3,'Multicriteria Decision Analysis'!$H$121>=3+COUNT($I$85:$I108)+1),3+COUNT($I$85:$I108)+1,\"\")","v":""},{"$f":"IFERROR(IF((COUNTA('A - Policy objectives'!$C$7:$C$35)+COUNTA('B - Technical objectives'!$C$7:$C$82)+COUNTA('C - Data availability'!$C$7:$C$21)-COUNTIF('A - Policy objectives'!$C$7:$C$35,\"Non-essential\")-COUNTIF('B - Technical objectives'!$C$7:$C$82,\"Non-essential\")-COUNTIF('C - Data availability'!$C$21,\"Non-essential\"))>3,HYPERLINK(INDEX('Multicriteria Decision Analysis'!$H$4:$CN$4,MATCH(I109,'Multicriteria Decision Analysis'!$H$118:$CN$118,0)),INDEX('Multicriteria Decision Analysis'!$H$2:$CN$2,MATCH(I109,'Multicriteria Decision Analysis'!$H$118:$CN$118,0))),\"\"),\"\")","v":""}]
[null,null,null,null,null,null,null,{"$f":"IFERROR(IF((COUNTA('A - Policy objectives'!$C$7:$C$35)+COUNTA('B - Technical objectives'!$C$7:$C$82)+COUNTA('C - Data availability'!$C$7:$C$21))>3,INDEX('Multicriteria Decision Analysis'!$H$119:$CN$119,MATCH(I110,'Multicriteria Decision Analysis'!$H$118:$CN$118,0)),\"\"),\"\")","v":""},{"$f":"IF(AND(I109<>\"\",'Multicriteria Decision Analysis'!$H$121>3,'Multicriteria Decision Analysis'!$H$121>=3+COUNT($I$85:$I109)+1),3+COUNT($I$85:$I109)+1,\"\")","v":""},{"$f":"IFERROR(IF((COUNTA('A - Policy objectives'!$C$7:$C$35)+COUNTA('B - Technical objectives'!$C$7:$C$82)+COUNTA('C - Data availability'!$C$7:$C$21)-COUNTIF('A - Policy objectives'!$C$7:$C$35,\"Non-essential\")-COUNTIF('B - Technical objectives'!$C$7:$C$82,\"Non-essential\")-COUNTIF('C - Data availability'!$C$21,\"Non-essential\"))>3,HYPERLINK(INDEX('Multicriteria Decision Analysis'!$H$4:$CN$4,MATCH(I110,'Multicriteria Decision Analysis'!$H$118:$CN$118,0)),INDEX('Multicriteria Decision Analysis'!$H$2:$CN$2,MATCH(I110,'Multicriteria Decision Analysis'!$H$118:$CN$118,0))),\"\"),\"\")","v":""}]
[null,null,null,null,null,null,null,{"$f":"IFERROR(IF((COUNTA('A - Policy objectives'!$C$7:$C$35)+COUNTA('B - Technical objectives'!$C$7:$C$82)+COUNTA('C - Data availability'!$C$7:$C$21))>3,INDEX('Multicriteria Decision Analysis'!$H$119:$CN$119,MATCH(I111,'Multicriteria Decision Analysis'!$H$118:$CN$118,0)),\"\"),\"\")","v":""},{"$f":"IF(AND(I110<>\"\",'Multicriteria Decision Analysis'!$H$121>3,'Multicriteria Decision Analysis'!$H$121>=3+COUNT($I$85:$I110)+1),3+COUNT($I$85:$I110)+1,\"\")","v":""},{"$f":"IFERROR(IF((COUNTA('A - Policy objectives'!$C$7:$C$35)+COUNTA('B - Technical objectives'!$C$7:$C$82)+COUNTA('C - Data availability'!$C$7:$C$21)-COUNTIF('A - Policy objectives'!$C$7:$C$35,\"Non-essential\")-COUNTIF('B - Technical objectives'!$C$7:$C$82,\"Non-essential\")-COUNTIF('C - Data availability'!$C$21,\"Non-essential\"))>3,HYPERLINK(INDEX('Multicriteria Decision Analysis'!$H$4:$CN$4,MATCH(I111,'Multicriteria Decision Analysis'!$H$118:$CN$118,0)),INDEX('Multicriteria Decision Analysis'!$H$2:$CN$2,MATCH(I111,'Multicriteria Decision Analysis'!$H$118:$CN$118,0))),\"\"),\"\")","v":""}]
[null,null,null,null,null,null,null,{"$f":"IFERROR(IF((COUNTA('A - Policy objectives'!$C$7:$C$35)+COUNTA('B - Technical objectives'!$C$7:$C$82)+COUNTA('C - Data availability'!$C$7:$C$21))>3,INDEX('Multicriteria Decision Analysis'!$H$119:$CN$119,MATCH(I112,'Multicriteria Decision Analysis'!$H$118:$CN$118,0)),\"\"),\"\")","v":""},{"$f":"IF(AND(I111<>\"\",'Multicriteria Decision Analysis'!$H$121>3,'Multicriteria Decision Analysis'!$H$121>=3+COUNT($I$85:$I111)+1),3+COUNT($I$85:$I111)+1,\"\")","v":""},{"$f":"IFERROR(IF((COUNTA('A - Policy objectives'!$C$7:$C$35)+COUNTA('B - Technical objectives'!$C$7:$C$82)+COUNTA('C - Data availability'!$C$7:$C$21)-COUNTIF('A - Policy objectives'!$C$7:$C$35,\"Non-essential\")-COUNTIF('B - Technical objectives'!$C$7:$C$82,\"Non-essential\")-COUNTIF('C - Data availability'!$C$21,\"Non-essential\"))>3,HYPERLINK(INDEX('Multicriteria Decision Analysis'!$H$4:$CN$4,MATCH(I112,'Multicriteria Decision Analysis'!$H$118:$CN$118,0)),INDEX('Multicriteria Decision Analysis'!$H$2:$CN$2,MATCH(I112,'Multicriteria Decision Analysis'!$H$118:$CN$118,0))),\"\"),\"\")","v":""}]
[null,null,null,null,null,null,null,{"$f":"IFERROR(IF((COUNTA('A - Policy objectives'!$C$7:$C$35)+COUNTA('B - Technical objectives'!$C$7:$C$82)+COUNTA('C - Data availability'!$C$7:$C$21))>3,INDEX('Multicriteria Decision Analysis'!$H$119:$CN$119,MATCH(I113,'Multicriteria Decision Analysis'!$H$118:$CN$118,0)),\"\"),\"\")","v":""},{"$f":"IF(AND(I112<>\"\",'Multicriteria Decision Analysis'!$H$121>3,'Multicriteria Decision Analysis'!$H$121>=3+COUNT($I$85:$I112)+1),3+COUNT($I$85:$I112)+1,\"\")","v":""},{"$f":"IFERROR(IF((COUNTA('A - Policy objectives'!$C$7:$C$35)+COUNTA('B - Technical objectives'!$C$7:$C$82)+COUNTA('C - Data availability'!$C$7:$C$21)-COUNTIF('A - Policy objectives'!$C$7:$C$35,\"Non-essential\")-COUNTIF('B - Technical objectives'!$C$7:$C$82,\"Non-essential\")-COUNTIF('C - Data availability'!$C$21,\"Non-essential\"))>3,HYPERLINK(INDEX('Multicriteria Decision Analysis'!$H$4:$CN$4,MATCH(I113,'Multicriteria Decision Analysis'!$H$118:$CN$118,0)),INDEX('Multicriteria Decision Analysis'!$H$2:$CN$2,MATCH(I113,'Multicriteria Decision Analysis'!$H$118:$CN$118,0))),\"\"),\"\")","v":""}]
[null,null,null,null,null,null,null,{"$f":"IFERROR(IF((COUNTA('A - Policy objectives'!$C$7:$C$35)+COUNTA('B - Technical objectives'!$C$7:$C$82)+COUNTA('C - Data availability'!$C$7:$C$21))>3,INDEX('Multicriteria Decision Analysis'!$H$119:$CN$119,MATCH(I114,'Multicriteria Decision Analysis'!$H$118:$CN$118,0)),\"\"),\"\")","v":""},{"$f":"IF(AND(I113<>\"\",'Multicriteria Decision Analysis'!$H$121>3,'Multicriteria Decision Analysis'!$H$121>=3+COUNT($I$85:$I113)+1),3+COUNT($I$85:$I113)+1,\"\")","v":""},{"$f":"IFERROR(IF((COUNTA('A - Policy objectives'!$C$7:$C$35)+COUNTA('B - Technical objectives'!$C$7:$C$82)+COUNTA('C - Data availability'!$C$7:$C$21)-COUNTIF('A - Policy objectives'!$C$7:$C$35,\"Non-essential\")-COUNTIF('B - Technical objectives'!$C$7:$C$82,\"Non-essential\")-COUNTIF('C - Data availability'!$C$21,\"Non-essential\"))>3,HYPERLINK(INDEX('Multicriteria Decision Analysis'!$H$4:$CN$4,MATCH(I114,'Multicriteria Decision Analysis'!$H$118:$CN$118,0)),INDEX('Multicriteria Decision Analysis'!$H$2:$CN$2,MATCH(I114,'Multicriteria Decision Analysis'!$H$118:$CN$118,0))),\"\"),\"\")","v":""}]
[null,null,null,null,null,null,null,{"$f":"IFERROR(IF((COUNTA('A - Policy objectives'!$C$7:$C$35)+COUNTA('B - Technical objectives'!$C$7:$C$82)+COUNTA('C - Data availability'!$C$7:$C$21))>3,INDEX('Multicriteria Decision Analysis'!$H$119:$CN$119,MATCH(I115,'Multicriteria Decision Analysis'!$H$118:$CN$118,0)),\"\"),\"\")","v":""},{"$f":"IF(AND(I114<>\"\",'Multicriteria Decision Analysis'!$H$121>3,'Multicriteria Decision Analysis'!$H$121>=3+COUNT($I$85:$I114)+1),3+COUNT($I$85:$I114)+1,\"\")","v":""},{"$f":"IFERROR(IF((COUNTA('A - Policy objectives'!$C$7:$C$35)+COUNTA('B - Technical objectives'!$C$7:$C$82)+COUNTA('C - Data availability'!$C$7:$C$21)-COUNTIF('A - Policy objectives'!$C$7:$C$35,\"Non-essential\")-COUNTIF('B - Technical objectives'!$C$7:$C$82,\"Non-essential\")-COUNTIF('C - Data availability'!$C$21,\"Non-essential\"))>3,HYPERLINK(INDEX('Multicriteria Decision Analysis'!$H$4:$CN$4,MATCH(I115,'Multicriteria Decision Analysis'!$H$118:$CN$118,0)),INDEX('Multicriteria Decision Analysis'!$H$2:$CN$2,MATCH(I115,'Multicriteria Decision Analysis'!$H$118:$CN$118,0))),\"\"),\"\")","v":""}]
[null,null,null,null,null,null,null,{"$f":"IFERROR(IF((COUNTA('A - Policy objectives'!$C$7:$C$35)+COUNTA('B - Technical objectives'!$C$7:$C$82)+COUNTA('C - Data availability'!$C$7:$C$21))>3,INDEX('Multicriteria Decision Analysis'!$H$119:$CN$119,MATCH(I116,'Multicriteria Decision Analysis'!$H$118:$CN$118,0)),\"\"),\"\")","v":""},{"$f":"IF(AND(I115<>\"\",'Multicriteria Decision Analysis'!$H$121>3,'Multicriteria Decision Analysis'!$H$121>=3+COUNT($I$85:$I115)+1),3+COUNT($I$85:$I115)+1,\"\")","v":""},{"$f":"IFERROR(IF((COUNTA('A - Policy objectives'!$C$7:$C$35)+COUNTA('B - Technical objectives'!$C$7:$C$82)+COUNTA('C - Data availability'!$C$7:$C$21)-COUNTIF('A - Policy objectives'!$C$7:$C$35,\"Non-essential\")-COUNTIF('B - Technical objectives'!$C$7:$C$82,\"Non-essential\")-COUNTIF('C - Data availability'!$C$21,\"Non-essential\"))>3,HYPERLINK(INDEX('Multicriteria Decision Analysis'!$H$4:$CN$4,MATCH(I116,'Multicriteria Decision Analysis'!$H$118:$CN$118,0)),INDEX('Multicriteria Decision Analysis'!$H$2:$CN$2,MATCH(I116,'Multicriteria Decision Analysis'!$H$118:$CN$118,0))),\"\"),\"\")","v":""}]
[null,null,null,null,null,null,null,{"$f":"IFERROR(IF((COUNTA('A - Policy objectives'!$C$7:$C$35)+COUNTA('B - Technical objectives'!$C$7:$C$82)+COUNTA('C - Data availability'!$C$7:$C$21))>3,INDEX('Multicriteria Decision Analysis'!$H$119:$CN$119,MATCH(I117,'Multicriteria Decision Analysis'!$H$118:$CN$118,0)),\"\"),\"\")","v":""},{"$f":"IF(AND(I116<>\"\",'Multicriteria Decision Analysis'!$H$121>3,'Multicriteria Decision Analysis'!$H$121>=3+COUNT($I$85:$I116)+1),3+COUNT($I$85:$I116)+1,\"\")","v":""},{"$f":"IFERROR(IF((COUNTA('A - Policy objectives'!$C$7:$C$35)+COUNTA('B - Technical objectives'!$C$7:$C$82)+COUNTA('C - Data availability'!$C$7:$C$21)-COUNTIF('A - Policy objectives'!$C$7:$C$35,\"Non-essential\")-COUNTIF('B - Technical objectives'!$C$7:$C$82,\"Non-essential\")-COUNTIF('C - Data availability'!$C$21,\"Non-essential\"))>3,HYPERLINK(INDEX('Multicriteria Decision Analysis'!$H$4:$CN$4,MATCH(I117,'Multicriteria Decision Analysis'!$H$118:$CN$118,0)),INDEX('Multicriteria Decision Analysis'!$H$2:$CN$2,MATCH(I117,'Multicriteria Decision Analysis'!$H$118:$CN$118,0))),\"\"),\"\")","v":""}]
[null,null,null,null,null,null,null,{"$f":"IFERROR(IF((COUNTA('A - Policy objectives'!$C$7:$C$35)+COUNTA('B - Technical objectives'!$C$7:$C$82)+COUNTA('C - Data availability'!$C$7:$C$21))>3,INDEX('Multicriteria Decision Analysis'!$H$119:$CN$119,MATCH(I118,'Multicriteria Decision Analysis'!$H$118:$CN$118,0)),\"\"),\"\")","v":""},{"$f":"IF(AND(I117<>\"\",'Multicriteria Decision Analysis'!$H$121>3,'Multicriteria Decision Analysis'!$H$121>=3+COUNT($I$85:$I117)+1),3+COUNT($I$85:$I117)+1,\"\")","v":""},{"$f":"IFERROR(IF((COUNTA('A - Policy objectives'!$C$7:$C$35)+COUNTA('B - Technical objectives'!$C$7:$C$82)+COUNTA('C - Data availability'!$C$7:$C$21)-COUNTIF('A - Policy objectives'!$C$7:$C$35,\"Non-essential\")-COUNTIF('B - Technical objectives'!$C$7:$C$82,\"Non-essential\")-COUNTIF('C - Data availability'!$C$21,\"Non-essential\"))>3,HYPERLINK(INDEX('Multicriteria Decision Analysis'!$H$4:$CN$4,MATCH(I118,'Multicriteria Decision Analysis'!$H$118:$CN$118,0)),INDEX('Multicriteria Decision Analysis'!$H$2:$CN$2,MATCH(I118,'Multicriteria Decision Analysis'!$H$118:$CN$118,0))),\"\"),\"\")","v":""}]
[null,null,null,null,null,null,null,{"$f":"IFERROR(IF((COUNTA('A - Policy objectives'!$C$7:$C$35)+COUNTA('B - Technical objectives'!$C$7:$C$82)+COUNTA('C - Data availability'!$C$7:$C$21))>3,INDEX('Multicriteria Decision Analysis'!$H$119:$CN$119,MATCH(I119,'Multicriteria Decision Analysis'!$H$118:$CN$118,0)),\"\"),\"\")","v":""},{"$f":"IF(AND(I118<>\"\",'Multicriteria Decision Analysis'!$H$121>3,'Multicriteria Decision Analysis'!$H$121>=3+COUNT($I$85:$I118)+1),3+COUNT($I$85:$I118)+1,\"\")","v":""},{"$f":"IFERROR(IF((COUNTA('A - Policy objectives'!$C$7:$C$35)+COUNTA('B - Technical objectives'!$C$7:$C$82)+COUNTA('C - Data availability'!$C$7:$C$21)-COUNTIF('A - Policy objectives'!$C$7:$C$35,\"Non-essential\")-COUNTIF('B - Technical objectives'!$C$7:$C$82,\"Non-essential\")-COUNTIF('C - Data availability'!$C$21,\"Non-essential\"))>3,HYPERLINK(INDEX('Multicriteria Decision Analysis'!$H$4:$CN$4,MATCH(I119,'Multicriteria Decision Analysis'!$H$118:$CN$118,0)),INDEX('Multicriteria Decision Analysis'!$H$2:$CN$2,MATCH(I119,'Multicriteria Decision Analysis'!$H$118:$CN$118,0))),\"\"),\"\")","v":""}]
[null,null,null,null,null,null,null,{"$f":"IFERROR(IF((COUNTA('A - Policy objectives'!$C$7:$C$35)+COUNTA('B - Technical objectives'!$C$7:$C$82)+COUNTA('C - Data availability'!$C$7:$C$21))>3,INDEX('Multicriteria Decision Analysis'!$H$119:$CN$119,MATCH(I120,'Multicriteria Decision Analysis'!$H$118:$CN$118,0)),\"\"),\"\")","v":""},{"$f":"IF(AND(I119<>\"\",'Multicriteria Decision Analysis'!$H$121>3,'Multicriteria Decision Analysis'!$H$121>=3+COUNT($I$85:$I119)+1),3+COUNT($I$85:$I119)+1,\"\")","v":""},{"$f":"IFERROR(IF((COUNTA('A - Policy objectives'!$C$7:$C$35)+COUNTA('B - Technical objectives'!$C$7:$C$82)+COUNTA('C - Data availability'!$C$7:$C$21)-COUNTIF('A - Policy objectives'!$C$7:$C$35,\"Non-essential\")-COUNTIF('B - Technical objectives'!$C$7:$C$82,\"Non-essential\")-COUNTIF('C - Data availability'!$C$21,\"Non-essential\"))>3,HYPERLINK(INDEX('Multicriteria Decision Analysis'!$H$4:$CN$4,MATCH(I120,'Multicriteria Decision Analysis'!$H$118:$CN$118,0)),INDEX('Multicriteria Decision Analysis'!$H$2:$CN$2,MATCH(I120,'Multicriteria Decision Analysis'!$H$118:$CN$118,0))),\"\"),\"\")","v":""}]
[null,null,null,null,null,null,null,{"$f":"IFERROR(IF((COUNTA('A - Policy objectives'!$C$7:$C$35)+COUNTA('B - Technical objectives'!$C$7:$C$82)+COUNTA('C - Data availability'!$C$7:$C$21))>3,INDEX('Multicriteria Decision Analysis'!$H$119:$CN$119,MATCH(I121,'Multicriteria Decision Analysis'!$H$118:$CN$118,0)),\"\"),\"\")","v":""},{"$f":"IF(AND(I120<>\"\",'Multicriteria Decision Analysis'!$H$121>3,'Multicriteria Decision Analysis'!$H$121>=3+COUNT($I$85:$I120)+1),3+COUNT($I$85:$I120)+1,\"\")","v":""},{"$f":"IFERROR(IF((COUNTA('A - Policy objectives'!$C$7:$C$35)+COUNTA('B - Technical objectives'!$C$7:$C$82)+COUNTA('C - Data availability'!$C$7:$C$21)-COUNTIF('A - Policy objectives'!$C$7:$C$35,\"Non-essential\")-COUNTIF('B - Technical objectives'!$C$7:$C$82,\"Non-essential\")-COUNTIF('C - Data availability'!$C$21,\"Non-essential\"))>3,HYPERLINK(INDEX('Multicriteria Decision Analysis'!$H$4:$CN$4,MATCH(I121,'Multicriteria Decision Analysis'!$H$118:$CN$118,0)),INDEX('Multicriteria Decision Analysis'!$H$2:$CN$2,MATCH(I121,'Multicriteria Decision Analysis'!$H$118:$CN$118,0))),\"\"),\"\")","v":""}]
[null,null,null,null,null,null,null,{"$f":"IFERROR(IF((COUNTA('A - Policy objectives'!$C$7:$C$35)+COUNTA('B - Technical objectives'!$C$7:$C$82)+COUNTA('C - Data availability'!$C$7:$C$21))>3,INDEX('Multicriteria Decision Analysis'!$H$119:$CN$119,MATCH(I122,'Multicriteria Decision Analysis'!$H$118:$CN$118,0)),\"\"),\"\")","v":""},{"$f":"IF(AND(I121<>\"\",'Multicriteria Decision Analysis'!$H$121>3,'Multicriteria Decision Analysis'!$H$121>=3+COUNT($I$85:$I121)+1),3+COUNT($I$85:$I121)+1,\"\")","v":""},{"$f":"IFERROR(IF((COUNTA('A - Policy objectives'!$C$7:$C$35)+COUNTA('B - Technical objectives'!$C$7:$C$82)+COUNTA('C - Data availability'!$C$7:$C$21)-COUNTIF('A - Policy objectives'!$C$7:$C$35,\"Non-essential\")-COUNTIF('B - Technical objectives'!$C$7:$C$82,\"Non-essential\")-COUNTIF('C - Data availability'!$C$21,\"Non-essential\"))>3,HYPERLINK(INDEX('Multicriteria Decision Analysis'!$H$4:$CN$4,MATCH(I122,'Multicriteria Decision Analysis'!$H$118:$CN$118,0)),INDEX('Multicriteria Decision Analysis'!$H$2:$CN$2,MATCH(I122,'Multicriteria Decision Analysis'!$H$118:$CN$118,0))),\"\"),\"\")","v":""}]
[null,null,null,null,null,null,null,{"$f":"IFERROR(IF((COUNTA('A - Policy objectives'!$C$7:$C$35)+COUNTA('B - Technical objectives'!$C$7:$C$82)+COUNTA('C - Data availability'!$C$7:$C$21))>3,INDEX('Multicriteria Decision Analysis'!$H$119:$CN$119,MATCH(I123,'Multicriteria Decision Analysis'!$H$118:$CN$118,0)),\"\"),\"\")","v":""},{"$f":"IF(AND(I122<>\"\",'Multicriteria Decision Analysis'!$H$121>3,'Multicriteria Decision Analysis'!$H$121>=3+COUNT($I$85:$I122)+1),3+COUNT($I$85:$I122)+1,\"\")","v":""},{"$f":"IFERROR(IF((COUNTA('A - Policy objectives'!$C$7:$C$35)+COUNTA('B - Technical objectives'!$C$7:$C$82)+COUNTA('C - Data availability'!$C$7:$C$21)-COUNTIF('A - Policy objectives'!$C$7:$C$35,\"Non-essential\")-COUNTIF('B - Technical objectives'!$C$7:$C$82,\"Non-essential\")-COUNTIF('C - Data availability'!$C$21,\"Non-essential\"))>3,HYPERLINK(INDEX('Multicriteria Decision Analysis'!$H$4:$CN$4,MATCH(I123,'Multicriteria Decision Analysis'!$H$118:$CN$118,0)),INDEX('Multicriteria Decision Analysis'!$H$2:$CN$2,MATCH(I123,'Multicriteria Decision Analysis'!$H$118:$CN$118,0))),\"\"),\"\")","v":""}]
[null,null,null,null,null,null,null,{"$f":"IFERROR(IF((COUNTA('A - Policy objectives'!$C$7:$C$35)+COUNTA('B - Technical objectives'!$C$7:$C$82)+COUNTA('C - Data availability'!$C$7:$C$21))>3,INDEX('Multicriteria Decision Analysis'!$H$119:$CN$119,MATCH(I124,'Multicriteria Decision Analysis'!$H$118:$CN$118,0)),\"\"),\"\")","v":""},{"$f":"IF(AND(I123<>\"\",'Multicriteria Decision Analysis'!$H$121>3,'Multicriteria Decision Analysis'!$H$121>=3+COUNT($I$85:$I123)+1),3+COUNT($I$85:$I123)+1,\"\")","v":""},{"$f":"IFERROR(IF((COUNTA('A - Policy objectives'!$C$7:$C$35)+COUNTA('B - Technical objectives'!$C$7:$C$82)+COUNTA('C - Data availability'!$C$7:$C$21)-COUNTIF('A - Policy objectives'!$C$7:$C$35,\"Non-essential\")-COUNTIF('B - Technical objectives'!$C$7:$C$82,\"Non-essential\")-COUNTIF('C - Data availability'!$C$21,\"Non-essential\"))>3,HYPERLINK(INDEX('Multicriteria Decision Analysis'!$H$4:$CN$4,MATCH(I124,'Multicriteria Decision Analysis'!$H$118:$CN$118,0)),INDEX('Multicriteria Decision Analysis'!$H$2:$CN$2,MATCH(I124,'Multicriteria Decision Analysis'!$H$118:$CN$118,0))),\"\"),\"\")","v":""}]
[null,null,null,null,null,null,null,{"$f":"IFERROR(IF((COUNTA('A - Policy objectives'!$C$7:$C$35)+COUNTA('B - Technical objectives'!$C$7:$C$82)+COUNTA('C - Data availability'!$C$7:$C$21))>3,INDEX('Multicriteria Decision Analysis'!$H$119:$CN$119,MATCH(I125,'Multicriteria Decision Analysis'!$H$118:$CN$118,0)),\"\"),\"\")","v":""},{"$f":"IF(AND(I124<>\"\",'Multicriteria Decision Analysis'!$H$121>3,'Multicriteria Decision Analysis'!$H$121>=3+COUNT($I$85:$I124)+1),3+COUNT($I$85:$I124)+1,\"\")","v":""},{"$f":"IFERROR(IF((COUNTA('A - Policy objectives'!$C$7:$C$35)+COUNTA('B - Technical objectives'!$C$7:$C$82)+COUNTA('C - Data availability'!$C$7:$C$21)-COUNTIF('A - Policy objectives'!$C$7:$C$35,\"Non-essential\")-COUNTIF('B - Technical objectives'!$C$7:$C$82,\"Non-essential\")-COUNTIF('C - Data availability'!$C$21,\"Non-essential\"))>3,HYPERLINK(INDEX('Multicriteria Decision Analysis'!$H$4:$CN$4,MATCH(I125,'Multicriteria Decision Analysis'!$H$118:$CN$118,0)),INDEX('Multicriteria Decision Analysis'!$H$2:$CN$2,MATCH(I125,'Multicriteria Decision Analysis'!$H$118:$CN$118,0))),\"\"),\"\")","v":""}]
[null,null,null,null,null,null,null,{"$f":"IFERROR(IF((COUNTA('A - Policy objectives'!$C$7:$C$35)+COUNTA('B - Technical objectives'!$C$7:$C$82)+COUNTA('C - Data availability'!$C$7:$C$21))>3,INDEX('Multicriteria Decision Analysis'!$H$119:$CN$119,MATCH(I126,'Multicriteria Decision Analysis'!$H$118:$CN$118,0)),\"\"),\"\")","v":""},{"$f":"IF(AND(I125<>\"\",'Multicriteria Decision Analysis'!$H$121>3,'Multicriteria Decision Analysis'!$H$121>=3+COUNT($I$85:$I125)+1),3+COUNT($I$85:$I125)+1,\"\")","v":""},{"$f":"IFERROR(IF((COUNTA('A - Policy objectives'!$C$7:$C$35)+COUNTA('B - Technical objectives'!$C$7:$C$82)+COUNTA('C - Data availability'!$C$7:$C$21)-COUNTIF('A - Policy objectives'!$C$7:$C$35,\"Non-essential\")-COUNTIF('B - Technical objectives'!$C$7:$C$82,\"Non-essential\")-COUNTIF('C - Data availability'!$C$21,\"Non-essential\"))>3,HYPERLINK(INDEX('Multicriteria Decision Analysis'!$H$4:$CN$4,MATCH(I126,'Multicriteria Decision Analysis'!$H$118:$CN$118,0)),INDEX('Multicriteria Decision Analysis'!$H$2:$CN$2,MATCH(I126,'Multicriteria Decision Analysis'!$H$118:$CN$118,0))),\"\"),\"\")","v":""}]
[null,null,null,null,null,null,null,{"$f":"IFERROR(IF((COUNTA('A - Policy objectives'!$C$7:$C$35)+COUNTA('B - Technical objectives'!$C$7:$C$82)+COUNTA('C - Data availability'!$C$7:$C$21))>3,INDEX('Multicriteria Decision Analysis'!$H$119:$CN$119,MATCH(I127,'Multicriteria Decision Analysis'!$H$118:$CN$118,0)),\"\"),\"\")","v":""},{"$f":"IF(AND(I126<>\"\",'Multicriteria Decision Analysis'!$H$121>3,'Multicriteria Decision Analysis'!$H$121>=3+COUNT($I$85:$I126)+1),3+COUNT($I$85:$I126)+1,\"\")","v":""},{"$f":"IFERROR(IF((COUNTA('A - Policy objectives'!$C$7:$C$35)+COUNTA('B - Technical objectives'!$C$7:$C$82)+COUNTA('C - Data availability'!$C$7:$C$21)-COUNTIF('A - Policy objectives'!$C$7:$C$35,\"Non-essential\")-COUNTIF('B - Technical objectives'!$C$7:$C$82,\"Non-essential\")-COUNTIF('C - Data availability'!$C$21,\"Non-essential\"))>3,HYPERLINK(INDEX('Multicriteria Decision Analysis'!$H$4:$CN$4,MATCH(I127,'Multicriteria Decision Analysis'!$H$118:$CN$118,0)),INDEX('Multicriteria Decision Analysis'!$H$2:$CN$2,MATCH(I127,'Multicriteria Decision Analysis'!$H$118:$CN$118,0))),\"\"),\"\")","v":""}]
[null,null,null,null,null,null,null,{"$f":"IFERROR(IF((COUNTA('A - Policy objectives'!$C$7:$C$35)+COUNTA('B - Technical objectives'!$C$7:$C$82)+COUNTA('C - Data availability'!$C$7:$C$21))>3,INDEX('Multicriteria Decision Analysis'!$H$119:$CN$119,MATCH(I128,'Multicriteria Decision Analysis'!$H$118:$CN$118,0)),\"\"),\"\")","v":""},{"$f":"IF(AND(I127<>\"\",'Multicriteria Decision Analysis'!$H$121>3,'Multicriteria Decision Analysis'!$H$121>=3+COUNT($I$85:$I127)+1),3+COUNT($I$85:$I127)+1,\"\")","v":""},{"$f":"IFERROR(IF((COUNTA('A - Policy objectives'!$C$7:$C$35)+COUNTA('B - Technical objectives'!$C$7:$C$82)+COUNTA('C - Data availability'!$C$7:$C$21)-COUNTIF('A - Policy objectives'!$C$7:$C$35,\"Non-essential\")-COUNTIF('B - Technical objectives'!$C$7:$C$82,\"Non-essential\")-COUNTIF('C - Data availability'!$C$21,\"Non-essential\"))>3,HYPERLINK(INDEX('Multicriteria Decision Analysis'!$H$4:$CN$4,MATCH(I128,'Multicriteria Decision Analysis'!$H$118:$CN$118,0)),INDEX('Multicriteria Decision Analysis'!$H$2:$CN$2,MATCH(I128,'Multicriteria Decision Analysis'!$H$118:$CN$118,0))),\"\"),\"\")","v":""}]
[null,null,null,null,null,null,null,{"$f":"IFERROR(IF((COUNTA('A - Policy objectives'!$C$7:$C$35)+COUNTA('B - Technical objectives'!$C$7:$C$82)+COUNTA('C - Data availability'!$C$7:$C$21))>3,INDEX('Multicriteria Decision Analysis'!$H$119:$CN$119,MATCH(I129,'Multicriteria Decision Analysis'!$H$118:$CN$118,0)),\"\"),\"\")","v":""},{"$f":"IF(AND(I128<>\"\",'Multicriteria Decision Analysis'!$H$121>3,'Multicriteria Decision Analysis'!$H$121>=3+COUNT($I$85:$I128)+1),3+COUNT($I$85:$I128)+1,\"\")","v":""},{"$f":"IFERROR(IF((COUNTA('A - Policy objectives'!$C$7:$C$35)+COUNTA('B - Technical objectives'!$C$7:$C$82)+COUNTA('C - Data availability'!$C$7:$C$21)-COUNTIF('A - Policy objectives'!$C$7:$C$35,\"Non-essential\")-COUNTIF('B - Technical objectives'!$C$7:$C$82,\"Non-essential\")-COUNTIF('C - Data availability'!$C$21,\"Non-essential\"))>3,HYPERLINK(INDEX('Multicriteria Decision Analysis'!$H$4:$CN$4,MATCH(I129,'Multicriteria Decision Analysis'!$H$118:$CN$118,0)),INDEX('Multicriteria Decision Analysis'!$H$2:$CN$2,MATCH(I129,'Multicriteria Decision Analysis'!$H$118:$CN$118,0))),\"\"),\"\")","v":""}]
[null,null,null,null,null,null,null,{"$f":"IFERROR(IF((COUNTA('A - Policy objectives'!$C$7:$C$35)+COUNTA('B - Technical objectives'!$C$7:$C$82)+COUNTA('C - Data availability'!$C$7:$C$21))>3,INDEX('Multicriteria Decision Analysis'!$H$119:$CN$119,MATCH(I130,'Multicriteria Decision Analysis'!$H$118:$CN$118,0)),\"\"),\"\")","v":""},{"$f":"IF(AND(I129<>\"\",'Multicriteria Decision Analysis'!$H$121>3,'Multicriteria Decision Analysis'!$H$121>=3+COUNT($I$85:$I129)+1),3+COUNT($I$85:$I129)+1,\"\")","v":""},{"$f":"IFERROR(IF((COUNTA('A - Policy objectives'!$C$7:$C$35)+COUNTA('B - Technical objectives'!$C$7:$C$82)+COUNTA('C - Data availability'!$C$7:$C$21)-COUNTIF('A - Policy objectives'!$C$7:$C$35,\"Non-essential\")-COUNTIF('B - Technical objectives'!$C$7:$C$82,\"Non-essential\")-COUNTIF('C - Data availability'!$C$21,\"Non-essential\"))>3,HYPERLINK(INDEX('Multicriteria Decision Analysis'!$H$4:$CN$4,MATCH(I130,'Multicriteria Decision Analysis'!$H$118:$CN$118,0)),INDEX('Multicriteria Decision Analysis'!$H$2:$CN$2,MATCH(I130,'Multicriteria Decision Analysis'!$H$118:$CN$118,0))),\"\"),\"\")","v":""}]
[null,null,null,null,null,null,null,{"$f":"IFERROR(IF((COUNTA('A - Policy objectives'!$C$7:$C$35)+COUNTA('B - Technical objectives'!$C$7:$C$82)+COUNTA('C - Data availability'!$C$7:$C$21))>3,INDEX('Multicriteria Decision Analysis'!$H$119:$CN$119,MATCH(I131,'Multicriteria Decision Analysis'!$H$118:$CN$118,0)),\"\"),\"\")","v":""},{"$f":"IF(AND(I130<>\"\",'Multicriteria Decision Analysis'!$H$121>3,'Multicriteria Decision Analysis'!$H$121>=3+COUNT($I$85:$I130)+1),3+COUNT($I$85:$I130)+1,\"\")","v":""},{"$f":"IFERROR(IF((COUNTA('A - Policy objectives'!$C$7:$C$35)+COUNTA('B - Technical objectives'!$C$7:$C$82)+COUNTA('C - Data availability'!$C$7:$C$21)-COUNTIF('A - Policy objectives'!$C$7:$C$35,\"Non-essential\")-COUNTIF('B - Technical objectives'!$C$7:$C$82,\"Non-essential\")-COUNTIF('C - Data availability'!$C$21,\"Non-essential\"))>3,HYPERLINK(INDEX('Multicriteria Decision Analysis'!$H$4:$CN$4,MATCH(I131,'Multicriteria Decision Analysis'!$H$118:$CN$118,0)),INDEX('Multicriteria Decision Analysis'!$H$2:$CN$2,MATCH(I131,'Multicriteria Decision Analysis'!$H$118:$CN$118,0))),\"\"),\"\")","v":""}]
[]
[]
[]
[]
[]
[]
[]
[]
[]
[]
[]
[]
[]
[]
[]
[]
[]
[]
[]
[]
[]
[]
[]
[]
[]
[]
[null,null,null,null,null,null,null,null,null,1]

{"sheet":"B - Technical objectives","index":3,"n_rows":159,"n_cols":18,"rows_kept":159,"cut":false,"hidden":true,"merged":[[75,9,75,15],[76,9,76,15],[64,9,64,15],[46,9,46,15],[47,9,47,15],[48,9,48,15],[49,9,49,15],[62,9,62,15],[60,9,60,15],[61,9,61,15],[59,9,59,15],[4,7,5,7],[6,7,7,7],[8,7,9,7],[4,9,5,14],[6,9,7,14],[8,9,9,14],[37,9,37,15],[10,7,11,7],[16,7,30,15],[10,9,11,14],[43,9,43,13],[38,9,38,15],[42,9,42,13],[13,7,15,15],[45,9,45,15],[44,9,44,15],[87,9,87,15],[88,9,88,15],[89,9,89,15],[57,9,57,13],[72,9,72,13],[67,9,67,15],[73,9,73,13],[78,9,78,15],[79,9,79,15],[63,9,63,15],[74,9,74,15],[52,9,52,15],[58,9,58,13],[77,9,77,15],[104,9,104,15],[105,9,105,15],[90,9,90,15],[91,9,91,15],[92,9,92,15],[93,9,93,15],[94,9,94,15],[100,9,100,15],[101,9,101,15],[95,9,95,15],[96,9,96,15],[103,9,103,15],[114,9,114,15],[112,9,112,15],[113,9,113,15],[84,9,84,15],[85,9,85,15],[86,9,86,15],[107,9,107,15],[108,9,108,15],[109,9,109,15],[110,9,110,15],[111,9,111,15],[102,9,102,15],[106,9,106,15],[97,9,97,15],[98,9,98,15],[99,9,99,15],[115,9,115,15],[116,9,116,15],[117,9,117,15],[118,9,118,15],[119,9,119,15],[120,9,120,15],[121,9,121,15],[122,9,122,15],[123,9,123,15],[124,9,124,15],[130,9,130,15],[125,9,125,15],[126,9,126,15],[127,9,127,15],[128,9,128,15],[129,9,129,15]]}
[null,"PART B: Technical objectives",null,null,null,null,null,"Suitability of methodological approaches"]
[null,"Click the questions or answers for definitions"]
[{"$f":"IF(COUNTIF(C:C,\"Essential\")>0,1,\"\")","v":""},{"$f":"IF(COUNTIF(C:C,\"Essential\")>0,\"Please note - selecting 'essential' acts as a hard filter and removes all methodologies that do not meet this criteria.\",\"\")","v":""}]
[null,null,null,null,null,null,null,null,null,"Relative suitability"]
[null,null,null,null,null,null,null,"Transfer coefficient ",null,{"$f":"'Methodological Approaches'!C50","v":0}]
["B1","1. How important is it that the assessment methodology works at the following spatial resolutions?"]
[null,"Global","Non-essential",{"$f":"IF(C7=\"Essential\",1,\"\")","v":""},"Select from the dropdown box",null,null,"Material Flow Analysis",null,{"$f":"'Methodological Approaches'!D50","v":0}]
[null,"Regional (mutliple countries)","Non-essential",{"$f":"IF(C8=\"Essential\",1,\"\")","v":""},"Select from the dropdown box"]
[null,"National (federal)","Non-essential","","Select from the dropdown box",null,null,"Statistical / trend analysis",null,{"$f":"'Methodological Approaches'!E50","v":0}]
[null,"Provincial (state)","Non-essential","","Select from the dropdown box"]
[null,"Municipal","Non-essential","","Select from the dropdown box",null,null,"Hydrological / transport modelling",null,{"$f":"'Methodological Approaches'!F50","v":0}]
[null,"Sub-municipal (local)","Non-essential","","Select from the dropdown box"]
[null,"Urban","Non-essential","","Select from the dropdown box"]
[null,"Rural","Non-essential","","Select from the dropdown box",null,null,"* The relative suitability of methodological approcahes is scored based on the overall scope, environmental compartment and general level of resources able to be commited (Part A - Q 3,4,5), as shown in the 'Methodological Approaches' sheet.. "]
[null,"Catchment / Basin","Non-essential","","Select from the dropdown box"]
[null,"River compartments","Non-essential","","Select from the dropdown box"]
[null,"Estuarine","Non-essential","","Select from the dropdown box",null,null,"Note: \nAssessment of a methodologies suitability is based on the scoring criteria only. No indication is given to the methodologies scientific rigour or accuracy of results. As such, the results presented here should be used as a guide only.\n\nFuthermore, whilst the level of resources and data requirements are included as scoring criteria, it should be acknowledged that primary data collection is always encouraged and that the quality of the results will likely reflect the resources allocated."]
[null,"Beach","Non-essential","","Select from the dropdown box"]
[null,"Coastline","Non-essential","","Select from the dropdown box"]
[null,"Sea / Ocean","Non-essential","","Select from the dropdown box"]
[]
["B2","2. How important is it that the assessment methodology works at the following temporal resolutions?"]
[null,"Annual","Non-essential","","Select from the dropdown box"]
[null,"Seasonal","Non-essential","","Select from the dropdown box"]
[null,"Monthly","Non-essential","","Select from the dropdown box"]
[null,"Daily","Non-essential","","Select from the dropdown box"]
[null,"Sub-daily","Non-essential","","Select from the dropdown box"]
[]
["B3","3. How important is it that the assessment methodology reports outputs on economic sectors or companies?"]
[null,"Economic sectors (e.g. tourism, fisheries, retail)","Non-essential","","Select from the dropdown box"]
[null,"Companies","Non-essential","","Select from the dropdown box"]
[]
["B4","4. How important is it that the assessment methodology reports outputs on the following waste management activities?",null,null,null,null,null,"Suitability of Plastic Pollution Assessment Methodologies"]
[null,"Waste generation","Non-essential",{"$f":"IF(C34=\"Essential\",1,\"\")","v":""},"Select from the dropdown box",null,null,{"$f":"IFERROR(IF((COUNTA('A - Policy objectives'!$C$7:$C$35)+COUNTA('B - Technical objectives'!$C$7:$C$82)+COUNTA('C - Data availability'!$C$7:$C$21)-COUNTIF('A - Policy objectives'!$C$7:$C$35,\"Non-essential\")-COUNTIF('B - Technical objectives'!$C$7:$C$82,\"Non-essential\")-COUNTIF('C - Data availability'!$C$21,\"Non-essential\"))>3,IF(COUNTIF('Multicriteria Decision Analysis'!$H$95:$CN$95,\"Yes\")=0,\"No methodologies match criteria, try removing some 'essential' components\",IF(COUNTIF('Multicriteria Decision Analysis'!$H$95:$CN$95,\"Yes\")>3,COUNTIFS('Multicriteria Decision Analysis'!$H$95:$CN$95,\"Yes\",'Multicriteria Decision Analysis'!$H$1:$CN$1,\">0\")&\" methodologies match your essential criteria. The top 3 are below. Any equally ranked results can be seen by clicking 'Compare'.\",IF(AND(COUNTIF('Multicriteria Decision Analysis'!$H$95:$CN$95,\"Yes\")>0,COUNTIF('Multicriteria Decision Analysis'!$H$95:$CN$95,\"Yes\")<4),COUNTIF('Multicriteria Decision Analysis'!$H$95:$CN$95,\"Yes\")&\" methodologies match your criteria.\",\"\"))),\"\"),\"\")","v":""}]
[null,"Waste collection (formal)","Non-essential","","Select from the dropdown box"]
[null,"Waste collection (informal)","Non-essential","","Select from the dropdown box"]
[null,"Sorting","Non-essential","","Select from the dropdown box",null,null,{"$f":"IFERROR(IF((COUNTA('A - Policy objectives'!$C$7:$C$35)+COUNTA('B - Technical objectives'!$C$7:$C$82)+COUNTA('C - Data availability'!$C$7:$C$21)-COUNTIF('A - Policy objectives'!$C$7:$C$35,\"Non-essential\")-COUNTIF('B - Technical objectives'!$C$7:$C$82,\"Non-essential\")-COUNTIF('C - Data availability'!$C$21,\"Non-essential\"))>3,INDEX('Multicriteria Decision Analysis'!$H$119:$CN$119,MATCH(1,'Multicriteria Decision Analysis'!$H$118:$CN$118,0)),\"\"),\"1\")","v":""}]
[null,"Reprocessing","Non-essential","","Select from the dropdown box",null,null,"Assessment Name:",null,{"$f":"IFERROR(IF((COUNTA('A - Policy objectives'!$C$7:$C$35)+COUNTA('B - Technical objectives'!$C$7:$C$82)+COUNTA('C - Data availability'!$C$7:$C$21)-COUNTIF('A - Policy objectives'!$C$7:$C$35,\"Non-essential\")-COUNTIF('B - Technical objectives'!$C$7:$C$82,\"Non-essential\")-COUNTIF('C - Data availability'!$C$21,\"Non-essential\"))>3,HYPERLINK(INDEX('Multicriteria Decision Analysis'!$H$4:$CN$4,MATCH(1,'Multicriteria Decision Analysis'!$H$118:$CN$118,0)),INDEX('Multicriteria Decision Analysis'!$H$2:$CN$2,MATCH(1,'Multicriteria Decision Analysis'!$H$118:$CN$118,0))),\"\"),\"No methodologies match criteria\")","v":""}]
[null,"Disposal","Non-essential","","Select from the dropdown box",null,null,"Organization(s) / Author(s): ",null,{"$f":"IFERROR(IF((COUNTA('A - Policy objectives'!$C$7:$C$35)+COUNTA('B - Technical objectives'!$C$7:$C$82)+COUNTA('C - Data availability'!$C$7:$C$21)-COUNTIF('A - Policy objectives'!$C$7:$C$35,\"Non-essential\")-COUNTIF('B - Technical objectives'!$C$7:$C$82,\"Non-essential\")-COUNTIF('C - Data availability'!$C$21,\"Non-essential\"))>3,INDEX('Multicriteria Decision Analysis'!$H$3:$CN$3,MATCH(1,'Multicriteria Decision Analysis'!$H$118:$CN$118,0)),\"\"),\"\")","v":""}]
[null,"Littering / illegal dumping","Non-essential","","Select from the dropdown box",null,null,"Important components provided:",{"$f":"IFERROR(IF((COUNTA('A - Policy objectives'!$C$7:$C$35)+COUNTA('B - Technical objectives'!$C$7:$C$82)+COUNTA('C - Data availability'!$C$7:$C$21)-COUNTIF('A - Policy objectives'!$C$7:$C$35,\"Non-essential\")-COUNTIF('B - Technical objectives'!$C$7:$C$82,\"Non-essential\")-COUNTIF('C - Data availability'!$C$21,\"Non-essential\"))>3,INDEX('Multicriteria Decision Analysis'!$H$100:$CN$100,MATCH(1,'Multicriteria Decision Analysis'!$H$118:$CN$118,0)),0),0)","v":0},{"$f":"IF(I40>=0.2,1,IF(I40>=0.1,0.5,0))","v":0},{"$f":"IF(I40>=0.4,1,IF(I40>=0.3,0.5,0))","v":0},{"$f":"IF(I40>=0.6,1,IF(I40>=0.5,0.5,0))","v":0},{"$f":"IF(I40>=0.8,1,IF(I40>=0.7,0.5,0))","v":0},{"$f":"IF(I40>=1,1,IF(I40>=0.9,0.5,0))","v":0}]
[null,"Open Burning","Non-essential","","Select from the dropdown box",null,null,"Preferred components provided:",{"$f":"IFERROR(IF((COUNTA('A - Policy objectives'!$C$7:$C$35)+COUNTA('B - Technical objectives'!$C$7:$C$82)+COUNTA('C - Data availability'!$C$7:$C$21)-COUNTIF('A - Policy objectives'!$C$7:$C$35,\"Non-essential\")-COUNTIF('B - Technical objectives'!$C$7:$C$82,\"Non-essential\")-COUNTIF('C - Data availability'!$C$21,\"Non-essential\"))>3,INDEX('Multicriteria Decision Analysis'!$H$105:$CN$105,MATCH(1,'Multicriteria Decision Analysis'!$H$118:$CN$118,0)),0),0)","v":0},{"$f":"IF(I41>=0.2,1,IF(I41>=0.1,0.5,0))","v":0},{"$f":"IF(I41>=0.4,1,IF(I41>=0.3,0.5,0))","v":0},{"$f":"IF(I41>=0.6,1,IF(I41>=0.5,0.5,0))","v":0},{"$f":"IF(I41>=0.8,1,IF(I41>=0.7,0.5,0))","v":0},{"$f":"IF(I41>=1,1,IF(I41>=0.9,0.5,0))","v":0}]
[null,null,null,null,null,null,null,"Matching data requirements",{"$f":"IFERROR(IF((COUNTA('A - Policy objectives'!$C$7:$C$35)+COUNTA('B - Technical objectives'!$C$7:$C$82)+COUNTA('C - Data availability'!$C$7:$C$21)-COUNTIF('A - Policy objectives'!$C$7:$C$35,\"Non-essential\")-COUNTIF('B - Technical objectives'!$C$7:$C$82,\"Non-essential\")-COUNTIF('C - Data availability'!$C$21,\"Non-essential\"))>3,INDEX('Multicriteria Decision Analysis'!$H$111:$CN$111,MATCH(1,'Multicriteria Decision Analysis'!$H$118:$CN$118,0)),0),0)","v":0},{"$f":"IF(I42>=0.2,1,IF(I42>=0.1,0.5,0))","v":0},{"$f":"IF(I42>=0.4,1,IF(I42>=0.3,0.5,0))","v":0},{"$f":"IF(I42>=0.6,1,IF(I42>=0.5,0.5,0))","v":0},{"$f":"IF(I42>=0.8,1,IF(I42>=0.7,0.5,0))","v":0},{"$f":"IF(I42>=1,1,IF(I42>=0.9,0.5,0))","v":0}]
["B5","5. How important is it that the assessment methodology reports outputs at the following material resolutions?",null,null,null,null,null,"Approximate level of resources required:",null,{"$f":"IFERROR(IF((COUNTA('A - Policy objectives'!$C$7:$C$35)+COUNTA('B - Technical objectives'!$C$7:$C$82)+COUNTA('C - Data availability'!$C$7:$C$21)-COUNTIF('A - Policy objectives'!$C$7:$C$35,\"Non-essential\")-COUNTIF('B - Technical objectives'!$C$7:$C$82,\"Non-essential\")-COUNTIF('C - Data availability'!$C$21,\"Non-essential\"))>3,INDEX('Assessment Framework'!$X$30:$AK$30,MATCH(J38,'Assessment Framework'!$G$2:$AF$2,0)),\"\"),\"\")","v":""},null,null,null,null,{"$f":"IF(J43<>\"\",1,\"\")","v":""}]
[null,"Plastic material-level","Non-essential",{"$f":"IF(C44=\"Essential\",1,\"\")","v":""},"Select from the dropdown box",null,null,"Short description:",null,"     Click to toggle"]
[null,null,null,null,null,null,null,null,null,"Objective:"]
[null,null,null,null,null,null,null,null,null,{"$f":"IFERROR(IF((COUNTA('A - Policy objectives'!$C$7:$C$35)+COUNTA('B - Technical objectives'!$C$7:$C$82)+COUNTA('C - Data availability'!$C$7:$C$21)-COUNTIF('A - Policy objectives'!$C$7:$C$35,\"Non-essential\")-COUNTIF('B - Technical objectives'!$C$7:$C$82,\"Non-essential\")-COUNTIF('C - Data availability'!$C$21,\"Non-essential\"))>3,INDEX('Multicriteria Decision Analysis'!$H$5:$CN$5,MATCH(1,'Multicriteria Decision Analysis'!$H$118:$CN$118,0)),\"\"),\"\")","v":""},null,null,null,null,null,null,null,{"$f":"J46","v":""}]
[null,null,null,null,null,null,null,null,null,"Methodology:"]
[null,null,null,null,null,null,null,null,null,{"$f":"IFERROR(IF((COUNTA('A - Policy objectives'!$C$7:$C$35)+COUNTA('B - Technical objectives'!$C$7:$C$82)+COUNTA('C - Data availability'!$C$7:$C$21)-COUNTIF('A - Policy objectives'!$C$7:$C$35,\"Non-essential\")-COUNTIF('B - Technical objectives'!$C$7:$C$82,\"Non-essential\")-COUNTIF('C - Data availability'!$C$21,\"Non-essential\"))>3,INDEX('Multicriteria Decision Analysis'!$H$6:$CN$6,MATCH(1,'Multicriteria Decision Analysis'!$H$118:$CN$118,0)),\"\"),\"\")","v":""},null,null,null,null,null,null,null,{"$f":"J48","v":""}]
[null,null,null,null,null,null,null,null,null,"Key outputs:"]
[null,null,null,null,null,null,null,null,null,{"$f":"IFERROR(IF((COUNTA('A - Policy objectives'!$C$7:$C$35)+COUNTA('B - Technical objectives'!$C$7:$C$82)+COUNTA('C - Data availability'!$C$7:$C$21)-COUNTIF('A - Policy objectives'!$C$7:$C$35,\"Non-essential\")-COUNTIF('B - Technical objectives'!$C$7:$C$82,\"Non-essential\")-COUNTIF('C - Data availability'!$C$21,\"Non-essential\"))>3,INDEX('Multicriteria Decision Analysis'!$H$7:$CN$7,MATCH(1,'Multicriteria Decision Analysis'!$H$118:$CN$118,0)),\"\"),\"\")","v":""},null,null,null,null,null,null,null,{"$f":"J50","v":""}]
[null,"Polymer-level","Non-essential",{"$f":"IF(C51=\"Essential\",1,\"\")","v":""},"Select from the dropdown box"]
[null,"Plastic item-level","Non-essential",{"$f":"IF(C52=\"Essential\",1,\"\")","v":""},"Select from the dropdown box",null,null,{"$f":"IFERROR(IF((COUNTA('A - Policy objectives'!$C$7:$C$35)+COUNTA('B - Technical objectives'!$C$7:$C$82)+COUNTA('C - Data availability'!$C$7:$C$21)-COUNTIF('A - Policy objectives'!$C$7:$C$35,\"Non-essential\")-COUNTIF('B - Technical objectives'!$C$7:$C$82,\"Non-essential\")-COUNTIF('C - Data availability'!$C$21,\"Non-essential\"))>3,INDEX('Multicriteria Decision Analysis'!$H$119:$CN$119,MATCH(2,'Multicriteria Decision Analysis'!$H$118:$CN$118,0)),\"\"),\"2\")","v":""}]
[null,"Product/brand-level","Non-essential",{"$f":"IF(C53=\"Essential\",1,\"\")","v":""},"Select from the dropdown box",null,null,"Assessment Name:",null,{"$f":"IFERROR(IF((COUNTA('A - Policy objectives'!$C$7:$C$35)+COUNTA('B - Technical objectives'!$C$7:$C$82)+COUNTA('C - Data availability'!$C$7:$C$21)-COUNTIF('A - Policy objectives'!$C$7:$C$35,\"Non-essential\")-COUNTIF('B - Technical objectives'!$C$7:$C$82,\"Non-essential\")-COUNTIF('C - Data availability'!$C$21,\"Non-essential\"))>3,HYPERLINK(INDEX('Multicriteria Decision Analysis'!$H$4:$CN$4,MATCH(2,'Multicriteria Decision Analysis'!$H$118:$CN$118,0)),INDEX('Multicriteria Decision Analysis'!$H$2:$CN$2,MATCH(2,'Multicriteria Decision Analysis'!$H$118:$CN$118,0))),\"\"),\"No methodologies match criteria\")","v":""}]
[null,"Microplastics","Non-essential",{"$f":"IF(C54=\"Essential\",1,\"\")","v":""},"Select from the dropdown box",null,null,"Organization(s) / Author(s): ",null,{"$f":"IFERROR(IF((COUNTA('A - Policy objectives'!$C$7:$C$35)+COUNTA('B - Technical objectives'!$C$7:$C$82)+COUNTA('C - Data availability'!$C$7:$C$21)-COUNTIF('A - Policy objectives'!$C$7:$C$35,\"Non-essential\")-COUNTIF('B - Technical objectives'!$C$7:$C$82,\"Non-essential\")-COUNTIF('C - Data availability'!$C$21,\"Non-essential\"))>3,INDEX('Multicriteria Decision Analysis'!$H$3:$CN$3,MATCH(2,'Multicriteria Decision Analysis'!$H$118:$CN$118,0)),\"\"),\"\")","v":""}]
[null,null,null,null,null,null,null,"Important components provided:",{"$f":"IFERROR(IF((COUNTA('A - Policy objectives'!$C$7:$C$35)+COUNTA('B - Technical objectives'!$C$7:$C$82)+COUNTA('C - Data availability'!$C$7:$C$21)-COUNTIF('A - Policy objectives'!$C$7:$C$35,\"Non-essential\")-COUNTIF('B - Technical objectives'!$C$7:$C$82,\"Non-essential\")-COUNTIF('C - Data availability'!$C$21,\"Non-essential\"))>3,INDEX('Multicriteria Decision Analysis'!$H$100:$CN$100,MATCH(2,'Multicriteria Decision Analysis'!$H$118:$CN$118,0)),0),0)","v":0},{"$f":"IF(I55>=0.2,1,IF(I55>=0.1,0.5,0))","v":0},{"$f":"IF(I55>=0.4,1,IF(I55>=0.3,0.5,0))","v":0},{"$f":"IF(I55>=0.6,1,IF(I55>=0.5,0.5,0))","v":0},{"$f":"IF(I55>=0.8,1,IF(I55>=0.7,0.5,0))","v":0},{"$f":"IF(I55>=1,1,IF(I55>=0.9,0.5,0))","v":0}]
["B6","6. How important is it that the assessment methodology quantifies plastic pollution by mass or count?",null,null,null,null,null,"Preferred components provided:",{"$f":"IFERROR(IF((COUNTA('A - Policy objectives'!$C$7:$C$35)+COUNTA('B - Technical objectives'!$C$7:$C$82)+COUNTA('C - Data availability'!$C$7:$C$21)-COUNTIF('A - Policy objectives'!$C$7:$C$35,\"Non-essential\")-COUNTIF('B - Technical objectives'!$C$7:$C$82,\"Non-essential\")-COUNTIF('C - Data availability'!$C$21,\"Non-essential\"))>3,INDEX('Multicriteria Decision Analysis'!$H$105:$CN$105,MATCH(2,'Multicriteria Decision Analysis'!$H$118:$CN$118,0)),0),0)","v":0},{"$f":"IF(I56>=0.2,1,IF(I56>=0.1,0.5,0))","v":0},{"$f":"IF(I56>=0.4,1,IF(I56>=0.3,0.5,0))","v":0},{"$f":"IF(I56>=0.6,1,IF(I56>=0.5,0.5,0))","v":0},{"$f":"IF(I56>=0.8,1,IF(I56>=0.7,0.5,0))","v":0},{"$f":"IF(I56>=1,1,IF(I56>=0.9,0.5,0))","v":0}]
[null,"Quantifies by mass","Non-essential",{"$f":"IF(C57=\"Essential\",1,\"\")","v":""},"Select from the dropdown box",null,null,"Matching data requirements",{"$f":"IFERROR(IF((COUNTA('A - Policy objectives'!$C$7:$C$35)+COUNTA('B - Technical objectives'!$C$7:$C$82)+COUNTA('C - Data availability'!$C$7:$C$21)-COUNTIF('A - Policy objectives'!$C$7:$C$35,\"Non-essential\")-COUNTIF('B - Technical objectives'!$C$7:$C$82,\"Non-essential\")-COUNTIF('C - Data availability'!$C$21,\"Non-essential\"))>3,INDEX('Multicriteria Decision Analysis'!$H$111:$CN$111,MATCH(2,'Multicriteria Decision Analysis'!$H$118:$CN$118,0)),0),0)","v":0},{"$f":"IF(I57>=0.2,1,IF(I57>=0.1,0.5,0))","v":0},{"$f":"IF(I57>=0.4,1,IF(I57>=0.3,0.5,0))","v":0},{"$f":"IF(I57>=0.6,1,IF(I57>=0.5,0.5,0))","v":0},{"$f":"IF(I57>=0.8,1,IF(I57>=0.7,0.5,0))","v":0},{"$f":"IF(I57>=1,1,IF(I57>=0.9,0.5,0))","v":0}]
[null,"Quantifies by count","Non-essential",{"$f":"IF(C58=\"Essential\",1,\"\")","v":""},"Select from the dropdown box",null,null,"Approximate level of resources required:",null,{"$f":"IFERROR(IF((COUNTA('A - Policy objectives'!$C$7:$C$35)+COUNTA('B - Technical objectives'!$C$7:$C$82)+COUNTA('C - Data availability'!$C$7:$C$21)-COUNTIF('A - Policy objectives'!$C$7:$C$35,\"Non-essential\")-COUNTIF('B - Technical objectives'!$C$7:$C$82,\"Non-essential\")-COUNTIF('C - Data availability'!$C$21,\"Non-essential\"))>3,INDEX('Assessment Framework'!$X$30:$AK$30,MATCH(J53,'Assessment Framework'!$G$2:$AF$2,0)),\"\"),\"\")","v":""},null,null,null,null,{"$f":"IF(J58<>\"\",1,\"\")","v":""}]
[null,null,null,null,null,null,null,"Short description:",null,"     Click to toggle"]
[null,null,null,null,null,null,null,null,null,"Objective:"]
[null,null,null,null,null,null,null,null,null,{"$f":"IFERROR(IF((COUNTA('A - Policy objectives'!$C$7:$C$35)+COUNTA('B - Technical objectives'!$C$7:$C$82)+COUNTA('C - Data availability'!$C$7:$C$21)-COUNTIF('A - Policy objectives'!$C$7:$C$35,\"Non-essential\")-COUNTIF('B - Technical objectives'!$C$7:$C$82,\"Non-essential\")-COUNTIF('C - Data availability'!$C$21,\"Non-essential\"))>3,INDEX('Multicriteria Decision Analysis'!$H$5:$CN$5,MATCH(2,'Multicriteria Decision Analysis'!$H$118:$CN$118,0)),\"\"),\"\")","v":""},null,null,null,null,null,null,null,{"$f":"J61","v":""}]
[null,null,null,null,null,null,null,null,null,"Methodology:"]
[null,null,null,null,null,null,null,null,null,{"$f":"IFERROR(IF((COUNTA('A - Policy objectives'!$C$7:$C$35)+COUNTA('B - Technical objectives'!$C$7:$C$82)+COUNTA('C - Data availability'!$C$7:$C$21)-COUNTIF('A - Policy objectives'!$C$7:$C$35,\"Non-essential\")-COUNTIF('B - Technical objectives'!$C$7:$C$82,\"Non-essential\")-COUNTIF('C - Data availability'!$C$21,\"Non-essential\"))>3,INDEX('Multicriteria Decision Analysis'!$H$6:$CN$6,MATCH(2,'Multicriteria Decision Analysis'!$H$118:$CN$118,0)),\"\"),\"\")","v":""},null,null,null,null,null,null,null,{"$f":"J63","v":""}]
[null,null,null,null,null,null,null,null,null,"Key outputs:"]
[null,null,null,null,null,null,null,null,null,{"$f":"IFERROR(IF((COUNTA('A - Policy objectives'!$C$7:$C$35)+COUNTA('B - Technical objectives'!$C$7:$C$82)+COUNTA('C - Data availability'!$C$7:$C$21)-COUNTIF('A - Policy objectives'!$C$7:$C$35,\"Non-essential\")-COUNTIF('B - Technical objectives'!$C$7:$C$82,\"Non-essential\")-COUNTIF('C - Data availability'!$C$21,\"Non-essential\"))>3,INDEX('Multicriteria Decision Analysis'!$H$7:$CN$7,MATCH(2,'Multicriteria Decision Analysis'!$H$118:$CN$118,0)),\"\"),\"\")","v":""},null,null,null,null,null,null,null,{"$f":"J65","v":""}]
["B7","7. How important is it that the assessment methodology reports outputs with the following formats and functionalities?"]
[null,"Incorporates uncertainty","Non-essential",{"$f":"IF(C67=\"Essential\",1,\"\")","v":""},"Select from the dropdown box",null,null,{"$f":"IFERROR(IF((COUNTA('A - Policy objectives'!$C$7:$C$35)+COUNTA('B - Technical objectives'!$C$7:$C$82)+COUNTA('C - Data availability'!$C$7:$C$21)-COUNTIF('A - Policy objectives'!$C$7:$C$35,\"Non-essential\")-COUNTIF('B - Technical objectives'!$C$7:$C$82,\"Non-essential\")-COUNTIF('C - Data availability'!$C$21,\"Non-essential\"))>3,INDEX('Multicriteria Decision Analysis'!$H$119:$CN$119,MATCH(3,'Multicriteria Decision Analysis'!$H$118:$CN$118,0)),\"\"),\"3\")","v":""}]
[null,"GIS / mapping","Non-essential",{"$f":"IF(C68=\"Essential\",1,\"\")","v":""},"Select from the dropdown box",null,null,"Assessment Name:",null,{"$f":"IFERROR(IF((COUNTA('A - Policy objectives'!$C$7:$C$35)+COUNTA('B - Technical objectives'!$C$7:$C$82)+COUNTA('C - Data availability'!$C$7:$C$21)-COUNTIF('A - Policy objectives'!$C$7:$C$35,\"Non-essential\")-COUNTIF('B - Technical objectives'!$C$7:$C$82,\"Non-essential\")-COUNTIF('C - Data availability'!$C$21,\"Non-essential\"))>3,HYPERLINK(INDEX('Multicriteria Decision Analysis'!$H$4:$CN$4,MATCH(3,'Multicriteria Decision Analysis'!$H$118:$CN$118,0)),INDEX('Multicriteria Decision Analysis'!$H$2:$CN$2,MATCH(3,'Multicriteria Decision Analysis'!$H$118:$CN$118,0))),\"\"),\"No methodologies match criteria\")","v":""}]
[null,"Outputs aligned with SDG sub-indicators","Non-essential",{"$f":"IF(C69=\"Essential\",1,\"\")","v":""},"Select from the dropdown box",null,null,"Organization(s) / Author(s): ",null,{"$f":"IFERROR(IF((COUNTA('A - Policy objectives'!$C$7:$C$35)+COUNTA('B - Technical objectives'!$C$7:$C$82)+COUNTA('C - Data availability'!$C$7:$C$21)-COUNTIF('A - Policy objectives'!$C$7:$C$35,\"Non-essential\")-COUNTIF('B - Technical objectives'!$C$7:$C$82,\"Non-essential\")-COUNTIF('C - Data availability'!$C$21,\"Non-essential\"))>3,INDEX('Multicriteria Decision Analysis'!$H$3:$CN$3,MATCH(3,'Multicriteria Decision Analysis'!$H$118:$CN$118,0)),\"\"),\"\")","v":""}]
[null,"Scenarios / forecasting","Non-essential",{"$f":"IF(C70=\"Essential\",1,\"\")","v":""},"Select from the dropdown box",null,null,"Important components provided:",{"$f":"IFERROR(IF((COUNTA('A - Policy objectives'!$C$7:$C$35)+COUNTA('B - Technical objectives'!$C$7:$C$82)+COUNTA('C - Data availability'!$C$7:$C$21)-COUNTIF('A - Policy objectives'!$C$7:$C$35,\"Non-essential\")-COUNTIF('B - Technical objectives'!$C$7:$C$82,\"Non-essential\")-COUNTIF('C - Data availability'!$C$21,\"Non-essential\"))>3,INDEX('Multicriteria Decision Analysis'!$H$100:$CN$100,MATCH(3,'Multicriteria Decision Analysis'!$H$118:$CN$118,0)),0),0)","v":0},{"$f":"IF(I70>=0.2,1,IF(I70>=0.1,0.5,0))","v":0},{"$f":"IF(I70>=0.4,1,IF(I70>=0.3,0.5,0))","v":0},{"$f":"IF(I70>=0.6,1,IF(I70>=0.5,0.5,0))","v":0},{"$f":"IF(I70>=0.8,1,IF(I70>=0.7,0.5,0))","v":0},{"$f":"IF(I70>=1,1,IF(I70>=0.9,0.5,0))","v":0}]
[null,"Wedges approach","Non-essential",{"$f":"IF(C71=\"Essential\",1,\"\")","v":""},"Select from the dropdown box",null,null,"Preferred components provided:",{"$f":"IFERROR(IF((COUNTA('A - Policy objectives'!$C$7:$C$35)+COUNTA('B - Technical objectives'!$C$7:$C$82)+COUNTA('C - Data availability'!$C$7:$C$21)-COUNTIF('A - Policy objectives'!$C$7:$C$35,\"Non-essential\")-COUNTIF('B - Technical objectives'!$C$7:$C$82,\"Non-essential\")-COUNTIF('C - Data availability'!$C$21,\"Non-essential\"))>3,INDEX('Multicriteria Decision Analysis'!$H$105:$CN$105,MATCH(3,'Multicriteria Decision Analysis'!$H$118:$CN$118,0)),0),0)","v":0},{"$f":"IF(I71>=0.2,1,IF(I71>=0.1,0.5,0))","v":0},{"$f":"IF(I71>=0.4,1,IF(I71>=0.3,0.5,0))","v":0},{"$f":"IF(I71>=0.6,1,IF(I71>=0.5,0.5,0))","v":0},{"$f":"IF(I71>=0.8,1,IF(I71>=0.7,0.5,0))","v":0},{"$f":"IF(I71>=1,1,IF(I71>=0.9,0.5,0))","v":0}]
[null,null,null,null,null,null,null,"Matching data requirements",{"$f":"IFERROR(IF((COUNTA('A - Policy objectives'!$C$7:$C$35)+COUNTA('B - Technical objectives'!$C$7:$C$82)+COUNTA('C - Data availability'!$C$7:$C$21)-COUNTIF('A - Policy objectives'!$C$7:$C$35,\"Non-essential\")-COUNTIF('B - Technical objectives'!$C$7:$C$82,\"Non-essential\")-COUNTIF('C - Data availability'!$C$21,\"Non-essential\"))>3,INDEX('Multicriteria Decision Analysis'!$H$111:$CN$111,MATCH(3,'Multicriteria Decision Analysis'!$H$118:$CN$118,0)),0),0)","v":0},{"$f":"IF(I72>=0.2,1,IF(I72>=0.1,0.5,0))","v":0},{"$f":"IF(I72>=0.4,1,IF(I72>=0.3,0.5,0))","v":0},{"$f":"IF(I72>=0.6,1,IF(I72>=0.5,0.5,0))","v":0},{"$f":"IF(I72>=0.8,1,IF(I72>=0.7,0.5,0))","v":0},{"$f":"IF(I72>=1,1,IF(I72>=0.9,0.5,0))","v":0}]
["B8","8. How important is it that the assessment methodology prioritizes interventions as follows?",null,null,null,null,null,"Approximate level of resources required:",null,{"$f":"IFERROR(IF((COUNTA('A - Policy objectives'!$C$7:$C$35)+COUNTA('B - Technical objectives'!$C$7:$C$82)+COUNTA('C - Data availability'!$C$7:$C$21)-COUNTIF('A - Policy objectives'!$C$7:$C$35,\"Non-essential\")-COUNTIF('B - Technical objectives'!$C$7:$C$82,\"Non-essential\")-COUNTIF('C - Data availability'!$C$21,\"Non-essential\"))>3,INDEX('Assessment Framework'!$X$30:$AK$30,MATCH(J68,'Assessment Framework'!$G$2:$AF$2,0)),\"\"),\"\")","v":""},null,null,null,null,{"$f":"IF(J73<>\"\",1,\"\")","v":""}]
[null,"Prioritizes interventions by economic costs","Non-essential",{"$f":"IF(C74=\"Essential\",1,\"\")","v":""},"Select from the dropdown box",null,null,"Short description:",null,"     Click to toggle"]
[null,null,"Non-essential",null,null,null,null,null,null,"Objective:"]
[null,null,"Non-essential",null,null,null,null,null,null,{"$f":"IFERROR(IF((COUNTA('A - Policy objectives'!$C$7:$C$35)+COUNTA('B - Technical objectives'!$C$7:$C$82)+COUNTA('C - Data availability'!$C$7:$C$21)-COUNTIF('A - Policy objectives'!$C$7:$C$35,\"Non-essential\")-COUNTIF('B - Technical objectives'!$C$7:$C$82,\"Non-essential\")-COUNTIF('C - Data availability'!$C$21,\"Non-essential\"))>3,INDEX('Multicriteria Decision Analysis'!$H$5:$CN$5,MATCH(3,'Multicriteria Decision Analysis'!$H$118:$CN$118,0)),\"\"),\"\")","v":""},null,null,null,null,null,null,null,{"$f":"J76","v":""}]
[null,null,"Non-essential",null,null,null,null,null,null,"Methodology:"]
[null,null,"Non-essential",null,null,null,null,null,null,{"$f":"IFERROR(IF((COUNTA('A - Policy objectives'!$C$7:$C$35)+COUNTA('B - Technical objectives'!$C$7:$C$82)+COUNTA('C - Data availability'!$C$7:$C$21)-COUNTIF('A - Policy objectives'!$C$7:$C$35,\"Non-essential\")-COUNTIF('B - Technical objectives'!$C$7:$C$82,\"Non-essential\")-COUNTIF('C - Data availability'!$C$21,\"Non-essential\"))>3,INDEX('Multicriteria Decision Analysis'!$H$6:$CN$6,MATCH(3,'Multicriteria Decision Analysis'!$H$118:$CN$118,0)),\"\"),\"\")","v":""},null,null,null,null,null,null,null,{"$f":"J78","v":""}]
[null,null,"Non-essential",null,null,null,null,null,null,"Key outputs:"]
[null,null,"Non-essential",null,null,null,null,null,null,{"$f":"IFERROR(IF((COUNTA('A - Policy objectives'!$C$7:$C$35)+COUNTA('B - Technical objectives'!$C$7:$C$82)+COUNTA('C - Data availability'!$C$7:$C$21)-COUNTIF($C$7:$C$35,\"Non-essential\")-COUNTIF('B - Technical objectives'!$C$7:$C$82,\"Non-essential\")-COUNTIF('C - Data availability'!$C$21,\"Non-essential\"))>3,INDEX('Multicriteria Decision Analysis'!$H$7:$CN$7,MATCH(3,'Multicriteria Decision Analysis'!$H$118:$CN$118,0)),\"\"),\"\")","v":""},null,null,null,null,null,null,null,{"$f":"J80","v":""}]
[null,"Prioritizes engineering / service interventions by impact","Non-essential",{"$f":"IF(C81=\"Essential\",1,\"\")","v":""},"Select from the dropdown box"]
[null,"Prioritizes policy interventions by impact","Non-essential",{"$f":"IF(C82=\"Essential\",1,\"\")","v":""},"Select from the dropdown box"]
[]
[null,null,null,null,null,null,null,null,null,{"$f":"IF((COUNTA('A - Policy objectives'!$C$7:$C$35)+COUNTA('B - Technical objectives'!$C$7:$C$82)+COUNTA('C - Data availability'!$C$7:$C$21)-COUNTIF('A - Policy objectives'!$C$7:$C$35,\"Non-essential\")-COUNTIF('B - Technical objectives'!$C$7:$C$82,\"Non-essential\")-COUNTIF('C - Data availability'!$C$21,\"Non-essential\"))>3,IF('Multicriteria Decision Analysis'!H121>3,\"Equally ranked methodologies not shown above (in alphabetical order):\",\"\"),\"\")","v":""}]
[null,null,null,null,null,null,null,{"$f":"IFERROR(IF((COUNTA('A - Policy objectives'!$C$7:$C$35)+COUNTA('B - Technical objectives'!$C$7:$C$82)+COUNTA('C - Data availability'!$C$7:$C$21)-COUNTIF('A - Policy objectives'!$C$7:$C$35,\"Non-essential\")-COUNTIF('B - Technical objectives'!$C$7:$C$82,\"Non-essential\")-COUNTIF('C - Data availability'!$C$21,\"Non-essential\"))>3,INDEX('Multicriteria Decision Analysis'!$H$119:$CN$119,MATCH(I85,'Multicriteria Decision Analysis'!$H$118:$CN$118,0)),\"\"),\"\")","v":""},{"$f":"IF((COUNTA('A - Policy objectives'!$C$7:$C$35)+COUNTA('B - Technical objectives'!$C$7:$C$82)+COUNTA('C - Data availability'!$C$7:$C$21)-COUNTIF('A - Policy objectives'!$C$7:$C$35,\"Non-essential\")-COUNTIF('B - Technical objectives'!$C$7:$C$82,\"Non-essential\")-COUNTIF('C - Data availability'!$C$21,\"Non-essential\"))>3,IF('Multicriteria Decision Analysis'!$H$121>3,4,\"\"),\"\")","v":""},{"$f":"IFERROR(IF((COUNTA('A - Policy objectives'!$C$7:$C$35)+COUNTA('B - Technical objectives'!$C$7:$C$82)+COUNTA('C - Data availability'!$C$7:$C$21)-COUNTIF('A - Policy objectives'!$C$7:$C$35,\"Non-essential\")-COUNTIF('B - Technical objectives'!$C$7:$C$82,\"Non-essential\")-COUNTIF('C - Data availability'!$C$21,\"Non-essential\"))>3,HYPERLINK(INDEX('Multicriteria Decision Analysis'!$H$4:$CN$4,MATCH(I85,'Multicriteria Decision Analysis'!$H$118:$CN$118,0)),INDEX('Multicriteria Decision Analysis'!$H$2:$CN$2,MATCH(I85,'Multicriteria Decision Analysis'!$H$118:$CN$118,0))),\"\"),\"\")","v":""}]
[null,null,null,null,null,null,null,{"$f":"IFERROR(IF((COUNTA('A - Policy objectives'!$C$7:$C$35)+COUNTA('B - Technical objectives'!$C$7:$C$82)+COUNTA('C - Data availability'!$C$7:$C$21)-COUNTIF('A - Policy objectives'!$C$7:$C$35,\"Non-essential\")-COUNTIF('B - Technical objectives'!$C$7:$C$82,\"Non-essential\")-COUNTIF('C - Data availability'!$C$21,\"Non-essential\"))>3,INDEX('Multicriteria Decision Analysis'!$H$119:$CN$119,MATCH(I86,'Multicriteria Decision Analysis'!$H$118:$CN$118,0)),\"\"),\"\")","v":""},{"$f":"IF(AND(I85<>\"\",'Multicriteria Decision Analysis'!$H$121>3,'Multicriteria Decision Analysis'!$H$121>=3+COUNT($I$85)+1),3+COUNT($I$85)+1,\"\")","v":""},{"$f":"IFERROR(IF((COUNTA('A - Policy objectives'!$C$7:$C$35)+COUNTA('B - Technical objectives'!$C$7:$C$82)+COUNTA('C - Data availability'!$C$7:$C$21)-COUNTIF('A - Policy objectives'!$C$7:$C$35,\"Non-essential\")-COUNTIF('B - Technical objectives'!$C$7:$C$82,\"Non-essential\")-COUNTIF('C - Data availability'!$C$21,\"Non-essential\"))>3,HYPERLINK(INDEX('Multicriteria Decision Analysis'!$H$4:$CN$4,MATCH(I86,'Multicriteria Decision Analysis'!$H$118:$CN$118,0)),INDEX('Multicriteria Decision Analysis'!$H$2:$CN$2,MATCH(I86,'Multicriteria Decision Analysis'!$H$118:$CN$118,0))),\"\"),\"\")","v":""}]
["END",null,null,null,null,null,null,{"$f":"IFERROR(IF((COUNTA('A - Policy objectives'!$C$7:$C$35)+COUNTA('B - Technical objectives'!$C$7:$C$82)+COUNTA('C - Data availability'!$C$7:$C$21)-COUNTIF('A - Policy objectives'!$C$7:$C$35,\"Non-essential\")-COUNTIF('B - Technical objectives'!$C$7:$C$82,\"Non-essential\")-COUNTIF('C - Data availability'!$C$21,\"Non-essential\"))>3,INDEX('Multicriteria Decision Analysis'!$H$119:$CN$119,MATCH(I87,'Multicriteria Decision Analysis'!$H$118:$CN$118,0)),\"\"),\"\")","v":""},{"$f":"IF(AND(I86<>\"\",'Multicriteria Decision Analysis'!$H$121>3,'Multicriteria Decision Analysis'!$H$121>=3+COUNT($I$85:$I86)+1),3+COUNT($I$85:$I86)+1,\"\")","v":""},{"$f":"IFERROR(IF((COUNTA('A - Policy objectives'!$C$7:$C$35)+COUNTA('B - Technical objectives'!$C$7:$C$82)+COUNTA('C - Data availability'!$C$7:$C$21)-COUNTIF('A - Policy objectives'!$C$7:$C$35,\"Non-essential\")-COUNTIF('B - Technical objectives'!$C$7:$C$82,\"Non-essential\")-COUNTIF('C - Data availability'!$C$21,\"Non-essential\"))>3,HYPERLINK(INDEX('Multicriteria Decision Analysis'!$H$4:$CN$4,MATCH(I87,'Multicriteria Decision Analysis'!$H$118:$CN$118,0)),INDEX('Multicriteria Decision Analysis'!$H$2:$CN$2,MATCH(I87,'Multicriteria Decision Analysis'!$H$118:$CN$118,0))),\"\"),\"\")","v":""}]
[null,null,null,null,null,null,null,{"$f":"IFERROR(IF((COUNTA('A - Policy objectives'!$C$7:$C$35)+COUNTA('B - Technical objectives'!$C$7:$C$82)+COUNTA('C - Data availability'!$C$7:$C$21)-COUNTIF('A - Policy objectives'!$C$7:$C$35,\"Non-essential\")-COUNTIF('B - Technical objectives'!$C$7:$C$82,\"Non-essential\")-COUNTIF('C - Data availability'!$C$21,\"Non-essential\"))>3,INDEX('Multicriteria Decision Analysis'!$H$119:$CN$119,MATCH(I88,'Multicriteria Decision Analysis'!$H$118:$CN$118,0)),\"\"),\"\")","v":""},{"$f":"IF(AND(I87<>\"\",'Multicriteria Decision Analysis'!$H$121>3,'Multicriteria Decision Analysis'!$H$121>=3+COUNT($I$85:$I87)+1),3+COUNT($I$85:$I87)+1,\"\")","v":""},{"$f":"IFERROR(IF((COUNTA('A - Policy objectives'!$C$7:$C$35)+COUNTA('B - Technical objectives'!$C$7:$C$82)+COUNTA('C - Data availability'!$C$7:$C$21)-COUNTIF('A - Policy objectives'!$C$7:$C$35,\"Non-essential\")-COUNTIF('B - Technical objectives'!$C$7:$C$82,\"Non-essential\")-COUNTIF('C - Data availability'!$C$21,\"Non-essential\"))>3,HYPERLINK(INDEX('Multicriteria Decision Analysis'!$H$4:$CN$4,MATCH(I88,'Multicriteria Decision Analysis'!$H$118:$CN$118,0)),INDEX('Multicriteria Decision Analysis'!$H$2:$CN$2,MATCH(I88,'Multicriteria Decision Analysis'!$H$118:$CN$118,0))),\"\"),\"\")","v":""}]
[null,null,null,null,null,null,null,{"$f":"IFERROR(IF((COUNTA('A - Policy objectives'!$C$7:$C$35)+COUNTA('B - Technical objectives'!$C$7:$C$82)+COUNTA('C - Data availability'!$C$7:$C$21)-COUNTIF('A - Policy objectives'!$C$7:$C$35,\"Non-essential\")-COUNTIF('B - Technical objectives'!$C$7:$C$82,\"Non-essential\")-COUNTIF('C - Data availability'!$C$21,\"Non-essential\"))>3,INDEX('Multicriteria Decision Analysis'!$H$119:$CN$119,MATCH(I89,'Multicriteria Decision Analysis'!$H$118:$CN$118,0)),\"\"),\"\")","v":""},{"$f":"IF(AND(I88<>\"\",'Multicriteria Decision Analysis'!$H$121>3,'Multicriteria Decision Analysis'!$H$121>=3+COUNT($I$85:$I88)+1),3+COUNT($I$85:$I88)+1,\"\")","v":""},{"$f":"IFERROR(IF((COUNTA('A - Policy objectives'!$C$7:$C$35)+COUNTA('B - Technical objectives'!$C$7:$C$82)+COUNTA('C - Data availability'!$C$7:$C$21)-COUNTIF('A - Policy objectives'!$C$7:$C$35,\"Non-essential\")-COUNTIF('B - Technical objectives'!$C$7:$C$82,\"Non-essential\")-COUNTIF('C - Data availability'!$C$21,\"Non-essential\"))>3,HYPERLINK(INDEX('Multicriteria Decision Analysis'!$H$4:$CN$4,MATCH(I89,'Multicriteria Decision Analysis'!$H$118:$CN$118,0)),INDEX('Multicriteria Decision Analysis'!$H$2:$CN$2,MATCH(I89,'Multicriteria Decision Analysis'!$H$118:$CN$118,0))),\"\"),\"\")","v":""}]
[null,null,null,null,null,null,null,{"$f":"IFERROR(IF((COUNTA('A - Policy objectives'!$C$7:$C$35)+COUNTA('B - Technical objectives'!$C$7:$C$82)+COUNTA('C - Data availability'!$C$7:$C$21)-COUNTIF('A - Policy objectives'!$C$7:$C$35,\"Non-essential\")-COUNTIF('B - Technical objectives'!$C$7:$C$82,\"Non-essential\")-COUNTIF('C - Data availability'!$C$21,\"Non-essential\"))>3,INDEX('Multicriteria Decision Analysis'!$H$119:$CN$119,MATCH(I90,'Multicriteria Decision Analysis'!$H$118:$CN$118,0)),\"\"),\"\")","v":""},{"$f":"IF(AND(I89<>\"\",'Multicriteria Decision Analysis'!$H$121>3,'Multicriteria Decision Analysis'!$H$121>=3+COUNT($I$85:$I89)+1),3+COUNT($I$85:$I89)+1,\"\")","v":""},{"$f":"IFERROR(IF((COUNTA('A - Policy objectives'!$C$7:$C$35)+COUNTA('B - Technical objectives'!$C$7:$C$82)+COUNTA('C - Data availability'!$C$7:$C$21)-COUNTIF('A - Policy objectives'!$C$7:$C$35,\"Non-essential\")-COUNTIF('B - Technical objectives'!$C$7:$C$82,\"Non-essential\")-COUNTIF('C - Data availability'!$C$21,\"Non-essential\"))>3,HYPERLINK(INDEX('Multicriteria Decision Analysis'!$H$4:$CN$4,MATCH(I90,'Multicriteria Decision Analysis'!$H$118:$CN$118,0)),INDEX('Multicriteria Decision Analysis'!$H$2:$CN$2,MATCH(I90,'Multicriteria Decision Analysis'!$H$118:$CN$118,0))),\"\"),\"\")","v":""}]
[null,null,null,null,null,null,null,{"$f":"IFERROR(IF((COUNTA('A - Policy objectives'!$C$7:$C$35)+COUNTA('B - Technical objectives'!$C$7:$C$82)+COUNTA('C - Data availability'!$C$7:$C$21)-COUNTIF('A - Policy objectives'!$C$7:$C$35,\"Non-essential\")-COUNTIF('B - Technical objectives'!$C$7:$C$82,\"Non-essential\")-COUNTIF('C - Data availability'!$C$21,\"Non-essential\"))>3,INDEX('Multicriteria Decision Analysis'!$H$119:$CN$119,MATCH(I91,'Multicriteria Decision Analysis'!$H$118:$CN$118,0)),\"\"),\"\")","v":""},{"$f":"IF(AND(I90<>\"\",'Multicriteria Decision Analysis'!$H$121>3,'Multicriteria Decision Analysis'!$H$121>=3+COUNT($I$85:$I90)+1),3+COUNT($I$85:$I90)+1,\"\")","v":""},{"$f":"IFERROR(IF((COUNTA('A - Policy objectives'!$C$7:$C$35)+COUNTA('B - Technical objectives'!$C$7:$C$82)+COUNTA('C - Data availability'!$C$7:$C$21)-COUNTIF('A - Policy objectives'!$C$7:$C$35,\"Non-essential\")-COUNTIF('B - Technical objectives'!$C$7:$C$82,\"Non-essential\")-COUNTIF('C - Data availability'!$C$21,\"Non-essential\"))>3,HYPERLINK(INDEX('Multicriteria Decision Analysis'!$H$4:$CN$4,MATCH(I91,'Multicriteria Decision Analysis'!$H$118:$CN$118,0)),INDEX('Multicriteria Decision Analysis'!$H$2:$CN$2,MATCH(I91,'Multicriteria Decision Analysis'!$H$118:$CN$118,0))),\"\"),\"\")","v":""}]
[null,null,null,null,null,null,null,{"$f":"IFERROR(IF((COUNTA('A - Policy objectives'!$C$7:$C$35)+COUNTA('B - Technical objectives'!$C$7:$C$82)+COUNTA('C - Data availability'!$C$7:$C$21)-COUNTIF('A - Policy objectives'!$C$7:$C$35,\"Non-essential\")-COUNTIF('B - Technical objectives'!$C$7:$C$82,\"Non-essential\")-COUNTIF('C - Data availability'!$C$21,\"Non-essential\"))>3,INDEX('Multicriteria Decision Analysis'!$H$119:$CN$119,MATCH(I92,'Multicriteria Decision Analysis'!$H$118:$CN$118,0)),\"\"),\"\")","v":""},{"$f":"IF(AND(I91<>\"\",'Multicriteria Decision Analysis'!$H$121>3,'Multicriteria Decision Analysis'!$H$121>=3+COUNT($I$85:$I91)+1),3+COUNT($I$85:$I91)+1,\"\")","v":""},{"$f":"IFERROR(IF((COUNTA('A - Policy objectives'!$C$7:$C$35)+COUNTA('B - Technical objectives'!$C$7:$C$82)+COUNTA('C - Data availability'!$C$7:$C$21)-COUNTIF('A - Policy objectives'!$C$7:$C$35,\"Non-essential\")-COUNTIF('B - Technical objectives'!$C$7:$C$82,\"Non-essential\")-COUNTIF('C - Data availability'!$C$21,\"Non-essential\"))>3,HYPERLINK(INDEX('Multicriteria Decision Analysis'!$H$4:$CN$4,MATCH(I92,'Multicriteria Decision Analysis'!$H$118:$CN$118,0)),INDEX('Multicriteria Decision Analysis'!$H$2:$CN$2,MATCH(I92,'Multicriteria Decision Analysis'!$H$118:$CN$118,0))),\"\"),\"\")","v":""}]
[null,null,null,null,null,null,null,{"$f":"IFERROR(IF((COUNTA('A - Policy objectives'!$C$7:$C$35)+COUNTA('B - Technical objectives'!$C$7:$C$82)+COUNTA('C - Data availability'!$C$7:$C$21)-COUNTIF('A - Policy objectives'!$C$7:$C$35,\"Non-essential\")-COUNTIF('B - Technical objectives'!$C$7:$C$82,\"Non-essential\")-COUNTIF('C - Data availability'!$C$21,\"Non-essential\"))>3,INDEX('Multicriteria Decision Analysis'!$H$119:$CN$119,MATCH(I93,'Multicriteria Decision Analysis'!$H$118:$CN$118,0)),\"\"),\"\")","v":""},{"$f":"IF(AND(I92<>\"\",'Multicriteria Decision Analysis'!$H$121>3,'Multicriteria Decision Analysis'!$H$121>=3+COUNT($I$85:$I92)+1),3+COUNT($I$85:$I92)+1,\"\")","v":""},{"$f":"IFERROR(IF((COUNTA('A - Policy objectives'!$C$7:$C$35)+COUNTA('B - Technical objectives'!$C$7:$C$82)+COUNTA('C - Data availability'!$C$7:$C$21)-COUNTIF('A - Policy objectives'!$C$7:$C$35,\"Non-essential\")-COUNTIF('B - Technical objectives'!$C$7:$C$82,\"Non-essential\")-COUNTIF('C - Data availability'!$C$21,\"Non-essential\"))>3,HYPERLINK(INDEX('Multicriteria Decision Analysis'!$H$4:$CN$4,MATCH(I93,'Multicriteria Decision Analysis'!$H$118:$CN$118,0)),INDEX('Multicriteria Decision Analysis'!$H$2:$CN$2,MATCH(I93,'Multicriteria Decision Analysis'!$H$118:$CN$118,0))),\"\"),\"\")","v":""}]
[null,null,null,null,null,null,null,{"$f":"IFERROR(IF((COUNTA('A - Policy objectives'!$C$7:$C$35)+COUNTA('B - Technical objectives'!$C$7:$C$82)+COUNTA('C - Data availability'!$C$7:$C$21)-COUNTIF('A - Policy objectives'!$C$7:$C$35,\"Non-essential\")-COUNTIF('B - Technical objectives'!$C$7:$C$82,\"Non-essential\")-COUNTIF('C - Data availability'!$C$21,\"Non-essential\"))>3,INDEX('Multicriteria Decision Analysis'!$H$119:$CN$119,MATCH(I94,'Multicriteria Decision Analysis'!$H$118:$CN$118,0)),\"\"),\"\")","v":""},{"$f":"IF(AND(I93<>\"\",'Multicriteria Decision Analysis'!$H$121>3,'Multicriteria Decision Analysis'!$H$121>=3+COUNT($I$85:$I93)+1),3+COUNT($I$85:$I93)+1,\"\")","v":""},{"$f":"IFERROR(IF((COUNTA('A - Policy objectives'!$C$7:$C$35)+COUNTA('B - Technical objectives'!$C$7:$C$82)+COUNTA('C - Data availability'!$C$7:$C$21)-COUNTIF('A - Policy objectives'!$C$7:$C$35,\"Non-essential\")-COUNTIF('B - Technical objectives'!$C$7:$C$82,\"Non-essential\")-COUNTIF('C - Data availability'!$C$21,\"Non-essential\"))>3,HYPERLINK(INDEX('Multicriteria Decision Analysis'!$H$4:$CN$4,MATCH(I94,'Multicriteria Decision Analysis'!$H$118:$CN$118,0)),INDEX('Multicriteria Decision Analysis'!$H$2:$CN$2,MATCH(I94,'Multicriteria Decision Analysis'!$H$118:$CN$118,0))),\"\"),\"\")","v":""}]
[null,null,null,null,null,null,null,{"$f":"IFERROR(IF((COUNTA('A - Policy objectives'!$C$7:$C$35)+COUNTA('B - Technical objectives'!$C$7:$C$82)+COUNTA('C - Data availability'!$C$7:$C$21)-COUNTIF('A - Policy objectives'!$C$7:$C$35,\"Non-essential\")-COUNTIF('B - Technical objectives'!$C$7:$C$82,\"Non-essential\")-COUNTIF('C - Data availability'!$C$21,\"Non-essential\"))>3,INDEX('Multicriteria Decision Analysis'!$H$119:$CN$119,MATCH(I95,'Multicriteria Decision Analysis'!$H$118:$CN$118,0)),\"\"),\"\")","v":""},{"$f":"IF(AND(I94<>\"\",'Multicriteria Decision Analysis'!$H$121>3,'Multicriteria Decision Analysis'!$H$121>=3+COUNT($I$85:$I94)+1),3+COUNT($I$85:$I94)+1,\"\")","v":""},{"$f":"IFERROR(IF((COUNTA('A - Policy objectives'!$C$7:$C$35)+COUNTA('B - Technical objectives'!$C$7:$C$82)+COUNTA('C - Data availability'!$C$7:$C$21)-COUNTIF('A - Policy objectives'!$C$7:$C$35,\"Non-essential\")-COUNTIF('B - Technical objectives'!$C$7:$C$82,\"Non-essential\")-COUNTIF('C - Data availability'!$C$21,\"Non-essential\"))>3,HYPERLINK(INDEX('Multicriteria Decision Analysis'!$H$4:$CN$4,MATCH(I95,'Multicriteria Decision Analysis'!$H$118:$CN$118,0)),INDEX('Multicriteria Decision Analysis'!$H$2:$CN$2,MATCH(I95,'Multicriteria Decision Analysis'!$H$118:$CN$118,0))),\"\"),\"\")","v":""}]
[null,null,null,null,null,null,null,{"$f":"IFERROR(IF((COUNTA('A - Policy objectives'!$C$7:$C$35)+COUNTA('B - Technical objectives'!$C$7:$C$82)+COUNTA('C - Data availability'!$C$7:$C$21)-COUNTIF('A - Policy objectives'!$C$7:$C$35,\"Non-essential\")-COUNTIF('B - Technical objectives'!$C$7:$C$82,\"Non-essential\")-COUNTIF('C - Data availability'!$C$21,\"Non-essential\"))>3,INDEX('Multicriteria Decision Analysis'!$H$119:$CN$119,MATCH(I96,'Multicriteria Decision Analysis'!$H$118:$CN$118,0)),\"\"),\"\")","v":""},{"$f":"IF(AND(I95<>\"\",'Multicriteria Decision Analysis'!$H$121>3,'Multicriteria Decision Analysis'!$H$121>=3+COUNT($I$85:$I95)+1),3+COUNT($I$85:$I95)+1,\"\")","v":""},{"$f":"IFERROR(IF((COUNTA('A - Policy objectives'!$C$7:$C$35)+COUNTA('B - Technical objectives'!$C$7:$C$82)+COUNTA('C - Data availability'!$C$7:$C$21)-COUNTIF('A - Policy objectives'!$C$7:$C$35,\"Non-essential\")-COUNTIF('B - Technical objectives'!$C$7:$C$82,\"Non-essential\")-COUNTIF('C - Data availability'!$C$21,\"Non-essential\"))>3,HYPERLINK(INDEX('Multicriteria Decision Analysis'!$H$4:$CN$4,MATCH(I96,'Multicriteria Decision Analysis'!$H$118:$CN$118,0)),INDEX('Multicriteria Decision Analysis'!$H$2:$CN$2,MATCH(I96,'Multicriteria Decision Analysis'!$H$118:$CN$118,0))),\"\"),\"\")","v":""}]
[null,null,null,null,null,null,null,{"$f":"IFERROR(IF((COUNTA('A - Policy objectives'!$C$7:$C$35)+COUNTA('B - Technical objectives'!$C$7:$C$82)+COUNTA('C - Data availability'!$C$7:$C$21)-COUNTIF('A - Policy objectives'!$C$7:$C$35,\"Non-essential\")-COUNTIF('B - Technical objectives'!$C$7:$C$82,\"Non-essential\")-COUNTIF('C - Data availability'!$C$21,\"Non-essential\"))>3,INDEX('Multicriteria Decision Analysis'!$H$119:$CN$119,MATCH(I97,'Multicriteria Decision Analysis'!$H$118:$CN$118,0)),\"\"),\"\")","v":""},{"$f":"IF(AND(I96<>\"\",'Multicriteria Decision Analysis'!$H$121>3,'Multicriteria Decision Analysis'!$H$121>=3+COUNT($I$85:$I96)+1),3+COUNT($I$85:$I96)+1,\"\")","v":""},{"$f":"IFERROR(IF((COUNTA('A - Policy objectives'!$C$7:$C$35)+COUNTA('B - Technical objectives'!$C$7:$C$82)+COUNTA('C - Data availability'!$C$7:$C$21)-COUNTIF('A - Policy objectives'!$C$7:$C$35,\"Non-essential\")-COUNTIF('B - Technical objectives'!$C$7:$C$82,\"Non-essential\")-COUNTIF('C - Data availability'!$C$21,\"Non-essential\"))>3,HYPERLINK(INDEX('Multicriteria Decision Analysis'!$H$4:$CN$4,MATCH(I97,'Multicriteria Decision Analysis'!$H$118:$CN$118,0)),INDEX('Multicriteria Decision Analysis'!$H$2:$CN$2,MATCH(I97,'Multicriteria Decision Analysis'!$H$118:$CN$118,0))),\"\"),\"\")","v":""}]
[null,null,null,null,null,null,null,{"$f":"IFERROR(IF((COUNTA('A - Policy objectives'!$C$7:$C$35)+COUNTA('B - Technical objectives'!$C$7:$C$82)+COUNTA('C - Data availability'!$C$7:$C$21)-COUNTIF('A - Policy objectives'!$C$7:$C$35,\"Non-essential\")-COUNTIF('B - Technical objectives'!$C$7:$C$82,\"Non-essential\")-COUNTIF('C - Data availability'!$C$21,\"Non-essential\"))>3,INDEX('Multicriteria Decision Analysis'!$H$119:$CN$119,MATCH(I98,'Multicriteria Decision Analysis'!$H$118:$CN$118,0)),\"\"),\"\")","v":""},{"$f":"IF(AND(I97<>\"\",'Multicriteria Decision Analysis'!$H$121>3,'Multicriteria Decision Analysis'!$H$121>=3+COUNT($I$85:$I97)+1),3+COUNT($I$85:$I97)+1,\"\")","v":""},{"$f":"IFERROR(IF((COUNTA('A - Policy objectives'!$C$7:$C$35)+COUNTA('B - Technical objectives'!$C$7:$C$82)+COUNTA('C - Data availability'!$C$7:$C$21)-COUNTIF('A - Policy objectives'!$C$7:$C$35,\"Non-essential\")-COUNTIF('B - Technical objectives'!$C$7:$C$82,\"Non-essential\")-COUNTIF('C - Data availability'!$C$21,\"Non-essential\"))>3,HYPERLINK(INDEX('Multicriteria Decision Analysis'!$H$4:$CN$4,MATCH(I98,'Multicriteria Decision Analysis'!$H$118:$CN$118,0)),INDEX('Multicriteria Decision Analysis'!$H$2:$CN$2,MATCH(I98,'Multicriteria Decision Analysis'!$H$118:$CN$118,0))),\"\"),\"\")","v":""}]
[null,null,null,null,null,null,null,{"$f":"IFERROR(IF((COUNTA('A - Policy objectives'!$C$7:$C$35)+COUNTA('B - Technical objectives'!$C$7:$C$82)+COUNTA('C - Data availability'!$C$7:$C$21)-COUNTIF('A - Policy objectives'!$C$7:$C$35,\"Non-essential\")-COUNTIF('B - Technical objectives'!$C$7:$C$82,\"Non-essential\")-COUNTIF('C - Data availability'!$C$21,\"Non-essential\"))>3,INDEX('Multicriteria Decision Analysis'!$H$119:$CN$119,MATCH(I99,'Multicriteria Decision Analysis'!$H$118:$CN$118,0)),\"\"),\"\")","v":""},{"$f":"IF(AND(I98<>\"\",'Multicriteria Decision Analysis'!$H$121>3,'Multicriteria Decision Analysis'!$H$121>=3+COUNT($I$85:$I98)+1),3+COUNT($I$85:$I98)+1,\"\")","v":""},{"$f":"IFERROR(IF((COUNTA('A - Policy objectives'!$C$7:$C$35)+COUNTA('B - Technical objectives'!$C$7:$C$82)+COUNTA('C - Data availability'!$C$7:$C$21)-COUNTIF('A - Policy objectives'!$C$7:$C$35,\"Non-essential\")-COUNTIF('B - Technical objectives'!$C$7:$C$82,\"Non-essential\")-COUNTIF('C - Data availability'!$C$21,\"Non-essential\"))>3,HYPERLINK(INDEX('Multicriteria Decision Analysis'!$H$4:$CN$4,MATCH(I99,'Multicriteria Decision Analysis'!$H$118:$CN$118,0)),INDEX('Multicriteria Decision Analysis'!$H$2:$CN$2,MATCH(I99,'Multicriteria Decision Analysis'!$H$118:$CN$118,0))),\"\"),\"\")","v":""}]
[null,null,null,null,null,null,null,{"$f":"IFERROR(IF((COUNTA('A - Policy objectives'!$C$7:$C$35)+COUNTA('B - Technical objectives'!$C$7:$C$82)+COUNTA('C - Data availability'!$C$7:$C$21)-COUNTIF('A - Policy objectives'!$C$7:$C$35,\"Non-essential\")-COUNTIF('B - Technical objectives'!$C$7:$C$82,\"Non-essential\")-COUNTIF('C - Data availability'!$C$21,\"Non-essential\"))>3,INDEX('Multicriteria Decision Analysis'!$H$119:$CN$119,MATCH(I100,'Multicriteria Decision Analysis'!$H$118:$CN$118,0)),\"\"),\"\")","v":""},{"$f":"IF(AND(I99<>\"\",'Multicriteria Decision Analysis'!$H$121>3,'Multicriteria Decision Analysis'!$H$121>=3+COUNT($I$85:$I99)+1),3+COUNT($I$85:$I99)+1,\"\")","v":""},{"$f":"IFERROR(IF((COUNTA('A - Policy objectives'!$C$7:$C$35)+COUNTA('B - Technical objectives'!$C$7:$C$82)+COUNTA('C - Data availability'!$C$7:$C$21)-COUNTIF('A - Policy objectives'!$C$7:$C$35,\"Non-essential\")-COUNTIF('B - Technical objectives'!$C$7:$C$82,\"Non-essential\")-COUNTIF('C - Data availability'!$C$21,\"Non-essential\"))>3,HYPERLINK(INDEX('Multicriteria Decision Analysis'!$H$4:$CN$4,MATCH(I100,'Multicriteria Decision Analysis'!$H$118:$CN$118,0)),INDEX('Multicriteria Decision Analysis'!$H$2:$CN$2,MATCH(I100,'Multicriteria Decision Analysis'!$H$118:$CN$118,0))),\"\"),\"\")","v":""}]
[null,null,null,null,null,null,null,{"$f":"IFERROR(IF((COUNTA('A - Policy objectives'!$C$7:$C$35)+COUNTA('B - Technical objectives'!$C$7:$C$82)+COUNTA('C - Data availability'!$C$7:$C$21)-COUNTIF('A - Policy objectives'!$C$7:$C$35,\"Non-essential\")-COUNTIF('B - Technical objectives'!$C$7:$C$82,\"Non-essential\")-COUNTIF('C - Data availability'!$C$21,\"Non-essential\"))>3,INDEX('Multicriteria Decision Analysis'!$H$119:$CN$119,MATCH(I101,'Multicriteria Decision Analysis'!$H$118:$CN$118,0)),\"\"),\"\")","v":""},{"$f":"IF(AND(I100<>\"\",'Multicriteria Decision Analysis'!$H$121>3,'Multicriteria Decision Analysis'!$H$121>=3+COUNT($I$85:$I100)+1),3+COUNT($I$85:$I100)+1,\"\")","v":""},{"$f":"IFERROR(IF((COUNTA('A - Policy objectives'!$C$7:$C$35)+COUNTA('B - Technical objectives'!$C$7:$C$82)+COUNTA('C - Data availability'!$C$7:$C$21)-COUNTIF('A - Policy objectives'!$C$7:$C$35,\"Non-essential\")-COUNTIF('B - Technical objectives'!$C$7:$C$82,\"Non-essential\")-COUNTIF('C - Data availability'!$C$21,\"Non-essential\"))>3,HYPERLINK(INDEX('Multicriteria Decision Analysis'!$H$4:$CN$4,MATCH(I101,'Multicriteria Decision Analysis'!$H$118:$CN$118,0)),INDEX('Multicriteria Decision Analysis'!$H$2:$CN$2,MATCH(I101,'Multicriteria Decision Analysis'!$H$118:$CN$118,0))),\"\"),\"\")","v":""}]
[null,null,null,null,null,null,null,{"$f":"IFERROR(IF((COUNTA('A - Policy objectives'!$C$7:$C$35)+COUNTA('B - Technical objectives'!$C$7:$C$82)+COUNTA('C - Data availability'!$C$7:$C$21)-COUNTIF('A - Policy objectives'!$C$7:$C$35,\"Non-essential\")-COUNTIF('B - Technical objectives'!$C$7:$C$82,\"Non-essential\")-COUNTIF('C - Data availability'!$C$21,\"Non-essential\"))>3,INDEX('Multicriteria Decision Analysis'!$H$119:$CN$119,MATCH(I102,'Multicriteria Decision Analysis'!$H$118:$CN$118,0)),\"\"),\"\")","v":""},{"$f":"IF(AND(I101<>\"\",'Multicriteria Decision Analysis'!$H$121>3,'Multicriteria Decision Analysis'!$H$121>=3+COUNT($I$85:$I101)+1),3+COUNT($I$85:$I101)+1,\"\")","v":""},{"$f":"IFERROR(IF((COUNTA('A - Policy objectives'!$C$7:$C$35)+COUNTA('B - Technical objectives'!$C$7:$C$82)+COUNTA('C - Data availability'!$C$7:$C$21)-COUNTIF('A - Policy objectives'!$C$7:$C$35,\"Non-essential\")-COUNTIF('B - Technical objectives'!$C$7:$C$82,\"Non-essential\")-COUNTIF('C - Data availability'!$C$21,\"Non-essential\"))>3,HYPERLINK(INDEX('Multicriteria Decision Analysis'!$H$4:$CN$4,MATCH(I102,'Multicriteria Decision Analysis'!$H$118:$CN$118,0)),INDEX('Multicriteria Decision Analysis'!$H$2:$CN$2,MATCH(I102,'Multicriteria Decision Analysis'!$H$118:$CN$118,0))),\"\"),\"\")","v":""}]
[null,null,null,null,null,null,null,{"$f":"IFERROR(IF((COUNTA('A - Policy objectives'!$C$7:$C$35)+COUNTA('B - Technical objectives'!$C$7:$C$82)+COUNTA('C - Data availability'!$C$7:$C$21)-COUNTIF('A - Policy objectives'!$C$7:$C$35,\"Non-essential\")-COUNTIF('B - Technical objectives'!$C$7:$C$82,\"Non-essential\")-COUNTIF('C - Data availability'!$C$21,\"Non-essential\"))>3,INDEX('Multicriteria Decision Analysis'!$H$119:$CN$119,MATCH(I103,'Multicriteria Decision Analysis'!$H$118:$CN$118,0)),\"\"),\"\")","v":""},{"$f":"IF(AND(I102<>\"\",'Multicriteria Decision Analysis'!$H$121>3,'Multicriteria Decision Analysis'!$H$121>=3+COUNT($I$85:$I102)+1),3+COUNT($I$85:$I102)+1,\"\")","v":""},{"$f":"IFERROR(IF((COUNTA('A - Policy objectives'!$C$7:$C$35)+COUNTA('B - Technical objectives'!$C$7:$C$82)+COUNTA('C - Data availability'!$C$7:$C$21)-COUNTIF('A - Policy objectives'!$C$7:$C$35,\"Non-essential\")-COUNTIF('B - Technical objectives'!$C$7:$C$82,\"Non-essential\")-COUNTIF('C - Data availability'!$C$21,\"Non-essential\"))>3,HYPERLINK(INDEX('Multicriteria Decision Analysis'!$H$4:$CN$4,MATCH(I103,'Multicriteria Decision Analysis'!$H$118:$CN$118,0)),INDEX('Multicriteria Decision Analysis'!$H$2:$CN$2,MATCH(I103,'Multicriteria Decision Analysis'!$H$118:$CN$118,0))),\"\"),\"\")","v":""}]
[null,null,null,null,null,null,null,{"$f":"IFERROR(IF((COUNTA('A - Policy objectives'!$C$7:$C$35)+COUNTA('B - Technical objectives'!$C$7:$C$82)+COUNTA('C - Data availability'!$C$7:$C$21)-COUNTIF('A - Policy objectives'!$C$7:$C$35,\"Non-essential\")-COUNTIF('B - Technical objectives'!$C$7:$C$82,\"Non-essential\")-COUNTIF('C - Data availability'!$C$21,\"Non-essential\"))>3,INDEX('Multicriteria Decision Analysis'!$H$119:$CN$119,MATCH(I104,'Multicriteria Decision Analysis'!$H$118:$CN$118,0)),\"\"),\"\")","v":""},{"$f":"IF(AND(I103<>\"\",'Multicriteria Decision Analysis'!$H$121>3,'Multicriteria Decision Analysis'!$H$121>=3+COUNT($I$85:$I103)+1),3+COUNT($I$85:$I103)+1,\"\")","v":""},{"$f":"IFERROR(IF((COUNTA('A - Policy objectives'!$C$7:$C$35)+COUNTA('B - Technical objectives'!$C$7:$C$82)+COUNTA('C - Data availability'!$C$7:$C$21)-COUNTIF('A - Policy objectives'!$C$7:$C$35,\"Non-essential\")-COUNTIF('B - Technical objectives'!$C$7:$C$82,\"Non-essential\")-COUNTIF('C - Data availability'!$C$21,\"Non-essential\"))>3,HYPERLINK(INDEX('Multicriteria Decision Analysis'!$H$4:$CN$4,MATCH(I104,'Multicriteria Decision Analysis'!$H$118:$CN$118,0)),INDEX('Multicriteria Decision Analysis'!$H$2:$CN$2,MATCH(I104,'Multicriteria Decision Analysis'!$H$118:$CN$118,0))),\"\"),\"\")","v":""}]
[null,null,null,null,null,null,null,{"$f":"IFERROR(IF((COUNTA('A - Policy objectives'!$C$7:$C$35)+COUNTA('B - Technical objectives'!$C$7:$C$82)+COUNTA('C - Data availability'!$C$7:$C$21)-COUNTIF('A - Policy objectives'!$C$7:$C$35,\"Non-essential\")-COUNTIF('B - Technical objectives'!$C$7:$C$82,\"Non-essential\")-COUNTIF('C - Data availability'!$C$21,\"Non-essential\"))>3,INDEX('Multicriteria Decision Analysis'!$H$119:$CN$119,MATCH(I105,'Multicriteria Decision Analysis'!$H$118:$CN$118,0)),\"\"),\"\")","v":""},{"$f":"IF(AND(I104<>\"\",'Multicriteria Decision Analysis'!$H$121>3,'Multicriteria Decision Analysis'!$H$121>=3+COUNT($I$85:$I104)+1),3+COUNT($I$85:$I104)+1,\"\")","v":""},{"$f":"IFERROR(IF((COUNTA('A - Policy objectives'!$C$7:$C$35)+COUNTA('B - Technical objectives'!$C$7:$C$82)+COUNTA('C - Data availability'!$C$7:$C$21)-COUNTIF('A - Policy objectives'!$C$7:$C$35,\"Non-essential\")-COUNTIF('B - Technical objectives'!$C$7:$C$82,\"Non-essential\")-COUNTIF('C - Data availability'!$C$21,\"Non-essential\"))>3,HYPERLINK(INDEX('Multicriteria Decision Analysis'!$H$4:$CN$4,MATCH(I105,'Multicriteria Decision Analysis'!$H$118:$CN$118,0)),INDEX('Multicriteria Decision Analysis'!$H$2:$CN$2,MATCH(I105,'Multicriteria Decision Analysis'!$H$118:$CN$118,0))),\"\"),\"\")","v":""}]
[null,null,null,null,null,null,null,{"$f":"IFERROR(IF((COUNTA('A - Policy objectives'!$C$7:$C$35)+COUNTA('B - Technical objectives'!$C$7:$C$82)+COUNTA('C - Data availability'!$C$7:$C$21)-COUNTIF('A - Policy objectives'!$C$7:$C$35,\"Non-essential\")-COUNTIF('B - Technical objectives'!$C$7:$C$82,\"Non-essential\")-COUNTIF('C - Data availability'!$C$21,\"Non-essential\"))>3,INDEX('Multicriteria Decision Analysis'!$H$119:$CN$119,MATCH(I106,'Multicriteria Decision Analysis'!$H$118:$CN$118,0)),\"\"),\"\")","v":""},{"$f":"IF(AND(I105<>\"\",'Multicriteria Decision Analysis'!$H$121>3,'Multicriteria Decision Analysis'!$H$121>=3+COUNT($I$85:$I105)+1),3+COUNT($I$85:$I105)+1,\"\")","v":""},{"$f":"IFERROR(IF((COUNTA('A - Policy objectives'!$C$7:$C$35)+COUNTA('B - Technical objectives'!$C$7:$C$82)+COUNTA('C - Data availability'!$C$7:$C$21)-COUNTIF('A - Policy objectives'!$C$7:$C$35,\"Non-essential\")-COUNTIF('B - Technical objectives'!$C$7:$C$82,\"Non-essential\")-COUNTIF('C - Data availability'!$C$21,\"Non-essential\"))>3,HYPERLINK(INDEX('Multicriteria Decision Analysis'!$H$4:$CN$4,MATCH(I106,'Multicriteria Decision Analysis'!$H$118:$CN$118,0)),INDEX('Multicriteria Decision Analysis'!$H$2:$CN$2,MATCH(I106,'Multicriteria Decision Analysis'!$H$118:$CN$118,0))),\"\"),\"\")","v":""}]
[null,null,null,null,null,null,null,{"$f":"IFERROR(IF((COUNTA('A - Policy objectives'!$C$7:$C$35)+COUNTA('B - Technical objectives'!$C$7:$C$82)+COUNTA('C - Data availability'!$C$7:$C$21)-COUNTIF('A - Policy objectives'!$C$7:$C$35,\"Non-essential\")-COUNTIF('B - Technical objectives'!$C$7:$C$82,\"Non-essential\")-COUNTIF('C - Data availability'!$C$21,\"Non-essential\"))>3,INDEX('Multicriteria Decision Analysis'!$H$119:$CN$119,MATCH(I107,'Multicriteria Decision Analysis'!$H$118:$CN$118,0)),\"\"),\"\")","v":""},{"$f":"IF(AND(I106<>\"\",'Multicriteria Decision Analysis'!$H$121>3,'Multicriteria Decision Analysis'!$H$121>=3+COUNT($I$85:$I106)+1),3+COUNT($I$85:$I106)+1,\"\")","v":""},{"$f":"IFERROR(IF((COUNTA('A - Policy objectives'!$C$7:$C$35)+COUNTA('B - Technical objectives'!$C$7:$C$82)+COUNTA('C - Data availability'!$C$7:$C$21)-COUNTIF('A - Policy objectives'!$C$7:$C$35,\"Non-essential\")-COUNTIF('B - Technical objectives'!$C$7:$C$82,\"Non-essential\")-COUNTIF('C - Data availability'!$C$21,\"Non-essential\"))>3,HYPERLINK(INDEX('Multicriteria Decision Analysis'!$H$4:$CN$4,MATCH(I107,'Multicriteria Decision Analysis'!$H$118:$CN$118,0)),INDEX('Multicriteria Decision Analysis'!$H$2:$CN$2,MATCH(I107,'Multicriteria Decision Analysis'!$H$118:$CN$118,0))),\"\"),\"\")","v":""}]
[null,null,null,null,null,null,null,{"$f":"IFERROR(IF((COUNTA('A - Policy objectives'!$C$7:$C$35)+COUNTA('B - Technical objectives'!$C$7:$C$82)+COUNTA('C - Data availability'!$C$7:$C$21)-COUNTIF('A - Policy objectives'!$C$7:$C$35,\"Non-essential\")-COUNTIF('B - Technical objectives'!$C$7:$C$82,\"Non-essential\")-COUNTIF('C - Data availability'!$C$21,\"Non-essential\"))>3,INDEX('Multicriteria Decision Analysis'!$H$119:$CN$119,MATCH(I108,'Multicriteria Decision Analysis'!$H$118:$CN$118,0)),\"\"),\"\")","v":""},{"$f":"IF(AND(I107<>\"\",'Multicriteria Decision Analysis'!$H$121>3,'Multicriteria Decision Analysis'!$H$121>=3+COUNT($I$85:$I107)+1),3+COUNT($I$85:$I107)+1,\"\")","v":""},{"$f":"IFERROR(IF((COUNTA('A - Policy objectives'!$C$7:$C$35)+COUNTA('B - Technical objectives'!$C$7:$C$82)+COUNTA('C - Data availability'!$C$7:$C$21)-COUNTIF('A - Policy objectives'!$C$7:$C$35,\"Non-essential\")-COUNTIF('B - Technical objectives'!$C$7:$C$82,\"Non-essential\")-COUNTIF('C - Data availability'!$C$21,\"Non-essential\"))>3,HYPERLINK(INDEX('Multicriteria Decision Analysis'!$H$4:$CN$4,MATCH(I108,'Multicriteria Decision Analysis'!$H$118:$CN$118,0)),INDEX('Multicriteria Decision Analysis'!$H$2:$CN$2,MATCH(I108,'Multicriteria Decision Analysis'!$H$118:$CN$118,0))),\"\"),\"\")","v":""}]
[null,null,null,null,null,null,null,{"$f":"IFERROR(IF((COUNTA('A - Policy objectives'!$C$7:$C$35)+COUNTA('B - Technical objectives'!$C$7:$C$82)+COUNTA('C - Data availability'!$C$7:$C$21)-COUNTIF('A - Policy objectives'!$C$7:$C$35,\"Non-essential\")-COUNTIF('B - Technical objectives'!$C$7:$C$82,\"Non-essential\")-COUNTIF('C - Data availability'!$C$21,\"Non-essential\"))>3,INDEX('Multicriteria Decision Analysis'!$H$119:$CN$119,MATCH(I109,'Multicriteria Decision Analysis'!$H$118:$CN$118,0)),\"\"),\"\")","v":""},{"$f":"IF(AND(I108<>\"\",'Multicriteria Decision Analysis'!$H$121>3,'Multicriteria Decision Analysis'!$H$121>=3+COUNT($I$85:$I108)+1),3+COUNT($I$85:$I108)+1,\"\")","v":""},{"$f":"IFERROR(IF((COUNTA('A - Policy objectives'!$C$7:$C$35)+COUNTA('B - Technical objectives'!$C$7:$C$82)+COUNTA('C - Data availability'!$C$7:$C$21)-COUNTIF('A - Policy objectives'!$C$7:$C$35,\"Non-essential\")-COUNTIF('B - Technical objectives'!$C$7:$C$82,\"Non-essential\")-COUNTIF('C - Data availability'!$C$21,\"Non-essential\"))>3,HYPERLINK(INDEX('Multicriteria Decision Analysis'!$H$4:$CN$4,MATCH(I109,'Multicriteria Decision Analysis'!$H$118:$CN$118,0)),INDEX('Multicriteria Decision Analysis'!$H$2:$CN$2,MATCH(I109,'Multicriteria Decision Analysis'!$H$118:$CN$118,0))),\"\"),\"\")","v":""}]
[null,null,null,null,null,null,null,{"$f":"IFERROR(IF((COUNTA('A - Policy objectives'!$C$7:$C$35)+COUNTA('B - Technical objectives'!$C$7:$C$82)+COUNTA('C - Data availability'!$C$7:$C$21)-COUNTIF('A - Policy objectives'!$C$7:$C$35,\"Non-essential\")-COUNTIF('B - Technical objectives'!$C$7:$C$82,\"Non-essential\")-COUNTIF('C - Data availability'!$C$21,\"Non-essential\"))>3,INDEX('Multicriteria Decision Analysis'!$H$119:$CN$119,MATCH(I110,'Multicriteria Decision Analysis'!$H$118:$CN$118,0)),\"\"),\"\")","v":""},{"$f":"IF(AND(I109<>\"\",'Multicriteria Decision Analysis'!$H$121>3,'Multicriteria Decision Analysis'!$H$121>=3+COUNT($I$85:$I109)+1),3+COUNT($I$85:$I109)+1,\"\")","v":""},{"$f":"IFERROR(IF((COUNTA('A - Policy objectives'!$C$7:$C$35)+COUNTA('B - Technical objectives'!$C$7:$C$82)+COUNTA('C - Data availability'!$C$7:$C$21)-COUNTIF('A - Policy objectives'!$C$7:$C$35,\"Non-essential\")-COUNTIF('B - Technical objectives'!$C$7:$C$82,\"Non-essential\")-COUNTIF('C - Data availability'!$C$21,\"Non-essential\"))>3,HYPERLINK(INDEX('Multicriteria Decision Analysis'!$H$4:$CN$4,MATCH(I110,'Multicriteria Decision Analysis'!$H$118:$CN$118,0)),INDEX('Multicriteria Decision Analysis'!$H$2:$CN$2,MATCH(I110,'Multicriteria Decision Analysis'!$H$118:$CN$118,0))),\"\"),\"\")","v":""}]
[null,null,null,null,null,null,null,{"$f":"IFERROR(IF((COUNTA('A - Policy objectives'!$C$7:$C$35)+COUNTA('B - Technical objectives'!$C$7:$C$82)+COUNTA('C - Data availability'!$C$7:$C$21)-COUNTIF('A - Policy objectives'!$C$7:$C$35,\"Non-essential\")-COUNTIF('B - Technical objectives'!$C$7:$C$82,\"Non-essential\")-COUNTIF('C - Data availability'!$C$21,\"Non-essential\"))>3,INDEX('Multicriteria Decision Analysis'!$H$119:$CN$119,MATCH(I111,'Multicriteria Decision Analysis'!$H$118:$CN$118,0)),\"\"),\"\")","v":""},{"$f":"IF(AND(I110<>\"\",'Multicriteria Decision Analysis'!$H$121>3,'Multicriteria Decision Analysis'!$H$121>=3+COUNT($I$85:$I110)+1),3+COUNT($I$85:$I110)+1,\"\")","v":""},{"$f":"IFERROR(IF((COUNTA('A - Policy objectives'!$C$7:$C$35)+COUNTA('B - Technical objectives'!$C$7:$C$82)+COUNTA('C - Data availability'!$C$7:$C$21)-COUNTIF('A - Policy objectives'!$C$7:$C$35,\"Non-essential\")-COUNTIF('B - Technical objectives'!$C$7:$C$82,\"Non-essential\")-COUNTIF('C - Data availability'!$C$21,\"Non-essential\"))>3,HYPERLINK(INDEX('Multicriteria Decision Analysis'!$H$4:$CN$4,MATCH(I111,'Multicriteria Decision Analysis'!$H$118:$CN$118,0)),INDEX('Multicriteria Decision Analysis'!$H$2:$CN$2,MATCH(I111,'Multicriteria Decision Analysis'!$H$118:$CN$118,0))),\"\"),\"\")","v":""}]
[null,null,null,null,null,null,null,{"$f":"IFERROR(IF((COUNTA('A - Policy objectives'!$C$7:$C$35)+COUNTA('B - Technical objectives'!$C$7:$C$82)+COUNTA('C - Data availability'!$C$7:$C$21)-COUNTIF('A - Policy objectives'!$C$7:$C$35,\"Non-essential\")-COUNTIF('B - Technical objectives'!$C$7:$C$82,\"Non-essential\")-COUNTIF('C - Data availability'!$C$21,\"Non-essential\"))>3,INDEX('Multicriteria Decision Analysis'!$H$119:$CN$119,MATCH(I112,'Multicriteria Decision Analysis'!$H$118:$CN$118,0)),\"\"),\"\")","v":""},{"$f":"IF(AND(I111<>\"\",'Multicriteria Decision Analysis'!$H$121>3,'Multicriteria Decision Analysis'!$H$121>=3+COUNT($I$85:$I111)+1),3+COUNT($I$85:$I111)+1,\"\")","v":""},{"$f":"IFERROR(IF((COUNTA('A - Policy objectives'!$C$7:$C$35)+COUNTA('B - Technical objectives'!$C$7:$C$82)+COUNTA('C - Data availability'!$C$7:$C$21)-COUNTIF('A - Policy objectives'!$C$7:$C$35,\"Non-essential\")-COUNTIF('B - Technical objectives'!$C$7:$C$82,\"Non-essential\")-COUNTIF('C - Data availability'!$C$21,\"Non-essential\"))>3,HYPERLINK(INDEX('Multicriteria Decision Analysis'!$H$4:$CN$4,MATCH(I112,'Multicriteria Decision Analysis'!$H$118:$CN$118,0)),INDEX('Multicriteria Decision Analysis'!$H$2:$CN$2,MATCH(I112,'Multicriteria Decision Analysis'!$H$118:$CN$118,0))),\"\"),\"\")","v":""}]
[null,null,null,null,null,null,null,{"$f":"IFERROR(IF((COUNTA('A - Policy objectives'!$C$7:$C$35)+COUNTA('B - Technical objectives'!$C$7:$C$82)+COUNTA('C - Data availability'!$C$7:$C$21)-COUNTIF('A - Policy objectives'!$C$7:$C$35,\"Non-essential\")-COUNTIF('B - Technical objectives'!$C$7:$C$82,\"Non-essential\")-COUNTIF('C - Data availability'!$C$21,\"Non-essential\"))>3,INDEX('Multicriteria Decision Analysis'!$H$119:$CN$119,MATCH(I113,'Multicriteria Decision Analysis'!$H$118:$CN$118,0)),\"\"),\"\")","v":""},{"$f":"IF(AND(I112<>\"\",'Multicriteria Decision Analysis'!$H$121>3,'Multicriteria Decision Analysis'!$H$121>=3+COUNT($I$85:$I112)+1),3+COUNT($I$85:$I112)+1,\"\")","v":""},{"$f":"IFERROR(IF((COUNTA('A - Policy objectives'!$C$7:$C$35)+COUNTA('B - Technical objectives'!$C$7:$C$82)+COUNTA('C - Data availability'!$C$7:$C$21)-COUNTIF('A - Policy objectives'!$C$7:$C$35,\"Non-essential\")-COUNTIF('B - Technical objectives'!$C$7:$C$82,\"Non-essential\")-COUNTIF('C - Data availability'!$C$21,\"Non-essential\"))>3,HYPERLINK(INDEX('Multicriteria Decision Analysis'!$H$4:$CN$4,MATCH(I113,'Multicriteria Decision Analysis'!$H$118:$CN$118,0)),INDEX('Multicriteria Decision Analysis'!$H$2:$CN$2,MATCH(I113,'Multicriteria Decision Analysis'!$H$118:$CN$118,0))),\"\"),\"\")","v":""}]
[null,null,null,null,null,null,null,{"$f":"IFERROR(IF((COUNTA('A - Policy objectives'!$C$7:$C$35)+COUNTA('B - Technical objectives'!$C$7:$C$82)+COUNTA('C - Data availability'!$C$7:$C$21)-COUNTIF('A - Policy objectives'!$C$7:$C$35,\"Non-essential\")-COUNTIF('B - Technical objectives'!$C$7:$C$82,\"Non-essential\")-COUNTIF('C - Data availability'!$C$21,\"Non-essential\"))>3,INDEX('Multicriteria Decision Analysis'!$H$119:$CN$119,MATCH(I114,'Multicriteria Decision Analysis'!$H$118:$CN$118,0)),\"\"),\"\")","v":""},{"$f":"IF(AND(I113<>\"\",'Multicriteria Decision Analysis'!$H$121>3,'Multicriteria Decision Analysis'!$H$121>=3+COUNT($I$85:$I113)+1),3+COUNT($I$85:$I113)+1,\"\")","v":""},{"$f":"IFERROR(IF((COUNTA('A - Policy objectives'!$C$7:$C$35)+COUNTA('B - Technical objectives'!$C$7:$C$82)+COUNTA('C - Data availability'!$C$7:$C$21)-COUNTIF('A - Policy objectives'!$C$7:$C$35,\"Non-essential\")-COUNTIF('B - Technical objectives'!$C$7:$C$82,\"Non-essential\")-COUNTIF('C - Data availability'!$C$21,\"Non-essential\"))>3,HYPERLINK(INDEX('Multicriteria Decision Analysis'!$H$4:$CN$4,MATCH(I114,'Multicriteria Decision Analysis'!$H$118:$CN$118,0)),INDEX('Multicriteria Decision Analysis'!$H$2:$CN$2,MATCH(I114,'Multicriteria Decision Analysis'!$H$118:$CN$118,0))),\"\"),\"\")","v":""}]
[null,null,null,null,null,null,null,{"$f":"IFERROR(IF((COUNTA('A - Policy objectives'!$C$7:$C$35)+COUNTA('B - Technical objectives'!$C$7:$C$82)+COUNTA('C - Data availability'!$C$7:$C$21)-COUNTIF('A - Policy objectives'!$C$7:$C$35,\"Non-essential\")-COUNTIF('B - Technical objectives'!$C$7:$C$82,\"Non-essential\")-COUNTIF('C - Data availability'!$C$21,\"Non-essential\"))>3,INDEX('Multicriteria Decision Analysis'!$H$119:$CN$119,MATCH(I115,'Multicriteria Decision Analysis'!$H$118:$CN$118,0)),\"\"),\"\")","v":""},{"$f":"IF(AND(I114<>\"\",'Multicriteria Decision Analysis'!$H$121>3,'Multicriteria Decision Analysis'!$H$121>=3+COUNT($I$85:$I114)+1),3+COUNT($I$85:$I114)+1,\"\")","v":""},{"$f":"IFERROR(IF((COUNTA('A - Policy objectives'!$C$7:$C$35)+COUNTA('B - Technical objectives'!$C$7:$C$82)+COUNTA('C - Data availability'!$C$7:$C$21)-COUNTIF('A - Policy objectives'!$C$7:$C$35,\"Non-essential\")-COUNTIF('B - Technical objectives'!$C$7:$C$82,\"Non-essential\")-COUNTIF('C - Data availability'!$C$21,\"Non-essential\"))>3,HYPERLINK(INDEX('Multicriteria Decision Analysis'!$H$4:$CN$4,MATCH(I115,'Multicriteria Decision Analysis'!$H$118:$CN$118,0)),INDEX('Multicriteria Decision Analysis'!$H$2:$CN$2,MATCH(I115,'Multicriteria Decision Analysis'!$H$118:$CN$118,0))),\"\"),\"\")","v":""}]
[null,null,null,null,null,null,null,{"$f":"IFERROR(IF((COUNTA('A - Policy objectives'!$C$7:$C$35)+COUNTA('B - Technical objectives'!$C$7:$C$82)+COUNTA('C - Data availability'!$C$7:$C$21)-COUNTIF('A - Policy objectives'!$C$7:$C$35,\"Non-essential\")-COUNTIF('B - Technical objectives'!$C$7:$C$82,\"Non-essential\")-COUNTIF('C - Data availability'!$C$21,\"Non-essential\"))>3,INDEX('Multicriteria Decision Analysis'!$H$119:$CN$119,MATCH(I116,'Multicriteria Decision Analysis'!$H$118:$CN$118,0)),\"\"),\"\")","v":""},{"$f":"IF(AND(I115<>\"\",'Multicriteria Decision Analysis'!$H$121>3,'Multicriteria Decision Analysis'!$H$121>=3+COUNT($I$85:$I115)+1),3+COUNT($I$85:$I115)+1,\"\")","v":""},{"$f":"IFERROR(IF((COUNTA('A - Policy objectives'!$C$7:$C$35)+COUNTA('B - Technical objectives'!$C$7:$C$82)+COUNTA('C - Data availability'!$C$7:$C$21)-COUNTIF('A - Policy objectives'!$C$7:$C$35,\"Non-essential\")-COUNTIF('B - Technical objectives'!$C$7:$C$82,\"Non-essential\")-COUNTIF('C - Data availability'!$C$21,\"Non-essential\"))>3,HYPERLINK(INDEX('Multicriteria Decision Analysis'!$H$4:$CN$4,MATCH(I116,'Multicriteria Decision Analysis'!$H$118:$CN$118,0)),INDEX('Multicriteria Decision Analysis'!$H$2:$CN$2,MATCH(I116,'Multicriteria Decision Analysis'!$H$118:$CN$118,0))),\"\"),\"\")","v":""}]
[null,null,null,null,null,null,null,{"$f":"IFERROR(IF((COUNTA('A - Policy objectives'!$C$7:$C$35)+COUNTA('B - Technical objectives'!$C$7:$C$82)+COUNTA('C - Data availability'!$C$7:$C$21)-COUNTIF('A - Policy objectives'!$C$7:$C$35,\"Non-essential\")-COUNTIF('B - Technical objectives'!$C$7:$C$82,\"Non-essential\")-COUNTIF('C - Data availability'!$C$21,\"Non-essential\"))>3,INDEX('Multicriteria Decision Analysis'!$H$119:$CN$119,MATCH(I117,'Multicriteria Decision Analysis'!$H$118:$CN$118,0)),\"\"),\"\")","v":""},{"$f":"IF(AND(I116<>\"\",'Multicriteria Decision Analysis'!$H$121>3,'Multicriteria Decision Analysis'!$H$121>=3+COUNT($I$85:$I116)+1),3+COUNT($I$85:$I116)+1,\"\")","v":""},{"$f":"IFERROR(IF((COUNTA('A - Policy objectives'!$C$7:$C$35)+COUNTA('B - Technical objectives'!$C$7:$C$82)+COUNTA('C - Data availability'!$C$7:$C$21)-COUNTIF('A - Policy objectives'!$C$7:$C$35,\"Non-essential\")-COUNTIF('B - Technical objectives'!$C$7:$C$82,\"Non-essential\")-COUNTIF('C - Data availability'!$C$21,\"Non-essential\"))>3,HYPERLINK(INDEX('Multicriteria Decision Analysis'!$H$4:$CN$4,MATCH(I117,'Multicriteria Decision Analysis'!$H$118:$CN$118,0)),INDEX('Multicriteria Decision Analysis'!$H$2:$CN$2,MATCH(I117,'Multicriteria Decision Analysis'!$H$118:$CN$118,0))),\"\"),\"\")","v":""}]
[null,null,null,null,null,null,null,{"$f":"IFERROR(IF((COUNTA('A - Policy objectives'!$C$7:$C$35)+COUNTA('B - Technical objectives'!$C$7:$C$82)+COUNTA('C - Data availability'!$C$7:$C$21)-COUNTIF('A - Policy objectives'!$C$7:$C$35,\"Non-essential\")-COUNTIF('B - Technical objectives'!$C$7:$C$82,\"Non-essential\")-COUNTIF('C - Data availability'!$C$21,\"Non-essential\"))>3,INDEX('Multicriteria Decision Analysis'!$H$119:$CN$119,MATCH(I118,'Multicriteria Decision Analysis'!$H$118:$CN$118,0)),\"\"),\"\")","v":""},{"$f":"IF(AND(I117<>\"\",'Multicriteria Decision Analysis'!$H$121>3,'Multicriteria Decision Analysis'!$H$121>=3+COUNT($I$85:$I117)+1),3+COUNT($I$85:$I117)+1,\"\")","v":""},{"$f":"IFERROR(IF((COUNTA('A - Policy objectives'!$C$7:$C$35)+COUNTA('B - Technical objectives'!$C$7:$C$82)+COUNTA('C - Data availability'!$C$7:$C$21)-COUNTIF('A - Policy objectives'!$C$7:$C$35,\"Non-essential\")-COUNTIF('B - Technical objectives'!$C$7:$C$82,\"Non-essential\")-COUNTIF('C - Data availability'!$C$21,\"Non-essential\"))>3,HYPERLINK(INDEX('Multicriteria Decision Analysis'!$H$4:$CN$4,MATCH(I118,'Multicriteria Decision Analysis'!$H$118:$CN$118,0)),INDEX('Multicriteria Decision Analysis'!$H$2:$CN$2,MATCH(I118,'Multicriteria Decision Analysis'!$H$118:$CN$118,0))),\"\"),\"\")","v":""}]
[null,null,null,null,null,null,null,{"$f":"IFERROR(IF((COUNTA('A - Policy objectives'!$C$7:$C$35)+COUNTA('B - Technical objectives'!$C$7:$C$82)+COUNTA('C - Data availability'!$C$7:$C$21)-COUNTIF('A - Policy objectives'!$C$7:$C$35,\"Non-essential\")-COUNTIF('B - Technical objectives'!$C$7:$C$82,\"Non-essential\")-COUNTIF('C - Data availability'!$C$21,\"Non-essential\"))>3,INDEX('Multicriteria Decision Analysis'!$H$119:$CN$119,MATCH(I119,'Multicriteria Decision Analysis'!$H$118:$CN$118,0)),\"\"),\"\")","v":""},{"$f":"IF(AND(I118<>\"\",'Multicriteria Decision Analysis'!$H$121>3,'Multicriteria Decision Analysis'!$H$121>=3+COUNT($I$85:$I118)+1),3+COUNT($I$85:$I118)+1,\"\")","v":""},{"$f":"IFERROR(IF((COUNTA('A - Policy objectives'!$C$7:$C$35)+COUNTA('B - Technical objectives'!$C$7:$C$82)+COUNTA('C - Data availability'!$C$7:$C$21)-COUNTIF('A - Policy objectives'!$C$7:$C$35,\"Non-essential\")-COUNTIF('B - Technical objectives'!$C$7:$C$82,\"Non-essential\")-COUNTIF('C - Data availability'!$C$21,\"Non-essential\"))>3,HYPERLINK(INDEX('Multicriteria Decision Analysis'!$H$4:$CN$4,MATCH(I119,'Multicriteria Decision Analysis'!$H$118:$CN$118,0)),INDEX('Multicriteria Decision Analysis'!$H$2:$CN$2,MATCH(I119,'Multicriteria Decision Analysis'!$H$118:$CN$118,0))),\"\"),\"\")","v":""}]
[null,null,null,null,null,null,null,{"$f":"IFERROR(IF((COUNTA('A - Policy objectives'!$C$7:$C$35)+COUNTA('B - Technical objectives'!$C$7:$C$82)+COUNTA('C - Data availability'!$C$7:$C$21)-COUNTIF('A - Policy objectives'!$C$7:$C$35,\"Non-essential\")-COUNTIF('B - Technical objectives'!$C$7:$C$82,\"Non-essential\")-COUNTIF('C - Data availability'!$C$21,\"Non-essential\"))>3,INDEX('Multicriteria Decision Analysis'!$H$119:$CN$119,MATCH(I120,'Multicriteria Decision Analysis'!$H$118:$CN$118,0)),\"\"),\"\")","v":""},{"$f":"IF(AND(I119<>\"\",'Multicriteria Decision Analysis'!$H$121>3,'Multicriteria Decision Analysis'!$H$121>=3+COUNT($I$85:$I119)+1),3+COUNT($I$85:$I119)+1,\"\")","v":""},{"$f":"IFERROR(IF((COUNTA('A - Policy objectives'!$C$7:$C$35)+COUNTA('B - Technical objectives'!$C$7:$C$82)+COUNTA('C - Data availability'!$C$7:$C$21)-COUNTIF('A - Policy objectives'!$C$7:$C$35,\"Non-essential\")-COUNTIF('B - Technical objectives'!$C$7:$C$82,\"Non-essential\")-COUNTIF('C - Data availability'!$C$21,\"Non-essential\"))>3,HYPERLINK(INDEX('Multicriteria Decision Analysis'!$H$4:$CN$4,MATCH(I120,'Multicriteria Decision Analysis'!$H$118:$CN$118,0)),INDEX('Multicriteria Decision Analysis'!$H$2:$CN$2,MATCH(I120,'Multicriteria Decision Analysis'!$H$118:$CN$118,0))),\"\"),\"\")","v":""}]
[null,null,null,null,null,null,null,{"$f":"IFERROR(IF((COUNTA('A - Policy objectives'!$C$7:$C$35)+COUNTA('B - Technical objectives'!$C$7:$C$82)+COUNTA('C - Data availability'!$C$7:$C$21)-COUNTIF('A - Policy objectives'!$C$7:$C$35,\"Non-essential\")-COUNTIF('B - Technical objectives'!$C$7:$C$82,\"Non-essential\")-COUNTIF('C - Data availability'!$C$21,\"Non-essential\"))>3,INDEX('Multicriteria Decision Analysis'!$H$119:$CN$119,MATCH(I121,'Multicriteria Decision Analysis'!$H$118:$CN$118,0)),\"\"),\"\")","v":""},{"$f":"IF(AND(I120<>\"\",'Multicriteria Decision Analysis'!$H$121>3,'Multicriteria Decision Analysis'!$H$121>=3+COUNT($I$85:$I120)+1),3+COUNT($I$85:$I120)+1,\"\")","v":""},{"$f":"IFERROR(IF((COUNTA('A - Policy objectives'!$C$7:$C$35)+COUNTA('B - Technical objectives'!$C$7:$C$82)+COUNTA('C - Data availability'!$C$7:$C$21)-COUNTIF('A - Policy objectives'!$C$7:$C$35,\"Non-essential\")-COUNTIF('B - Technical objectives'!$C$7:$C$82,\"Non-essential\")-COUNTIF('C - Data availability'!$C$21,\"Non-essential\"))>3,HYPERLINK(INDEX('Multicriteria Decision Analysis'!$H$4:$CN$4,MATCH(I121,'Multicriteria Decision Analysis'!$H$118:$CN$118,0)),INDEX('Multicriteria Decision Analysis'!$H$2:$CN$2,MATCH(I121,'Multicriteria Decision Analysis'!$H$118:$CN$118,0))),\"\"),\"\")","v":""}]
[null,null,null,null,null,null,null,{"$f":"IFERROR(IF((COUNTA('A - Policy objectives'!$C$7:$C$35)+COUNTA('B - Technical objectives'!$C$7:$C$82)+COUNTA('C - Data availability'!$C$7:$C$21)-COUNTIF('A - Policy objectives'!$C$7:$C$35,\"Non-essential\")-COUNTIF('B - Technical objectives'!$C$7:$C$82,\"Non-essential\")-COUNTIF('C - Data availability'!$C$21,\"Non-essential\"))>3,INDEX('Multicriteria Decision Analysis'!$H$119:$CN$119,MATCH(I122,'Multicriteria Decision Analysis'!$H$118:$CN$118,0)),\"\"),\"\")","v":""},{"$f":"IF(AND(I121<>\"\",'Multicriteria Decision Analysis'!$H$121>3,'Multicriteria Decision Analysis'!$H$121>=3+COUNT($I$85:$I121)+1),3+COUNT($I$85:$I121)+1,\"\")","v":""},{"$f":"IFERROR(IF((COUNTA('A - Policy objectives'!$C$7:$C$35)+COUNTA('B - Technical objectives'!$C$7:$C$82)+COUNTA('C - Data availability'!$C$7:$C$21)-COUNTIF('A - Policy objectives'!$C$7:$C$35,\"Non-essential\")-COUNTIF('B - Technical objectives'!$C$7:$C$82,\"Non-essential\")-COUNTIF('C - Data availability'!$C$21,\"Non-essential\"))>3,HYPERLINK(INDEX('Multicriteria Decision Analysis'!$H$4:$CN$4,MATCH(I122,'Multicriteria Decision Analysis'!$H$118:$CN$118,0)),INDEX('Multicriteria Decision Analysis'!$H$2:$CN$2,MATCH(I122,'Multicriteria Decision Analysis'!$H$118:$CN$118,0))),\"\"),\"\")","v":""}]
[null,null,null,null,null,null,null,{"$f":"IFERROR(IF((COUNTA('A - Policy objectives'!$C$7:$C$35)+COUNTA('B - Technical objectives'!$C$7:$C$82)+COUNTA('C - Data availability'!$C$7:$C$21)-COUNTIF('A - Policy objectives'!$C$7:$C$35,\"Non-essential\")-COUNTIF('B - Technical objectives'!$C$7:$C$82,\"Non-essential\")-COUNTIF('C - Data availability'!$C$21,\"Non-essential\"))>3,INDEX('Multicriteria Decision Analysis'!$H$119:$CN$119,MATCH(I123,'Multicriteria Decision Analysis'!$H$118:$CN$118,0)),\"\"),\"\")","v":""},{"$f":"IF(AND(I122<>\"\",'Multicriteria Decision Analysis'!$H$121>3,'Multicriteria Decision Analysis'!$H$121>=3+COUNT($I$85:$I122)+1),3+COUNT($I$85:$I122)+1,\"\")","v":""},{"$f":"IFERROR(IF((COUNTA('A - Policy objectives'!$C$7:$C$35)+COUNTA('B - Technical objectives'!$C$7:$C$82)+COUNTA('C - Data availability'!$C$7:$C$21)-COUNTIF('A - Policy objectives'!$C$7:$C$35,\"Non-essential\")-COUNTIF('B - Technical objectives'!$C$7:$C$82,\"Non-essential\")-COUNTIF('C - Data availability'!$C$21,\"Non-essential\"))>3,HYPERLINK(INDEX('Multicriteria Decision Analysis'!$H$4:$CN$4,MATCH(I123,'Multicriteria Decision Analysis'!$H$118:$CN$118,0)),INDEX('Multicriteria Decision Analysis'!$H$2:$CN$2,MATCH(I123,'Multicriteria Decision Analysis'!$H$118:$CN$118,0))),\"\"),\"\")","v":""}]
[null,null,null,null,null,null,null,{"$f":"IFERROR(IF((COUNTA('A - Policy objectives'!$C$7:$C$35)+COUNTA('B - Technical objectives'!$C$7:$C$82)+COUNTA('C - Data availability'!$C$7:$C$21)-COUNTIF('A - Policy objectives'!$C$7:$C$35,\"Non-essential\")-COUNTIF('B - Technical objectives'!$C$7:$C$82,\"Non-essential\")-COUNTIF('C - Data availability'!$C$21,\"Non-essential\"))>3,INDEX('Multicriteria Decision Analysis'!$H$119:$CN$119,MATCH(I124,'Multicriteria Decision Analysis'!$H$118:$CN$118,0)),\"\"),\"\")","v":""},{"$f":"IF(AND(I123<>\"\",'Multicriteria Decision Analysis'!$H$121>3,'Multicriteria Decision Analysis'!$H$121>=3+COUNT($I$85:$I123)+1),3+COUNT($I$85:$I123)+1,\"\")","v":""},{"$f":"IFERROR(IF((COUNTA('A - Policy objectives'!$C$7:$C$35)+COUNTA('B - Technical objectives'!$C$7:$C$82)+COUNTA('C - Data availability'!$C$7:$C$21)-COUNTIF('A - Policy objectives'!$C$7:$C$35,\"Non-essential\")-COUNTIF('B - Technical objectives'!$C$7:$C$82,\"Non-essential\")-COUNTIF('C - Data availability'!$C$21,\"Non-essential\"))>3,HYPERLINK(INDEX('Multicriteria Decision Analysis'!$H$4:$CN$4,MATCH(I124,'Multicriteria Decision Analysis'!$H$118:$CN$118,0)),INDEX('Multicriteria Decision Analysis'!$H$2:$CN$2,MATCH(I124,'Multicriteria Decision Analysis'!$H$118:$CN$118,0))),\"\"),\"\")","v":""}]
[null,null,null,null,null,null,null,{"$f":"IFERROR(IF((COUNTA('A - Policy objectives'!$C$7:$C$35)+COUNTA('B - Technical objectives'!$C$7:$C$82)+COUNTA('C - Data availability'!$C$7:$C$21)-COUNTIF('A - Policy objectives'!$C$7:$C$35,\"Non-essential\")-COUNTIF('B - Technical objectives'!$C$7:$C$82,\"Non-essential\")-COUNTIF('C - Data availability'!$C$21,\"Non-essential\"))>3,INDEX('Multicriteria Decision Analysis'!$H$119:$CN$119,MATCH(I125,'Multicriteria Decision Analysis'!$H$118:$CN$118,0)),\"\"),\"\")","v":""},{"$f":"IF(AND(I124<>\"\",'Multicriteria Decision Analysis'!$H$121>3,'Multicriteria Decision Analysis'!$H$121>=3+COUNT($I$85:$I124)+1),3+COUNT($I$85:$I124)+1,\"\")","v":""},{"$f":"IFERROR(IF((COUNTA('A - Policy objectives'!$C$7:$C$35)+COUNTA('B - Technical objectives'!$C$7:$C$82)+COUNTA('C - Data availability'!$C$7:$C$21)-COUNTIF('A - Policy objectives'!$C$7:$C$35,\"Non-essential\")-COUNTIF('B - Technical objectives'!$C$7:$C$82,\"Non-essential\")-COUNTIF('C - Data availability'!$C$21,\"Non-essential\"))>3,HYPERLINK(INDEX('Multicriteria Decision Analysis'!$H$4:$CN$4,MATCH(I125,'Multicriteria Decision Analysis'!$H$118:$CN$118,0)),INDEX('Multicriteria Decision Analysis'!$H$2:$CN$2,MATCH(I125,'Multicriteria Decision Analysis'!$H$118:$CN$118,0))),\"\"),\"\")","v":""}]
[null,null,null,null,null,null,null,{"$f":"IFERROR(IF((COUNTA('A - Policy objectives'!$C$7:$C$35)+COUNTA('B - Technical objectives'!$C$7:$C$82)+COUNTA('C - Data availability'!$C$7:$C$21)-COUNTIF('A - Policy objectives'!$C$7:$C$35,\"Non-essential\")-COUNTIF('B - Technical objectives'!$C$7:$C$82,\"Non-essential\")-COUNTIF('C - Data availability'!$C$21,\"Non-essential\"))>3,INDEX('Multicriteria Decision Analysis'!$H$119:$CN$119,MATCH(I126,'Multicriteria Decision Analysis'!$H$118:$CN$118,0)),\"\"),\"\")","v":""},{"$f":"IF(AND(I125<>\"\",'Multicriteria Decision Analysis'!$H$121>3,'Multicriteria Decision Analysis'!$H$121>=3+COUNT($I$85:$I125)+1),3+COUNT($I$85:$I125)+1,\"\")","v":""},{"$f":"IFERROR(IF((COUNTA('A - Policy objectives'!$C$7:$C$35)+COUNTA('B - Technical objectives'!$C$7:$C$82)+COUNTA('C - Data availability'!$C$7:$C$21)-COUNTIF('A - Policy objectives'!$C$7:$C$35,\"Non-essential\")-COUNTIF('B - Technical objectives'!$C$7:$C$82,\"Non-essential\")-COUNTIF('C - Data availability'!$C$21,\"Non-essential\"))>3,HYPERLINK(INDEX('Multicriteria Decision Analysis'!$H$4:$CN$4,MATCH(I126,'Multicriteria Decision Analysis'!$H$118:$CN$118,0)),INDEX('Multicriteria Decision Analysis'!$H$2:$CN$2,MATCH(I126,'Multicriteria Decision Analysis'!$H$118:$CN$118,0))),\"\"),\"\")","v":""}]
[null,null,null,null,null,null,null,{"$f":"IFERROR(IF((COUNTA('A - Policy objectives'!$C$7:$C$35)+COUNTA('B - Technical objectives'!$C$7:$C$82)+COUNTA('C - Data availability'!$C$7:$C$21)-COUNTIF('A - Policy objectives'!$C$7:$C$35,\"Non-essential\")-COUNTIF('B - Technical objectives'!$C$7:$C$82,\"Non-essential\")-COUNTIF('C - Data availability'!$C$21,\"Non-essential\"))>3,INDEX('Multicriteria Decision Analysis'!$H$119:$CN$119,MATCH(I127,'Multicriteria Decision Analysis'!$H$118:$CN$118,0)),\"\"),\"\")","v":""},{"$f":"IF(AND(I126<>\"\",'Multicriteria Decision Analysis'!$H$121>3,'Multicriteria Decision Analysis'!$H$121>=3+COUNT($I$85:$I126)+1),3+COUNT($I$85:$I126)+1,\"\")","v":""},{"$f":"IFERROR(IF((COUNTA('A - Policy objectives'!$C$7:$C$35)+COUNTA('B - Technical objectives'!$C$7:$C$82)+COUNTA('C - Data availability'!$C$7:$C$21)-COUNTIF('A - Policy objectives'!$C$7:$C$35,\"Non-essential\")-COUNTIF('B - Technical objectives'!$C$7:$C$82,\"Non-essential\")-COUNTIF('C - Data availability'!$C$21,\"Non-essential\"))>3,HYPERLINK(INDEX('Multicriteria Decision Analysis'!$H$4:$CN$4,MATCH(I127,'Multicriteria Decision Analysis'!$H$118:$CN$118,0)),INDEX('Multicriteria Decision Analysis'!$H$2:$CN$2,MATCH(I127,'Multicriteria Decision Analysis'!$H$118:$CN$118,0))),\"\"),\"\")","v":""}]
[null,null,null,null,null,null,null,{"$f":"IFERROR(IF((COUNTA('A - Policy objectives'!$C$7:$C$35)+COUNTA('B - Technical objectives'!$C$7:$C$82)+COUNTA('C - Data availability'!$C$7:$C$21)-COUNTIF('A - Policy objectives'!$C$7:$C$35,\"Non-essential\")-COUNTIF('B - Technical objectives'!$C$7:$C$82,\"Non-essential\")-COUNTIF('C - Data availability'!$C$21,\"Non-essential\"))>3,INDEX('Multicriteria Decision Analysis'!$H$119:$CN$119,MATCH(I128,'Multicriteria Decision Analysis'!$H$118:$CN$118,0)),\"\"),\"\")","v":""},{"$f":"IF(AND(I127<>\"\",'Multicriteria Decision Analysis'!$H$121>3,'Multicriteria Decision Analysis'!$H$121>=3+COUNT($I$85:$I127)+1),3+COUNT($I$85:$I127)+1,\"\")","v":""},{"$f":"IFERROR(IF((COUNTA('A - Policy objectives'!$C$7:$C$35)+COUNTA('B - Technical objectives'!$C$7:$C$82)+COUNTA('C - Data availability'!$C$7:$C$21)-COUNTIF('A - Policy objectives'!$C$7:$C$35,\"Non-essential\")-COUNTIF('B - Technical objectives'!$C$7:$C$82,\"Non-essential\")-COUNTIF('C - Data availability'!$C$21,\"Non-essential\"))>3,HYPERLINK(INDEX('Multicriteria Decision Analysis'!$H$4:$CN$4,MATCH(I128,'Multicriteria Decision Analysis'!$H$118:$CN$118,0)),INDEX('Multicriteria Decision Analysis'!$H$2:$CN$2,MATCH(I128,'Multicriteria Decision Analysis'!$H$118:$CN$118,0))),\"\"),\"\")","v":""}]
[null,null,null,null,null,null,null,{"$f":"IFERROR(IF((COUNTA('A - Policy objectives'!$C$7:$C$35)+COUNTA('B - Technical objectives'!$C$7:$C$82)+COUNTA('C - Data availability'!$C$7:$C$21)-COUNTIF('A - Policy objectives'!$C$7:$C$35,\"Non-essential\")-COUNTIF('B - Technical objectives'!$C$7:$C$82,\"Non-essential\")-COUNTIF('C - Data availability'!$C$21,\"Non-essential\"))>3,INDEX('Multicriteria Decision Analysis'!$H$119:$CN$119,MATCH(I129,'Multicriteria Decision Analysis'!$H$118:$CN$118,0)),\"\"),\"\")","v":""},{"$f":"IF(AND(I128<>\"\",'Multicriteria Decision Analysis'!$H$121>3,'Multicriteria Decision Analysis'!$H$121>=3+COUNT($I$85:$I128)+1),3+COUNT($I$85:$I128)+1,\"\")","v":""},{"$f":"IFERROR(IF((COUNTA('A - Policy objectives'!$C$7:$C$35)+COUNTA('B - Technical objectives'!$C$7:$C$82)+COUNTA('C - Data availability'!$C$7:$C$21)-COUNTIF('A - Policy objectives'!$C$7:$C$35,\"Non-essential\")-COUNTIF('B - Technical objectives'!$C$7:$C$82,\"Non-essential\")-COUNTIF('C - Data availability'!$C$21,\"Non-essential\"))>3,HYPERLINK(INDEX('Multicriteria Decision Analysis'!$H$4:$CN$4,MATCH(I129,'Multicriteria Decision Analysis'!$H$118:$CN$118,0)),INDEX('Multicriteria Decision Analysis'!$H$2:$CN$2,MATCH(I129,'Multicriteria Decision Analysis'!$H$118:$CN$118,0))),\"\"),\"\")","v":""}]
[null,null,null,null,null,null,null,{"$f":"IFERROR(IF((COUNTA('A - Policy objectives'!$C$7:$C$35)+COUNTA('B - Technical objectives'!$C$7:$C$82)+COUNTA('C - Data availability'!$C$7:$C$21)-COUNTIF('A - Policy objectives'!$C$7:$C$35,\"Non-essential\")-COUNTIF('B - Technical objectives'!$C$7:$C$82,\"Non-essential\")-COUNTIF('C - Data availability'!$C$21,\"Non-essential\"))>3,INDEX('Multicriteria Decision Analysis'!$H$119:$CN$119,MATCH(I130,'Multicriteria Decision Analysis'!$H$118:$CN$118,0)),\"\"),\"\")","v":""},{"$f":"IF(AND(I129<>\"\",'Multicriteria Decision Analysis'!$H$121>3,'Multicriteria Decision Analysis'!$H$121>=3+COUNT($I$85:$I129)+1),3+COUNT($I$85:$I129)+1,\"\")","v":""},{"$f":"IFERROR(IF((COUNTA('A - Policy objectives'!$C$7:$C$35)+COUNTA('B - Technical objectives'!$C$7:$C$82)+COUNTA('C - Data availability'!$C$7:$C$21)-COUNTIF('A - Policy objectives'!$C$7:$C$35,\"Non-essential\")-COUNTIF('B - Technical objectives'!$C$7:$C$82,\"Non-essential\")-COUNTIF('C - Data availability'!$C$21,\"Non-essential\"))>3,HYPERLINK(INDEX('Multicriteria Decision Analysis'!$H$4:$CN$4,MATCH(I130,'Multicriteria Decision Analysis'!$H$118:$CN$118,0)),INDEX('Multicriteria Decision Analysis'!$H$2:$CN$2,MATCH(I130,'Multicriteria Decision Analysis'!$H$118:$CN$118,0))),\"\"),\"\")","v":""}]
[null,null,null,null,null,null,null,{"$f":"IFERROR(IF((COUNTA('A - Policy objectives'!$C$7:$C$35)+COUNTA('B - Technical objectives'!$C$7:$C$82)+COUNTA('C - Data availability'!$C$7:$C$21)-COUNTIF('A - Policy objectives'!$C$7:$C$35,\"Non-essential\")-COUNTIF('B - Technical objectives'!$C$7:$C$82,\"Non-essential\")-COUNTIF('C - Data availability'!$C$21,\"Non-essential\"))>3,INDEX('Multicriteria Decision Analysis'!$H$119:$CN$119,MATCH(I131,'Multicriteria Decision Analysis'!$H$118:$CN$118,0)),\"\"),\"\")","v":""},{"$f":"IF(AND(I130<>\"\",'Multicriteria Decision Analysis'!$H$121>3,'Multicriteria Decision Analysis'!$H$121>=3+COUNT($I$85:$I130)+1),3+COUNT($I$85:$I130)+1,\"\")","v":""},{"$f":"IFERROR(IF((COUNTA('A - Policy objectives'!$C$7:$C$35)+COUNTA('B - Technical objectives'!$C$7:$C$82)+COUNTA('C - Data availability'!$C$7:$C$21)-COUNTIF('A - Policy objectives'!$C$7:$C$35,\"Non-essential\")-COUNTIF('B - Technical objectives'!$C$7:$C$82,\"Non-essential\")-COUNTIF('C - Data availability'!$C$21,\"Non-essential\"))>3,HYPERLINK(INDEX('Multicriteria Decision Analysis'!$H$4:$CN$4,MATCH(I131,'Multicriteria Decision Analysis'!$H$118:$CN$118,0)),INDEX('Multicriteria Decision Analysis'!$H$2:$CN$2,MATCH(I131,'Multicriteria Decision Analysis'!$H$118:$CN$118,0))),\"\"),\"\")","v":""}]
[]
[]
[]
[]
[]
[]
[]
[]
[]
[]
[]
[]
[]
[]
[]
[]
[]
[]
[]
[]
[]
[]
[]
[]
[]
[]
[]
[null,null,null,null,null,null,null,null,1]

{"sheet":"C - Data availability","index":4,"n_rows":153,"n_cols":18,"rows_kept":153,"cut":false,"hidden":true,"merged":[[76,9,76,15],[77,9,77,15],[78,9,78,15],[13,7,15,15],[4,7,5,7],[6,7,7,7],[8,7,9,7],[4,9,5,14],[6,9,7,14],[8,9,9,14],[37,9,37,15],[52,9,52,15],[67,9,67,15],[10,7,11,7],[16,7,30,15],[10,9,11,14],[43,9,43,13],[44,9,44,15],[45,9,45,15],[46,9,46,15],[47,9,47,15],[48,9,48,15],[49,9,49,15],[58,9,58,13],[59,9,59,15],[60,9,60,15],[84,9,84,15],[85,9,85,15],[86,9,86,15],[87,9,87,15],[38,9,38,15],[42,9,42,13],[57,9,57,13],[72,9,72,13],[61,9,61,15],[62,9,62,15],[63,9,63,15],[64,9,64,15],[73,9,73,13],[79,9,79,15],[74,9,74,15],[75,9,75,15],[88,9,88,15],[89,9,89,15],[90,9,90,15],[91,9,91,15],[92,9,92,15],[93,9,93,15],[94,9,94,15],[95,9,95,15],[96,9,96,15],[97,9,97,15],[98,9,98,15],[99,9,99,15],[100,9,100,15],[101,9,101,15],[102,9,102,15],[103,9,103,15],[104,9,104,15],[105,9,105,15],[106,9,106,15],[107,9,107,15],[108,9,108,15],[109,9,109,15],[110,9,110,15],[111,9,111,15],[112,9,112,15],[113,9,113,15],[114,9,114,15],[115,9,115,15],[116,9,116,15],[117,9,117,15],[118,9,118,15],[119,9,119,15],[120,9,120,15],[121,9,121,15],[122,9,122,15],[128,9,128,15],[129,9,129,15],[130,9,130,15],[123,9,123,15],[124,9,124,15],[125,9,125,15],[126,9,126,15],[127,9,127,15]]}
[null,"PART C: Data availability",null,null,null,null,null,"Suitability of methodological approaches"]
[null,"Click the questions or answers for definitions"]
[{"$f":"IF(COUNTIF(C:C,\"Essential\")>0,1,\"\")","v":""},{"$f":"IF(COUNTIF(C:C,\"Essential\")>0,\"Please note - selecting 'essential' acts as a hard filter and removes all methodologies that do not meet this criteria.\",\"\")","v":""}]
[null,null,null,null,null,null,null,null,null,"Relative suitability"]
[null,null,null,null,null,null,null,"Transfer coefficient ",null,{"$f":"'Methodological Approaches'!C50","v":0}]
["C1","1. What data do you have available or are able to collect?"]
[null,"Plastic production / consumption data",null,null,"Select from the dropdown box",null,null,"Material Flow Analysis",null,{"$f":"'Methodological Approaches'!D50","v":0}]
[null,"Waste generation data",null,null,"Select from the dropdown box"]
[null,"Waste composition",null,null,"Select from the dropdown box",null,null,"Statistical / trend analysis",null,{"$f":"'Methodological Approaches'!E50","v":0}]
[null,"Plastic composition (polymers)",null,null,"Select from the dropdown box"]
[null,"Plastic composition (items)",null,null,"Select from the dropdown box",null,null,"Hydrological / transport modelling",null,{"$f":"'Methodological Approaches'!F50","v":0}]
[null,"Plastic composition (products / brands)",null,null,"Select from the dropdown box"]
[null,"Solid waste management data (e.g. collection / disposal)",null,null,"Select from the dropdown box"]
[null,"Survey / clean up data",null,null,"Select from the dropdown box",null,null,"* The relative suitability of methodological approcahes is scored based on the overall scope, environmental compartment and general level of resources able to be commited (Part A - Q 3,4,5), as shown in the 'Methodological Approaches' sheet.. "]
[null,"Hydrological data",null,null,"Select from the dropdown box"]
[null,"Remote sensing data",null,null,"Select from the dropdown box"]
[null,"Socioeconomic data",null,null,"Select from the dropdown box",null,null,"Note: \nAssessment of a methodologies suitability is based on the scoring criteria only. No indication is given to the methodologies scientific rigour or accuracy of results. As such, the results presented here should be used as a guide only.\n\nFuthermore, whilst the level of resources and data requirements are included as scoring criteria, it should be acknowledged that primary data collection is always encouraged and that the quality of the results will likely reflect the resources allocated."]
[null,"GIS data",null,null,"Select from the dropdown box"]
[]
["C2","2. How important is the ability to use proxy / default data in the assessment methodology?"]
[null,"Ability to use proxy / default data","Non-essential",{"$f":"IF(C21=\"Essential\",1,\"\")","v":""},"Select from the dropdown box"]
[]
[]
["END"]
[]
[]
[]
[]
[]
[]
[]
[]
[]
[]
[null,null,null,null,null,null,null,"Suitability of Plastic Pollution Assessment Methodologies"]
[null,null,null,null,null,null,null,{"$f":"IFERROR(IF((COUNTA('A - Policy objectives'!$C$7:$C$35)+COUNTA('B - Technical objectives'!$C$7:$C$82)+COUNTA('C - Data availability'!$C$7:$C$21)-COUNTIF('A - Policy objectives'!$C$7:$C$35,\"Non-essential\")-COUNTIF('B - Technical objectives'!$C$7:$C$82,\"Non-essential\")-COUNTIF('C - Data availability'!$C$21,\"Non-essential\"))>3,IF(COUNTIF('Multicriteria Decision Analysis'!$H$95:$CN$95,\"Yes\")=0,\"No methodologies match criteria, try removing some 'essential' components\",IF(COUNTIF('Multicriteria Decision Analysis'!$H$95:$CN$95,\"Yes\")>3,COUNTIFS('Multicriteria Decision Analysis'!$H$95:$CN$95,\"Yes\",'Multicriteria Decision Analysis'!$H$1:$CN$1,\">0\")&\" methodologies match your essential criteria. The top 3 are below. Any equally ranked results can be seen by clicking 'Compare'.\",IF(AND(COUNTIF('Multicriteria Decision Analysis'!$H$95:$CN$95,\"Yes\")>0,COUNTIF('Multicriteria Decision Analysis'!$H$95:$CN$95,\"Yes\")<4),COUNTIF('Multicriteria Decision Analysis'!$H$95:$CN$95,\"Yes\")&\" methodologies match your criteria.\",\"\"))),\"\"),\"\")","v":""}]
[null,null,null,null,null,null,null,{"$f":"IFERROR(IF((COUNTA('A - Policy objectives'!$C$7:$C$35)+COUNTA('B - Technical objectives'!$C$7:$C$82)+COUNTA('C - Data availability'!$C$7:$C$21)-COUNTIF('A - Policy objectives'!$C$7:$C$35,\"Non-essential\")-COUNTIF('B - Technical objectives'!$C$7:$C$82,\"Non-essential\")-COUNTIF('C - Data availability'!$C$21,\"Non-essential\"))>3,INDEX('Multicriteria Decision Analysis'!$H$119:$CN$119,MATCH(1,'Multicriteria Decision Analysis'!$H$118:$CN$118,0)),\"\"),\"1\")","v":""}]
[null,null,null,null,null,null,null,"Assessment Name:",null,{"$f":"IFERROR(IF((COUNTA('A - Policy objectives'!$C$7:$C$35)+COUNTA('B - Technical objectives'!$C$7:$C$82)+COUNTA('C - Data availability'!$C$7:$C$21)-COUNTIF('A - Policy objectives'!$C$7:$C$35,\"Non-essential\")-COUNTIF('B - Technical objectives'!$C$7:$C$82,\"Non-essential\")-COUNTIF('C - Data availability'!$C$21,\"Non-essential\"))>3,HYPERLINK(INDEX('Multicriteria Decision Analysis'!$H$4:$CN$4,MATCH(1,'Multicriteria Decision Analysis'!$H$118:$CN$118,0)),INDEX('Multicriteria Decision Analysis'!$H$2:$CN$2,MATCH(1,'Multicriteria Decision Analysis'!$H$118:$CN$118,0))),\"\"),\"No methodologies match criteria\")","v":""}]
[null,null,null,null,null,null,null,"Organization(s) / Author(s): ",null,{"$f":"IFERROR(IF((COUNTA('A - Policy objectives'!$C$7:$C$35)+COUNTA('B - Technical objectives'!$C$7:$C$82)+COUNTA('C - Data availability'!$C$7:$C$21)-COUNTIF('A - Policy objectives'!$C$7:$C$35,\"Non-essential\")-COUNTIF('B - Technical objectives'!$C$7:$C$82,\"Non-essential\")-COUNTIF('C - Data availability'!$C$21,\"Non-essential\"))>3,INDEX('Multicriteria Decision Analysis'!$H$3:$CN$3,MATCH(1,'Multicriteria Decision Analysis'!$H$118:$CN$118,0)),\"\"),\"\")","v":""}]
[null,null,null,null,null,null,null,"Important components provided:",{"$f":"IFERROR(IF((COUNTA('A - Policy objectives'!$C$7:$C$35)+COUNTA('B - Technical objectives'!$C$7:$C$82)+COUNTA('C - Data availability'!$C$7:$C$21)-COUNTIF('A - Policy objectives'!$C$7:$C$35,\"Non-essential\")-COUNTIF('B - Technical objectives'!$C$7:$C$82,\"Non-essential\")-COUNTIF('C - Data availability'!$C$21,\"Non-essential\"))>3,INDEX('Multicriteria Decision Analysis'!$H$100:$CN$100,MATCH(1,'Multicriteria Decision Analysis'!$H$118:$CN$118,0)),0),0)","v":0},{"$f":"IF(I40>=0.2,1,IF(I40>=0.1,0.5,0))","v":0},{"$f":"IF(I40>=0.4,1,IF(I40>=0.3,0.5,0))","v":0},{"$f":"IF(I40>=0.6,1,IF(I40>=0.5,0.5,0))","v":0},{"$f":"IF(I40>=0.8,1,IF(I40>=0.7,0.5,0))","v":0},{"$f":"IF(I40>=1,1,IF(I40>=0.9,0.5,0))","v":0}]
[null,null,null,null,null,null,null,"Preferred components provided:",{"$f":"IFERROR(IF((COUNTA('A - Policy objectives'!$C$7:$C$35)+COUNTA('B - Technical objectives'!$C$7:$C$82)+COUNTA('C - Data availability'!$C$7:$C$21)-COUNTIF('A - Policy objectives'!$C$7:$C$35,\"Non-essential\")-COUNTIF('B - Technical objectives'!$C$7:$C$82,\"Non-essential\")-COUNTIF('C - Data availability'!$C$21,\"Non-essential\"))>3,INDEX('Multicriteria Decision Analysis'!$H$105:$CN$105,MATCH(1,'Multicriteria Decision Analysis'!$H$118:$CN$118,0)),0),0)","v":0},{"$f":"IF(I41>=0.2,1,IF(I41>=0.1,0.5,0))","v":0},{"$f":"IF(I41>=0.4,1,IF(I41>=0.3,0.5,0))","v":0},{"$f":"IF(I41>=0.6,1,IF(I41>=0.5,0.5,0))","v":0},{"$f":"IF(I41>=0.8,1,IF(I41>=0.7,0.5,0))","v":0},{"$f":"IF(I41>=1,1,IF(I41>=0.9,0.5,0))","v":0}]
[null,null,null,null,null,null,null,"Matching data requirements",{"$f":"IFERROR(IF((COUNTA('A - Policy objectives'!$C$7:$C$35)+COUNTA('B - Technical objectives'!$C$7:$C$82)+COUNTA('C - Data availability'!$C$7:$C$21)-COUNTIF('A - Policy objectives'!$C$7:$C$35,\"Non-essential\")-COUNTIF('B - Technical objectives'!$C$7:$C$82,\"Non-essential\")-COUNTIF('C - Data availability'!$C$21,\"Non-essential\"))>3,INDEX('Multicriteria Decision Analysis'!$H$111:$CN$111,MATCH(1,'Multicriteria Decision Analysis'!$H$118:$CN$118,0)),0),0)","v":0},{"$f":"IF(I42>=0.2,1,IF(I42>=0.1,0.5,0))","v":0},{"$f":"IF(I42>=0.4,1,IF(I42>=0.3,0.5,0))","v":0},{"$f":"IF(I42>=0.6,1,IF(I42>=0.5,0.5,0))","v":0},{"$f":"IF(I42>=0.8,1,IF(I42>=0.7,0.5,0))","v":0},{"$f":"IF(I42>=1,1,IF(I42>=0.9,0.5,0))","v":0}]
[null,null,null,null,null,null,null,"Approximate level of resources required:",null,{"$f":"IFERROR(IF((COUNTA('A - Policy objectives'!$C$7:$C$35)+COUNTA('B - Technical objectives'!$C$7:$C$82)+COUNTA('C - Data availability'!$C$7:$C$21)-COUNTIF('A - Policy objectives'!$C$7:$C$35,\"Non-essential\")-COUNTIF('B - Technical objectives'!$C$7:$C$82,\"Non-essential\")-COUNTIF('C - Data availability'!$C$21,\"Non-essential\"))>3,INDEX('Assessment Framework'!$X$30:$AK$30,MATCH(J38,'Assessment Framework'!$G$2:$AF$2,0)),\"\"),\"\")","v":""},null,null,null,null,{"$f":"IF(J43<>\"\",1,\"\")","v":""}]
[null,null,null,null,null,null,null,"Short description:",null,"     Click to toggle"]
[null,null,null,null,null,null,null,null,null,"Objective:"]
[null,null,null,null,null,null,null,null,null,{"$f":"IFERROR(IF((COUNTA('A - Policy objectives'!$C$7:$C$35)+COUNTA('B - Technical objectives'!$C$7:$C$82)+COUNTA('C - Data availability'!$C$7:$C$21)-COUNTIF('A - Policy objectives'!$C$7:$C$35,\"Non-essential\")-COUNTIF('B - Technical objectives'!$C$7:$C$82,\"Non-essential\")-COUNTIF('C - Data availability'!$C$21,\"Non-essential\"))>3,INDEX('Multicriteria Decision Analysis'!$H$5:$CN$5,MATCH(1,'Multicriteria Decision Analysis'!$H$118:$CN$118,0)),\"\"),\"\")","v":""},null,null,null,null,null,null,null,{"$f":"J46","v":""}]
[null,null,null,null,null,null,null,null,null,"Methodology:"]
[null,null,null,null,null,null,null,null,null,{"$f":"IFERROR(IF((COUNTA('A - Policy objectives'!$C$7:$C$35)+COUNTA('B - Technical objectives'!$C$7:$C$82)+COUNTA('C - Data availability'!$C$7:$C$21)-COUNTIF('A - Policy objectives'!$C$7:$C$35,\"Non-essential\")-COUNTIF('B - Technical objectives'!$C$7:$C$82,\"Non-essential\")-COUNTIF('C - Data availability'!$C$21,\"Non-essential\"))>3,INDEX('Multicriteria Decision Analysis'!$H$6:$CN$6,MATCH(1,'Multicriteria Decision Analysis'!$H$118:$CN$118,0)),\"\"),\"\")","v":""},null,null,null,null,null,null,null,{"$f":"J48","v":""}]
[null,null,null,null,null,null,null,null,null,"Key outputs:"]
[null,null,null,null,null,null,null,null,null,{"$f":"IFERROR(IF((COUNTA('A - Policy objectives'!$C$7:$C$35)+COUNTA('B - Technical objectives'!$C$7:$C$82)+COUNTA('C - Data availability'!$C$7:$C$21)-COUNTIF('A - Policy objectives'!$C$7:$C$35,\"Non-essential\")-COUNTIF('B - Technical objectives'!$C$7:$C$82,\"Non-essential\")-COUNTIF('C - Data availability'!$C$21,\"Non-essential\"))>3,INDEX('Multicriteria Decision Analysis'!$H$7:$CN$7,MATCH(1,'Multicriteria Decision Analysis'!$H$118:$CN$118,0)),\"\"),\"\")","v":""},null,null,null,null,null,null,null,{"$f":"J50","v":""}]
[]
[null,null,null,null,null,null,null,{"$f":"IFERROR(IF((COUNTA('A - Policy objectives'!$C$7:$C$35)+COUNTA('B - Technical objectives'!$C$7:$C$82)+COUNTA('C - Data availability'!$C$7:$C$21)-COUNTIF('A - Policy objectives'!$C$7:$C$35,\"Non-essential\")-COUNTIF('B - Technical objectives'!$C$7:$C$82,\"Non-essential\")-COUNTIF('C - Data availability'!$C$21,\"Non-essential\"))>3,INDEX('Multicriteria Decision Analysis'!$H$119:$CN$119,MATCH(2,'Multicriteria Decision Analysis'!$H$118:$CN$118,0)),\"\"),\"2\")","v":""}]
[null,null,null,null,null,null,null,"Assessment Name:",null,{"$f":"IFERROR(IF((COUNTA('A - Policy objectives'!$C$7:$C$35)+COUNTA('B - Technical objectives'!$C$7:$C$82)+COUNTA('C - Data availability'!$C$7:$C$21)-COUNTIF('A - Policy objectives'!$C$7:$C$35,\"Non-essential\")-COUNTIF('B - Technical objectives'!$C$7:$C$82,\"Non-essential\")-COUNTIF('C - Data availability'!$C$21,\"Non-essential\"))>3,HYPERLINK(INDEX('Multicriteria Decision Analysis'!$H$4:$CN$4,MATCH(2,'Multicriteria Decision Analysis'!$H$118:$CN$118,0)),INDEX('Multicriteria Decision Analysis'!$H$2:$CN$2,MATCH(2,'Multicriteria Decision Analysis'!$H$118:$CN$118,0))),\"\"),\"No methodologies match criteria\")","v":""}]
[null,null,null,null,null,null,null,"Organization(s) / Author(s): ",null,{"$f":"IFERROR(IF((COUNTA('A - Policy objectives'!$C$7:$C$35)+COUNTA('B - Technical objectives'!$C$7:$C$82)+COUNTA('C - Data availability'!$C$7:$C$21)-COUNTIF('A - Policy objectives'!$C$7:$C$35,\"Non-essential\")-COUNTIF('B - Technical objectives'!$C$7:$C$82,\"Non-essential\")-COUNTIF('C - Data availability'!$C$21,\"Non-essential\"))>3,INDEX('Multicriteria Decision Analysis'!$H$3:$CN$3,MATCH(2,'Multicriteria Decision Analysis'!$H$118:$CN$118,0)),\"\"),\"\")","v":""}]
[null,null,null,null,null,null,null,"Important components provided:",{"$f":"IFERROR(IF((COUNTA('A - Policy objectives'!$C$7:$C$35)+COUNTA('B - Technical objectives'!$C$7:$C$82)+COUNTA('C - Data availability'!$C$7:$C$21)-COUNTIF('A - Policy objectives'!$C$7:$C$35,\"Non-essential\")-COUNTIF('B - Technical objectives'!$C$7:$C$82,\"Non-essential\")-COUNTIF('C - Data availability'!$C$21,\"Non-essential\"))>3,INDEX('Multicriteria Decision Analysis'!$H$100:$CN$100,MATCH(2,'Multicriteria Decision Analysis'!$H$118:$CN$118,0)),0),0)","v":0},{"$f":"IF(I55>=0.2,1,IF(I55>=0.1,0.5,0))","v":0},{"$f":"IF(I55>=0.4,1,IF(I55>=0.3,0.5,0))","v":0},{"$f":"IF(I55>=0.6,1,IF(I55>=0.5,0.5,0))","v":0},{"$f":"IF(I55>=0.8,1,IF(I55>=0.7,0.5,0))","v":0},{"$f":"IF(I55>=1,1,IF(I55>=0.9,0.5,0))","v":0}]
[null,null,null,null,null,null,null,"Preferred components provided:",{"$f":"IFERROR(IF((COUNTA('A - Policy objectives'!$C$7:$C$35)+COUNTA('B - Technical objectives'!$C$7:$C$82)+COUNTA('C - Data availability'!$C$7:$C$21)-COUNTIF('A - Policy objectives'!$C$7:$C$35,\"Non-essential\")-COUNTIF('B - Technical objectives'!$C$7:$C$82,\"Non-essential\")-COUNTIF('C - Data availability'!$C$21,\"Non-essential\"))>3,INDEX('Multicriteria Decision Analysis'!$H$105:$CN$105,MATCH(2,'Multicriteria Decision Analysis'!$H$118:$CN$118,0)),0),0)","v":0},{"$f":"IF(I56>=0.2,1,IF(I56>=0.1,0.5,0))","v":0},{"$f":"IF(I56>=0.4,1,IF(I56>=0.3,0.5,0))","v":0},{"$f":"IF(I56>=0.6,1,IF(I56>=0.5,0.5,0))","v":0},{"$f":"IF(I56>=0.8,1,IF(I56>=0.7,0.5,0))","v":0},{"$f":"IF(I56>=1,1,IF(I56>=0.9,0.5,0))","v":0}]
[null,null,null,null,null,null,null,"Matching data requirements",{"$f":"IFERROR(IF((COUNTA('A - Policy objectives'!$C$7:$C$35)+COUNTA('B - Technical objectives'!$C$7:$C$82)+COUNTA('C - Data availability'!$C$7:$C$21)-COUNTIF('A - Policy objectives'!$C$7:$C$35,\"Non-essential\")-COUNTIF('B - Technical objectives'!$C$7:$C$82,\"Non-essential\")-COUNTIF('C - Data availability'!$C$21,\"Non-essential\"))>3,INDEX('Multicriteria Decision Analysis'!$H$111:$CN$111,MATCH(2,'Multicriteria Decision Analysis'!$H$118:$CN$118,0)),0),0)","v":0},{"$f":"IF(I57>=0.2,1,IF(I57>=0.1,0.5,0))","v":0},{"$f":"IF(I57>=0.4,1,IF(I57>=0.3,0.5,0))","v":0},{"$f":"IF(I57>=0.6,1,IF(I57>=0.5,0.5,0))","v":0},{"$f":"IF(I57>=0.8,1,IF(I57>=0.7,0.5,0))","v":0},{"$f":"IF(I57>=1,1,IF(I57>=0.9,0.5,0))","v":0}]
[null,null,null,null,null,null,null,"Approximate level of resources required:",null,{"$f":"IFERROR(IF((COUNTA('A - Policy objectives'!$C$7:$C$35)+COUNTA('B - Technical objectives'!$C$7:$C$82)+COUNTA('C - Data availability'!$C$7:$C$21)-COUNTIF('A - Policy objectives'!$C$7:$C$35,\"Non-essential\")-COUNTIF('B - Technical objectives'!$C$7:$C$82,\"Non-essential\")-COUNTIF('C - Data availability'!$C$21,\"Non-essential\"))>3,INDEX('Assessment Framework'!$X$30:$AK$30,MATCH(J53,'Assessment Framework'!$G$2:$AF$2,0)),\"\"),\"\")","v":""},null,null,null,null,{"$f":"IF(J58<>\"\",1,\"\")","v":""}]
[null,null,null,null,null,null,null,"Short description:",null,"     Click to toggle"]
[null,null,null,null,null,null,null,null,null,"Objective:"]
[null,null,null,null,null,null,null,null,null,{"$f":"IFERROR(IF((COUNTA('A - Policy objectives'!$C$7:$C$35)+COUNTA('B - Technical objectives'!$C$7:$C$82)+COUNTA('C - Data availability'!$C$7:$C$21)-COUNTIF('A - Policy objectives'!$C$7:$C$35,\"Non-essential\")-COUNTIF('B - Technical objectives'!$C$7:$C$82,\"Non-essential\")-COUNTIF('C - Data availability'!$C$21,\"Non-essential\"))>3,INDEX('Multicriteria Decision Analysis'!$H$5:$CN$5,MATCH(2,'Multicriteria Decision Analysis'!$H$118:$CN$118,0)),\"\"),\"\")","v":""},null,null,null,null,null,null,null,{"$f":"J61","v":""}]
[null,null,null,null,null,null,null,null,null,"Methodology:"]
[null,null,null,null,null,null,null,null,null,{"$f":"IFERROR(IF((COUNTA('A - Policy objectives'!$C$7:$C$35)+COUNTA('B - Technical objectives'!$C$7:$C$82)+COUNTA('C - Data availability'!$C$7:$C$21)-COUNTIF('A - Policy objectives'!$C$7:$C$35,\"Non-essential\")-COUNTIF('B - Technical objectives'!$C$7:$C$82,\"Non-essential\")-COUNTIF('C - Data availability'!$C$21,\"Non-essential\"))>3,INDEX('Multicriteria Decision Analysis'!$H$6:$CN$6,MATCH(2,'Multicriteria Decision Analysis'!$H$118:$CN$118,0)),\"\"),\"\")","v":""},null,null,null,null,null,null,null,{"$f":"J63","v":""}]
[null,null,null,null,null,null,null,null,null,"Key outputs:"]
[null,null,null,null,null,null,null,null,null,{"$f":"IFERROR(IF((COUNTA('A - Policy objectives'!$C$7:$C$35)+COUNTA('B - Technical objectives'!$C$7:$C$82)+COUNTA('C - Data availability'!$C$7:$C$21)-COUNTIF('A - Policy objectives'!$C$7:$C$35,\"Non-essential\")-COUNTIF('B - Technical objectives'!$C$7:$C$82,\"Non-essential\")-COUNTIF('C - Data availability'!$C$21,\"Non-essential\"))>3,INDEX('Multicriteria Decision Analysis'!$H$7:$CN$7,MATCH(2,'Multicriteria Decision Analysis'!$H$118:$CN$118,0)),\"\"),\"\")","v":""},null,null,null,null,null,null,null,{"$f":"J65","v":""}]
[]
[null,null,null,null,null,null,null,{"$f":"IFERROR(IF((COUNTA('A - Policy objectives'!$C$7:$C$35)+COUNTA('B - Technical objectives'!$C$7:$C$82)+COUNTA('C - Data availability'!$C$7:$C$21)-COUNTIF('A - Policy objectives'!$C$7:$C$35,\"Non-essential\")-COUNTIF('B - Technical objectives'!$C$7:$C$82,\"Non-essential\")-COUNTIF('C - Data availability'!$C$21,\"Non-essential\"))>3,INDEX('Multicriteria Decision Analysis'!$H$119:$CN$119,MATCH(3,'Multicriteria Decision Analysis'!$H$118:$CN$118,0)),\"\"),\"3\")","v":""}]
[null,null,null,null,null,null,null,"Assessment Name:",null,{"$f":"IFERROR(IF((COUNTA('A - Policy objectives'!$C$7:$C$35)+COUNTA('B - Technical objectives'!$C$7:$C$82)+COUNTA('C - Data availability'!$C$7:$C$21)-COUNTIF('A - Policy objectives'!$C$7:$C$35,\"Non-essential\")-COUNTIF('B - Technical objectives'!$C$7:$C$82,\"Non-essential\")-COUNTIF('C - Data availability'!$C$21,\"Non-essential\"))>3,HYPERLINK(INDEX('Multicriteria Decision Analysis'!$H$4:$CN$4,MATCH(3,'Multicriteria Decision Analysis'!$H$118:$CN$118,0)),INDEX('Multicriteria Decision Analysis'!$H$2:$CN$2,MATCH(3,'Multicriteria Decision Analysis'!$H$118:$CN$118,0))),\"\"),\"No methodologies match criteria\")","v":""}]
[null,null,null,null,null,null,null,"Organization(s) / Author(s): ",null,{"$f":"IFERROR(IF((COUNTA('A - Policy objectives'!$C$7:$C$35)+COUNTA('B - Technical objectives'!$C$7:$C$82)+COUNTA('C - Data availability'!$C$7:$C$21)-COUNTIF('A - Policy objectives'!$C$7:$C$35,\"Non-essential\")-COUNTIF('B - Technical objectives'!$C$7:$C$82,\"Non-essential\")-COUNTIF('C - Data availability'!$C$21,\"Non-essential\"))>3,INDEX('Multicriteria Decision Analysis'!$H$3:$CN$3,MATCH(3,'Multicriteria Decision Analysis'!$H$118:$CN$118,0)),\"\"),\"\")","v":""}]
[null,null,null,null,null,null,null,"Important components provided:",{"$f":"IFERROR(IF((COUNTA('A - Policy objectives'!$C$7:$C$35)+COUNTA('B - Technical objectives'!$C$7:$C$82)+COUNTA('C - Data availability'!$C$7:$C$21)-COUNTIF('A - Policy objectives'!$C$7:$C$35,\"Non-essential\")-COUNTIF('B - Technical objectives'!$C$7:$C$82,\"Non-essential\")-COUNTIF('C - Data availability'!$C$21,\"Non-essential\"))>3,INDEX('Multicriteria Decision Analysis'!$H$100:$CN$100,MATCH(3,'Multicriteria Decision Analysis'!$H$118:$CN$118,0)),0),0)","v":0},{"$f":"IF(I70>=0.2,1,IF(I70>=0.1,0.5,0))","v":0},{"$f":"IF(I70>=0.4,1,IF(I70>=0.3,0.5,0))","v":0},{"$f":"IF(I70>=0.6,1,IF(I70>=0.5,0.5,0))","v":0},{"$f":"IF(I70>=0.8,1,IF(I70>=0.7,0.5,0))","v":0},{"$f":"IF(I70>=1,1,IF(I70>=0.9,0.5,0))","v":0}]
[null,null,null,null,null,null,null,"Preferred components provided:",{"$f":"IFERROR(IF((COUNTA('A - Policy objectives'!$C$7:$C$35)+COUNTA('B - Technical objectives'!$C$7:$C$82)+COUNTA('C - Data availability'!$C$7:$C$21)-COUNTIF('A - Policy objectives'!$C$7:$C$35,\"Non-essential\")-COUNTIF('B - Technical objectives'!$C$7:$C$82,\"Non-essential\")-COUNTIF('C - Data availability'!$C$21,\"Non-essential\"))>3,INDEX('Multicriteria Decision Analysis'!$H$105:$CN$105,MATCH(3,'Multicriteria Decision Analysis'!$H$118:$CN$118,0)),0),0)","v":0},{"$f":"IF(I71>=0.2,1,IF(I71>=0.1,0.5,0))","v":0},{"$f":"IF(I71>=0.4,1,IF(I71>=0.3,0.5,0))","v":0},{"$f":"IF(I71>=0.6,1,IF(I71>=0.5,0.5,0))","v":0},{"$f":"IF(I71>=0.8,1,IF(I71>=0.7,0.5,0))","v":0},{"$f":"IF(I71>=1,1,IF(I71>=0.9,0.5,0))","v":0}]
[null,null,null,null,null,null,null,"Matching data requirements",{"$f":"IFERROR(IF((COUNTA('A - Policy objectives'!$C$7:$C$35)+COUNTA('B - Technical objectives'!$C$7:$C$82)+COUNTA('C - Data availability'!$C$7:$C$21)-COUNTIF('A - Policy objectives'!$C$7:$C$35,\"Non-essential\")-COUNTIF('B - Technical objectives'!$C$7:$C$82,\"Non-essential\")-COUNTIF('C - Data availability'!$C$21,\"Non-essential\"))>3,INDEX('Multicriteria Decision Analysis'!$H$111:$CN$111,MATCH(3,'Multicriteria Decision Analysis'!$H$118:$CN$118,0)),0),0)","v":0},{"$f":"IF(I72>=0.2,1,IF(I72>=0.1,0.5,0))","v":0},{"$f":"IF(I72>=0.4,1,IF(I72>=0.3,0.5,0))","v":0},{"$f":"IF(I72>=0.6,1,IF(I72>=0.5,0.5,0))","v":0},{"$f":"IF(I72>=0.8,1,IF(I72>=0.7,0.5,0))","v":0},{"$f":"IF(I72>=1,1,IF(I72>=0.9,0.5,0))","v":0}]
[null,null,null,null,null,null,null,"Approximate level of resources required:",null,{"$f":"IFERROR(IF((COUNTA('A - Policy objectives'!$C$7:$C$35)+COUNTA('B - Technical objectives'!$C$7:$C$82)+COUNTA('C - Data availability'!$C$7:$C$21)-COUNTIF('A - Policy objectives'!$C$7:$C$35,\"Non-essential\")-COUNTIF('B - Technical objectives'!$C$7:$C$82,\"Non-essential\")-COUNTIF('C - Data availability'!$C$21,\"Non-essential\"))>3,INDEX('Assessment Framework'!$X$30:$AK$30,MATCH(J68,'Assessment Framework'!$G$2:$AF$2,0)),\"\"),\"\")","v":""},null,null,null,null,{"$f":"IF(J73<>\"\",1,\"\")","v":""}]
[null,null,null,null,null,null,null,"Short description:",null,"     Click to toggle"]
[null,null,null,null,null,null,null,null,null,"Objective:"]
[null,null,null,null,null,null,null,null,null,{"$f":"IFERROR(IF((COUNTA('A - Policy objectives'!$C$7:$C$35)+COUNTA('B - Technical objectives'!$C$7:$C$82)+COUNTA('C - Data availability'!$C$7:$C$21)-COUNTIF('A - Policy objectives'!$C$7:$C$35,\"Non-essential\")-COUNTIF('B - Technical objectives'!$C$7:$C$82,\"Non-essential\")-COUNTIF('C - Data availability'!$C$21,\"Non-essential\"))>3,INDEX('Multicriteria Decision Analysis'!$H$5:$CN$5,MATCH(3,'Multicriteria Decision Analysis'!$H$118:$CN$118,0)),\"\"),\"\")","v":""},null,null,null,null,null,null,null,{"$f":"J76","v":""}]
[null,null,null,null,null,null,null,null,null,"Methodology:"]
[null,null,null,null,null,null,null,null,null,{"$f":"IFERROR(IF((COUNTA('A - Policy objectives'!$C$7:$C$35)+COUNTA('B - Technical objectives'!$C$7:$C$82)+COUNTA('C - Data availability'!$C$7:$C$21)-COUNTIF('A - Policy objectives'!$C$7:$C$35,\"Non-essential\")-COUNTIF('B - Technical objectives'!$C$7:$C$82,\"Non-essential\")-COUNTIF('C - Data availability'!$C$21,\"Non-essential\"))>3,INDEX('Multicriteria Decision Analysis'!$H$6:$CN$6,MATCH(3,'Multicriteria Decision Analysis'!$H$118:$CN$118,0)),\"\"),\"\")","v":""},null,null,null,null,null,null,null,{"$f":"J78","v":""}]
[null,null,null,null,null,null,null,null,null,"Key outputs:"]
[null,null,null,null,null,null,null,null,null,{"$f":"IFERROR(IF((COUNTA('A - Policy objectives'!$C$7:$C$35)+COUNTA('B - Technical objectives'!$C$7:$C$82)+COUNTA('C - Data availability'!$C$7:$C$21)-COUNTIF('A - Policy objectives'!$C$7:$C$35,\"Non-essential\")-COUNTIF('B - Technical objectives'!$C$7:$C$82,\"Non-essential\")-COUNTIF('C - Data availability'!$C$21,\"Non-essential\"))>3,INDEX('Multicriteria Decision Analysis'!$H$7:$CN$7,MATCH(3,'Multicriteria Decision Analysis'!$H$118:$CN$118,0)),\"\"),\"\")","v":""},null,null,null,null,null,null,null,{"$f":"J80","v":""}]
[]
[]
[]
[null,null,null,null,null,null,null,null,null,{"$f":"IF((COUNTA('A - Policy objectives'!$C$7:$C$35)+COUNTA('B - Technical objectives'!$C$7:$C$82)+COUNTA('C - Data availability'!$C$7:$C$21)-COUNTIF('A - Policy objectives'!$C$7:$C$35,\"Non-essential\")-COUNTIF('B - Technical objectives'!$C$7:$C$82,\"Non-essential\")-COUNTIF('C - Data availability'!$C$21,\"Non-essential\"))>3,IF('Multicriteria Decision Analysis'!H121>3,\"Equally ranked methodologies not shown above (in alphabetical order):\",\"\"),\"\")","v":""}]
[null,null,null,null,null,null,null,{"$f":"IFERROR(IF((COUNTA('A - Policy objectives'!$C$7:$C$35)+COUNTA('B - Technical objectives'!$C$7:$C$82)+COUNTA('C - Data availability'!$C$7:$C$21)-COUNTIF('A - Policy objectives'!$C$7:$C$35,\"Non-essential\")-COUNTIF('B - Technical objectives'!$C$7:$C$82,\"Non-essential\")-COUNTIF('C - Data availability'!$C$21,\"Non-essential\"))>3,INDEX('Multicriteria Decision Analysis'!$H$119:$CN$119,MATCH(I85,'Multicriteria Decision Analysis'!$H$118:$CN$118,0)),\"\"),\"\")","v":""},{"$f":"IF((COUNTA('A - Policy objectives'!$C$7:$C$35)+COUNTA('B - Technical objectives'!$C$7:$C$82)+COUNTA('C - Data availability'!$C$7:$C$21)-COUNTIF('A - Policy objectives'!$C$7:$C$35,\"Non-essential\")-COUNTIF('B - Technical objectives'!$C$7:$C$82,\"Non-essential\")-COUNTIF('C - Data availability'!$C$21,\"Non-essential\"))>3,IF('Multicriteria Decision Analysis'!$H$121>3,4,\"\"),\"\")","v":""},{"$f":"IFERROR(IF((COUNTA('A - Policy objectives'!$C$7:$C$35)+COUNTA('B - Technical objectives'!$C$7:$C$82)+COUNTA('C - Data availability'!$C$7:$C$21)-COUNTIF('A - Policy objectives'!$C$7:$C$35,\"Non-essential\")-COUNTIF('B - Technical objectives'!$C$7:$C$82,\"Non-essential\")-COUNTIF('C - Data availability'!$C$21,\"Non-essential\"))>3,HYPERLINK(INDEX('Multicriteria Decision Analysis'!$H$4:$CN$4,MATCH(I85,'Multicriteria Decision Analysis'!$H$118:$CN$118,0)),INDEX('Multicriteria Decision Analysis'!$H$2:$CN$2,MATCH(I85,'Multicriteria Decision Analysis'!$H$118:$CN$118,0))),\"\"),\"\")","v":""}]
[null,null,null,null,null,null,null,{"$f":"IFERROR(IF((COUNTA('A - Policy objectives'!$C$7:$C$35)+COUNTA('B - Technical objectives'!$C$7:$C$82)+COUNTA('C - Data availability'!$C$7:$C$21)-COUNTIF('A - Policy objectives'!$C$7:$C$35,\"Non-essential\")-COUNTIF('B - Technical objectives'!$C$7:$C$82,\"Non-essential\")-COUNTIF('C - Data availability'!$C$21,\"Non-essential\"))>3,INDEX('Multicriteria Decision Analysis'!$H$119:$CN$119,MATCH(I86,'Multicriteria Decision Analysis'!$H$118:$CN$118,0)),\"\"),\"\")","v":""},{"$f":"IF(AND(I85<>\"\",'Multicriteria Decision Analysis'!$H$121>3,'Multicriteria Decision Analysis'!$H$121>=3+COUNT($I$85)+1),3+COUNT($I$85)+1,\"\")","v":""},{"$f":"IFERROR(IF((COUNTA('A - Policy objectives'!$C$7:$C$35)+COUNTA('B - Technical objectives'!$C$7:$C$82)+COUNTA('C - Data availability'!$C$7:$C$21)-COUNTIF('A - Policy objectives'!$C$7:$C$35,\"Non-essential\")-COUNTIF('B - Technical objectives'!$C$7:$C$82,\"Non-essential\")-COUNTIF('C - Data availability'!$C$21,\"Non-essential\"))>3,HYPERLINK(INDEX('Multicriteria Decision Analysis'!$H$4:$CN$4,MATCH(I86,'Multicriteria Decision Analysis'!$H$118:$CN$118,0)),INDEX('Multicriteria Decision Analysis'!$H$2:$CN$2,MATCH(I86,'Multicriteria Decision Analysis'!$H$118:$CN$118,0))),\"\"),\"\")","v":""}]
[null,null,null,null,null,null,null,{"$f":"IFERROR(IF((COUNTA('A - Policy objectives'!$C$7:$C$35)+COUNTA('B - Technical objectives'!$C$7:$C$82)+COUNTA('C - Data availability'!$C$7:$C$21)-COUNTIF('A - Policy objectives'!$C$7:$C$35,\"Non-essential\")-COUNTIF('B - Technical objectives'!$C$7:$C$82,\"Non-essential\")-COUNTIF('C - Data availability'!$C$21,\"Non-essential\"))>3,INDEX('Multicriteria Decision Analysis'!$H$119:$CN$119,MATCH(I87,'Multicriteria Decision Analysis'!$H$118:$CN$118,0)),\"\"),\"\")","v":""},{"$f":"IF(AND(I86<>\"\",'Multicriteria Decision Analysis'!$H$121>3,'Multicriteria Decision Analysis'!$H$121>=3+COUNT($I$85:$I86)+1),3+COUNT($I$85:$I86)+1,\"\")","v":""},{"$f":"IFERROR(IF((COUNTA('A - Policy objectives'!$C$7:$C$35)+COUNTA('B - Technical objectives'!$C$7:$C$82)+COUNTA('C - Data availability'!$C$7:$C$21)-COUNTIF('A - Policy objectives'!$C$7:$C$35,\"Non-essential\")-COUNTIF('B - Technical objectives'!$C$7:$C$82,\"Non-essential\")-COUNTIF('C - Data availability'!$C$21,\"Non-essential\"))>3,HYPERLINK(INDEX('Multicriteria Decision Analysis'!$H$4:$CN$4,MATCH(I87,'Multicriteria Decision Analysis'!$H$118:$CN$118,0)),INDEX('Multicriteria Decision Analysis'!$H$2:$CN$2,MATCH(I87,'Multicriteria Decision Analysis'!$H$118:$CN$118,0))),\"\"),\"\")","v":""}]
[null,null,null,null,null,null,null,{"$f":"IFERROR(IF((COUNTA('A - Policy objectives'!$C$7:$C$35)+COUNTA('B - Technical objectives'!$C$7:$C$82)+COUNTA('C - Data availability'!$C$7:$C$21)-COUNTIF('A - Policy objectives'!$C$7:$C$35,\"Non-essential\")-COUNTIF('B - Technical objectives'!$C$7:$C$82,\"Non-essential\")-COUNTIF('C - Data availability'!$C$21,\"Non-essential\"))>3,INDEX('Multicriteria Decision Analysis'!$H$119:$CN$119,MATCH(I88,'Multicriteria Decision Analysis'!$H$118:$CN$118,0)),\"\"),\"\")","v":""},{"$f":"IF(AND(I87<>\"\",'Multicriteria Decision Analysis'!$H$121>3,'Multicriteria Decision Analysis'!$H$121>=3+COUNT($I$85:$I87)+1),3+COUNT($I$85:$I87)+1,\"\")","v":""},{"$f":"IFERROR(IF((COUNTA('A - Policy objectives'!$C$7:$C$35)+COUNTA('B - Technical objectives'!$C$7:$C$82)+COUNTA('C - Data availability'!$C$7:$C$21)-COUNTIF('A - Policy objectives'!$C$7:$C$35,\"Non-essential\")-COUNTIF('B - Technical objectives'!$C$7:$C$82,\"Non-essential\")-COUNTIF('C - Data availability'!$C$21,\"Non-essential\"))>3,HYPERLINK(INDEX('Multicriteria Decision Analysis'!$H$4:$CN$4,MATCH(I88,'Multicriteria Decision Analysis'!$H$118:$CN$118,0)),INDEX('Multicriteria Decision Analysis'!$H$2:$CN$2,MATCH(I88,'Multicriteria Decision Analysis'!$H$118:$CN$118,0))),\"\"),\"\")","v":""}]
[null,null,null,null,null,null,null,{"$f":"IFERROR(IF((COUNTA('A - Policy objectives'!$C$7:$C$35)+COUNTA('B - Technical objectives'!$C$7:$C$82)+COUNTA('C - Data availability'!$C$7:$C$21)-COUNTIF('A - Policy objectives'!$C$7:$C$35,\"Non-essential\")-COUNTIF('B - Technical objectives'!$C$7:$C$82,\"Non-essential\")-COUNTIF('C - Data availability'!$C$21,\"Non-essential\"))>3,INDEX('Multicriteria Decision Analysis'!$H$119:$CN$119,MATCH(I89,'Multicriteria Decision Analysis'!$H$118:$CN$118,0)),\"\"),\"\")","v":""},{"$f":"IF(AND(I88<>\"\",'Multicriteria Decision Analysis'!$H$121>3,'Multicriteria Decision Analysis'!$H$121>=3+COUNT($I$85:$I88)+1),3+COUNT($I$85:$I88)+1,\"\")","v":""},{"$f":"IFERROR(IF((COUNTA('A - Policy objectives'!$C$7:$C$35)+COUNTA('B - Technical objectives'!$C$7:$C$82)+COUNTA('C - Data availability'!$C$7:$C$21)-COUNTIF('A - Policy objectives'!$C$7:$C$35,\"Non-essential\")-COUNTIF('B - Technical objectives'!$C$7:$C$82,\"Non-essential\")-COUNTIF('C - Data availability'!$C$21,\"Non-essential\"))>3,HYPERLINK(INDEX('Multicriteria Decision Analysis'!$H$4:$CN$4,MATCH(I89,'Multicriteria Decision Analysis'!$H$118:$CN$118,0)),INDEX('Multicriteria Decision Analysis'!$H$2:$CN$2,MATCH(I89,'Multicriteria Decision Analysis'!$H$118:$CN$118,0))),\"\"),\"\")","v":""}]
[null,null,null,null,null,null,null,{"$f":"IFERROR(IF((COUNTA('A - Policy objectives'!$C$7:$C$35)+COUNTA('B - Technical objectives'!$C$7:$C$82)+COUNTA('C - Data availability'!$C$7:$C$21)-COUNTIF('A - Policy objectives'!$C$7:$C$35,\"Non-essential\")-COUNTIF('B - Technical objectives'!$C$7:$C$82,\"Non-essential\")-COUNTIF('C - Data availability'!$C$21,\"Non-essential\"))>3,INDEX('Multicriteria Decision Analysis'!$H$119:$CN$119,MATCH(I90,'Multicriteria Decision Analysis'!$H$118:$CN$118,0)),\"\"),\"\")","v":""},{"$f":"IF(AND(I89<>\"\",'Multicriteria Decision Analysis'!$H$121>3,'Multicriteria Decision Analysis'!$H$121>=3+COUNT($I$85:$I89)+1),3+COUNT($I$85:$I89)+1,\"\")","v":""},{"$f":"IFERROR(IF((COUNTA('A - Policy objectives'!$C$7:$C$35)+COUNTA('B - Technical objectives'!$C$7:$C$82)+COUNTA('C - Data availability'!$C$7:$C$21)-COUNTIF('A - Policy objectives'!$C$7:$C$35,\"Non-essential\")-COUNTIF('B - Technical objectives'!$C$7:$C$82,\"Non-essential\")-COUNTIF('C - Data availability'!$C$21,\"Non-essential\"))>3,HYPERLINK(INDEX('Multicriteria Decision Analysis'!$H$4:$CN$4,MATCH(I90,'Multicriteria Decision Analysis'!$H$118:$CN$118,0)),INDEX('Multicriteria Decision Analysis'!$H$2:$CN$2,MATCH(I90,'Multicriteria Decision Analysis'!$H$118:$CN$118,0))),\"\"),\"\")","v":""}]
[null,null,null,null,null,null,null,{"$f":"IFERROR(IF((COUNTA('A - Policy objectives'!$C$7:$C$35)+COUNTA('B - Technical objectives'!$C$7:$C$82)+COUNTA('C - Data availability'!$C$7:$C$21)-COUNTIF('A - Policy objectives'!$C$7:$C$35,\"Non-essential\")-COUNTIF('B - Technical objectives'!$C$7:$C$82,\"Non-essential\")-COUNTIF('C - Data availability'!$C$21,\"Non-essential\"))>3,INDEX('Multicriteria Decision Analysis'!$H$119:$CN$119,MATCH(I91,'Multicriteria Decision Analysis'!$H$118:$CN$118,0)),\"\"),\"\")","v":""},{"$f":"IF(AND(I90<>\"\",'Multicriteria Decision Analysis'!$H$121>3,'Multicriteria Decision Analysis'!$H$121>=3+COUNT($I$85:$I90)+1),3+COUNT($I$85:$I90)+1,\"\")","v":""},{"$f":"IFERROR(IF((COUNTA('A - Policy objectives'!$C$7:$C$35)+COUNTA('B - Technical objectives'!$C$7:$C$82)+COUNTA('C - Data availability'!$C$7:$C$21)-COUNTIF('A - Policy objectives'!$C$7:$C$35,\"Non-essential\")-COUNTIF('B - Technical objectives'!$C$7:$C$82,\"Non-essential\")-COUNTIF('C - Data availability'!$C$21,\"Non-essential\"))>3,HYPERLINK(INDEX('Multicriteria Decision Analysis'!$H$4:$CN$4,MATCH(I91,'Multicriteria Decision Analysis'!$H$118:$CN$118,0)),INDEX('Multicriteria Decision Analysis'!$H$2:$CN$2,MATCH(I91,'Multicriteria Decision Analysis'!$H$118:$CN$118,0))),\"\"),\"\")","v":""}]
[null,null,null,null,null,null,null,{"$f":"IFERROR(IF((COUNTA('A - Policy objectives'!$C$7:$C$35)+COUNTA('B - Technical objectives'!$C$7:$C$82)+COUNTA('C - Data availability'!$C$7:$C$21)-COUNTIF('A - Policy objectives'!$C$7:$C$35,\"Non-essential\")-COUNTIF('B - Technical objectives'!$C$7:$C$82,\"Non-essential\")-COUNTIF('C - Data availability'!$C$21,\"Non-essential\"))>3,INDEX('Multicriteria Decision Analysis'!$H$119:$CN$119,MATCH(I92,'Multicriteria Decision Analysis'!$H$118:$CN$118,0)),\"\"),\"\")","v":""},{"$f":"IF(AND(I91<>\"\",'Multicriteria Decision Analysis'!$H$121>3,'Multicriteria Decision Analysis'!$H$121>=3+COUNT($I$85:$I91)+1),3+COUNT($I$85:$I91)+1,\"\")","v":""},{"$f":"IFERROR(IF((COUNTA('A - Policy objectives'!$C$7:$C$35)+COUNTA('B - Technical objectives'!$C$7:$C$82)+COUNTA('C - Data availability'!$C$7:$C$21)-COUNTIF('A - Policy objectives'!$C$7:$C$35,\"Non-essential\")-COUNTIF('B - Technical objectives'!$C$7:$C$82,\"Non-essential\")-COUNTIF('C - Data availability'!$C$21,\"Non-essential\"))>3,HYPERLINK(INDEX('Multicriteria Decision Analysis'!$H$4:$CN$4,MATCH(I92,'Multicriteria Decision Analysis'!$H$118:$CN$118,0)),INDEX('Multicriteria Decision Analysis'!$H$2:$CN$2,MATCH(I92,'Multicriteria Decision Analysis'!$H$118:$CN$118,0))),\"\"),\"\")","v":""}]
[null,null,null,null,null,null,null,{"$f":"IFERROR(IF((COUNTA('A - Policy objectives'!$C$7:$C$35)+COUNTA('B - Technical objectives'!$C$7:$C$82)+COUNTA('C - Data availability'!$C$7:$C$21)-COUNTIF('A - Policy objectives'!$C$7:$C$35,\"Non-essential\")-COUNTIF('B - Technical objectives'!$C$7:$C$82,\"Non-essential\")-COUNTIF('C - Data availability'!$C$21,\"Non-essential\"))>3,INDEX('Multicriteria Decision Analysis'!$H$119:$CN$119,MATCH(I93,'Multicriteria Decision Analysis'!$H$118:$CN$118,0)),\"\"),\"\")","v":""},{"$f":"IF(AND(I92<>\"\",'Multicriteria Decision Analysis'!$H$121>3,'Multicriteria Decision Analysis'!$H$121>=3+COUNT($I$85:$I92)+1),3+COUNT($I$85:$I92)+1,\"\")","v":""},{"$f":"IFERROR(IF((COUNTA('A - Policy objectives'!$C$7:$C$35)+COUNTA('B - Technical objectives'!$C$7:$C$82)+COUNTA('C - Data availability'!$C$7:$C$21)-COUNTIF('A - Policy objectives'!$C$7:$C$35,\"Non-essential\")-COUNTIF('B - Technical objectives'!$C$7:$C$82,\"Non-essential\")-COUNTIF('C - Data availability'!$C$21,\"Non-essential\"))>3,HYPERLINK(INDEX('Multicriteria Decision Analysis'!$H$4:$CN$4,MATCH(I93,'Multicriteria Decision Analysis'!$H$118:$CN$118,0)),INDEX('Multicriteria Decision Analysis'!$H$2:$CN$2,MATCH(I93,'Multicriteria Decision Analysis'!$H$118:$CN$118,0))),\"\"),\"\")","v":""}]
[null,null,null,null,null,null,null,{"$f":"IFERROR(IF((COUNTA('A - Policy objectives'!$C$7:$C$35)+COUNTA('B - Technical objectives'!$C$7:$C$82)+COUNTA('C - Data availability'!$C$7:$C$21)-COUNTIF('A - Policy objectives'!$C$7:$C$35,\"Non-essential\")-COUNTIF('B - Technical objectives'!$C$7:$C$82,\"Non-essential\")-COUNTIF('C - Data availability'!$C$21,\"Non-essential\"))>3,INDEX('Multicriteria Decision Analysis'!$H$119:$CN$119,MATCH(I94,'Multicriteria Decision Analysis'!$H$118:$CN$118,0)),\"\"),\"\")","v":""},{"$f":"IF(AND(I93<>\"\",'Multicriteria Decision Analysis'!$H$121>3,'Multicriteria Decision Analysis'!$H$121>=3+COUNT($I$85:$I93)+1),3+COUNT($I$85:$I93)+1,\"\")","v":""},{"$f":"IFERROR(IF((COUNTA('A - Policy objectives'!$C$7:$C$35)+COUNTA('B - Technical objectives'!$C$7:$C$82)+COUNTA('C - Data availability'!$C$7:$C$21)-COUNTIF('A - Policy objectives'!$C$7:$C$35,\"Non-essential\")-COUNTIF('B - Technical objectives'!$C$7:$C$82,\"Non-essential\")-COUNTIF('C - Data availability'!$C$21,\"Non-essential\"))>3,HYPERLINK(INDEX('Multicriteria Decision Analysis'!$H$4:$CN$4,MATCH(I94,'Multicriteria Decision Analysis'!$H$118:$CN$118,0)),INDEX('Multicriteria Decision Analysis'!$H$2:$CN$2,MATCH(I94,'Multicriteria Decision Analysis'!$H$118:$CN$118,0))),\"\"),\"\")","v":""}]
[null,null,null,null,null,null,null,{"$f":"IFERROR(IF((COUNTA('A - Policy objectives'!$C$7:$C$35)+COUNTA('B - Technical objectives'!$C$7:$C$82)+COUNTA('C - Data availability'!$C$7:$C$21)-COUNTIF('A - Policy objectives'!$C$7:$C$35,\"Non-essential\")-COUNTIF('B - Technical objectives'!$C$7:$C$82,\"Non-essential\")-COUNTIF('C - Data availability'!$C$21,\"Non-essential\"))>3,INDEX('Multicriteria Decision Analysis'!$H$119:$CN$119,MATCH(I95,'Multicriteria Decision Analysis'!$H$118:$CN$118,0)),\"\"),\"\")","v":""},{"$f":"IF(AND(I94<>\"\",'Multicriteria Decision Analysis'!$H$121>3,'Multicriteria Decision Analysis'!$H$121>=3+COUNT($I$85:$I94)+1),3+COUNT($I$85:$I94)+1,\"\")","v":""},{"$f":"IFERROR(IF((COUNTA('A - Policy objectives'!$C$7:$C$35)+COUNTA('B - Technical objectives'!$C$7:$C$82)+COUNTA('C - Data availability'!$C$7:$C$21)-COUNTIF('A - Policy objectives'!$C$7:$C$35,\"Non-essential\")-COUNTIF('B - Technical objectives'!$C$7:$C$82,\"Non-essential\")-COUNTIF('C - Data availability'!$C$21,\"Non-essential\"))>3,HYPERLINK(INDEX('Multicriteria Decision Analysis'!$H$4:$CN$4,MATCH(I95,'Multicriteria Decision Analysis'!$H$118:$CN$118,0)),INDEX('Multicriteria Decision Analysis'!$H$2:$CN$2,MATCH(I95,'Multicriteria Decision Analysis'!$H$118:$CN$118,0))),\"\"),\"\")","v":""}]
[null,null,null,null,null,null,null,{"$f":"IFERROR(IF((COUNTA('A - Policy objectives'!$C$7:$C$35)+COUNTA('B - Technical objectives'!$C$7:$C$82)+COUNTA('C - Data availability'!$C$7:$C$21)-COUNTIF('A - Policy objectives'!$C$7:$C$35,\"Non-essential\")-COUNTIF('B - Technical objectives'!$C$7:$C$82,\"Non-essential\")-COUNTIF('C - Data availability'!$C$21,\"Non-essential\"))>3,INDEX('Multicriteria Decision Analysis'!$H$119:$CN$119,MATCH(I96,'Multicriteria Decision Analysis'!$H$118:$CN$118,0)),\"\"),\"\")","v":""},{"$f":"IF(AND(I95<>\"\",'Multicriteria Decision Analysis'!$H$121>3,'Multicriteria Decision Analysis'!$H$121>=3+COUNT($I$85:$I95)+1),3+COUNT($I$85:$I95)+1,\"\")","v":""},{"$f":"IFERROR(IF((COUNTA('A - Policy objectives'!$C$7:$C$35)+COUNTA('B - Technical objectives'!$C$7:$C$82)+COUNTA('C - Data availability'!$C$7:$C$21)-COUNTIF('A - Policy objectives'!$C$7:$C$35,\"Non-essential\")-COUNTIF('B - Technical objectives'!$C$7:$C$82,\"Non-essential\")-COUNTIF('C - Data availability'!$C$21,\"Non-essential\"))>3,HYPERLINK(INDEX('Multicriteria Decision Analysis'!$H$4:$CN$4,MATCH(I96,'Multicriteria Decision Analysis'!$H$118:$CN$118,0)),INDEX('Multicriteria Decision Analysis'!$H$2:$CN$2,MATCH(I96,'Multicriteria Decision Analysis'!$H$118:$CN$118,0))),\"\"),\"\")","v":""}]
[null,null,null,null,null,null,null,{"$f":"IFERROR(IF((COUNTA('A - Policy objectives'!$C$7:$C$35)+COUNTA('B - Technical objectives'!$C$7:$C$82)+COUNTA('C - Data availability'!$C$7:$C$21)-COUNTIF('A - Policy objectives'!$C$7:$C$35,\"Non-essential\")-COUNTIF('B - Technical objectives'!$C$7:$C$82,\"Non-essential\")-COUNTIF('C - Data availability'!$C$21,\"Non-essential\"))>3,INDEX('Multicriteria Decision Analysis'!$H$119:$CN$119,MATCH(I97,'Multicriteria Decision Analysis'!$H$118:$CN$118,0)),\"\"),\"\")","v":""},{"$f":"IF(AND(I96<>\"\",'Multicriteria Decision Analysis'!$H$121>3,'Multicriteria Decision Analysis'!$H$121>=3+COUNT($I$85:$I96)+1),3+COUNT($I$85:$I96)+1,\"\")","v":""},{"$f":"IFERROR(IF((COUNTA('A - Policy objectives'!$C$7:$C$35)+COUNTA('B - Technical objectives'!$C$7:$C$82)+COUNTA('C - Data availability'!$C$7:$C$21)-COUNTIF('A - Policy objectives'!$C$7:$C$35,\"Non-essential\")-COUNTIF('B - Technical objectives'!$C$7:$C$82,\"Non-essential\")-COUNTIF('C - Data availability'!$C$21,\"Non-essential\"))>3,HYPERLINK(INDEX('Multicriteria Decision Analysis'!$H$4:$CN$4,MATCH(I97,'Multicriteria Decision Analysis'!$H$118:$CN$118,0)),INDEX('Multicriteria Decision Analysis'!$H$2:$CN$2,MATCH(I97,'Multicriteria Decision Analysis'!$H$118:$CN$118,0))),\"\"),\"\")","v":""}]
[null,null,null,null,null,null,null,{"$f":"IFERROR(IF((COUNTA('A - Policy objectives'!$C$7:$C$35)+COUNTA('B - Technical objectives'!$C$7:$C$82)+COUNTA('C - Data availability'!$C$7:$C$21)-COUNTIF('A - Policy objectives'!$C$7:$C$35,\"Non-essential\")-COUNTIF('B - Technical objectives'!$C$7:$C$82,\"Non-essential\")-COUNTIF('C - Data availability'!$C$21,\"Non-essential\"))>3,INDEX('Multicriteria Decision Analysis'!$H$119:$CN$119,MATCH(I98,'Multicriteria Decision Analysis'!$H$118:$CN$118,0)),\"\"),\"\")","v":""},{"$f":"IF(AND(I97<>\"\",'Multicriteria Decision Analysis'!$H$121>3,'Multicriteria Decision Analysis'!$H$121>=3+COUNT($I$85:$I97)+1),3+COUNT($I$85:$I97)+1,\"\")","v":""},{"$f":"IFERROR(IF((COUNTA('A - Policy objectives'!$C$7:$C$35)+COUNTA('B - Technical objectives'!$C$7:$C$82)+COUNTA('C - Data availability'!$C$7:$C$21)-COUNTIF('A - Policy objectives'!$C$7:$C$35,\"Non-essential\")-COUNTIF('B - Technical objectives'!$C$7:$C$82,\"Non-essential\")-COUNTIF('C - Data availability'!$C$21,\"Non-essential\"))>3,HYPERLINK(INDEX('Multicriteria Decision Analysis'!$H$4:$CN$4,MATCH(I98,'Multicriteria Decision Analysis'!$H$118:$CN$118,0)),INDEX('Multicriteria Decision Analysis'!$H$2:$CN$2,MATCH(I98,'Multicriteria Decision Analysis'!$H$118:$CN$118,0))),\"\"),\"\")","v":""}]
[null,null,null,null,null,null,null,{"$f":"IFERROR(IF((COUNTA('A - Policy objectives'!$C$7:$C$35)+COUNTA('B - Technical objectives'!$C$7:$C$82)+COUNTA('C - Data availability'!$C$7:$C$21)-COUNTIF('A - Policy objectives'!$C$7:$C$35,\"Non-essential\")-COUNTIF('B - Technical objectives'!$C$7:$C$82,\"Non-essential\")-COUNTIF('C - Data availability'!$C$21,\"Non-essential\"))>3,INDEX('Multicriteria Decision Analysis'!$H$119:$CN$119,MATCH(I99,'Multicriteria Decision Analysis'!$H$118:$CN$118,0)),\"\"),\"\")","v":""},{"$f":"IF(AND(I98<>\"\",'Multicriteria Decision Analysis'!$H$121>3,'Multicriteria Decision Analysis'!$H$121>=3+COUNT($I$85:$I98)+1),3+COUNT($I$85:$I98)+1,\"\")","v":""},{"$f":"IFERROR(IF((COUNTA('A - Policy objectives'!$C$7:$C$35)+COUNTA('B - Technical objectives'!$C$7:$C$82)+COUNTA('C - Data availability'!$C$7:$C$21)-COUNTIF('A - Policy objectives'!$C$7:$C$35,\"Non-essential\")-COUNTIF('B - Technical objectives'!$C$7:$C$82,\"Non-essential\")-COUNTIF('C - Data availability'!$C$21,\"Non-essential\"))>3,HYPERLINK(INDEX('Multicriteria Decision Analysis'!$H$4:$CN$4,MATCH(I99,'Multicriteria Decision Analysis'!$H$118:$CN$118,0)),INDEX('Multicriteria Decision Analysis'!$H$2:$CN$2,MATCH(I99,'Multicriteria Decision Analysis'!$H$118:$CN$118,0))),\"\"),\"\")","v":""}]
[null,null,null,null,null,null,null,{"$f":"IFERROR(IF((COUNTA('A - Policy objectives'!$C$7:$C$35)+COUNTA('B - Technical objectives'!$C$7:$C$82)+COUNTA('C - Data availability'!$C$7:$C$21)-COUNTIF('A - Policy objectives'!$C$7:$C$35,\"Non-essential\")-COUNTIF('B - Technical objectives'!$C$7:$C$82,\"Non-essential\")-COUNTIF('C - Data availability'!$C$21,\"Non-essential\"))>3,INDEX('Multicriteria Decision Analysis'!$H$119:$CN$119,MATCH(I100,'Multicriteria Decision Analysis'!$H$118:$CN$118,0)),\"\"),\"\")","v":""},{"$f":"IF(AND(I99<>\"\",'Multicriteria Decision Analysis'!$H$121>3,'Multicriteria Decision Analysis'!$H$121>=3+COUNT($I$85:$I99)+1),3+COUNT($I$85:$I99)+1,\"\")","v":""},{"$f":"IFERROR(IF((COUNTA('A - Policy objectives'!$C$7:$C$35)+COUNTA('B - Technical objectives'!$C$7:$C$82)+COUNTA('C - Data availability'!$C$7:$C$21)-COUNTIF('A - Policy objectives'!$C$7:$C$35,\"Non-essential\")-COUNTIF('B - Technical objectives'!$C$7:$C$82,\"Non-essential\")-COUNTIF('C - Data availability'!$C$21,\"Non-essential\"))>3,HYPERLINK(INDEX('Multicriteria Decision Analysis'!$H$4:$CN$4,MATCH(I100,'Multicriteria Decision Analysis'!$H$118:$CN$118,0)),INDEX('Multicriteria Decision Analysis'!$H$2:$CN$2,MATCH(I100,'Multicriteria Decision Analysis'!$H$118:$CN$118,0))),\"\"),\"\")","v":""}]
[null,null,null,null,null,null,null,{"$f":"IFERROR(IF((COUNTA('A - Policy objectives'!$C$7:$C$35)+COUNTA('B - Technical objectives'!$C$7:$C$82)+COUNTA('C - Data availability'!$C$7:$C$21)-COUNTIF('A - Policy objectives'!$C$7:$C$35,\"Non-essential\")-COUNTIF('B - Technical objectives'!$C$7:$C$82,\"Non-essential\")-COUNTIF('C - Data availability'!$C$21,\"Non-essential\"))>3,INDEX('Multicriteria Decision Analysis'!$H$119:$CN$119,MATCH(I101,'Multicriteria Decision Analysis'!$H$118:$CN$118,0)),\"\"),\"\")","v":""},{"$f":"IF(AND(I100<>\"\",'Multicriteria Decision Analysis'!$H$121>3,'Multicriteria Decision Analysis'!$H$121>=3+COUNT($I$85:$I100)+1),3+COUNT($I$85:$I100)+1,\"\")","v":""},{"$f":"IFERROR(IF((COUNTA('A - Policy objectives'!$C$7:$C$35)+COUNTA('B - Technical objectives'!$C$7:$C$82)+COUNTA('C - Data availability'!$C$7:$C$21)-COUNTIF('A - Policy objectives'!$C$7:$C$35,\"Non-essential\")-COUNTIF('B - Technical objectives'!$C$7:$C$82,\"Non-essential\")-COUNTIF('C - Data availability'!$C$21,\"Non-essential\"))>3,HYPERLINK(INDEX('Multicriteria Decision Analysis'!$H$4:$CN$4,MATCH(I101,'Multicriteria Decision Analysis'!$H$118:$CN$118,0)),INDEX('Multicriteria Decision Analysis'!$H$2:$CN$2,MATCH(I101,'Multicriteria Decision Analysis'!$H$118:$CN$118,0))),\"\"),\"\")","v":""}]
[null,null,null,null,null,null,null,{"$f":"IFERROR(IF((COUNTA('A - Policy objectives'!$C$7:$C$35)+COUNTA('B - Technical objectives'!$C$7:$C$82)+COUNTA('C - Data availability'!$C$7:$C$21)-COUNTIF('A - Policy objectives'!$C$7:$C$35,\"Non-essential\")-COUNTIF('B - Technical objectives'!$C$7:$C$82,\"Non-essential\")-COUNTIF('C - Data availability'!$C$21,\"Non-essential\"))>3,INDEX('Multicriteria Decision Analysis'!$H$119:$CN$119,MATCH(I102,'Multicriteria Decision Analysis'!$H$118:$CN$118,0)),\"\"),\"\")","v":""},{"$f":"IF(AND(I101<>\"\",'Multicriteria Decision Analysis'!$H$121>3,'Multicriteria Decision Analysis'!$H$121>=3+COUNT($I$85:$I101)+1),3+COUNT($I$85:$I101)+1,\"\")","v":""},{"$f":"IFERROR(IF((COUNTA('A - Policy objectives'!$C$7:$C$35)+COUNTA('B - Technical objectives'!$C$7:$C$82)+COUNTA('C - Data availability'!$C$7:$C$21)-COUNTIF('A - Policy objectives'!$C$7:$C$35,\"Non-essential\")-COUNTIF('B - Technical objectives'!$C$7:$C$82,\"Non-essential\")-COUNTIF('C - Data availability'!$C$21,\"Non-essential\"))>3,HYPERLINK(INDEX('Multicriteria Decision Analysis'!$H$4:$CN$4,MATCH(I102,'Multicriteria Decision Analysis'!$H$118:$CN$118,0)),INDEX('Multicriteria Decision Analysis'!$H$2:$CN$2,MATCH(I102,'Multicriteria Decision Analysis'!$H$118:$CN$118,0))),\"\"),\"\")","v":""}]
[null,null,null,null,null,null,null,{"$f":"IFERROR(IF((COUNTA('A - Policy objectives'!$C$7:$C$35)+COUNTA('B - Technical objectives'!$C$7:$C$82)+COUNTA('C - Data availability'!$C$7:$C$21)-COUNTIF('A - Policy objectives'!$C$7:$C$35,\"Non-essential\")-COUNTIF('B - Technical objectives'!$C$7:$C$82,\"Non-essential\")-COUNTIF('C - Data availability'!$C$21,\"Non-essential\"))>3,INDEX('Multicriteria Decision Analysis'!$H$119:$CN$119,MATCH(I103,'Multicriteria Decision Analysis'!$H$118:$CN$118,0)),\"\"),\"\")","v":""},{"$f":"IF(AND(I102<>\"\",'Multicriteria Decision Analysis'!$H$121>3,'Multicriteria Decision Analysis'!$H$121>=3+COUNT($I$85:$I102)+1),3+COUNT($I$85:$I102)+1,\"\")","v":""},{"$f":"IFERROR(IF((COUNTA('A - Policy objectives'!$C$7:$C$35)+COUNTA('B - Technical objectives'!$C$7:$C$82)+COUNTA('C - Data availability'!$C$7:$C$21)-COUNTIF('A - Policy objectives'!$C$7:$C$35,\"Non-essential\")-COUNTIF('B - Technical objectives'!$C$7:$C$82,\"Non-essential\")-COUNTIF('C - Data availability'!$C$21,\"Non-essential\"))>3,HYPERLINK(INDEX('Multicriteria Decision Analysis'!$H$4:$CN$4,MATCH(I103,'Multicriteria Decision Analysis'!$H$118:$CN$118,0)),INDEX('Multicriteria Decision Analysis'!$H$2:$CN$2,MATCH(I103,'Multicriteria Decision Analysis'!$H$118:$CN$118,0))),\"\"),\"\")","v":""}]
[null,null,null,null,null,null,null,{"$f":"IFERROR(IF((COUNTA('A - Policy objectives'!$C$7:$C$35)+COUNTA('B - Technical objectives'!$C$7:$C$82)+COUNTA('C - Data availability'!$C$7:$C$21)-COUNTIF('A - Policy objectives'!$C$7:$C$35,\"Non-essential\")-COUNTIF('B - Technical objectives'!$C$7:$C$82,\"Non-essential\")-COUNTIF('C - Data availability'!$C$21,\"Non-essential\"))>3,INDEX('Multicriteria Decision Analysis'!$H$119:$CN$119,MATCH(I104,'Multicriteria Decision Analysis'!$H$118:$CN$118,0)),\"\"),\"\")","v":""},{"$f":"IF(AND(I103<>\"\",'Multicriteria Decision Analysis'!$H$121>3,'Multicriteria Decision Analysis'!$H$121>=3+COUNT($I$85:$I103)+1),3+COUNT($I$85:$I103)+1,\"\")","v":""},{"$f":"IFERROR(IF((COUNTA('A - Policy objectives'!$C$7:$C$35)+COUNTA('B - Technical objectives'!$C$7:$C$82)+COUNTA('C - Data availability'!$C$7:$C$21)-COUNTIF('A - Policy objectives'!$C$7:$C$35,\"Non-essential\")-COUNTIF('B - Technical objectives'!$C$7:$C$82,\"Non-essential\")-COUNTIF('C - Data availability'!$C$21,\"Non-essential\"))>3,HYPERLINK(INDEX('Multicriteria Decision Analysis'!$H$4:$CN$4,MATCH(I104,'Multicriteria Decision Analysis'!$H$118:$CN$118,0)),INDEX('Multicriteria Decision Analysis'!$H$2:$CN$2,MATCH(I104,'Multicriteria Decision Analysis'!$H$118:$CN$118,0))),\"\"),\"\")","v":""}]
[null,null,null,null,null,null,null,{"$f":"IFERROR(IF((COUNTA('A - Policy objectives'!$C$7:$C$35)+COUNTA('B - Technical objectives'!$C$7:$C$82)+COUNTA('C - Data availability'!$C$7:$C$21)-COUNTIF('A - Policy objectives'!$C$7:$C$35,\"Non-essential\")-COUNTIF('B - Technical objectives'!$C$7:$C$82,\"Non-essential\")-COUNTIF('C - Data availability'!$C$21,\"Non-essential\"))>3,INDEX('Multicriteria Decision Analysis'!$H$119:$CN$119,MATCH(I105,'Multicriteria Decision Analysis'!$H$118:$CN$118,0)),\"\"),\"\")","v":""},{"$f":"IF(AND(I104<>\"\",'Multicriteria Decision Analysis'!$H$121>3,'Multicriteria Decision Analysis'!$H$121>=3+COUNT($I$85:$I104)+1),3+COUNT($I$85:$I104)+1,\"\")","v":""},{"$f":"IFERROR(IF((COUNTA('A - Policy objectives'!$C$7:$C$35)+COUNTA('B - Technical objectives'!$C$7:$C$82)+COUNTA('C - Data availability'!$C$7:$C$21)-COUNTIF('A - Policy objectives'!$C$7:$C$35,\"Non-essential\")-COUNTIF('B - Technical objectives'!$C$7:$C$82,\"Non-essential\")-COUNTIF('C - Data availability'!$C$21,\"Non-essential\"))>3,HYPERLINK(INDEX('Multicriteria Decision Analysis'!$H$4:$CN$4,MATCH(I105,'Multicriteria Decision Analysis'!$H$118:$CN$118,0)),INDEX('Multicriteria Decision Analysis'!$H$2:$CN$2,MATCH(I105,'Multicriteria Decision Analysis'!$H$118:$CN$118,0))),\"\"),\"\")","v":""}]
[null,null,null,null,null,null,null,{"$f":"IFERROR(IF((COUNTA('A - Policy objectives'!$C$7:$C$35)+COUNTA('B - Technical objectives'!$C$7:$C$82)+COUNTA('C - Data availability'!$C$7:$C$21)-COUNTIF('A - Policy objectives'!$C$7:$C$35,\"Non-essential\")-COUNTIF('B - Technical objectives'!$C$7:$C$82,\"Non-essential\")-COUNTIF('C - Data availability'!$C$21,\"Non-essential\"))>3,INDEX('Multicriteria Decision Analysis'!$H$119:$CN$119,MATCH(I106,'Multicriteria Decision Analysis'!$H$118:$CN$118,0)),\"\"),\"\")","v":""},{"$f":"IF(AND(I105<>\"\",'Multicriteria Decision Analysis'!$H$121>3,'Multicriteria Decision Analysis'!$H$121>=3+COUNT($I$85:$I105)+1),3+COUNT($I$85:$I105)+1,\"\")","v":""},{"$f":"IFERROR(IF((COUNTA('A - Policy objectives'!$C$7:$C$35)+COUNTA('B - Technical objectives'!$C$7:$C$82)+COUNTA('C - Data availability'!$C$7:$C$21)-COUNTIF('A - Policy objectives'!$C$7:$C$35,\"Non-essential\")-COUNTIF('B - Technical objectives'!$C$7:$C$82,\"Non-essential\")-COUNTIF('C - Data availability'!$C$21,\"Non-essential\"))>3,HYPERLINK(INDEX('Multicriteria Decision Analysis'!$H$4:$CN$4,MATCH(I106,'Multicriteria Decision Analysis'!$H$118:$CN$118,0)),INDEX('Multicriteria Decision Analysis'!$H$2:$CN$2,MATCH(I106,'Multicriteria Decision Analysis'!$H$118:$CN$118,0))),\"\"),\"\")","v":""}]
[null,null,null,null,null,null,null,{"$f":"IFERROR(IF((COUNTA('A - Policy objectives'!$C$7:$C$35)+COUNTA('B - Technical objectives'!$C$7:$C$82)+COUNTA('C - Data availability'!$C$7:$C$21)-COUNTIF('A - Policy objectives'!$C$7:$C$35,\"Non-essential\")-COUNTIF('B - Technical objectives'!$C$7:$C$82,\"Non-essential\")-COUNTIF('C - Data availability'!$C$21,\"Non-essential\"))>3,INDEX('Multicriteria Decision Analysis'!$H$119:$CN$119,MATCH(I107,'Multicriteria Decision Analysis'!$H$118:$CN$118,0)),\"\"),\"\")","v":""},{"$f":"IF(AND(I106<>\"\",'Multicriteria Decision Analysis'!$H$121>3,'Multicriteria Decision Analysis'!$H$121>=3+COUNT($I$85:$I106)+1),3+COUNT($I$85:$I106)+1,\"\")","v":""},{"$f":"IFERROR(IF((COUNTA('A - Policy objectives'!$C$7:$C$35)+COUNTA('B - Technical objectives'!$C$7:$C$82)+COUNTA('C - Data availability'!$C$7:$C$21)-COUNTIF('A - Policy objectives'!$C$7:$C$35,\"Non-essential\")-COUNTIF('B - Technical objectives'!$C$7:$C$82,\"Non-essential\")-COUNTIF('C - Data availability'!$C$21,\"Non-essential\"))>3,HYPERLINK(INDEX('Multicriteria Decision Analysis'!$H$4:$CN$4,MATCH(I107,'Multicriteria Decision Analysis'!$H$118:$CN$118,0)),INDEX('Multicriteria Decision Analysis'!$H$2:$CN$2,MATCH(I107,'Multicriteria Decision Analysis'!$H$118:$CN$118,0))),\"\"),\"\")","v":""}]
[null,null,null,null,null,null,null,{"$f":"IFERROR(IF((COUNTA('A - Policy objectives'!$C$7:$C$35)+COUNTA('B - Technical objectives'!$C$7:$C$82)+COUNTA('C - Data availability'!$C$7:$C$21)-COUNTIF('A - Policy objectives'!$C$7:$C$35,\"Non-essential\")-COUNTIF('B - Technical objectives'!$C$7:$C$82,\"Non-essential\")-COUNTIF('C - Data availability'!$C$21,\"Non-essential\"))>3,INDEX('Multicriteria Decision Analysis'!$H$119:$CN$119,MATCH(I108,'Multicriteria Decision Analysis'!$H$118:$CN$118,0)),\"\"),\"\")","v":""},{"$f":"IF(AND(I107<>\"\",'Multicriteria Decision Analysis'!$H$121>3,'Multicriteria Decision Analysis'!$H$121>=3+COUNT($I$85:$I107)+1),3+COUNT($I$85:$I107)+1,\"\")","v":""},{"$f":"IFERROR(IF((COUNTA('A - Policy objectives'!$C$7:$C$35)+COUNTA('B - Technical objectives'!$C$7:$C$82)+COUNTA('C - Data availability'!$C$7:$C$21)-COUNTIF('A - Policy objectives'!$C$7:$C$35,\"Non-essential\")-COUNTIF('B - Technical objectives'!$C$7:$C$82,\"Non-essential\")-COUNTIF('C - Data availability'!$C$21,\"Non-essential\"))>3,HYPERLINK(INDEX('Multicriteria Decision Analysis'!$H$4:$CN$4,MATCH(I108,'Multicriteria Decision Analysis'!$H$118:$CN$118,0)),INDEX('Multicriteria Decision Analysis'!$H$2:$CN$2,MATCH(I108,'Multicriteria Decision Analysis'!$H$118:$CN$118,0))),\"\"),\"\")","v":""}]
[null,null,null,null,null,null,null,{"$f":"IFERROR(IF((COUNTA('A - Policy objectives'!$C$7:$C$35)+COUNTA('B - Technical objectives'!$C$7:$C$82)+COUNTA('C - Data availability'!$C$7:$C$21)-COUNTIF('A - Policy objectives'!$C$7:$C$35,\"Non-essential\")-COUNTIF('B - Technical objectives'!$C$7:$C$82,\"Non-essential\")-COUNTIF('C - Data availability'!$C$21,\"Non-essential\"))>3,INDEX('Multicriteria Decision Analysis'!$H$119:$CN$119,MATCH(I109,'Multicriteria Decision Analysis'!$H$118:$CN$118,0)),\"\"),\"\")","v":""},{"$f":"IF(AND(I108<>\"\",'Multicriteria Decision Analysis'!$H$121>3,'Multicriteria Decision Analysis'!$H$121>=3+COUNT($I$85:$I108)+1),3+COUNT($I$85:$I108)+1,\"\")","v":""},{"$f":"IFERROR(IF((COUNTA('A - Policy objectives'!$C$7:$C$35)+COUNTA('B - Technical objectives'!$C$7:$C$82)+COUNTA('C - Data availability'!$C$7:$C$21)-COUNTIF('A - Policy objectives'!$C$7:$C$35,\"Non-essential\")-COUNTIF('B - Technical objectives'!$C$7:$C$82,\"Non-essential\")-COUNTIF('C - Data availability'!$C$21,\"Non-essential\"))>3,HYPERLINK(INDEX('Multicriteria Decision Analysis'!$H$4:$CN$4,MATCH(I109,'Multicriteria Decision Analysis'!$H$118:$CN$118,0)),INDEX('Multicriteria Decision Analysis'!$H$2:$CN$2,MATCH(I109,'Multicriteria Decision Analysis'!$H$118:$CN$118,0))),\"\"),\"\")","v":""}]
[null,null,null,null,null,null,null,{"$f":"IFERROR(IF((COUNTA('A - Policy objectives'!$C$7:$C$35)+COUNTA('B - Technical objectives'!$C$7:$C$82)+COUNTA('C - Data availability'!$C$7:$C$21)-COUNTIF('A - Policy objectives'!$C$7:$C$35,\"Non-essential\")-COUNTIF('B - Technical objectives'!$C$7:$C$82,\"Non-essential\")-COUNTIF('C - Data availability'!$C$21,\"Non-essential\"))>3,INDEX('Multicriteria Decision Analysis'!$H$119:$CN$119,MATCH(I110,'Multicriteria Decision Analysis'!$H$118:$CN$118,0)),\"\"),\"\")","v":""},{"$f":"IF(AND(I109<>\"\",'Multicriteria Decision Analysis'!$H$121>3,'Multicriteria Decision Analysis'!$H$121>=3+COUNT($I$85:$I109)+1),3+COUNT($I$85:$I109)+1,\"\")","v":""},{"$f":"IFERROR(IF((COUNTA('A - Policy objectives'!$C$7:$C$35)+COUNTA('B - Technical objectives'!$C$7:$C$82)+COUNTA('C - Data availability'!$C$7:$C$21)-COUNTIF('A - Policy objectives'!$C$7:$C$35,\"Non-essential\")-COUNTIF('B - Technical objectives'!$C$7:$C$82,\"Non-essential\")-COUNTIF('C - Data availability'!$C$21,\"Non-essential\"))>3,HYPERLINK(INDEX('Multicriteria Decision Analysis'!$H$4:$CN$4,MATCH(I110,'Multicriteria Decision Analysis'!$H$118:$CN$118,0)),INDEX('Multicriteria Decision Analysis'!$H$2:$CN$2,MATCH(I110,'Multicriteria Decision Analysis'!$H$118:$CN$118,0))),\"\"),\"\")","v":""}]
[null,null,null,null,null,null,null,{"$f":"IFERROR(IF((COUNTA('A - Policy objectives'!$C$7:$C$35)+COUNTA('B - Technical objectives'!$C$7:$C$82)+COUNTA('C - Data availability'!$C$7:$C$21)-COUNTIF('A - Policy objectives'!$C$7:$C$35,\"Non-essential\")-COUNTIF('B - Technical objectives'!$C$7:$C$82,\"Non-essential\")-COUNTIF('C - Data availability'!$C$21,\"Non-essential\"))>3,INDEX('Multicriteria Decision Analysis'!$H$119:$CN$119,MATCH(I111,'Multicriteria Decision Analysis'!$H$118:$CN$118,0)),\"\"),\"\")","v":""},{"$f":"IF(AND(I110<>\"\",'Multicriteria Decision Analysis'!$H$121>3,'Multicriteria Decision Analysis'!$H$121>=3+COUNT($I$85:$I110)+1),3+COUNT($I$85:$I110)+1,\"\")","v":""},{"$f":"IFERROR(IF((COUNTA('A - Policy objectives'!$C$7:$C$35)+COUNTA('B - Technical objectives'!$C$7:$C$82)+COUNTA('C - Data availability'!$C$7:$C$21)-COUNTIF('A - Policy objectives'!$C$7:$C$35,\"Non-essential\")-COUNTIF('B - Technical objectives'!$C$7:$C$82,\"Non-essential\")-COUNTIF('C - Data availability'!$C$21,\"Non-essential\"))>3,HYPERLINK(INDEX('Multicriteria Decision Analysis'!$H$4:$CN$4,MATCH(I111,'Multicriteria Decision Analysis'!$H$118:$CN$118,0)),INDEX('Multicriteria Decision Analysis'!$H$2:$CN$2,MATCH(I111,'Multicriteria Decision Analysis'!$H$118:$CN$118,0))),\"\"),\"\")","v":""}]
[null,null,null,null,null,null,null,{"$f":"IFERROR(IF((COUNTA('A - Policy objectives'!$C$7:$C$35)+COUNTA('B - Technical objectives'!$C$7:$C$82)+COUNTA('C - Data availability'!$C$7:$C$21)-COUNTIF('A - Policy objectives'!$C$7:$C$35,\"Non-essential\")-COUNTIF('B - Technical objectives'!$C$7:$C$82,\"Non-essential\")-COUNTIF('C - Data availability'!$C$21,\"Non-essential\"))>3,INDEX('Multicriteria Decision Analysis'!$H$119:$CN$119,MATCH(I112,'Multicriteria Decision Analysis'!$H$118:$CN$118,0)),\"\"),\"\")","v":""},{"$f":"IF(AND(I111<>\"\",'Multicriteria Decision Analysis'!$H$121>3,'Multicriteria Decision Analysis'!$H$121>=3+COUNT($I$85:$I111)+1),3+COUNT($I$85:$I111)+1,\"\")","v":""},{"$f":"IFERROR(IF((COUNTA('A - Policy objectives'!$C$7:$C$35)+COUNTA('B - Technical objectives'!$C$7:$C$82)+COUNTA('C - Data availability'!$C$7:$C$21)-COUNTIF('A - Policy objectives'!$C$7:$C$35,\"Non-essential\")-COUNTIF('B - Technical objectives'!$C$7:$C$82,\"Non-essential\")-COUNTIF('C - Data availability'!$C$21,\"Non-essential\"))>3,HYPERLINK(INDEX('Multicriteria Decision Analysis'!$H$4:$CN$4,MATCH(I112,'Multicriteria Decision Analysis'!$H$118:$CN$118,0)),INDEX('Multicriteria Decision Analysis'!$H$2:$CN$2,MATCH(I112,'Multicriteria Decision Analysis'!$H$118:$CN$118,0))),\"\"),\"\")","v":""}]
[null,null,null,null,null,null,null,{"$f":"IFERROR(IF((COUNTA('A - Policy objectives'!$C$7:$C$35)+COUNTA('B - Technical objectives'!$C$7:$C$82)+COUNTA('C - Data availability'!$C$7:$C$21)-COUNTIF('A - Policy objectives'!$C$7:$C$35,\"Non-essential\")-COUNTIF('B - Technical objectives'!$C$7:$C$82,\"Non-essential\")-COUNTIF('C - Data availability'!$C$21,\"Non-essential\"))>3,INDEX('Multicriteria Decision Analysis'!$H$119:$CN$119,MATCH(I113,'Multicriteria Decision Analysis'!$H$118:$CN$118,0)),\"\"),\"\")","v":""},{"$f":"IF(AND(I112<>\"\",'Multicriteria Decision Analysis'!$H$121>3,'Multicriteria Decision Analysis'!$H$121>=3+COUNT($I$85:$I112)+1),3+COUNT($I$85:$I112)+1,\"\")","v":""},{"$f":"IFERROR(IF((COUNTA('A - Policy objectives'!$C$7:$C$35)+COUNTA('B - Technical objectives'!$C$7:$C$82)+COUNTA('C - Data availability'!$C$7:$C$21)-COUNTIF('A - Policy objectives'!$C$7:$C$35,\"Non-essential\")-COUNTIF('B - Technical objectives'!$C$7:$C$82,\"Non-essential\")-COUNTIF('C - Data availability'!$C$21,\"Non-essential\"))>3,HYPERLINK(INDEX('Multicriteria Decision Analysis'!$H$4:$CN$4,MATCH(I113,'Multicriteria Decision Analysis'!$H$118:$CN$118,0)),INDEX('Multicriteria Decision Analysis'!$H$2:$CN$2,MATCH(I113,'Multicriteria Decision Analysis'!$H$118:$CN$118,0))),\"\"),\"\")","v":""}]
[null,null,null,null,null,null,null,{"$f":"IFERROR(IF((COUNTA('A - Policy objectives'!$C$7:$C$35)+COUNTA('B - Technical objectives'!$C$7:$C$82)+COUNTA('C - Data availability'!$C$7:$C$21)-COUNTIF('A - Policy objectives'!$C$7:$C$35,\"Non-essential\")-COUNTIF('B - Technical objectives'!$C$7:$C$82,\"Non-essential\")-COUNTIF('C - Data availability'!$C$21,\"Non-essential\"))>3,INDEX('Multicriteria Decision Analysis'!$H$119:$CN$119,MATCH(I114,'Multicriteria Decision Analysis'!$H$118:$CN$118,0)),\"\"),\"\")","v":""},{"$f":"IF(AND(I113<>\"\",'Multicriteria Decision Analysis'!$H$121>3,'Multicriteria Decision Analysis'!$H$121>=3+COUNT($I$85:$I113)+1),3+COUNT($I$85:$I113)+1,\"\")","v":""},{"$f":"IFERROR(IF((COUNTA('A - Policy objectives'!$C$7:$C$35)+COUNTA('B - Technical objectives'!$C$7:$C$82)+COUNTA('C - Data availability'!$C$7:$C$21)-COUNTIF('A - Policy objectives'!$C$7:$C$35,\"Non-essential\")-COUNTIF('B - Technical objectives'!$C$7:$C$82,\"Non-essential\")-COUNTIF('C - Data availability'!$C$21,\"Non-essential\"))>3,HYPERLINK(INDEX('Multicriteria Decision Analysis'!$H$4:$CN$4,MATCH(I114,'Multicriteria Decision Analysis'!$H$118:$CN$118,0)),INDEX('Multicriteria Decision Analysis'!$H$2:$CN$2,MATCH(I114,'Multicriteria Decision Analysis'!$H$118:$CN$118,0))),\"\"),\"\")","v":""}]
[null,null,null,null,null,null,null,{"$f":"IFERROR(IF((COUNTA('A - Policy objectives'!$C$7:$C$35)+COUNTA('B - Technical objectives'!$C$7:$C$82)+COUNTA('C - Data availability'!$C$7:$C$21)-COUNTIF('A - Policy objectives'!$C$7:$C$35,\"Non-essential\")-COUNTIF('B - Technical objectives'!$C$7:$C$82,\"Non-essential\")-COUNTIF('C - Data availability'!$C$21,\"Non-essential\"))>3,INDEX('Multicriteria Decision Analysis'!$H$119:$CN$119,MATCH(I115,'Multicriteria Decision Analysis'!$H$118:$CN$118,0)),\"\"),\"\")","v":""},{"$f":"IF(AND(I114<>\"\",'Multicriteria Decision Analysis'!$H$121>3,'Multicriteria Decision Analysis'!$H$121>=3+COUNT($I$85:$I114)+1),3+COUNT($I$85:$I114)+1,\"\")","v":""},{"$f":"IFERROR(IF((COUNTA('A - Policy objectives'!$C$7:$C$35)+COUNTA('B - Technical objectives'!$C$7:$C$82)+COUNTA('C - Data availability'!$C$7:$C$21)-COUNTIF('A - Policy objectives'!$C$7:$C$35,\"Non-essential\")-COUNTIF('B - Technical objectives'!$C$7:$C$82,\"Non-essential\")-COUNTIF('C - Data availability'!$C$21,\"Non-essential\"))>3,HYPERLINK(INDEX('Multicriteria Decision Analysis'!$H$4:$CN$4,MATCH(I115,'Multicriteria Decision Analysis'!$H$118:$CN$118,0)),INDEX('Multicriteria Decision Analysis'!$H$2:$CN$2,MATCH(I115,'Multicriteria Decision Analysis'!$H$118:$CN$118,0))),\"\"),\"\")","v":""}]
[null,null,null,null,null,null,null,{"$f":"IFERROR(IF((COUNTA('A - Policy objectives'!$C$7:$C$35)+COUNTA('B - Technical objectives'!$C$7:$C$82)+COUNTA('C - Data availability'!$C$7:$C$21)-COUNTIF('A - Policy objectives'!$C$7:$C$35,\"Non-essential\")-COUNTIF('B - Technical objectives'!$C$7:$C$82,\"Non-essential\")-COUNTIF('C - Data availability'!$C$21,\"Non-essential\"))>3,INDEX('Multicriteria Decision Analysis'!$H$119:$CN$119,MATCH(I116,'Multicriteria Decision Analysis'!$H$118:$CN$118,0)),\"\"),\"\")","v":""},{"$f":"IF(AND(I115<>\"\",'Multicriteria Decision Analysis'!$H$121>3,'Multicriteria Decision Analysis'!$H$121>=3+COUNT($I$85:$I115)+1),3+COUNT($I$85:$I115)+1,\"\")","v":""},{"$f":"IFERROR(IF((COUNTA('A - Policy objectives'!$C$7:$C$35)+COUNTA('B - Technical objectives'!$C$7:$C$82)+COUNTA('C - Data availability'!$C$7:$C$21)-COUNTIF('A - Policy objectives'!$C$7:$C$35,\"Non-essential\")-COUNTIF('B - Technical objectives'!$C$7:$C$82,\"Non-essential\")-COUNTIF('C - Data availability'!$C$21,\"Non-essential\"))>3,HYPERLINK(INDEX('Multicriteria Decision Analysis'!$H$4:$CN$4,MATCH(I116,'Multicriteria Decision Analysis'!$H$118:$CN$118,0)),INDEX('Multicriteria Decision Analysis'!$H$2:$CN$2,MATCH(I116,'Multicriteria Decision Analysis'!$H$118:$CN$118,0))),\"\"),\"\")","v":""}]
[null,null,null,null,null,null,null,{"$f":"IFERROR(IF((COUNTA('A - Policy objectives'!$C$7:$C$35)+COUNTA('B - Technical objectives'!$C$7:$C$82)+COUNTA('C - Data availability'!$C$7:$C$21)-COUNTIF('A - Policy objectives'!$C$7:$C$35,\"Non-essential\")-COUNTIF('B - Technical objectives'!$C$7:$C$82,\"Non-essential\")-COUNTIF('C - Data availability'!$C$21,\"Non-essential\"))>3,INDEX('Multicriteria Decision Analysis'!$H$119:$CN$119,MATCH(I117,'Multicriteria Decision Analysis'!$H$118:$CN$118,0)),\"\"),\"\")","v":""},{"$f":"IF(AND(I116<>\"\",'Multicriteria Decision Analysis'!$H$121>3,'Multicriteria Decision Analysis'!$H$121>=3+COUNT($I$85:$I116)+1),3+COUNT($I$85:$I116)+1,\"\")","v":""},{"$f":"IFERROR(IF((COUNTA('A - Policy objectives'!$C$7:$C$35)+COUNTA('B - Technical objectives'!$C$7:$C$82)+COUNTA('C - Data availability'!$C$7:$C$21)-COUNTIF('A - Policy objectives'!$C$7:$C$35,\"Non-essential\")-COUNTIF('B - Technical objectives'!$C$7:$C$82,\"Non-essential\")-COUNTIF('C - Data availability'!$C$21,\"Non-essential\"))>3,HYPERLINK(INDEX('Multicriteria Decision Analysis'!$H$4:$CN$4,MATCH(I117,'Multicriteria Decision Analysis'!$H$118:$CN$118,0)),INDEX('Multicriteria Decision Analysis'!$H$2:$CN$2,MATCH(I117,'Multicriteria Decision Analysis'!$H$118:$CN$118,0))),\"\"),\"\")","v":""}]
[null,null,null,null,null,null,null,{"$f":"IFERROR(IF((COUNTA('A - Policy objectives'!$C$7:$C$35)+COUNTA('B - Technical objectives'!$C$7:$C$82)+COUNTA('C - Data availability'!$C$7:$C$21)-COUNTIF('A - Policy objectives'!$C$7:$C$35,\"Non-essential\")-COUNTIF('B - Technical objectives'!$C$7:$C$82,\"Non-essential\")-COUNTIF('C - Data availability'!$C$21,\"Non-essential\"))>3,INDEX('Multicriteria Decision Analysis'!$H$119:$CN$119,MATCH(I118,'Multicriteria Decision Analysis'!$H$118:$CN$118,0)),\"\"),\"\")","v":""},{"$f":"IF(AND(I117<>\"\",'Multicriteria Decision Analysis'!$H$121>3,'Multicriteria Decision Analysis'!$H$121>=3+COUNT($I$85:$I117)+1),3+COUNT($I$85:$I117)+1,\"\")","v":""},{"$f":"IFERROR(IF((COUNTA('A - Policy objectives'!$C$7:$C$35)+COUNTA('B - Technical objectives'!$C$7:$C$82)+COUNTA('C - Data availability'!$C$7:$C$21)-COUNTIF('A - Policy objectives'!$C$7:$C$35,\"Non-essential\")-COUNTIF('B - Technical objectives'!$C$7:$C$82,\"Non-essential\")-COUNTIF('C - Data availability'!$C$21,\"Non-essential\"))>3,HYPERLINK(INDEX('Multicriteria Decision Analysis'!$H$4:$CN$4,MATCH(I118,'Multicriteria Decision Analysis'!$H$118:$CN$118,0)),INDEX('Multicriteria Decision Analysis'!$H$2:$CN$2,MATCH(I118,'Multicriteria Decision Analysis'!$H$118:$CN$118,0))),\"\"),\"\")","v":""}]
[null,null,null,null,null,null,null,{"$f":"IFERROR(IF((COUNTA('A - Policy objectives'!$C$7:$C$35)+COUNTA('B - Technical objectives'!$C$7:$C$82)+COUNTA('C - Data availability'!$C$7:$C$21)-COUNTIF('A - Policy objectives'!$C$7:$C$35,\"Non-essential\")-COUNTIF('B - Technical objectives'!$C$7:$C$82,\"Non-essential\")-COUNTIF('C - Data availability'!$C$21,\"Non-essential\"))>3,INDEX('Multicriteria Decision Analysis'!$H$119:$CN$119,MATCH(I119,'Multicriteria Decision Analysis'!$H$118:$CN$118,0)),\"\"),\"\")","v":""},{"$f":"IF(AND(I118<>\"\",'Multicriteria Decision Analysis'!$H$121>3,'Multicriteria Decision Analysis'!$H$121>=3+COUNT($I$85:$I118)+1),3+COUNT($I$85:$I118)+1,\"\")","v":""},{"$f":"IFERROR(IF((COUNTA('A - Policy objectives'!$C$7:$C$35)+COUNTA('B - Technical objectives'!$C$7:$C$82)+COUNTA('C - Data availability'!$C$7:$C$21)-COUNTIF('A - Policy objectives'!$C$7:$C$35,\"Non-essential\")-COUNTIF('B - Technical objectives'!$C$7:$C$82,\"Non-essential\")-COUNTIF('C - Data availability'!$C$21,\"Non-essential\"))>3,HYPERLINK(INDEX('Multicriteria Decision Analysis'!$H$4:$CN$4,MATCH(I119,'Multicriteria Decision Analysis'!$H$118:$CN$118,0)),INDEX('Multicriteria Decision Analysis'!$H$2:$CN$2,MATCH(I119,'Multicriteria Decision Analysis'!$H$118:$CN$118,0))),\"\"),\"\")","v":""}]
[null,null,null,null,null,null,null,{"$f":"IFERROR(IF((COUNTA('A - Policy objectives'!$C$7:$C$35)+COUNTA('B - Technical objectives'!$C$7:$C$82)+COUNTA('C - Data availability'!$C$7:$C$21)-COUNTIF('A - Policy objectives'!$C$7:$C$35,\"Non-essential\")-COUNTIF('B - Technical objectives'!$C$7:$C$82,\"Non-essential\")-COUNTIF('C - Data availability'!$C$21,\"Non-essential\"))>3,INDEX('Multicriteria Decision Analysis'!$H$119:$CN$119,MATCH(I120,'Multicriteria Decision Analysis'!$H$118:$CN$118,0)),\"\"),\"\")","v":""},{"$f":"IF(AND(I119<>\"\",'Multicriteria Decision Analysis'!$H$121>3,'Multicriteria Decision Analysis'!$H$121>=3+COUNT($I$85:$I119)+1),3+COUNT($I$85:$I119)+1,\"\")","v":""},{"$f":"IFERROR(IF((COUNTA('A - Policy objectives'!$C$7:$C$35)+COUNTA('B - Technical objectives'!$C$7:$C$82)+COUNTA('C - Data availability'!$C$7:$C$21)-COUNTIF('A - Policy objectives'!$C$7:$C$35,\"Non-essential\")-COUNTIF('B - Technical objectives'!$C$7:$C$82,\"Non-essential\")-COUNTIF('C - Data availability'!$C$21,\"Non-essential\"))>3,HYPERLINK(INDEX('Multicriteria Decision Analysis'!$H$4:$CN$4,MATCH(I120,'Multicriteria Decision Analysis'!$H$118:$CN$118,0)),INDEX('Multicriteria Decision Analysis'!$H$2:$CN$2,MATCH(I120,'Multicriteria Decision Analysis'!$H$118:$CN$118,0))),\"\"),\"\")","v":""}]
[null,null,null,null,null,null,null,{"$f":"IFERROR(IF((COUNTA('A - Policy objectives'!$C$7:$C$35)+COUNTA('B - Technical objectives'!$C$7:$C$82)+COUNTA('C - Data availability'!$C$7:$C$21)-COUNTIF('A - Policy objectives'!$C$7:$C$35,\"Non-essential\")-COUNTIF('B - Technical objectives'!$C$7:$C$82,\"Non-essential\")-COUNTIF('C - Data availability'!$C$21,\"Non-essential\"))>3,INDEX('Multicriteria Decision Analysis'!$H$119:$CN$119,MATCH(I121,'Multicriteria Decision Analysis'!$H$118:$CN$118,0)),\"\"),\"\")","v":""},{"$f":"IF(AND(I120<>\"\",'Multicriteria Decision Analysis'!$H$121>3,'Multicriteria Decision Analysis'!$H$121>=3+COUNT($I$85:$I120)+1),3+COUNT($I$85:$I120)+1,\"\")","v":""},{"$f":"IFERROR(IF((COUNTA('A - Policy objectives'!$C$7:$C$35)+COUNTA('B - Technical objectives'!$C$7:$C$82)+COUNTA('C - Data availability'!$C$7:$C$21)-COUNTIF('A - Policy objectives'!$C$7:$C$35,\"Non-essential\")-COUNTIF('B - Technical objectives'!$C$7:$C$82,\"Non-essential\")-COUNTIF('C - Data availability'!$C$21,\"Non-essential\"))>3,HYPERLINK(INDEX('Multicriteria Decision Analysis'!$H$4:$CN$4,MATCH(I121,'Multicriteria Decision Analysis'!$H$118:$CN$118,0)),INDEX('Multicriteria Decision Analysis'!$H$2:$CN$2,MATCH(I121,'Multicriteria Decision Analysis'!$H$118:$CN$118,0))),\"\"),\"\")","v":""}]
[null,null,null,null,null,null,null,{"$f":"IFERROR(IF((COUNTA('A - Policy objectives'!$C$7:$C$35)+COUNTA('B - Technical objectives'!$C$7:$C$82)+COUNTA('C - Data availability'!$C$7:$C$21)-COUNTIF('A - Policy objectives'!$C$7:$C$35,\"Non-essential\")-COUNTIF('B - Technical objectives'!$C$7:$C$82,\"Non-essential\")-COUNTIF('C - Data availability'!$C$21,\"Non-essential\"))>3,INDEX('Multicriteria Decision Analysis'!$H$119:$CN$119,MATCH(I122,'Multicriteria Decision Analysis'!$H$118:$CN$118,0)),\"\"),\"\")","v":""},{"$f":"IF(AND(I121<>\"\",'Multicriteria Decision Analysis'!$H$121>3,'Multicriteria Decision Analysis'!$H$121>=3+COUNT($I$85:$I121)+1),3+COUNT($I$85:$I121)+1,\"\")","v":""},{"$f":"IFERROR(IF((COUNTA('A - Policy objectives'!$C$7:$C$35)+COUNTA('B - Technical objectives'!$C$7:$C$82)+COUNTA('C - Data availability'!$C$7:$C$21)-COUNTIF('A - Policy objectives'!$C$7:$C$35,\"Non-essential\")-COUNTIF('B - Technical objectives'!$C$7:$C$82,\"Non-essential\")-COUNTIF('C - Data availability'!$C$21,\"Non-essential\"))>3,HYPERLINK(INDEX('Multicriteria Decision Analysis'!$H$4:$CN$4,MATCH(I122,'Multicriteria Decision Analysis'!$H$118:$CN$118,0)),INDEX('Multicriteria Decision Analysis'!$H$2:$CN$2,MATCH(I122,'Multicriteria Decision Analysis'!$H$118:$CN$118,0))),\"\"),\"\")","v":""}]
[null,null,null,null,null,null,null,{"$f":"IFERROR(IF((COUNTA('A - Policy objectives'!$C$7:$C$35)+COUNTA('B - Technical objectives'!$C$7:$C$82)+COUNTA('C - Data availability'!$C$7:$C$21)-COUNTIF('A - Policy objectives'!$C$7:$C$35,\"Non-essential\")-COUNTIF('B - Technical objectives'!$C$7:$C$82,\"Non-essential\")-COUNTIF('C - Data availability'!$C$21,\"Non-essential\"))>3,INDEX('Multicriteria Decision Analysis'!$H$119:$CN$119,MATCH(I123,'Multicriteria Decision Analysis'!$H$118:$CN$118,0)),\"\"),\"\")","v":""},{"$f":"IF(AND(I122<>\"\",'Multicriteria Decision Analysis'!$H$121>3,'Multicriteria Decision Analysis'!$H$121>=3+COUNT($I$85:$I122)+1),3+COUNT($I$85:$I122)+1,\"\")","v":""},{"$f":"IFERROR(IF((COUNTA('A - Policy objectives'!$C$7:$C$35)+COUNTA('B - Technical objectives'!$C$7:$C$82)+COUNTA('C - Data availability'!$C$7:$C$21)-COUNTIF('A - Policy objectives'!$C$7:$C$35,\"Non-essential\")-COUNTIF('B - Technical objectives'!$C$7:$C$82,\"Non-essential\")-COUNTIF('C - Data availability'!$C$21,\"Non-essential\"))>3,HYPERLINK(INDEX('Multicriteria Decision Analysis'!$H$4:$CN$4,MATCH(I123,'Multicriteria Decision Analysis'!$H$118:$CN$118,0)),INDEX('Multicriteria Decision Analysis'!$H$2:$CN$2,MATCH(I123,'Multicriteria Decision Analysis'!$H$118:$CN$118,0))),\"\"),\"\")","v":""}]
[null,null,null,null,null,null,null,{"$f":"IFERROR(IF((COUNTA('A - Policy objectives'!$C$7:$C$35)+COUNTA('B - Technical objectives'!$C$7:$C$82)+COUNTA('C - Data availability'!$C$7:$C$21)-COUNTIF('A - Policy objectives'!$C$7:$C$35,\"Non-essential\")-COUNTIF('B - Technical objectives'!$C$7:$C$82,\"Non-essential\")-COUNTIF('C - Data availability'!$C$21,\"Non-essential\"))>3,INDEX('Multicriteria Decision Analysis'!$H$119:$CN$119,MATCH(I124,'Multicriteria Decision Analysis'!$H$118:$CN$118,0)),\"\"),\"\")","v":""},{"$f":"IF(AND(I123<>\"\",'Multicriteria Decision Analysis'!$H$121>3,'Multicriteria Decision Analysis'!$H$121>=3+COUNT($I$85:$I123)+1),3+COUNT($I$85:$I123)+1,\"\")","v":""},{"$f":"IFERROR(IF((COUNTA('A - Policy objectives'!$C$7:$C$35)+COUNTA('B - Technical objectives'!$C$7:$C$82)+COUNTA('C - Data availability'!$C$7:$C$21)-COUNTIF('A - Policy objectives'!$C$7:$C$35,\"Non-essential\")-COUNTIF('B - Technical objectives'!$C$7:$C$82,\"Non-essential\")-COUNTIF('C - Data availability'!$C$21,\"Non-essential\"))>3,HYPERLINK(INDEX('Multicriteria Decision Analysis'!$H$4:$CN$4,MATCH(I124,'Multicriteria Decision Analysis'!$H$118:$CN$118,0)),INDEX('Multicriteria Decision Analysis'!$H$2:$CN$2,MATCH(I124,'Multicriteria Decision Analysis'!$H$118:$CN$118,0))),\"\"),\"\")","v":""}]
[null,null,null,null,null,null,null,{"$f":"IFERROR(IF((COUNTA('A - Policy objectives'!$C$7:$C$35)+COUNTA('B - Technical objectives'!$C$7:$C$82)+COUNTA('C - Data availability'!$C$7:$C$21)-COUNTIF('A - Policy objectives'!$C$7:$C$35,\"Non-essential\")-COUNTIF('B - Technical objectives'!$C$7:$C$82,\"Non-essential\")-COUNTIF('C - Data availability'!$C$21,\"Non-essential\"))>3,INDEX('Multicriteria Decision Analysis'!$H$119:$CN$119,MATCH(I125,'Multicriteria Decision Analysis'!$H$118:$CN$118,0)),\"\"),\"\")","v":""},{"$f":"IF(AND(I124<>\"\",'Multicriteria Decision Analysis'!$H$121>3,'Multicriteria Decision Analysis'!$H$121>=3+COUNT($I$85:$I124)+1),3+COUNT($I$85:$I124)+1,\"\")","v":""},{"$f":"IFERROR(IF((COUNTA('A - Policy objectives'!$C$7:$C$35)+COUNTA('B - Technical objectives'!$C$7:$C$82)+COUNTA('C - Data availability'!$C$7:$C$21)-COUNTIF('A - Policy objectives'!$C$7:$C$35,\"Non-essential\")-COUNTIF('B - Technical objectives'!$C$7:$C$82,\"Non-essential\")-COUNTIF('C - Data availability'!$C$21,\"Non-essential\"))>3,HYPERLINK(INDEX('Multicriteria Decision Analysis'!$H$4:$CN$4,MATCH(I125,'Multicriteria Decision Analysis'!$H$118:$CN$118,0)),INDEX('Multicriteria Decision Analysis'!$H$2:$CN$2,MATCH(I125,'Multicriteria Decision Analysis'!$H$118:$CN$118,0))),\"\"),\"\")","v":""}]
[null,null,null,null,null,null,null,{"$f":"IFERROR(IF((COUNTA('A - Policy objectives'!$C$7:$C$35)+COUNTA('B - Technical objectives'!$C$7:$C$82)+COUNTA('C - Data availability'!$C$7:$C$21)-COUNTIF('A - Policy objectives'!$C$7:$C$35,\"Non-essential\")-COUNTIF('B - Technical objectives'!$C$7:$C$82,\"Non-essential\")-COUNTIF('C - Data availability'!$C$21,\"Non-essential\"))>3,INDEX('Multicriteria Decision Analysis'!$H$119:$CN$119,MATCH(I126,'Multicriteria Decision Analysis'!$H$118:$CN$118,0)),\"\"),\"\")","v":""},{"$f":"IF(AND(I125<>\"\",'Multicriteria Decision Analysis'!$H$121>3,'Multicriteria Decision Analysis'!$H$121>=3+COUNT($I$85:$I125)+1),3+COUNT($I$85:$I125)+1,\"\")","v":""},{"$f":"IFERROR(IF((COUNTA('A - Policy objectives'!$C$7:$C$35)+COUNTA('B - Technical objectives'!$C$7:$C$82)+COUNTA('C - Data availability'!$C$7:$C$21)-COUNTIF('A - Policy objectives'!$C$7:$C$35,\"Non-essential\")-COUNTIF('B - Technical objectives'!$C$7:$C$82,\"Non-essential\")-COUNTIF('C - Data availability'!$C$21,\"Non-essential\"))>3,HYPERLINK(INDEX('Multicriteria Decision Analysis'!$H$4:$CN$4,MATCH(I126,'Multicriteria Decision Analysis'!$H$118:$CN$118,0)),INDEX('Multicriteria Decision Analysis'!$H$2:$CN$2,MATCH(I126,'Multicriteria Decision Analysis'!$H$118:$CN$118,0))),\"\"),\"\")","v":""}]
[null,null,null,null,null,null,null,{"$f":"IFERROR(IF((COUNTA('A - Policy objectives'!$C$7:$C$35)+COUNTA('B - Technical objectives'!$C$7:$C$82)+COUNTA('C - Data availability'!$C$7:$C$21)-COUNTIF('A - Policy objectives'!$C$7:$C$35,\"Non-essential\")-COUNTIF('B - Technical objectives'!$C$7:$C$82,\"Non-essential\")-COUNTIF('C - Data availability'!$C$21,\"Non-essential\"))>3,INDEX('Multicriteria Decision Analysis'!$H$119:$CN$119,MATCH(I127,'Multicriteria Decision Analysis'!$H$118:$CN$118,0)),\"\"),\"\")","v":""},{"$f":"IF(AND(I126<>\"\",'Multicriteria Decision Analysis'!$H$121>3,'Multicriteria Decision Analysis'!$H$121>=3+COUNT($I$85:$I126)+1),3+COUNT($I$85:$I126)+1,\"\")","v":""},{"$f":"IFERROR(IF((COUNTA('A - Policy objectives'!$C$7:$C$35)+COUNTA('B - Technical objectives'!$C$7:$C$82)+COUNTA('C - Data availability'!$C$7:$C$21)-COUNTIF('A - Policy objectives'!$C$7:$C$35,\"Non-essential\")-COUNTIF('B - Technical objectives'!$C$7:$C$82,\"Non-essential\")-COUNTIF('C - Data availability'!$C$21,\"Non-essential\"))>3,HYPERLINK(INDEX('Multicriteria Decision Analysis'!$H$4:$CN$4,MATCH(I127,'Multicriteria Decision Analysis'!$H$118:$CN$118,0)),INDEX('Multicriteria Decision Analysis'!$H$2:$CN$2,MATCH(I127,'Multicriteria Decision Analysis'!$H$118:$CN$118,0))),\"\"),\"\")","v":""}]
[null,null,null,null,null,null,null,{"$f":"IFERROR(IF((COUNTA('A - Policy objectives'!$C$7:$C$35)+COUNTA('B - Technical objectives'!$C$7:$C$82)+COUNTA('C - Data availability'!$C$7:$C$21)-COUNTIF('A - Policy objectives'!$C$7:$C$35,\"Non-essential\")-COUNTIF('B - Technical objectives'!$C$7:$C$82,\"Non-essential\")-COUNTIF('C - Data availability'!$C$21,\"Non-essential\"))>3,INDEX('Multicriteria Decision Analysis'!$H$119:$CN$119,MATCH(I128,'Multicriteria Decision Analysis'!$H$118:$CN$118,0)),\"\"),\"\")","v":""},{"$f":"IF(AND(I127<>\"\",'Multicriteria Decision Analysis'!$H$121>3,'Multicriteria Decision Analysis'!$H$121>=3+COUNT($I$85:$I127)+1),3+COUNT($I$85:$I127)+1,\"\")","v":""},{"$f":"IFERROR(IF((COUNTA('A - Policy objectives'!$C$7:$C$35)+COUNTA('B - Technical objectives'!$C$7:$C$82)+COUNTA('C - Data availability'!$C$7:$C$21)-COUNTIF('A - Policy objectives'!$C$7:$C$35,\"Non-essential\")-COUNTIF('B - Technical objectives'!$C$7:$C$82,\"Non-essential\")-COUNTIF('C - Data availability'!$C$21,\"Non-essential\"))>3,HYPERLINK(INDEX('Multicriteria Decision Analysis'!$H$4:$CN$4,MATCH(I128,'Multicriteria Decision Analysis'!$H$118:$CN$118,0)),INDEX('Multicriteria Decision Analysis'!$H$2:$CN$2,MATCH(I128,'Multicriteria Decision Analysis'!$H$118:$CN$118,0))),\"\"),\"\")","v":""}]
[null,null,null,null,null,null,null,{"$f":"IFERROR(IF((COUNTA('A - Policy objectives'!$C$7:$C$35)+COUNTA('B - Technical objectives'!$C$7:$C$82)+COUNTA('C - Data availability'!$C$7:$C$21)-COUNTIF('A - Policy objectives'!$C$7:$C$35,\"Non-essential\")-COUNTIF('B - Technical objectives'!$C$7:$C$82,\"Non-essential\")-COUNTIF('C - Data availability'!$C$21,\"Non-essential\"))>3,INDEX('Multicriteria Decision Analysis'!$H$119:$CN$119,MATCH(I129,'Multicriteria Decision Analysis'!$H$118:$CN$118,0)),\"\"),\"\")","v":""},{"$f":"IF(AND(I128<>\"\",'Multicriteria Decision Analysis'!$H$121>3,'Multicriteria Decision Analysis'!$H$121>=3+COUNT($I$85:$I128)+1),3+COUNT($I$85:$I128)+1,\"\")","v":""},{"$f":"IFERROR(IF((COUNTA('A - Policy objectives'!$C$7:$C$35)+COUNTA('B - Technical objectives'!$C$7:$C$82)+COUNTA('C - Data availability'!$C$7:$C$21)-COUNTIF('A - Policy objectives'!$C$7:$C$35,\"Non-essential\")-COUNTIF('B - Technical objectives'!$C$7:$C$82,\"Non-essential\")-COUNTIF('C - Data availability'!$C$21,\"Non-essential\"))>3,HYPERLINK(INDEX('Multicriteria Decision Analysis'!$H$4:$CN$4,MATCH(I129,'Multicriteria Decision Analysis'!$H$118:$CN$118,0)),INDEX('Multicriteria Decision Analysis'!$H$2:$CN$2,MATCH(I129,'Multicriteria Decision Analysis'!$H$118:$CN$118,0))),\"\"),\"\")","v":""}]
[null,null,null,null,null,null,null,{"$f":"IFERROR(IF((COUNTA('A - Policy objectives'!$C$7:$C$35)+COUNTA('B - Technical objectives'!$C$7:$C$82)+COUNTA('C - Data availability'!$C$7:$C$21)-COUNTIF('A - Policy objectives'!$C$7:$C$35,\"Non-essential\")-COUNTIF('B - Technical objectives'!$C$7:$C$82,\"Non-essential\")-COUNTIF('C - Data availability'!$C$21,\"Non-essential\"))>3,INDEX('Multicriteria Decision Analysis'!$H$119:$CN$119,MATCH(I130,'Multicriteria Decision Analysis'!$H$118:$CN$118,0)),\"\"),\"\")","v":""},{"$f":"IF(AND(I129<>\"\",'Multicriteria Decision Analysis'!$H$121>3,'Multicriteria Decision Analysis'!$H$121>=3+COUNT($I$85:$I129)+1),3+COUNT($I$85:$I129)+1,\"\")","v":""},{"$f":"IFERROR(IF((COUNTA('A - Policy objectives'!$C$7:$C$35)+COUNTA('B - Technical objectives'!$C$7:$C$82)+COUNTA('C - Data availability'!$C$7:$C$21)-COUNTIF('A - Policy objectives'!$C$7:$C$35,\"Non-essential\")-COUNTIF('B - Technical objectives'!$C$7:$C$82,\"Non-essential\")-COUNTIF('C - Data availability'!$C$21,\"Non-essential\"))>3,HYPERLINK(INDEX('Multicriteria Decision Analysis'!$H$4:$CN$4,MATCH(I130,'Multicriteria Decision Analysis'!$H$118:$CN$118,0)),INDEX('Multicriteria Decision Analysis'!$H$2:$CN$2,MATCH(I130,'Multicriteria Decision Analysis'!$H$118:$CN$118,0))),\"\"),\"\")","v":""}]
[null,null,null,null,null,null,null,{"$f":"IFERROR(IF((COUNTA('A - Policy objectives'!$C$7:$C$35)+COUNTA('B - Technical objectives'!$C$7:$C$82)+COUNTA('C - Data availability'!$C$7:$C$21)-COUNTIF('A - Policy objectives'!$C$7:$C$35,\"Non-essential\")-COUNTIF('B - Technical objectives'!$C$7:$C$82,\"Non-essential\")-COUNTIF('C - Data availability'!$C$21,\"Non-essential\"))>3,INDEX('Multicriteria Decision Analysis'!$H$119:$CN$119,MATCH(I131,'Multicriteria Decision Analysis'!$H$118:$CN$118,0)),\"\"),\"\")","v":""},{"$f":"IF(AND(I130<>\"\",'Multicriteria Decision Analysis'!$H$121>3,'Multicriteria Decision Analysis'!$H$121>=3+COUNT($I$85:$I130)+1),3+COUNT($I$85:$I130)+1,\"\")","v":""},{"$f":"IFERROR(IF((COUNTA('A - Policy objectives'!$C$7:$C$35)+COUNTA('B - Technical objectives'!$C$7:$C$82)+COUNTA('C - Data availability'!$C$7:$C$21)-COUNTIF('A - Policy objectives'!$C$7:$C$35,\"Non-essential\")-COUNTIF('B - Technical objectives'!$C$7:$C$82,\"Non-essential\")-COUNTIF('C - Data availability'!$C$21,\"Non-essential\"))>3,HYPERLINK(INDEX('Multicriteria Decision Analysis'!$H$4:$CN$4,MATCH(I131,'Multicriteria Decision Analysis'!$H$118:$CN$118,0)),INDEX('Multicriteria Decision Analysis'!$H$2:$CN$2,MATCH(I131,'Multicriteria Decision Analysis'!$H$118:$CN$118,0))),\"\"),\"\")","v":""}]
[]
[]
[]
[]
[]
[]
[]
[]
[]
[]
[]
[]
[]
[]
[]
[]
[]
[]
[]
[]
[]
[null,null,null,null,null,null,null,null,null,1]

{"sheet":"Radar Diagram","index":5,"n_rows":5,"n_cols":4,"rows_kept":5,"cut":false,"hidden":true,"merged":[]}
[]
["Methodology","Part A - Policy objectives","Part B - Technical objectives","Part C - Data requirements"]
[{"$f":"IFERROR(IF((COUNTA('A - Policy objectives'!$C$7:$C$35)+COUNTA('B - Technical objectives'!$C$7:$C$82)+COUNTA('C - Data availability'!$C$7:$C$21))>3,\nINDEX('Multicriteria Decision Analysis'!$H$2:$CN$2,MATCH(1,'Multicriteria Decision Analysis'!$H$118:$CN$118,0)),\"\"),\"\")","v":"A methodology to characterize riverine macroplastic emission into the ocean"},{"$f":"IFERROR(IF((COUNTA('A - Policy objectives'!$C$7:$C$35)+COUNTA('B - Technical objectives'!$C$7:$C$82)+COUNTA('C - Data availability'!$C$7:$C$21))>3,\nINDEX('Multicriteria Decision Analysis'!$H$126:$CN$126,MATCH(1,'Multicriteria Decision Analysis'!$H$118:$CN$118,0)),\"\"),\"\")","v":0},{"$f":"IFERROR(IF((COUNTA('A - Policy objectives'!$C$7:$C$35)+COUNTA('B - Technical objectives'!$C$7:$C$82)+COUNTA('C - Data availability'!$C$7:$C$21))>3,\nINDEX('Multicriteria Decision Analysis'!$H$127:$CN$127,MATCH(1,'Multicriteria Decision Analysis'!$H$118:$CN$118,0)),\"\"),\"\")","v":0},{"$f":"IFERROR(IF((COUNTA('A - Policy objectives'!$C$7:$C$35)+COUNTA('B - Technical objectives'!$C$7:$C$82)+COUNTA('C - Data availability'!$C$7:$C$21))>3,\nINDEX('Multicriteria Decision Analysis'!$H$128:$CN$128,MATCH(1,'Multicriteria Decision Analysis'!$H$118:$CN$118,0)),\"\"),\"\")","v":0}]
[{"$f":"IFERROR(IF((COUNTA('A - Policy objectives'!$C$7:$C$35)+COUNTA('B - Technical objectives'!$C$7:$C$82)+COUNTA('C - Data availability'!$C$7:$C$21))>3,\nINDEX('Multicriteria Decision Analysis'!$H$2:$CN$2,MATCH(2,'Multicriteria Decision Analysis'!$H$118:$CN$118,0)),\"\"),\"\")","v":"APLASTIC-Q: Machine learning for aquatic plastic litter detection, classification and quantification"},{"$f":"IFERROR(IF((COUNTA('A - Policy objectives'!$C$7:$C$35)+COUNTA('B - Technical objectives'!$C$7:$C$82)+COUNTA('C - Data availability'!$C$7:$C$21))>3,\nINDEX('Multicriteria Decision Analysis'!$H$126:$CN$126,MATCH(2,'Multicriteria Decision Analysis'!$H$118:$CN$118,0)),\"\"),\"\")","v":0},{"$f":"IFERROR(IF((COUNTA('A - Policy objectives'!$C$7:$C$35)+COUNTA('B - Technical objectives'!$C$7:$C$82)+COUNTA('C - Data availability'!$C$7:$C$21))>3,\nINDEX('Multicriteria Decision Analysis'!$H$127:$CN$127,MATCH(2,'Multicriteria Decision Analysis'!$H$118:$CN$118,0)),\"\"),\"\")","v":0},{"$f":"IFERROR(IF((COUNTA('A - Policy objectives'!$C$7:$C$35)+COUNTA('B - Technical objectives'!$C$7:$C$82)+COUNTA('C - Data availability'!$C$7:$C$21))>3,\nINDEX('Multicriteria Decision Analysis'!$H$128:$CN$128,MATCH(2,'Multicriteria Decision Analysis'!$H$118:$CN$118,0)),\"\"),\"\")","v":0}]
[{"$f":"IFERROR(IF((COUNTA('A - Policy objectives'!$C$7:$C$35)+COUNTA('B - Technical objectives'!$C$7:$C$82)+COUNTA('C - Data availability'!$C$7:$C$21))>3,\nINDEX('Multicriteria Decision Analysis'!$H$2:$CN$2,MATCH(3,'Multicriteria Decision Analysis'!$H$118:$CN$118,0)),\"\"),\"\")","v":"Baseline and power analysis for the assessment of beach litter reductions in the European OSPAR region"},{"$f":"IFERROR(IF((COUNTA('A - Policy objectives'!$C$7:$C$35)+COUNTA('B - Technical objectives'!$C$7:$C$82)+COUNTA('C - Data availability'!$C$7:$C$21))>3,\nINDEX('Multicriteria Decision Analysis'!$H$126:$CN$126,MATCH(3,'Multicriteria Decision Analysis'!$H$118:$CN$118,0)),\"\"),\"\")","v":0},{"$f":"IFERROR(IF((COUNTA('A - Policy objectives'!$C$7:$C$35)+COUNTA('B - Technical objectives'!$C$7:$C$82)+COUNTA('C - Data availability'!$C$7:$C$21))>3,\nINDEX('Multicriteria Decision Analysis'!$H$127:$CN$127,MATCH(3,'Multicriteria Decision Analysis'!$H$118:$CN$118,0)),\"\"),\"\")","v":0},{"$f":"IFERROR(IF((COUNTA('A - Policy objectives'!$C$7:$C$35)+COUNTA('B - Technical objectives'!$C$7:$C$82)+COUNTA('C - Data availability'!$C$7:$C$21))>3,\nINDEX('Multicriteria Decision Analysis'!$H$128:$CN$128,MATCH(3,'Multicriteria Decision Analysis'!$H$118:$CN$118,0)),\"\"),\"\")","v":0}]

{"sheet":"Methodological Approaches","index":6,"n_rows":50,"n_cols":9,"rows_kept":50,"cut":false,"hidden":true,"merged":[[18,0,21,0],[22,0,24,0],[8,2,13,5],[3,2,7,5],[3,0,7,0],[26,0,26,5],[49,0,49,1],[27,0,28,1],[27,2,27,5],[29,0,33,0],[29,2,33,5],[34,0,39,0],[34,2,39,5],[40,0,43,0],[44,0,47,0],[8,0,13,0],[14,0,17,0],[1,0,2,1],[1,2,1,5],[0,0,0,5]]}
["DEFAULT SCORES"]
["POLICY OBJECTIVES",null,"METHODOLOGICAL APPROACHES",null,null,null,null,"Weighting factor for essential components",5]
[null,null,"Transfer Coefficient","MFA","Statistical / Trend Analysis","Hydrological modelling",null,"Weighting factor for important components",2]
["Stage","Developing strategies, policies and commitments","Methodology dependent",null,null,null,null,"Weighting factor for preferred components",1]
[null,"Baselining"]
[null,"Developing and implementing action plans"]
[null,"Monitoring"]
[null,"Benchmarking",null,null,null,null,null,"Key"]
["Scale","Global","Methodology dependent",null,null,null,null,"3 = approach well suited"]
[null,"Regional (multiple countries)",null,null,null,null,null,"2 = approach somewhat suited"]
[null,"National",null,null,null,null,null,"1 = approach poorly suited"]
[null,"Provincial"]
[null,"Municipal"]
[null,"Local"]
["Scope","Pre-leakage / upstream",1,3,1,1]
[null,"Point of plastic emission (sources)",3,3,2,1]
[null,"Plastic discharge to oceans (marine litter)",3,2,3,3]
[null,"State of the environment (accumulations)",1,2,3,2]
["Compartment","Land",3,3,2,2]
[null,"Riverine",2,2,2,3]
[null,"Coastal",1,1,3,3]
[null,"Marine",1,1,3,3]
["Resources available","High",1,3,2,3]
[null,"Medium",2,3,3,3]
[null,"Low",3,2,2,2]
[]
["DYNAMIC SCORES"]
["POLICY OBJECTIVES",null,"METHODOLOGICAL APPROACHES"]
[null,null,"Transfer Coefficient","MFA","Statistical / Trend Analysis","Hydrological modelling"]
["Stage","Developing strategies, policies and commitments","Methodology dependent"]
[null,"Baselining"]
[null,"Developing and implementing action plans"]
[null,"Monitoring"]
[null,"Benchmarking"]
["Scale","Global","Methodology dependent"]
[null,"Regional (multiple countries)"]
[null,"National"]
[null,"Provincial"]
[null,"Municipal"]
[null,"Local"]
["Scope","Pre-leakage / upstream",{"$f":"IF('A - Policy objectives'!$C21=\"Essential\",'Methodological Approaches'!C15*$I$2,IF('A - Policy objectives'!$C21=\"Important\",'Methodological Approaches'!C15*$I$3,IF('A - Policy objectives'!$C21=\"Preferred\",'Methodological Approaches'!C15*$I$4,0)))","v":0},{"$f":"IF('A - Policy objectives'!$C21=\"Essential\",'Methodological Approaches'!D15*$I$2,IF('A - Policy objectives'!$C21=\"Important\",'Methodological Approaches'!D15*$I$3,IF('A - Policy objectives'!$C21=\"Preferred\",'Methodological Approaches'!D15*$I$4,0)))","v":0},{"$f":"IF('A - Policy objectives'!$C21=\"Essential\",'Methodological Approaches'!E15*$I$2,IF('A - Policy objectives'!$C21=\"Important\",'Methodological Approaches'!E15*$I$3,IF('A - Policy objectives'!$C21=\"Preferred\",'Methodological Approaches'!E15*$I$4,0)))","v":0},{"$f":"IF('A - Policy objectives'!$C21=\"Essential\",'Methodological Approaches'!F15*$I$2,IF('A - Policy objectives'!$C21=\"Important\",'Methodological Approaches'!F15*$I$3,IF('A - Policy objectives'!$C21=\"Preferred\",'Methodological Approaches'!F15*$I$4,0)))","v":0}]
[null,"Point of plastic emission (sources)",{"$f":"IF('A - Policy objectives'!$C22=\"Essential\",'Methodological Approaches'!C16*$I$2,IF('A - Policy objectives'!$C22=\"Important\",'Methodological Approaches'!C16*$I$3,IF('A - Policy objectives'!$C22=\"Preferred\",'Methodological Approaches'!C16*$I$4,0)))","v":0},{"$f":"IF('A - Policy objectives'!$C22=\"Essential\",'Methodological Approaches'!D16*$I$2,IF('A - Policy objectives'!$C22=\"Important\",'Methodological Approaches'!D16*$I$3,IF('A - Policy objectives'!$C22=\"Preferred\",'Methodological Approaches'!D16*$I$4,0)))","v":0},{"$f":"IF('A - Policy objectives'!$C22=\"Essential\",'Methodological Approaches'!E16*$I$2,IF('A - Policy objectives'!$C22=\"Important\",'Methodological Approaches'!E16*$I$3,IF('A - Policy objectives'!$C22=\"Preferred\",'Methodological Approaches'!E16*$I$4,0)))","v":0},{"$f":"IF('A - Policy objectives'!$C22=\"Essential\",'Methodological Approaches'!F16*$I$2,IF('A - Policy objectives'!$C22=\"Important\",'Methodological Approaches'!F16*$I$3,IF('A - Policy objectives'!$C22=\"Preferred\",'Methodological Approaches'!F16*$I$4,0)))","v":0}]
[null,"Plastic discharge to oceans (marine litter)",{"$f":"IF('A - Policy objectives'!$C23=\"Essential\",'Methodological Approaches'!C17*$I$2,IF('A - Policy objectives'!$C23=\"Important\",'Methodological Approaches'!C17*$I$3,IF('A - Policy objectives'!$C23=\"Preferred\",'Methodological Approaches'!C17*$I$4,0)))","v":0},{"$f":"IF('A - Policy objectives'!$C23=\"Essential\",'Methodological Approaches'!D17*$I$2,IF('A - Policy objectives'!$C23=\"Important\",'Methodological Approaches'!D17*$I$3,IF('A - Policy objectives'!$C23=\"Preferred\",'Methodological Approaches'!D17*$I$4,0)))","v":0},{"$f":"IF('A - Policy objectives'!$C23=\"Essential\",'Methodological Approaches'!E17*$I$2,IF('A - Policy objectives'!$C23=\"Important\",'Methodological Approaches'!E17*$I$3,IF('A - Policy objectives'!$C23=\"Preferred\",'Methodological Approaches'!E17*$I$4,0)))","v":0},{"$f":"IF('A - Policy objectives'!$C23=\"Essential\",'Methodological Approaches'!F17*$I$2,IF('A - Policy objectives'!$C23=\"Important\",'Methodological Approaches'!F17*$I$3,IF('A - Policy objectives'!$C23=\"Preferred\",'Methodological Approaches'!F17*$I$4,0)))","v":0}]
[null,"State of the environment (accumulations)",{"$f":"IF('A - Policy objectives'!$C24=\"Essential\",'Methodological Approaches'!C18*$I$2,IF('A - Policy objectives'!$C24=\"Important\",'Methodological Approaches'!C18*$I$3,IF('A - Policy objectives'!$C24=\"Preferred\",'Methodological Approaches'!C18*$I$4,0)))","v":0},{"$f":"IF('A - Policy objectives'!$C24=\"Essential\",'Methodological Approaches'!D18*$I$2,IF('A - Policy objectives'!$C24=\"Important\",'Methodological Approaches'!D18*$I$3,IF('A - Policy objectives'!$C24=\"Preferred\",'Methodological Approaches'!D18*$I$4,0)))","v":0},{"$f":"IF('A - Policy objectives'!$C24=\"Essential\",'Methodological Approaches'!E18*$I$2,IF('A - Policy objectives'!$C24=\"Important\",'Methodological Approaches'!E18*$I$3,IF('A - Policy objectives'!$C24=\"Preferred\",'Methodological Approaches'!E18*$I$4,0)))","v":0},{"$f":"IF('A - Policy objectives'!$C24=\"Essential\",'Methodological Approaches'!F18*$I$2,IF('A - Policy objectives'!$C24=\"Important\",'Methodological Approaches'!F18*$I$3,IF('A - Policy objectives'!$C24=\"Preferred\",'Methodological Approaches'!F18*$I$4,0)))","v":0}]
["Compartment","Land",{"$f":"IF('A - Policy objectives'!$C27=\"Essential\",'Methodological Approaches'!C19*$I$2,IF('A - Policy objectives'!$C27=\"Important\",'Methodological Approaches'!C19*$I$3,IF('A - Policy objectives'!$C27=\"Preferred\",'Methodological Approaches'!C19*$I$4,0)))","v":0},{"$f":"IF('A - Policy objectives'!$C27=\"Essential\",'Methodological Approaches'!D19*$I$2,IF('A - Policy objectives'!$C27=\"Important\",'Methodological Approaches'!D19*$I$3,IF('A - Policy objectives'!$C27=\"Preferred\",'Methodological Approaches'!D19*$I$4,0)))","v":0},{"$f":"IF('A - Policy objectives'!$C27=\"Essential\",'Methodological Approaches'!E19*$I$2,IF('A - Policy objectives'!$C27=\"Important\",'Methodological Approaches'!E19*$I$3,IF('A - Policy objectives'!$C27=\"Preferred\",'Methodological Approaches'!E19*$I$4,0)))","v":0},{"$f":"IF('A - Policy objectives'!$C27=\"Essential\",'Methodological Approaches'!F19*$I$2,IF('A - Policy objectives'!$C27=\"Important\",'Methodological Approaches'!F19*$I$3,IF('A - Policy objectives'!$C27=\"Preferred\",'Methodological Approaches'!F19*$I$4,0)))","v":0}]
[null,"Riverine",{"$f":"IF('A - Policy objectives'!$C28=\"Essential\",'Methodological Approaches'!C20*$I$2,IF('A - Policy objectives'!$C28=\"Important\",'Methodological Approaches'!C20*$I$3,IF('A - Policy objectives'!$C28=\"Preferred\",'Methodological Approaches'!C20*$I$4,0)))","v":0},{"$f":"IF('A - Policy objectives'!$C28=\"Essential\",'Methodological Approaches'!D20*$I$2,IF('A - Policy objectives'!$C28=\"Important\",'Methodological Approaches'!D20*$I$3,IF('A - Policy objectives'!$C28=\"Preferred\",'Methodological Approaches'!D20*$I$4,0)))","v":0},{"$f":"IF('A - Policy objectives'!$C28=\"Essential\",'Methodological Approaches'!E20*$I$2,IF('A - Policy objectives'!$C28=\"Important\",'Methodological Approaches'!E20*$I$3,IF('A - Policy objectives'!$C28=\"Preferred\",'Methodological Approaches'!E20*$I$4,0)))","v":0},{"$f":"IF('A - Policy objectives'!$C28=\"Essential\",'Methodological Approaches'!F20*$I$2,IF('A - Policy objectives'!$C28=\"Important\",'Methodological Approaches'!F20*$I$3,IF('A - Policy objectives'!$C28=\"Preferred\",'Methodological Approaches'!F20*$I$4,0)))","v":0}]
[null,"Coastal",{"$f":"IF('A - Policy objectives'!$C29=\"Essential\",'Methodological Approaches'!C21*$I$2,IF('A - Policy objectives'!$C29=\"Important\",'Methodological Approaches'!C21*$I$3,IF('A - Policy objectives'!$C29=\"Preferred\",'Methodological Approaches'!C21*$I$4,0)))","v":0},{"$f":"IF('A - Policy objectives'!$C29=\"Essential\",'Methodological Approaches'!D21*$I$2,IF('A - Policy objectives'!$C29=\"Important\",'Methodological Approaches'!D21*$I$3,IF('A - Policy objectives'!$C29=\"Preferred\",'Methodological Approaches'!D21*$I$4,0)))","v":0},{"$f":"IF('A - Policy objectives'!$C29=\"Essential\",'Methodological Approaches'!E21*$I$2,IF('A - Policy objectives'!$C29=\"Important\",'Methodological Approaches'!E21*$I$3,IF('A - Policy objectives'!$C29=\"Preferred\",'Methodological Approaches'!E21*$I$4,0)))","v":0},{"$f":"IF('A - Policy objectives'!$C29=\"Essential\",'Methodological Approaches'!F21*$I$2,IF('A - Policy objectives'!$C29=\"Important\",'Methodological Approaches'!F21*$I$3,IF('A - Policy objectives'!$C29=\"Preferred\",'Methodological Approaches'!F21*$I$4,0)))","v":0}]
[null,"Marine",{"$f":"IF('A - Policy objectives'!$C30=\"Essential\",'Methodological Approaches'!C22*$I$2,IF('A - Policy objectives'!$C30=\"Important\",'Methodological Approaches'!C22*$I$3,IF('A - Policy objectives'!$C30=\"Preferred\",'Methodological Approaches'!C22*$I$4,0)))","v":0},{"$f":"IF('A - Policy objectives'!$C30=\"Essential\",'Methodological Approaches'!D22*$I$2,IF('A - Policy objectives'!$C30=\"Important\",'Methodological Approaches'!D22*$I$3,IF('A - Policy objectives'!$C30=\"Preferred\",'Methodological Approaches'!D22*$I$4,0)))","v":0},{"$f":"IF('A - Policy objectives'!$C30=\"Essential\",'Methodological Approaches'!E22*$I$2,IF('A - Policy objectives'!$C30=\"Important\",'Methodological Approaches'!E22*$I$3,IF('A - Policy objectives'!$C30=\"Preferred\",'Methodological Approaches'!E22*$I$4,0)))","v":0},{"$f":"IF('A - Policy objectives'!$C30=\"Essential\",'Methodological Approaches'!F22*$I$2,IF('A - Policy objectives'!$C30=\"Important\",'Methodological Approaches'!F22*$I$3,IF('A - Policy objectives'!$C30=\"Preferred\",'Methodological Approaches'!F22*$I$4,0)))","v":0}]
["Resources available","High, Medium, Low",{"$f":"IF('A - Policy objectives'!$C$37=\"High\",'Methodological Approaches'!C23,IF('A - Policy objectives'!$C$37=\"Medium\",'Methodological Approaches'!C24,IF('A - Policy objectives'!$C$37=\"Low\",'Methodological Approaches'!C25,0)))*$I$2","v":0},{"$f":"IF('A - Policy objectives'!$C$37=\"High\",'Methodological Approaches'!D23,IF('A - Policy objectives'!$C$37=\"Medium\",'Methodological Approaches'!D24,IF('A - Policy objectives'!$C$37=\"Low\",'Methodological Approaches'!D25,0)))*$I$2","v":0},{"$f":"IF('A - Policy objectives'!$C$37=\"High\",'Methodological Approaches'!E23,IF('A - Policy objectives'!$C$37=\"Medium\",'Methodological Approaches'!E24,IF('A - Policy objectives'!$C$37=\"Low\",'Methodological Approaches'!E25,0)))*$I$2","v":0},{"$f":"IF('A - Policy objectives'!$C$37=\"High\",'Methodological Approaches'!F23,IF('A - Policy objectives'!$C$37=\"Medium\",'Methodological Approaches'!F24,IF('A - Policy objectives'!$C$37=\"Low\",'Methodological Approaches'!F25,0)))*$I$2","v":0}]
["Score",null,{"$f":"IF((COUNTA('A - Policy objectives'!$C$21:$C$35)-COUNTIF('A - Policy objectives'!$C$21:$C$35,\"Non-essential\"))>3,SUM(C41:C49),0)","v":0},{"$f":"IF((COUNTA('A - Policy objectives'!$C$21:$C$35)-COUNTIF('A - Policy objectives'!$C$21:$C$35,\"Non-essential\"))>3,SUM(D41:D49),0)","v":0},{"$f":"IF((COUNTA('A - Policy objectives'!$C$21:$C$35)-COUNTIF('A - Policy objectives'!$C$21:$C$35,\"Non-essential\"))>3,SUM(E41:E49),0)","v":0},{"$f":"IF((COUNTA('A - Policy objectives'!$C$21:$C$35)-COUNTIF('A - Policy objectives'!$C$21:$C$35,\"Non-essential\"))>3,SUM(F41:F49),0)","v":0}]

{"sheet":"Assessment Framework","index":7,"n_rows":103,"n_cols":37,"rows_kept":103,"cut":false,"hidden":true,"merged":[[49,2,50,2],[51,2,58,2],[59,2,63,2],[18,2,21,2],[30,2,43,2],[1,2,7,2],[8,2,11,2],[12,2,17,2],[22,2,25,2],[26,2,29,2],[1,0,7,0],[18,1,21,1],[1,1,7,1],[12,1,17,1],[8,1,11,1],[8,0,29,0],[22,1,25,1],[26,1,29,1],[74,2,85,2],[71,2,73,2],[30,0,73,0],[30,1,43,1],[74,0,86,0],[71,1,73,1],[74,1,86,1],[64,2,65,2],[44,1,48,1],[44,2,48,2],[64,1,65,1],[66,1,70,1],[66,2,70,2],[49,1,50,1],[51,1,58,1],[59,1,63,1]]}
["Framework","Primary category","Primary category definition","Secondary category","Secondary category definition","Unit type",1,2,3,4,5,6,7,8,9,10,11,12,13,14,15,16,17,18,19,20,21,22,23,24,25,26,27,28,29,30,31]
["Assessment details and contact information framework","Assessment details","Key information relating to assessment name and organization","Assessment name","Name of the plastic pollution assessment methodology or title of paper/report if no official name given.","Text","A methodology to characterize riverine macroplastic emission into the ocean","APLASTIC-Q: Machine learning for aquatic plastic litter detection, classification and quantification","Baseline and power analysis for the assessment of beach litter reductions in the European OSPAR region","Basel Convention Toolkits for Plastic Waste Inventory","Beach-litter baselines","Circularity Assessment Protocol","Closing the Mediterranean Marine Floating Plastic Mass Budget: Inverse Modelling of Sources and Sinks","From Land to Sea – model for the documentation of land-sourced plastic litter","Full Circle - PET Collection, Landfill and Environmental Leakage Rates in Southeast Asia","Global Plastic Pollution Survey","High-Resolution Mapping of Japanese Microplastic and Macroplastic Emissions from the Land into the Sea","Identification of sources of marine litter using a Likelihood Matrix Scoring Technique","ISWA Plastic Pollution Calculator","Marine Debris Action Planner (MDAP)","National Guidance for Plastic Pollution Hotspotting and Shaping Action","OSPAR Litter Analyst","P2O","Pathways Tool","Plastic Drawdown","Plastic Leak Project (PLP) / Plastic Footprint Network (PFN)","Plastic Pathfinder","Plastic waste discharges from rivers and coastlines in Indonesia","Polymer-Specific Modeling of the Environmental Emissions of Seven Commodity Plastics As Macro- and Microplastics","RIMMEL","Risk and Warning System for Macroplastic Litter","Simple model estimates of input of marine plastic into the sea, from land-based sources, fisheries and remote sources (via ocean).","Simulation of dispersion and accumulation of marine debris using numerical models, including particle-tracking","SPOT model","The effect of tidal fluctuation on the accumulation of plastic debris in the Wonorejo River Estuary, Surabaya, Indonesia","Waste Flow Diagram","Wasting the North Sea - A field-based assessment of anthropogenic macrolitter loads and emission rates of three German tributaries"]
[null,null,null,"Organization(s) / Author(s)","Name of organization(s) or authors for academic papers","Text","Van Emmerik et al.","World Bank, Wolf et al","Schulz et al.","Basel Convention","EU Joint Research Centre (Hanke et al)","Circularity Informatics Lab (CIL)","Kaandorp et al","Consultic / BKV","GA Circular","CSIRO","Nihei et al","Tudor & Williams\n","ISWA, University of Leeds","GRID-Arendal, SALT","UNEP, IUCN, EA, Quantis, Life Cycle Initiative","OSPAR \nSchulz et al","The PEW Charitable Trusts, SYSTEMIQ, University of Leeds, University of Oxford","PEW, Oxford University","Common Seas","Quantis / EA","Mellink et al.","World Bank, Deltares, Haskoning PT","Kawecki and Nowack","European Commission Joint Research Centre (JRC)","UNEP, DHI","Turrell","Several (e.g. Soto-Navarro et al, 2020; Deltares; KTH - Royal Institute of Technology, 2018; van der Mheen, 2020; Mansui et al, 2020)","University of Leeds","Kurniawan and Imron","GIZ, University of Leeds, Eawag-Sandec, Wasteaware","Schöneich-Argent et al"]
[null,null,null,"URL (if available)","Website address of plastic pollution assessment methodology","URL","https://doi.org/10.3389/fmars.2018.00372","https://iopscience.iop.org/article/10.1088/1748-9326/abbd01","https://www.sciencedirect.com/science/article/pii/S0269749118350565","http://www.basel.int/Countries/NationalReporting/Toolkitsforwasteinventory/tabid/9043/Default.aspx","https://mcc.jrc.ec.europa.eu/main/dev.py?N=41&O=452","https://www.circularityinformatics.org","https://pubs.acs.org/doi/10.1021/acs.est.0c01984","https://www.bkv-gmbh.de/plastics-in-the-environment.html","https://www.gacircular.com/_files/ugd/d424f7_d612161763824d3b9fbbf00affea9a9f.pdf","https://research.csiro.au/marinedebris/projects/globalplasticsleakageproject","https://www.mdpi.com/2073-4441/12/4/951","https://doi.org/10.1652/1400-0350(2004)010[0119:DOAMST]2.0.CO;2","https://plasticpollution.leeds.ac.uk/toolkits/calculator","https://www.sciencedirect.com/science/article/pii/S0025326X18308762","https://plastichotspotting.lifecycleinitiative.org","https://www.sciencedirect.com/science/article/pii/S0025326X17305246","https://science.sciencemag.org/content/369/6510/1455","https://www.pewtrusts.org/en/research-and-analysis/fact-sheets/2022/09/a-new-tool-can-help-address-ocean-plastic-pollution","https://doi.org/10.1016/j.gloenvcha.2021.102442","https://quantis.com/who-we-guide/our-impact/sustainability-initiatives/plastic-leak-project/","https://doi.org/10.3389/fenvs.2022.979685","https://documents.worldbank.org/en/publication/documents-reports/documentdetail/146261621356766241/main-report","https://pubs.acs.org/doi/10.1021/acs.est.9b02900","https://mcc.jrc.ec.europa.eu/main/dev.py?N=simple&O=394&titre_page=RIMMEL%2520observation%2520Network","https://www.dhigroup.com/global/news/2022/02/stopping-plastic-pollution,-c-,-early-warning-system-forecasts-river-plastic-flows-to-oceans","https://doi.org/10.1016/j.marpolbul.2019.110725","https://doi.org/10.1088/1748-9326/ab6d7d","https://plasticpollution.leeds.ac.uk/toolkits/spot","https://www.sciencedirect.com/science/article/pii/S2352186419301671","https://wfd.rwm.global","https://doi.org/10.1016/j.envpol.2020.114367"]
[null,null,null,"Objectives","Objectives","Text","To quantify riverine macroplastic emissions into oceans and account for temporal variations.","Detecting and quantifying floating and washed ashore plastic litter using machine learning image recognition techniques.","Establishes a baseline of beach litter abundance and estimates the minimum number of required beach litter surveys in order to detect a certain reduction in abundance.","Two toolkits are made available from the Basel Convention, each of which is run independently. The 'Consumption-Lifespan' method developed by UNITAR aims to calculate the mass of plastc placed on market and becoming waste within a Country. The second toolkit known as the 'Material Flow Analysis Method' was developed by Resource Futures and aims to map the flows of plastic waste throughout the solid waste management system, including emissions into the environment. Only the 'Material Flow Analysis' method falls within scope for this toolkit due to it quantifying plastic pollution rather than just plastic waste.","Develop a harmonised baseline of beach litter using existing sampling data","The Circularity Assessment Protocol (CAP) is designed to analyse consumer plastic waste in a community (city) including its leakage into the environment.","To improve understanding of possible sources and fate of plastics within the ocean.","Developed by Consultic and BKV, the plastic pollution assessment model entitled ‘From the land to the sea – land-based model to capture plastic waste’ aims to identify the land-based sources and pathways of marine litter. ","Maps PET plastic bottles for the entire life cycle, including amounts produced, recycled, landfilled and leaked in the environment,","Developed by the Commonwealth Scientific and Industrial Research Organisation (CSIRO) in Australia, this plastic pollution assessment methodology estimates the sources, distribution and movement of plastic waste in the environment.","To derive high-resolution maps of plastic waste in the environment and estimate the amount of this transferring to oceans.","Identify sources of marine litter for a certain site/area. ","Developed as part of the International Solid Waste Associations Task Force on Marine Litter, the Plastic Pollution Calculator’s aims to map the flows of plastic waste in the solid waste management system and the environment, enabling action plans to be developed and interventions to be prioritised.","Predict litter accumulation hotspots for the coastlines.","The National Guidance for Plastic Pollution Hotspotting and Shaping Action methodology developed by UNEP and IUCN aims to both identify plastic pollution hotspots and shape corresponding actions. ","A statistical software package, OSPAR Litter Analyst, was produced for analysing beach litter data with the aim of compiling the most optimal statistical methodologies for analysing litter abundance and trends.","To examine scenarios for reducing plastic emissions to the ocean.","To Pathways Tool is a flexible piece of software that builds upon the P2O (Breaking the Plastic Wave) tool by allowing users to perform material flow analysis with customizable intervenions, projections and uncertainty incorporated.","Plastic Drawdown aims to baseline a countries plastic pollution up to 2030 and visualise how varies interventions may reduce it.","The Plastic Leak Project (PLP) aims to enable companies to inventory plastic waste flows, including those related to plastic production, packaging, products amongst other sources. Updated data and support is available through the Plastic Footprint Network (PFN).","To map the movement of plastic across land.","Estimate a national baseline of plastic waste discharges from land-based sources, via rivers and coastlines, integrating hydrology","Map the flows of seven polymers within a country including their loss to the environment.","The Riverine and Marine floating macro litter Monitoring and Modelling of Environmental Loading (RIMMEL) aimsat harmonizing data collection and reporting for macro-litter observations.","To forecast freshwater river hotspots of macroplastic accumulation for up to nine months in the future.","A model to estimate annual inputs and outputs of macro- and microplastics to a region of sea.","To track the fate of debris by simulating pre-defined environmental conditions.","SPOT is local-to-global model for generating macroplastic emission inventories at all scales. SPOT predicts the origins, transportation pathways, and sink hotspots of plastic pollution, as well as estimating SDG11.6.1 - degree of controlled waste management in a city.","The method aims to understand the effect of tide levels on debris distribution along the coastline. This was applied for the case study site of the Wonorejo River Estuary in Surabay, Indonesia","To allow rapid quantification of a cities plastic pollution.","Assessment of macroplastic emissions from rivers using sampling data from embankments, river surface, water colums and river beds."]
[null,null,null,"Methodology","Methodology","Text","Visual counting of floating macroplastic at various points across a river width is undertaken to determine the plastic flux profile. Measurements are also taken using static bridge-mounted trawls to determine the composition that is plastic. This data is then combined with hydology data of the river in order to extrapolate the sampled plastic to daily, monthly or annual estimations of plastic emission to oceans. Adaptions to this method include the use of unmanned aerial vehicles for counting plastic floating in rivers, and tthe use of passive sampling in the river to supplement the visual observations.","The machine learning algorithm is based on convolutional neural networks (CNNs) and was trained using geospatial imagery from aerial drone surveys in Cambodia. Comprised of two parts, APLASTIC-Q first detects plastic litter against water, sand or vegetation with an 83% accuracy, before quantifying the count of different plastic items (e.g. bottles, polystyrene packaging etc.), accounting for aggregated litter.","Methodology applied in the European OSPAR region. A variety of statistical analyses are conducted on data from the OSPAR beach litter database between 2001-2017. The types of analyses included performing standard descriptive statistics, trend analyses and power analyses using the Wilcoxon test. Only the power analyses were relevant for the estimation of the minimum number of required surveys to detect a significant reduction in beach litter. All the analyses carried out have been made available as an open-source software package, litteR, which was developed to support policy makers for plastic litter assessments. ","The 'Material Flow Analysis Method' uses data on the solid waste management system to map the flows of plastic, before using an adaption of the Waste Flow Diagram methodology to estimate plastic emissions into the environment.","In this study, data from all EU regions were analysed and baselines were calculated at different spatial scales i.e. country, regional and EU-level. This was done for the year 2015 and 2016. An important aspect of the methodology is data quality assurance and control, which includes harmonization of methodologies and preparing data such that comparative analysis can be performed. The baseline can further be linked to a threshold value, defined as the 10th percentile of the total litter abundance from all European beaches.\n\n","The protocol focuses on seven spokes over which information of plastic use, flows and its management are collected. These spoke are: Input, Community, Product Design, Use, Collection, End of Cycle, and Leakage. Apps such as the marine debris tracker are used to assess the amount and composition of plastic in the environment, where as field assessments and stakeholder interviews are used to collect data on the non-leakage spokes.","An inverse modelling approach, based on the OceanParcels Lagrangian ocean analysis framework, was used to estimate quantities of floating plastics in the ocean. Field measurements of plastics were carried out and used for model parameterization. The methodology was applied for the case study of the Mediterranean Sea.","A transfer coefficient approach is taken whereby initial flows of inadequately disposed waste are multiplied by coefficients to estimate the quantity entering the ocean. ","This assessment methodology uses industry data to understand the market input of PET bottles. This is then allocated to locations based on consumption data before distributing this further between disposal, collection for recycling (formal and informal) or environmental leakage using primary data collection, stakeholder interviews and secondary literature data. Whilst applied on the city scale, the results are estimated nationally by accounting differences in urban-rural compositions, waste collection coverages and the presence of the informal sector. The methodology was appied for six countries in Southeast Asia.","Field measurements are combined with mathematical modelling to estimate the sources, distributions and movement of plastic waste. Field measurements involve performing surveys of plastic waste found inland, in rivers, in coastal areas, and in the nearshore area. Questionnaires on land use and waste management practices feed into statistical models which allow the key sources to be identified and the surveys to be extrapolated, resulting in maps of plastic pollution sources, pathways and amounts entering oceans. ","The methodology was applied for the case study of Japan. 1-km resolution maps of microplastic concentrations were produced by interpolating field observations of microplastics derived from surveys of 70 rivers and 90 study sites across Japan, to socio-economic parameters including population density and the urban area ratio. Based on previous studies, macroplastic concentrations can be obtained by applying a multiplication coefficient to the microplastic concentrations. The final plastic leakage output is produced by combining the map of concentrations with the output from a simple water balance model.","Originally developed by Tudor & Williams (2004) and put forward by the EU Technical Group Marine Litter (TGML), this approach considers individual beach litter item categories and assesses the likelihood of it originating from a series of potential sources (i.e. the economic sectors, such as fisheries, shipping, coastal tourism, households, etc) taking into account the identity and function of the item, the beach location in terms of influence of particular activities and potential sources of litter, the “mix” of litter found, any indicator-items present and their quantity. ","Its approach relies on performing material flow analysis across several plastic item types and multiple waste generating sources (e.g. households, retail, etc). Plastic emissions and their transportation on land is estimated via conceptual models using details on the socioeconomics, meteorology, infrastructure and waste management practices. By relating the plastic pollution sources to the local details of waste management infrastructure and practices, the Calculator can provide casuality behind emissions and therefore identify targeted policy and engineering interventions. The Calculator is applied at an intracity ‘neighbourhood’ level but can be scaled to a larger city, regional or provincial level.","A combination of environmental variables including the steepness of the area, morphology of the coastline, hydro-meteo and socio-economic parameters are fed into a GIS-based plastic predictive model to estimate likely areas of litter accumulation on coastlines. Methodology was applied for the case stuydy of the Norwegian coastline.","The guidance itself acts as a framework for stakeholders at the national, sub-national, and local level, allowing a harmonised approach for benchmarking and identification of interventions. Nine modules make up the framework, with the first six using a top-dwn approach to model the plastic flows, waste management system, hotspots and impacts, before the latter three identify the hotspots to prioritise and suggest appropriate interventions. These hotspots are multifaceted, relating to either key locations, sources, polymers, applications or industrial sectors. \nPlastic flows are calculated by performing mass balance operations between plastic production and imports, balanced against the generation of waste and exports. Leakage to the environment is then determined from these flows by applying loss rates calculated according to the approach used in the Plastic Leak Project methodology. Hotspots are prioritised according to either absolute leakage, relative leakage or potential impacts; before matching against a list of interventions. These interventions can be further prioritised and matched against specific instruments by which they can be delivered.  ","Commissioned by the Directorate-General for Public Works and Water Management , the Litter Analyst is an openly-available Windows-based program for performing in-depth statistical analyses on beach litter data, using data imported from the OSPAR beach litter database. The statistical methodologies implemented within the program includes both basic descriptive statistics and more advanced methodologies for trend analyses","Developed to perform global flow modelling as part of a project funded by The Pew Charitable Trust which examined scenarios to reduce plastic emissions to the oceans to near zero by 2040. The model characterises municipal plastic stocks and flows for land-based sources of plastic pollution, using coupled ordinary differential equations to model five scenarios up until 2040. Costs are further incorporated into the model, calculated as a function of the mass flows and all parameters are capable of being represented graphically using a wedges type illustration  (as first applied in climate change for visualising how interventions can combine to meet targets) to signify the joint impact of interventions  towards reaching emission targets.\nPlastic is represented by 4 categories, namely rigid, flexible, multi-material and microplastic in order to account for the differences in the value chain of each. Currently the model is applied according to eight archetypes based on the income group and rurality. Subdivisions of each of these archetypes according to the distance that populations live from rivers, lakes and coastal waters. The model was applied globally but has the potential to be adapted to national resolution.","No strict methodology exists given the tool can be adapted to map waste flows in any system. However, given its relationship to the P2O (Breaking the Plastic Wave) model, the framework here has been completed assuming the same general scope, albeit with more flexability given to the scale and flows modelled.","The assessment methodology uses consumption data to model a countries plastic waste generation across 24 macroplastic and 5 microplastic items. Plastic pollution sources and pathways are then mapped across the system over time, developing a Business-as-usual (BAU) scenario. Policy wedges are allocated with time, showing potential plastic pollution savings compared to the BAU scenario.","The PLP / PFN methodology targets both mismanaged macro and microplastic waste by mapping flows. Using a transfer coefficient approach, default values are provided within the guidelines for areas where data availability is lacking.","The methodology is based on a framework that takes mismanged plastic waste and applies thresholds that dictate when the plastic may move due to environmental conditions (e.g. wind speed). The movement of the plastic is mapped across a 2D matrix of grid cells with time but stops at the point at which plastic enters the aquatic environment (e.g. rivers)","This approach integrates data of waste generation and waste management performance in a country with the hydrological conditions which carry plastic waste from land-based sources into the marine environment. Material flow analysis was used to map flows of waste and estimate mismanaged palstic waste. An existing hydrological model (WFLOW) is used alongside a fate and transport model (DELWAQ) to estimate the amount, location and time that this may enter marine environments. The methodology was applied to the case study of Indonesia.","Released as academic papers (Kawecki et al., 2019, Kawecki and Nowack, 2020), this plastic pollution assessment methodology uses probabilistic material flow analysis to quantify the flows of polymers within a country. Uncertainty is incorporated via the use of Monte Carlo analysis with probability distributions determined for each transfer coefficient according to the available data and its assessed reliability. \nWith both a macro- and microplastics focus, the assessment methodology considers the life cycle flows of seven polymers from production, manufacturing, use, to end-of-life. With relevance to macroplastic emissions, emphasis is given to the processes of littering, dumping, flushing of waste, contamination of organic waste and unintentional release due to weather or transportation. Applied across Switzerland, recent developments to the methodology have seen the addition of GIS capabilities using proxies such as land use, population density, traffic and construction to spatially resolve the emissions.","Using the Riverine Litter Observation Network (RiLON), RIMMEL collects data on riverine floating macro litter inputs into the ocean. Data from visual observations are collected and documented using JRC’s Floating Litter Monitoring Application for mobile devices, which was harmonized with the EU Marine Strategy Framework Directive (MSFD) Master List of Categories for Litter Items.","The model works in real-time and uses DHI Global Hydrological Model alongside estimates of plastic in the environment from the University of Leeds SPOT model, to calculate simulations of plastic accummulation for over 870,000 points along rivers worldwide. ","The approach uses estimates of land-based sources from published studies and scaled it to the relevant catchment area population size. For the marine domain, supply of floating plastics is estimated for wind-driven and general circulation sources. In addition, direct inputs from fishing and settling of macroplastics onto the seabed are included in the model. Finally, basic descriptive statistics are used to estimate the level of uncertainty. The model has been applied for the case study of the Scottish Atlantic Coast and the Scottish North Sea Coast.","These approaches typically employ a numerical modelling approach and are typically used for tracking the fate of debris or the transport behaviour within the ocean or inland waterway. See the description within each model for more detailed information. ","SPOT is a bottom up model that uses data on solid waste management at a municipal level to map the flows of waste and plastc emissions into the environment creating a macroplastic pollution emission inventory. Machine learning allows data gaps to be filled for municipalities without data, whilst local results are aggregated to the desired reporting scale (e.g. National level or above). GIS hydrodynamic transportation capabilities  spatially map the flows of plastic emissions from land into rivers and to the ocean, accounting for local hydrology, land use, meteorology and the physical properties of the plastic item itself. Temporal elements such as plastic stocks are incorporated into GIS-approach, allowing detailed analysis of plastic movements and how these vary with time. Although SPOT is a global model with periodic results released, the model can also be ran for set regions or countries using national datasets and more detailed analysis,","Using three sampling locations and statistical tests, the distribution of the data and its correlation with tide levels is analysed.","A combination of material flow analysis alongside observational based asssessments of a cities waste management system allow municipal solid waste flows and plastic emissions to be estimated and assigned to a variety of sources. Existing data can be used for the material flow analysis if available, or to toolkit can automatically work alongside the Waste Wise Cities Tool to measure crucial data points such as waste generation and composition.","The methodology uses a holistic data collection approach  covering four river compartments: banks, surfaces, water columns and river beds. Ttwo upscaling approaches then allow extrapolation from measurements to daily and annual fluxes of floating and suspended litter. The methodology was applied in the linked study for three rivers in Germany. "]
[null,null,null,"Key outputs","Key outputs","Text","Estimates of daily, monthly and annual plastic emissions from a river.","Quantification (counts) of plastic items in the environment.","A sufficiently stable and precise baseline value for beach litter and a the number of beach litter surveys necessary to detect reductions ","Outputs include plastic waste generation, flows of plastic waste in the solid waste management system, and quantifcation of plastic emissions into the environment.","A baseline of beach litter at different spatial scales","Outputs include identification of plastic waste mamagement issues within a community and suggestions of opportunities to increase circularity.","Model parameters such as time scale for sinks and likely sources of floating plastic. For the Mediterranean Sea, a little more than half of plastics end up stranded, while close to half of plastics end up sinking. A major source of plastics has been identified as originating from coastal  settlements \n","Outputs includes analysis of emissions of plastic from littered waste entering rivers, coastal litter, inland waterways shipping, ports and landfills","Model outputs include the quantification of PET bottle recycling, disposal, informal sector contribution and environmental leakage.","The outputs allow a benchmark of plastic waste on land and entering oceans.","A nation-wide map of plastic waste in the environment with estimates of amounts entering oceans.","Relative contribution of different economic sectors and human activities to the marine litter pollution recorded in a certain area","Outputs include quantification of plastic pollution sources, pathways and sinks, along with identifying targeted engineering and policy interventions to stop the plastic pollution at source.","An interactive, map-based decision support system, including litter accumulation likelihood ","Identification of plastic pollution hotspots and selection of prioritised interventions","Statistics of beach litter","Projections of how various policy and engineering interventions can combine to reduce plastic pollution to target levels.","Mapping of plastic waste flows with projections for reducing plastic pollution based on implementation of interventions. ","Informs on the best combination of policies to meet targets.","Outputs are quantifications of plastic flows from their initial loss into the environment through to their eventual final compartment such as entering the ocean of retained in soils."," Outputs including estimates of the distribution of mismanaged plastic waste with time at a river basin scale.","A country-wide representation of mismanaged plastic waste generated, carried and discharged by runoff and rivers, with high spatial and temporal resolution. The outputs include: plastic waste material flow, disaggregated per administrative units; on a basin-scale, modelling of the wash-off of plastic waste from land, as a result of rainfall and runoff; and modelling transport downstream and discharge into the marine environment. This modelling approach offers a detailed representation of the variability in time and in space of the relation between plastic waste generated, plastic washed off and plastic input into the sea. ","Quantification of macro and micro plastic pollution across all environmental compartments on a polymer basis.","A list of the most frequently occurring floating macro-litter items that enter seas via riverine input.","Forecasts of macroplastic accumulation in rivers with high temporal resolution. Results of the global model are made available via the GPML Platform","Annual estimated input of macro and microplastics into marine waters.","A simulation of the fate and transport of litter within a system. These can be used identifying potential accumulation hotspots and can subsequently be utilized for guiding intervention measures. ","Outputs include quantification of sources of plastic pollution by municipality (emissions inventory) as well as hotspot maps of plastic in the environment and pathways by which it moves.","Evidence of tidal influence on beach debris and most abundant polymers.","Quantification of plastic emissions by different sources and visualisation of municipal solid waste flows by material in the form of sankey diagrams.","Emissions of macroplastic from rivers at a daily and annual temporal resolution."]
[null,null,null,"Year released","Year of initial release","Year",2018,2020,2019,2021,2020,2020,2020,2016,2019,2018,2020,"2004, 2016",2018,2017,2020,"2014-2018",2020,2022,2019,"2019 - 2022",2022,2021,2019,"2016-2017",2022,2020,"Various",2019,2019,2019,2020]
["High-level policy framework","Stage of objective","The stage of the objective relates to how progressed the user is in regards to planning mitigation of plastic pollution. Generally, users may aim to baseline their plastic pollution first, followed by identifying interventions (action plans) to address it, with subsequent monitoring allowing the impact of these interventions to be quantified and progress towards targets tracked. Lastly, users may also require benchmarking their performance again other to reassess overall strategies. These stages may be conducted simultaneously therefore users can specify more than one objective stage. ","Can be used for baselining","Initial quantification of plastic pollution to identify areas to focus and establish a reference","Y,N","Y","Y","y","Y","Y","Y","N","Y","Y","Y","Y","Y","Y","N","Y","Y","Y","Y","Y","Y","Y","Y","Y","Y","Y","N","Y","Y","Y","Y","Y"]
[null,null,null,"Provides details of interventions necessary to implement action plans","Identification of interventions to apply within action plans to mitigate plastic pollution","Y,N","N","N","N","Y","N","Y","N","N","Y","Y","N ","Y","Y","N","Y","N","Y","Y","Y","N","N","Y","Y","N","N","N","N","Y","N","Y","N"]
[null,null,null,"Can be used for monitoring","Regular quantification of plastic pollution to assess effectiveness of interventions and track progress towards goals and commitments","Y,N","Y","Y","y","Y","Y","Y","N","Y","Y","Y","N","Y","Y","N","N","Y","Y","Y","Y","N","N","Y","Y","Y","Y","N","Y","Y","Y","Y","Y"]
[null,null,null,"Can be used for benchmarking","Periodic quantification of plastic pollution to compare against other locations and reassess overall strategies","Y,N","Y","Y","y","Y","Y","Y","Y","Y","Y","Y","Y","Y","Y","Y","Y","Y","Y","Y","Y","Y","N","Y","Y","Y","Y","Y","Y","Y","Y","Y","Y"]
[null,"Assessment scale","The assessment scale relates to the geographic area across which the plastic assessment methodology can be practically applied within a single project. Multiple assessment scales can be selected by a user.","Global","Can be applied worldwide","Y,N","N","N","N","N","Y","N","N","N","N","N","N","N","N","N","N","N","Y","Y","N","N","N","N","N","N","Y","N","Y","Y","N","N","N"]
[null,null,null,"Regional (multiple countries)","Can be applied across multiple countries or continents","Y,N","N","N","Y","N","Y","N","Y","N","Y","Y","N","N","N","N","N","Y","Y","Y","N","N","N","N","N","Y","Y","N","Y","Y","N","N","N"]
[null,null,null,"National","Can be applied at a national (country) scale","Y,N","Y","N","Y","Y","Y","N","N","Y","Y","Y","Y","Y","N","Y","Y","Y","Y","Y","Y","Y","Y","Y","Y","Y","Y","Y","Y","Y","N","N","Y"]
[null,null,null,"Provincial","Can be applied to a province, county or state","Y,N","Y","Y","Y","N","Y","N","N","N","N","Y","N","Y","Y","Y","N","Y","N","Y","N","N","Y","Y","N","N","Y","N","N","Y","Y","N","Y"]
[null,null,null,"Municipal","Can be applied to a municipality or local authority","Y,N","Y","Y","Y","N","N","Y","N","N","N","Y","N","Y","Y","N","N","N","N","Y","N","N","N","N","N","N","N","N","N","N","Y","Y","Y"]
[null,null,null,"Sub-municipal (local)","Can be applied to a local area smaller than a municipality e.g. a neighbourhood.","Y,N","Y","Y","Y","N","N","N","N","N","N","Y","N","Y","Y","N","N","N","N","Y","N","N","N","N","N","N","N","N","N","N","Y","N","Y"]
[null,"Assessment scope","The assessment scope relates to the aspect of plastic pollution that the user is most interested in understanding. For example, users may be interested in the understanding the generation of plastic waste and how it is managed prior to its release into the environment, or users may want to quantify the sources (ways by which the plastic is leaked to the environment). Alternatively, users may be interested in understanding where and when plastic waste enters the marine environment, or how polluted the environment is. Multiple scopes can be selected by a user.","Pre-leakage / upstream","Plastic prior to its emission into the environment, e.g. production, imports / exports, waste generation, recycling, waste management. ","Y,N","N","N","N","Y","N","Y","N","Y","Y","Y","N","N","Y","N","Y","N","Y","Y","Y","Y","N","Y","Y","N","N","Y","N","Y","N","Y","N"]
[null,null,null,"Point of uncontrolled release into environment (sources)","Plastic at the point of its uncontrolled release (leakage) into the environment. This may be to all environmental compartments, not just marine e.g. littering on land.","Y,N","N","N","N","Y","N","N","Y","Y","Y","N","N","Y","Y","N","Y","N","Y","Y","Y","Y","N","Y","Y","N","N","N","N","Y","N","Y","N"]
[null,null,null,"Plastic discharge to oceans (marine litter)","Flux (e.g. rates) of plastic entering the oceans and becoming marine litter, typically via rivers.","Y,N","Y","N","N","N","N","N","N","Y","N","Y","Y","N","Y","N","Y","N","Y","Y","Y","Y","N","Y","Y","Y","Y","Y","N","Y","N","Y","Y"]
[null,null,null,"State of the environment (accumulations)","Stock (e.g. concentration) of plastic which has accumulated in the environment over time","Y,N","N","Y","Y","N","Y","Y","Y","N","N","Y","Y","Y","N","Y","N","Y","N","N","N","N","Y","Y","N","N","N","Y","Y","Y","Y","N","Y"]
[null,"Environmental compartment","The environmental compartment relates to the part of the environment where the user is most interested in understanding the sources, flows or concentrations of plastic pollution. This is typically the environmental compartment in which the method is applied. Users can select multiple environmental compartments of interest.","Land","Terrestrial environment including non-perennial drains (e.g. those not permanently filled with water).","Y,N","N","Y","N","Y","N","Y","N","Y","Y","Y","Y","N","Y","N","Y","N","Y","Y","Y","Y","Y","Y","Y","N","N","Y","N","Y","N","Y","N"]
[null,null,null,"Riverine","Rivers, lakes and perennial drains (e.g. permanently filled with water).","Y,N","Y","Y","N","N","N","N","N","Y","N","Y","Y","N","Y","N","N","N","N","N","N","N","Y","Y","N","Y","Y","Y","N","Y","N","Y","Y"]
[null,null,null,"Coastal","Interface between land and sea (e.g. beaches).","Y,N","N","Y","Y","N","Y","N","N","N","N","Y","N","Y","N","Y","N","Y","N","N","N","N","N","N","N","N","N","N","Y","N","Y","N","N"]
[null,null,null,"Marine","Oceans and seas.","Y,N","N","N","N","N","N","N","Y","N","N","Y","N","Y","N","N","N","N","N","N","N","N","N","N","N","N","N","Y","Y","N","Y","N","N"]
[null,"Resource availability","The level of resources relates to the resources available to both collect data and implement the methodology, categorised by the required expertise, equipment and time. The average combination of these dictates the overall budget requirements. \n\nAlthough it can be tempting to limit results to methodologies requiring the lowest resources, it should be noted that the quality of outputs are often related to the resources applied. Similarly, the actual level of resource required often depends on the overall scope of the project, and scorings applied in the framework are suggestions only. If in doubt, we recommend leaving this question blank.\n","Expertise required","Level of expertise required (e.g. level of support required from third parties)","High, Medium, Low","Low","High","Medium","Medium","Low","Medium","High","Medium","High","Medium","Medium","Low","Medium","Medium","Medium","Low","High","Medium","Medium","Medium","High","Medium","High","Low","Low","Medium","High","Low","Low","Low","Medium"]
[null,null,null,"Logistics / equipment required","Level of logistics and equipment required (e.g. specialist software or equipment)","High, Medium, Low","Medium","High","Low","Low","Low","Low","Medium","Low","Low","Medium","High","Low","Medium","Low","Low","Low","Medium","Medium","Low","Low","Medium","High","Medium","Low","Low","Medium","Medium","Low","Low","Medium","High"]
[null,null,null,"Time required","Estimated time required for both data collection and implementation of the methodology","High, Medium, Low","Medium","Medium","High","Low","Medium","Medium","Medium","Medium","Medium","Medium","High","Low","Medium","Medium","Low","Low","High","Medium","Medium","Medium","High","High","High","Medium","Low","Low","Low","Low","Low","Low","High"]
[null,null,null,"Calculated overall resource availability (proxy for budget)","The ‘overall resource intensity’ can be considered as a proxy for the budget required to implement the methodology. It is automatically calculated by averaging the total score for each of the above categories where high = 3, medium = 2, low = 1, before rounding to the nearest integer. ","High, Medium, Low",{"$f":"IFERROR(IF(ROUND(((IF(G27=\"High\",3,IF(G27=\"Medium\",2,IF(G27=\"Low\",1,0)))+IF(G28=\"High\",3,IF(G28=\"Medium\",2,IF(G28=\"Low\",1,0)))+IF(G29=\"High\",3,IF(G29=\"Medium\",2,IF(G29=\"Low\",1,0))))/COUNTA(G27:G29)),0)=3,\"High\",IF(ROUND(((IF(G27=\"High\",3,IF(G27=\"Medium\",2,IF(G27=\"Low\",1,0)))+IF(G28=\"High\",3,IF(G28=\"Medium\",2,IF(G28=\"Low\",1,0)))+IF(G29=\"High\",3,IF(G29=\"Medium\",2,IF(G29=\"Low\",1,0))))/COUNTA(G27:G29)),0)=2,\"Medium\",IF(ROUND(((IF(G27=\"High\",3,IF(G27=\"Medium\",2,IF(G27=\"Low\",1,0)))+IF(G28=\"High\",3,IF(G28=\"Medium\",2,IF(G28=\"Low\",1,0)))+IF(G29=\"High\",3,IF(G29=\"Medium\",2,IF(G29=\"Low\",1,0))))/COUNTA(G27:G29)),0)=1,\"Low\"))),\"\")","v":"Medium"},"High","Medium","Low","Low","Medium","Medium","Medium","Medium","Medium","High",{"$f":"IFERROR(IF(ROUND(((IF(R27=\"High\",3,IF(R27=\"Medium\",2,IF(R27=\"Low\",1,0)))+IF(R28=\"High\",3,IF(R28=\"Medium\",2,IF(R28=\"Low\",1,0)))+IF(R29=\"High\",3,IF(R29=\"Medium\",2,IF(R29=\"Low\",1,0))))/COUNTA(R27:R29)),0)=3,\"High\",IF(ROUND(((IF(R27=\"High\",3,IF(R27=\"Medium\",2,IF(R27=\"Low\",1,0)))+IF(R28=\"High\",3,IF(R28=\"Medium\",2,IF(R28=\"Low\",1,0)))+IF(R29=\"High\",3,IF(R29=\"Medium\",2,IF(R29=\"Low\",1,0))))/COUNTA(R27:R29)),0)=2,\"Medium\",IF(ROUND(((IF(R27=\"High\",3,IF(R27=\"Medium\",2,IF(R27=\"Low\",1,0)))+IF(R28=\"High\",3,IF(R28=\"Medium\",2,IF(R28=\"Low\",1,0)))+IF(R29=\"High\",3,IF(R29=\"Medium\",2,IF(R29=\"Low\",1,0))))/COUNTA(R27:R29)),0)=1,\"Low\"))),\"\")","v":"Low"},"Medium","Medium","Low","Low","High","Medium","Medium","Medium",{"$f":"IFERROR(IF(ROUND(((IF(AA27=\"High\",3,IF(AA27=\"Medium\",2,IF(AA27=\"Low\",1,0)))+IF(AA28=\"High\",3,IF(AA28=\"Medium\",2,IF(AA28=\"Low\",1,0)))+IF(AA29=\"High\",3,IF(AA29=\"Medium\",2,IF(AA29=\"Low\",1,0))))/COUNTA(AA27:AA29)),0)=3,\"High\",IF(ROUND(((IF(AA27=\"High\",3,IF(AA27=\"Medium\",2,IF(AA27=\"Low\",1,0)))+IF(AA28=\"High\",3,IF(AA28=\"Medium\",2,IF(AA28=\"Low\",1,0)))+IF(AA29=\"High\",3,IF(AA29=\"Medium\",2,IF(AA29=\"Low\",1,0))))/COUNTA(AA27:AA29)),0)=2,\"Medium\",IF(ROUND(((IF(AA27=\"High\",3,IF(AA27=\"Medium\",2,IF(AA27=\"Low\",1,0)))+IF(AA28=\"High\",3,IF(AA28=\"Medium\",2,IF(AA28=\"Low\",1,0)))+IF(AA29=\"High\",3,IF(AA29=\"Medium\",2,IF(AA29=\"Low\",1,0))))/COUNTA(AA27:AA29)),0)=1,\"Low\"))),\"\")","v":"High"},{"$f":"IFERROR(IF(ROUND(((IF(AB27=\"High\",3,IF(AB27=\"Medium\",2,IF(AB27=\"Low\",1,0)))+IF(AB28=\"High\",3,IF(AB28=\"Medium\",2,IF(AB28=\"Low\",1,0)))+IF(AB29=\"High\",3,IF(AB29=\"Medium\",2,IF(AB29=\"Low\",1,0))))/COUNTA(AB27:AB29)),0)=3,\"High\",IF(ROUND(((IF(AB27=\"High\",3,IF(AB27=\"Medium\",2,IF(AB27=\"Low\",1,0)))+IF(AB28=\"High\",3,IF(AB28=\"Medium\",2,IF(AB28=\"Low\",1,0)))+IF(AB29=\"High\",3,IF(AB29=\"Medium\",2,IF(AB29=\"Low\",1,0))))/COUNTA(AB27:AB29)),0)=2,\"Medium\",IF(ROUND(((IF(AB27=\"High\",3,IF(AB27=\"Medium\",2,IF(AB27=\"Low\",1,0)))+IF(AB28=\"High\",3,IF(AB28=\"Medium\",2,IF(AB28=\"Low\",1,0)))+IF(AB29=\"High\",3,IF(AB29=\"Medium\",2,IF(AB29=\"Low\",1,0))))/COUNTA(AB27:AB29)),0)=1,\"Low\"))),\"\")","v":"High"},{"$f":"IFERROR(IF(ROUND(((IF(AC27=\"High\",3,IF(AC27=\"Medium\",2,IF(AC27=\"Low\",1,0)))+IF(AC28=\"High\",3,IF(AC28=\"Medium\",2,IF(AC28=\"Low\",1,0)))+IF(AC29=\"High\",3,IF(AC29=\"Medium\",2,IF(AC29=\"Low\",1,0))))/COUNTA(AC27:AC29)),0)=3,\"High\",IF(ROUND(((IF(AC27=\"High\",3,IF(AC27=\"Medium\",2,IF(AC27=\"Low\",1,0)))+IF(AC28=\"High\",3,IF(AC28=\"Medium\",2,IF(AC28=\"Low\",1,0)))+IF(AC29=\"High\",3,IF(AC29=\"Medium\",2,IF(AC29=\"Low\",1,0))))/COUNTA(AC27:AC29)),0)=2,\"Medium\",IF(ROUND(((IF(AC27=\"High\",3,IF(AC27=\"Medium\",2,IF(AC27=\"Low\",1,0)))+IF(AC28=\"High\",3,IF(AC28=\"Medium\",2,IF(AC28=\"Low\",1,0)))+IF(AC29=\"High\",3,IF(AC29=\"Medium\",2,IF(AC29=\"Low\",1,0))))/COUNTA(AC27:AC29)),0)=1,\"Low\"))),\"\")","v":"High"},"Low","Low","Medium","Medium","Low","Low","Low",{"$f":"IFERROR(IF(ROUND(((IF(AK27=\"High\",3,IF(AK27=\"Medium\",2,IF(AK27=\"Low\",1,0)))+IF(AK28=\"High\",3,IF(AK28=\"Medium\",2,IF(AK28=\"Low\",1,0)))+IF(AK29=\"High\",3,IF(AK29=\"Medium\",2,IF(AK29=\"Low\",1,0))))/COUNTA(AK27:AK29)),0)=3,\"High\",IF(ROUND(((IF(AK27=\"High\",3,IF(AK27=\"Medium\",2,IF(AK27=\"Low\",1,0)))+IF(AK28=\"High\",3,IF(AK28=\"Medium\",2,IF(AK28=\"Low\",1,0)))+IF(AK29=\"High\",3,IF(AK29=\"Medium\",2,IF(AK29=\"Low\",1,0))))/COUNTA(AK27:AK29)),0)=2,\"Medium\",IF(ROUND(((IF(AK27=\"High\",3,IF(AK27=\"Medium\",2,IF(AK27=\"Low\",1,0)))+IF(AK28=\"High\",3,IF(AK28=\"Medium\",2,IF(AK28=\"Low\",1,0)))+IF(AK29=\"High\",3,IF(AK29=\"Medium\",2,IF(AK29=\"Low\",1,0))))/COUNTA(AK27:AK29)),0)=1,\"Low\"))),\"\")","v":"High"}]
["Technical objectives","Spatial resolution of outputs","Spatial resolution is the geographical scale at which the outputs are reported; this differs from the 'assessment scale' which is the geographical scale at which the method is applied. For example, if applying a methodology at the national scale, but where results are wanted to inform cities, the ‘assessment scale’ should be set as ‘national’ and the spatial resolution set to ‘municipal’.","Global","Outputs reported at a global level","Y,N","N","N","N","N","Y","N","N","N","N","N","N","N","N","N","N","N","Y","Y","N","N","N","N","N","N","Y","N","Y","Y","N","N","N"]
[null,null,null,"Regional (multiple countries)","Outputs reported across multiple countries or continents","Y,N","N","N","Y","N","Y","N","Y","N","Y","Y","N","N","N","N","N","Y","Y","Y","N","N","N","N","N","Y","N","N","Y","Y","N","N","N"]
[null,null,null,"National (federal)","Outputs reported at a national (country) level","Y,N","N","N","Y","Y","Y","N","N","Y","Y","Y","Y","Y","N","Y","Y","Y","Y","Y","Y","N","N","Y","Y","Y","N","Y","Y","Y","N","N","N"]
[null,null,null,"Provincial (state)","Outputs reported at a provincial, county or state level","Y,N","N","N","Y","N","Y","N","N","N","N","Y","Y","Y","Y","Y","Y","Y","N","Y","N","N","N","Y","N","Y","N","N","N","Y","N","N","N"]
[null,null,null,"Municipal","Outputs reported at the municipal or local authority level","Y,N","N","Y","Y","N","N","Y","N","N","N","Y","Y","Y","Y","N","N","N","N","Y","N","N","N","Y","N","N","N","N","N","Y","N","Y","N"]
[null,null,null,"Sub-municipal (local)","Outputs reported at a local level smaller than that of the municipality","Y,N","N","Y","Y","N","N","Y","N","N","N","Y","Y","Y","Y","N","N","N","N","Y","N","N","N","Y","N","N","N","N","N","N","N","N","N"]
[null,null,null,"Urban","Outputs reported on areas with high population densities such as towns and cities.","Y,N","N","Y","N","Y","N","N","N","N","N","Y","Y","N","Y","N","Y","N","Y","Y","N","N","N","Y","N","N","N","N","N","Y","N","N","N"]
[null,null,null,"Rural","Outputs reported on areas with low population densities outside of towns and cities","Y,N","N","Y","N","N","N","N","N","N","N","Y","Y","N","Y","N","Y","N","Y","Y","N","N","N","Y","N","N","N","N","N","Y","N","N","N"]
[null,null,null,"Catchment / Basin","Outputs reported at a river basin level (e.g. the area whereby precipitation drains to a common outlet)","Y,N","Y","Y","N","N","N","N","N","Y","N","Y","N","N","Y","N","N","N","N","N","N","N","Y","Y","N","Y","Y","N","N","Y","N","N","Y"]
[null,null,null,"River compartments","Outputs reported on specific parts of a river (e.g. banks, surface etc.)","Y,N","Y","Y","N","N","N","N","N","N","N","Y","N","N","N","N","N","N","N","N","N","N","N","N","N","Y","Y","N","N","N","N","N","Y"]
[null,null,null,"Estuarine","Outputs reported on the area when freshwater meets the ocean","Y,N","N","Y","N","N","N","N","N","N","N","Y","N","N","N","N","N","N","N","N","N","N","N","N","N","Y","N","N","N","N","Y","N","Y"]
[null,null,null,"Beach","Outputs reported on the narrow strip of sand, pebbles or rocks that separates the land from the ocean.","Y,N","N","Y","Y","N","Y","N","Y","N","N","Y","N","Y","N","Y","N","Y","N","N","N","N","N","N","N","N","N","N","N","N","N","N","N"]
[null,null,null,"Coastline","Outputs reported on the area where land meets the sea","Y,N","N","Y","Y","N","Y","N","Y","N","N","Y","N","Y","N","Y","N","N","N","N","N","N","Y","N","N","N","N","N","Y","Y","N","N","N"]
[null,null,null,"Sea / Ocean","Outputs reported on the oceans or seas","Y,N","N","N","N","N","N","N","Y","N","N","Y","N","Y","N","N","N","N","N","N","N","N","N","N","N","N","N","Y","Y","N","N","N","N"]
[null,"Temporal resolution of outputs","The temporal resolution relates to the time-scales over which the plastic pollution assessment methodology informs. If a methodology informs on a daily basis for a year, then both of these timescales and all in between are informed by the methodology.","Annual","Outputs inform on a yearly timescale","Y,N","Y","N","Y","Y","Y","N","N","Y","Y","Y","Y","N","Y","N","Y","Y","Y","Y","Y","Y","Y","Y","Y","Y","Y","Y","Y","Y","N","Y","Y"]
[null,null,null,"Seasonal","Outputs inform on a seasonal timescale (e.g. spring, summer, autumn, winter; or wet season, dry season)","Y,N","Y","N","Y","N","Y","N","N","N","N","N","N","N","Y","N","N","Y","N","N","N","N","Y","Y","N","Y","Y","N","Y","Y","N","N","Y"]
[null,null,null,"Monthly","Outputs inform on a monthly timescale","Y,N","Y","N","N","N","N","N","Y","N","N","N","N","N","Y","N","N","N","N","N","N","N","Y","Y","N","Y","Y","N","Y","Y","N","N","Y"]
[null,null,null,"Daily","Outputs inform on a daily timescale","Y,N","Y","Y","N","N","N","N","Y","N","N","N","N","N","Y","N","N","N","N","N","N","N","Y","Y","N","N","Y","N","Y","N","N","N","Y"]
[null,null,null,"Sub-daily","Outputs inform on a timescale less than a day (e.g. hourly)","Y,N","Y","Y","N","N","N","N","N","N","N","N","N","N","N","N","N","N","N","N","N","N","N","N","N","N","N","N","N","N","Y","N","Y"]
[null,"Economic / industrial sector resolution","The economic / industrial sector resolution relates to whether outputs are reported by economic sectors (e.g. fishing, retail etc.) and companies.","Economic sectors (e.g. tourism, fisheries, retail)","Outputs inform on different economic activities (e.g. fishing, retail etc.). See the International Standard Industrial Classification of All Economic Activities (ISIC), Rev. 4 for a full list of economic sectors","Y,N","N","N","N","N","N","N","N","Y","N","N","N","Y","Y","N","Y","Y","N","N","N","Y","N","N","Y","N","N","y","N","N","N","N","Y"]
[null,null,null,"Companies","Outputs inform on a commercial business","Y,N","N","N","N","N","N","Y","N","N","N","N","N","N","N","N","N","N","N","N","N","Y","N","N","N","N","N","N","N","N","N","N","N"]
[null,"Waste management activity output resolution","The waste management activity output resolution relates to the waste management activities for which outputs are reported on","Waste generation","Outputs inform on waste generation","Y,N","N","N","N","Y","N","Y","N","Y","Y","N","N","N","Y","N","Y","N","Y","Y","Y","Y","N","Y","Y","N","N","N","N","Y","N","Y","N"]
[null,null,null,"Waste collection (formal)","Outputs inform on formal waste collection","Y,N","N","N","N","Y","N","Y","N","N","Y","N","N","N","Y","N","Y","N","Y","Y","Y","Y","N","Y","Y","N","N","N","N","Y","N","Y","N"]
[null,null,null,"Waste collection (informal)","Outputs inform on informal waste collection","Y,N","N","N","N","Y","N","Y","N","N","Y","N","N","N","Y","N","Y","N","Y","Y","N","Y","N","Y","N","N","N","N","N","Y","N","Y","N"]
[null,null,null,"Sorting for reprocessing","Outputs inform on waste sorting for reprocessing","Y,N","N","N","N","Y","N","Y","N","N","Y","N","N","N","Y","N","Y","N","Y","Y","Y","Y","N","N","N","N","N","N","N","Y","N","Y","N"]
[null,null,null,"Reprocessing","Outputs inform on waste reprocessing (recycling)","Y,N","N","N","N","N","N","N","N","N","N","N","N","N","N","N","N","N","Y","Y","Y","Y","N","N","Y","N","N","N","N","Y","N","N","N"]
[null,null,null,"Disposal","Outputs inform on disposal","Y,N","N","N","N","Y","N","Y","N","Y","Y","N","N","N","Y","N","Y","N","Y","Y","Y","Y","N","Y","Y","N","N","N","N","Y","N","Y","N"]
[null,null,null,"Littering / illegal dumping","Outputs inform on littering or illegal dumping","Y,N","N","Y","N","Y","N","Y","N","Y","Y","Y","N","Y","Y","N","Y","N","Y","Y","Y","Y","N","Y","Y","N","N","N","N","Y","N","Y","N"]
[null,null,null,"Open Burning","Outputs inform on open burning of waste","Y,N","N","N","N","N","N","N","N","N","N","N","N","N","Y","N","N","N","Y","Y","N","Y","N","Y","N","N","N","N","N","Y","N","Y","N"]
[null,"Material  resolution of outputs","The material / item resolution relates to the granularity at which plastic is assessed. This may be at overall plastic level, by polymers, items, or brands","Plastic material-level","Outputs are related to all plastic materials (e.g. plastic)","Y,N","Y","Y","Y","Y","Y","Y","Y","Y","N","Y","Y","Y","Y","Y","Y","Y","Y","Y","Y","Y","Y","Y","Y","Y","Y","Y","Y","Y","Y","Y","Y"]
[null,null,null,"Polymer-level","Outputs are related to plastic polymers (e.g. PET, PP)","Y,N","N","N","N","N","N","Y","N","N","Y","N","N","N","Y","N","Y","N","N","N","N","Y","N","N","Y","N","N","N","Y","N","Y","N","N"]
[null,null,null,"Item-level","Outputs related to specific plastic objects (e.g. drink bottle, plastic bag). This differs from a plastic product as it does specify the brand / company.","Y,N","Y","Y","Y","N","Y","Y","N","N","Y","Y","N","Y","Y","N","N","Y","N","N","N","Y","N","N","N","Y","N","N","N","Y","N","N","Y"]
[null,null,null,"Brand-level","Outputs related to specific company brands of plastic items","Y,N","N","N","N","N","N","Y","N","N","N","N","N","N","N","N","N","N","N","N","N","Y","N","N","N","N","N","N","N","N","N","N","N"]
[null,null,null,"Microplastics","Outputs are related to microplastics as well as macroplastics","Y,N","N","N","N","N","N","N","Y","Y","N","N","Y","N","N","N","Y","N","Y","Y","Y","Y","N","N","Y","N","N","Y","Y","N","N","N","N"]
[null,"Unit of quantification","The quantification unit relates to whether the assessment methodology has outputs by count or by mass.","Quantifies by mass","Outputs are given by mass (e.g. kg, tonnes)","Y,N","Y","N","N","Y","N","N","Y","Y","Y","N","Y","N","Y","N","Y","N","Y","Y","Y","Y","Y","Y","Y","N","Y","Y","N","Y","Y","Y","Y"]
[null,null,null,"Quantifies by count","Outputs are given by count (e.g. number of items)","Y,N","Y","Y","Y","N","Y","Y","N","N","N","Y","N","Y","N","Y","N","Y","N","N","N","N","N","N","N","Y","N","N","Y","N","N","N","Y"]
[null,"Format of outputs and model functionality","The format and functionality of outputs relates to the manner in which the outputs are presented or what functions they can perform","Includes uncertainty","Outputs are presented with a degree of certainty","Y,N","Y","N","Y","N","Y","N","Y","Y","N","Y","Y","N","Y","N","Y","Y","Y","Y","N","N","N","Y","Y","N","N","Y","Y","Y","Y","Y","Y"]
[null,null,null,"GIS / maps","Outputs can be shown in GIS interfaces or as maps","Y,N","N","Y","N","N","Y","Y","Y","N","N","Y","Y","N","Y","Y","Y","N","N","N","N","N","Y","Y","Y","N","Y","N","Y","Y","N","N","N"]
[null,null,null,"Outputs aligned with SDG sub-indicators","Outputs are aligned to report on the Sustainable Development Goal (SDG) sub-indicators.","Y,N","N","N","Y","N","Y","N","N","N","N","Y","N","N","Y","N","Y","N","N","N","N","N","N","Y","N","N","Y","N","N","Y","N","Y","N"]
[null,null,null,"Scenarios / forecasts","Ability to run scenarios to predict how interventions may impact plastic pollution or project outputs into the future","Y,N","N","N","N","N","N","N","Y","N","Y","N","N","N","Y","Y","N","Y","Y","Y","Y","N","N","N","N","N","Y","N","Y","Y","N","Y","N"]
[null,null,null,"Wedges approach","Illustrates how interventions can be combined to meet targets","Y,N","N","N","N","N","N","N","N","N","Y","N","N","N","Y","N","N","N","Y","Y","Y","N","N","N","N","N","N","N","N","N","N","N","N"]
[null,"Outputs prioritise interventions","Prioritisation of interventions relates to whether useful information is gained by the methodology that would allow users to rank the importance of interventions in mitigating plastic pollution based on their cost or expected impact.","Prioritizes interventions based on estimated cost","Interventions are prioritized based on their estimated cost to achieve a desired impact","Y,N","N","N","N","N","N","N","N","N","N","N","N","N","N","N","N","N","Y","Y","N","N","N","N","N","N","N","N","N","N","N","N","N"]
[null,null,null,"Prioritizes policy interventions by impact","Policy interventions (e.g. bans) are prioritized based on their estimated impact","Y,N","N","N","N","N","N","Y","N","N","Y","Y","N","N","Y","N","Y","N","Y","Y","Y","N","N","Y","Y","Y","N","N","N","Y","N","N","N"]
[null,null,null,"Prioritizes engineering / service interventions by impact","Engineering and service interventions (e.g. improving infrastructure) are prioritized based on their estimated impact","Y,N","N","N","N","Y","N","Y","N","N","Y","Y","N","N","Y","Y","Y","N","Y","Y","Y","N","N","Y","N","N","N","N","N","Y","N","Y","N"]
["Available resources","Data requirements","The data availability relates to the general data that may be available to feed into plastic pollution assessment methodologies, broken down by common categories.","Plastic production / consumption data","Data on the amounts of plastic produced or sold","Y,N","N","N","N","N","N","Y","N","Y","Y","N","N","N","N","N","Y","N","Y","Y","Y","Y","N","N","Y","N","N","N","N","N","N","N","N"]
[null,null,null,"Waste generation data","Data on the amounts of plastic which becomes waste","Y,N","N","N","N","Y","N","Y","Y","Y","Y","N","N","N","Y","N","Y","N","Y","Y","Y","Y","Y","Y","Y","N","N","Y","N","Y","N","Y","N"]
[null,null,null,"Waste composition","Data on what material fractions make up the waste","Y,N","N","N","N","Y","N","Y","Y","Y","N","N","N","N","Y","N","Y","N","Y","Y","Y","N","Y","Y","Y","N","N","Y","N","Y","N","Y","N"]
[null,null,null,"Plastic waste composition (polymers)","Data on what polymers make up the plastic waste","Y,N","N","N","N","N","N","Y","N","N","Y","N","N","N","N","N","Y","N","Y","Y","N","Y","N","N","Y","N","N","N","N","N","N","N","N"]
[null,null,null,"Plastic waste composition (items)","Data on what items make up the plastic waste (e.g. bags, bottles etc.)","Y,N","N","N","N","N","N","Y","N","N","Y","N","N","N","Y","N","N","N","Y","Y","N","Y","N","N","N","N","N","N","N","N","N","N","N"]
[null,null,null,"Plastic waste composition (brands)","Data on what company branded items make up the plastic waste","Y,N","N","N","N","N","N","Y","N","N","N","N","N","N","N","N","N","N","N","N","N","Y","N","N","N","N","N","N","N","N","N","N","N"]
[null,null,null,"Solid waste management data (e.g. collection, disposal)","Data on how solid waste is managed","Y,N","N","N","N","Y","N","Y","Y","Y","Y","Y","N","N","Y","N","Y","N","Y","Y","Y","Y","Y","Y","Y","N","N","Y","N","Y","N","Y","N"]
[null,null,null,"Survey / clean up data","Data from clean up campaigns and environmental surveys","Y,N","Y","Y","Y","N","Y","Y","Y","N","N","Y","Y","Y","N","Y","N","Y","N","N","Y","N","N","Y","Y","Y","N","Y","Y","N","Y","N","Y"]
[null,null,null,"Hydrological data","Data on hydrological aspects such as precipitation","Y,N","Y","N","N","N","N","N","Y","Y","N","Y","Y","N","N","N","Y","N","N","N","N","N","Y","Y","Y","Y","Y","Y","Y","Y","N","N","Y"]
[null,null,null,"Remote sensing data","Data via satellite, aircraft, drones or cameras","Y,N","N","Y","N","N","N","N","Y","N","N","N","N","N","N","Y","N","N","N","N","N","N","N","N","N","N","N","N","Y","N","N","N","N"]
[null,null,null,"Socioeconomic data","Data on the social and economic characteristics of the area","Y,N","N","N","N","N","N","Y","N","N","N","Y","Y","Y","Y","N","Y","N","Y","Y","Y","Y","N","Y","N","N","N","N","N","N","N","N","N"]
[null,null,null,"GIS data","Spatial data","Y,N","Y","Y","Y","N","N","Y","Y","N","N","Y","Y","N","N","Y","Y","Y","Y","Y","Y","N","Y","Y","Y","Y","Y","N","Y","Y","N","N","Y"]
[null,null,"Proxy / default data relates to the ability of the methodology to substitute missing data with a generic value. Although accuracy may be comprised, this can assist in simplifying data collection if large data gaps exist.","Ability to use proxy / default data / secondary data sources","Ability to use default values or more readily accessible data to estimate required input data","Y,N, Some inputs or regions","Some inputs or regions","N","N","Some inputs or regions","N","Some inputs or regions","Some inputs or regions","N","N","N","N","N","Some inputs or regions","N","Some inputs or regions","N","Y","Y","Some inputs or regions","Some inputs or regions","Some inputs or regions","Some inputs or regions","N","N","Y","Y","Some inputs or regions","Y","N","Some inputs or regions","N"]
[]
[]
[]
[]
[null,null,null,null,"Dropown box options:"]
[null,null,null,null,null,"Yes"]
[null,null,null,null,null,"No"]
[]
[null,null,null,null,null,"Essential"]
[null,null,null,null,null,"Important"]
[null,null,null,null,null,"Preferred"]
[null,null,null,null,null,"Non-essential"]
[]
[null,null,null,null,null,"High"]
[null,null,null,null,null,"Medium"]
[null,null,null,null,null,"Low"]

{"sheet":"Multicriteria Decision Analysis","index":8,"n_rows":132,"n_cols":92,"rows_kept":132,"cut":false,"hidden":true,"merged":[[74,0,86,0],[30,0,73,0],[30,1,43,1],[59,1,63,1],[64,1,65,1],[66,1,70,1],[71,1,73,1],[44,1,48,1],[49,1,50,1],[51,1,58,1],[1,0,7,0],[1,1,7,1],[1,2,7,2],[8,0,29,0],[8,1,11,1],[8,2,11,2],[12,1,17,1],[12,2,17,2],[18,1,21,1],[18,2,21,2],[22,2,25,2],[26,1,29,1],[26,2,29,2],[22,1,25,1],[30,2,43,2],[74,1,85,1],[49,2,50,2],[51,2,58,2],[59,2,63,2],[66,2,70,2],[71,2,73,2],[74,2,85,2],[44,2,48,2],[64,2,65,2]]}
["Framework","Primary category","Primary category definition","Secondary category","Secondary category definition","Unit type","User input",{"$f":"IF('Assessment Framework'!G1=\"\",\"\",'Assessment Framework'!G1)","v":1},{"$f":"IF('Assessment Framework'!H1=\"\",\"\",'Assessment Framework'!H1)","v":2},{"$f":"IF('Assessment Framework'!I1=\"\",\"\",'Assessment Framework'!I1)","v":3},{"$f":"IF('Assessment Framework'!J1=\"\",\"\",'Assessment Framework'!J1)","v":4},{"$f":"IF('Assessment Framework'!K1=\"\",\"\",'Assessment Framework'!K1)","v":5},{"$f":"IF('Assessment Framework'!L1=\"\",\"\",'Assessment Framework'!L1)","v":6},{"$f":"IF('Assessment Framework'!M1=\"\",\"\",'Assessment Framework'!M1)","v":7},{"$f":"IF('Assessment Framework'!N1=\"\",\"\",'Assessment Framework'!N1)","v":8},{"$f":"IF('Assessment Framework'!O1=\"\",\"\",'Assessment Framework'!O1)","v":9},{"$f":"IF('Assessment Framework'!P1=\"\",\"\",'Assessment Framework'!P1)","v":10},{"$f":"IF('Assessment Framework'!Q1=\"\",\"\",'Assessment Framework'!Q1)","v":11},{"$f":"IF('Assessment Framework'!R1=\"\",\"\",'Assessment Framework'!R1)","v":12},{"$f":"IF('Assessment Framework'!S1=\"\",\"\",'Assessment Framework'!S1)","v":13},{"$f":"IF('Assessment Framework'!T1=\"\",\"\",'Assessment Framework'!T1)","v":14},{"$f":"IF('Assessment Framework'!U1=\"\",\"\",'Assessment Framework'!U1)","v":15},{"$f":"IF('Assessment Framework'!V1=\"\",\"\",'Assessment Framework'!V1)","v":16},{"$f":"IF('Assessment Framework'!W1=\"\",\"\",'Assessment Framework'!W1)","v":17},{"$f":"IF('Assessment Framework'!X1=\"\",\"\",'Assessment Framework'!X1)","v":18},{"$f":"IF('Assessment Framework'!Y1=\"\",\"\",'Assessment Framework'!Y1)","v":19},{"$f":"IF('Assessment Framework'!Z1=\"\",\"\",'Assessment Framework'!Z1)","v":20},{"$f":"IF('Assessment Framework'!AA1=\"\",\"\",'Assessment Framework'!AA1)","v":21},{"$f":"IF('Assessment Framework'!AB1=\"\",\"\",'Assessment Framework'!AB1)","v":22},{"$f":"IF('Assessment Framework'!AC1=\"\",\"\",'Assessment Framework'!AC1)","v":23},{"$f":"IF('Assessment Framework'!AD1=\"\",\"\",'Assessment Framework'!AD1)","v":24},{"$f":"IF('Assessment Framework'!AE1=\"\",\"\",'Assessment Framework'!AE1)","v":25},{"$f":"IF('Assessment Framework'!AF1=\"\",\"\",'Assessment Framework'!AF1)","v":26},{"$f":"IF('Assessment Framework'!AG1=\"\",\"\",'Assessment Framework'!AG1)","v":27},{"$f":"IF('Assessment Framework'!AH1=\"\",\"\",'Assessment Framework'!AH1)","v":28},{"$f":"IF('Assessment Framework'!AI1=\"\",\"\",'Assessment Framework'!AI1)","v":29},{"$f":"IF('Assessment Framework'!AJ1=\"\",\"\",'Assessment Framework'!AJ1)","v":30},{"$f":"IF('Assessment Framework'!AK1=\"\",\"\",'Assessment Framework'!AK1)","v":31},{"$f":"IF('Assessment Framework'!AL1=\"\",\"\",'Assessment Framework'!AL1)","v":""},{"$f":"IF('Assessment Framework'!AM1=\"\",\"\",'Assessment Framework'!AM1)","v":""},{"$f":"IF('Assessment Framework'!AN1=\"\",\"\",'Assessment Framework'!AN1)","v":""},{"$f":"IF('Assessment Framework'!AO1=\"\",\"\",'Assessment Framework'!AO1)","v":""},{"$f":"IF('Assessment Framework'!AP1=\"\",\"\",'Assessment Framework'!AP1)","v":""},{"$f":"IF('Assessment Framework'!AQ1=\"\",\"\",'Assessment Framework'!AQ1)","v":""},{"$f":"IF('Assessment Framework'!AR1=\"\",\"\",'Assessment Framework'!AR1)","v":""},{"$f":"IF('Assessment Framework'!AS1=\"\",\"\",'Assessment Framework'!AS1)","v":""},{"$f":"IF('Assessment Framework'!AT1=\"\",\"\",'Assessment Framework'!AT1)","v":""},{"$f":"IF('Assessment Framework'!AU1=\"\",\"\",'Assessment Framework'!AU1)","v":""},{"$f":"IF('Assessment Framework'!AV1=\"\",\"\",'Assessment Framework'!AV1)","v":""},{"$f":"IF('Assessment Framework'!AW1=\"\",\"\",'Assessment Framework'!AW1)","v":""},{"$f":"IF('Assessment Framework'!AX1=\"\",\"\",'Assessment Framework'!AX1)","v":""},{"$f":"IF('Assessment Framework'!AY1=\"\",\"\",'Assessment Framework'!AY1)","v":""},{"$f":"IF('Assessment Framework'!AZ1=\"\",\"\",'Assessment Framework'!AZ1)","v":""},{"$f":"IF('Assessment Framework'!BA1=\"\",\"\",'Assessment Framework'!BA1)","v":""},{"$f":"IF('Assessment Framework'!BB1=\"\",\"\",'Assessment Framework'!BB1)","v":""},{"$f":"IF('Assessment Framework'!BC1=\"\",\"\",'Assessment Framework'!BC1)","v":""},{"$f":"IF('Assessment Framework'!BD1=\"\",\"\",'Assessment Framework'!BD1)","v":""},{"$f":"IF('Assessment Framework'!BE1=\"\",\"\",'Assessment Framework'!BE1)","v":""},{"$f":"IF('Assessment Framework'!BF1=\"\",\"\",'Assessment Framework'!BF1)","v":""},{"$f":"IF('Assessment Framework'!BG1=\"\",\"\",'Assessment Framework'!BG1)","v":""},{"$f":"IF('Assessment Framework'!BH1=\"\",\"\",'Assessment Framework'!BH1)","v":""},{"$f":"IF('Assessment Framework'!BI1=\"\",\"\",'Assessment Framework'!BI1)","v":""},{"$f":"IF('Assessment Framework'!BJ1=\"\",\"\",'Assessment Framework'!BJ1)","v":""},{"$f":"IF('Assessment Framework'!BK1=\"\",\"\",'Assessment Framework'!BK1)","v":""},{"$f":"IF('Assessment Framework'!BL1=\"\",\"\",'Assessment Framework'!BL1)","v":""},{"$f":"IF('Assessment Framework'!BM1=\"\",\"\",'Assessment Framework'!BM1)","v":""},{"$f":"IF('Assessment Framework'!BN1=\"\",\"\",'Assessment Framework'!BN1)","v":""},{"$f":"IF('Assessment Framework'!BO1=\"\",\"\",'Assessment Framework'!BO1)","v":""},{"$f":"IF('Assessment Framework'!BP1=\"\",\"\",'Assessment Framework'!BP1)","v":""},{"$f":"IF('Assessment Framework'!BQ1=\"\",\"\",'Assessment Framework'!BQ1)","v":""},{"$f":"IF('Assessment Framework'!BR1=\"\",\"\",'Assessment Framework'!BR1)","v":""},{"$f":"IF('Assessment Framework'!BS1=\"\",\"\",'Assessment Framework'!BS1)","v":""},{"$f":"IF('Assessment Framework'!BT1=\"\",\"\",'Assessment Framework'!BT1)","v":""},{"$f":"IF('Assessment Framework'!BU1=\"\",\"\",'Assessment Framework'!BU1)","v":""},{"$f":"IF('Assessment Framework'!BV1=\"\",\"\",'Assessment Framework'!BV1)","v":""},{"$f":"IF('Assessment Framework'!BW1=\"\",\"\",'Assessment Framework'!BW1)","v":""},{"$f":"IF('Assessment Framework'!BX1=\"\",\"\",'Assessment Framework'!BX1)","v":""},{"$f":"IF('Assessment Framework'!BY1=\"\",\"\",'Assessment Framework'!BY1)","v":""},{"$f":"IF('Assessment Framework'!BZ1=\"\",\"\",'Assessment Framework'!BZ1)","v":""},{"$f":"IF('Assessment Framework'!CA1=\"\",\"\",'Assessment Framework'!CA1)","v":""},{"$f":"IF('Assessment Framework'!CB1=\"\",\"\",'Assessment Framework'!CB1)","v":""},{"$f":"IF('Assessment Framework'!CC1=\"\",\"\",'Assessment Framework'!CC1)","v":""},{"$f":"IF('Assessment Framework'!CD1=\"\",\"\",'Assessment Framework'!CD1)","v":""},{"$f":"IF('Assessment Framework'!CE1=\"\",\"\",'Assessment Framework'!CE1)","v":""},{"$f":"IF('Assessment Framework'!CF1=\"\",\"\",'Assessment Framework'!CF1)","v":""},{"$f":"IF('Assessment Framework'!CG1=\"\",\"\",'Assessment Framework'!CG1)","v":""},{"$f":"IF('Assessment Framework'!CH1=\"\",\"\",'Assessment Framework'!CH1)","v":""},{"$f":"IF('Assessment Framework'!CI1=\"\",\"\",'Assessment Framework'!CI1)","v":""},{"$f":"IF('Assessment Framework'!CJ1=\"\",\"\",'Assessment Framework'!CJ1)","v":""},{"$f":"IF('Assessment Framework'!CK1=\"\",\"\",'Assessment Framework'!CK1)","v":""},{"$f":"IF('Assessment Framework'!CL1=\"\",\"\",'Assessment Framework'!CL1)","v":""},{"$f":"IF('Assessment Framework'!CM1=\"\",\"\",'Assessment Framework'!CM1)","v":""}]
["Assessment details and contact information framework","Assessment details","Key information relating to assessment name and organization","Assessment name","Name of the plastic pollution assessment methodology or title of paper/report if no official name given.","Text","NA",{"$f":"IF('Assessment Framework'!G2=\"\",\"\",'Assessment Framework'!G2)","v":"A methodology to characterize riverine macroplastic emission into the ocean"},{"$f":"IF('Assessment Framework'!H2=\"\",\"\",'Assessment Framework'!H2)","v":"APLASTIC-Q: Machine learning for aquatic plastic litter detection, classification and quantification"},{"$f":"IF('Assessment Framework'!I2=\"\",\"\",'Assessment Framework'!I2)","v":"Baseline and power analysis for the assessment of beach litter reductions in the European OSPAR region"},{"$f":"IF('Assessment Framework'!J2=\"\",\"\",'Assessment Framework'!J2)","v":"Basel Convention Toolkits for Plastic Waste Inventory"},{"$f":"IF('Assessment Framework'!K2=\"\",\"\",'Assessment Framework'!K2)","v":"Beach-litter baselines"},{"$f":"IF('Assessment Framework'!L2=\"\",\"\",'Assessment Framework'!L2)","v":"Circularity Assessment Protocol"},{"$f":"IF('Assessment Framework'!M2=\"\",\"\",'Assessment Framework'!M2)","v":"Closing the Mediterranean Marine Floating Plastic Mass Budget: Inverse Modelling of Sources and Sinks"},{"$f":"IF('Assessment Framework'!N2=\"\",\"\",'Assessment Framework'!N2)","v":"From Land to Sea – model for the documentation of land-sourced plastic litter"},{"$f":"IF('Assessment Framework'!O2=\"\",\"\",'Assessment Framework'!O2)","v":"Full Circle - PET Collection, Landfill and Environmental Leakage Rates in Southeast Asia"},{"$f":"IF('Assessment Framework'!P2=\"\",\"\",'Assessment Framework'!P2)","v":"Global Plastic Pollution Survey"},{"$f":"IF('Assessment Framework'!Q2=\"\",\"\",'Assessment Framework'!Q2)","v":"High-Resolution Mapping of Japanese Microplastic and Macroplastic Emissions from the Land into the Sea"},{"$f":"IF('Assessment Framework'!R2=\"\",\"\",'Assessment Framework'!R2)","v":"Identification of sources of marine litter using a Likelihood Matrix Scoring Technique"},{"$f":"IF('Assessment Framework'!S2=\"\",\"\",'Assessment Framework'!S2)","v":"ISWA Plastic Pollution Calculator"},{"$f":"IF('Assessment Framework'!T2=\"\",\"\",'Assessment Framework'!T2)","v":"Marine Debris Action Planner (MDAP)"},{"$f":"IF('Assessment Framework'!U2=\"\",\"\",'Assessment Framework'!U2)","v":"National Guidance for Plastic Pollution Hotspotting and Shaping Action"},{"$f":"IF('Assessment Framework'!V2=\"\",\"\",'Assessment Framework'!V2)","v":"OSPAR Litter Analyst"},{"$f":"IF('Assessment Framework'!W2=\"\",\"\",'Assessment Framework'!W2)","v":"P2O"},{"$f":"IF('Assessment Framework'!X2=\"\",\"\",'Assessment Framework'!X2)","v":"Pathways Tool"},{"$f":"IF('Assessment Framework'!Y2=\"\",\"\",'Assessment Framework'!Y2)","v":"Plastic Drawdown"},{"$f":"IF('Assessment Framework'!Z2=\"\",\"\",'Assessment Framework'!Z2)","v":"Plastic Leak Project (PLP) / Plastic Footprint Network (PFN)"},{"$f":"IF('Assessment Framework'!AA2=\"\",\"\",'Assessment Framework'!AA2)","v":"Plastic Pathfinder"},{"$f":"IF('Assessment Framework'!AB2=\"\",\"\",'Assessment Framework'!AB2)","v":"Plastic waste discharges from rivers and coastlines in Indonesia"},{"$f":"IF('Assessment Framework'!AC2=\"\",\"\",'Assessment Framework'!AC2)","v":"Polymer-Specific Modeling of the Environmental Emissions of Seven Commodity Plastics As Macro- and Microplastics"},{"$f":"IF('Assessment Framework'!AD2=\"\",\"\",'Assessment Framework'!AD2)","v":"RIMMEL"},{"$f":"IF('Assessment Framework'!AE2=\"\",\"\",'Assessment Framework'!AE2)","v":"Risk and Warning System for Macroplastic Litter"},{"$f":"IF('Assessment Framework'!AF2=\"\",\"\",'Assessment Framework'!AF2)","v":"Simple model estimates of input of marine plastic into the sea, from land-based sources, fisheries and remote sources (via ocean)."},{"$f":"IF('Assessment Framework'!AG2=\"\",\"\",'Assessment Framework'!AG2)","v":"Simulation of dispersion and accumulation of marine debris using numerical models, including particle-tracking"},{"$f":"IF('Assessment Framework'!AH2=\"\",\"\",'Assessment Framework'!AH2)","v":"SPOT model"},{"$f":"IF('Assessment Framework'!AI2=\"\",\"\",'Assessment Framework'!AI2)","v":"The effect of tidal fluctuation on the accumulation of plastic debris in the Wonorejo River Estuary, Surabaya, Indonesia"},{"$f":"IF('Assessment Framework'!AJ2=\"\",\"\",'Assessment Framework'!AJ2)","v":"Waste Flow Diagram"},{"$f":"IF('Assessment Framework'!AK2=\"\",\"\",'Assessment Framework'!AK2)","v":"Wasting the North Sea - A field-based assessment of anthropogenic macrolitter loads and emission rates of three German tributaries"},{"$f":"IF('Assessment Framework'!AL2=\"\",\"\",'Assessment Framework'!AL2)","v":""},{"$f":"IF('Assessment Framework'!AM2=\"\",\"\",'Assessment Framework'!AM2)","v":""},{"$f":"IF('Assessment Framework'!AN2=\"\",\"\",'Assessment Framework'!AN2)","v":""},{"$f":"IF('Assessment Framework'!AO2=\"\",\"\",'Assessment Framework'!AO2)","v":""},{"$f":"IF('Assessment Framework'!AP2=\"\",\"\",'Assessment Framework'!AP2)","v":""},{"$f":"IF('Assessment Framework'!AQ2=\"\",\"\",'Assessment Framework'!AQ2)","v":""},{"$f":"IF('Assessment Framework'!AR2=\"\",\"\",'Assessment Framework'!AR2)","v":""},{"$f":"IF('Assessment Framework'!AS2=\"\",\"\",'Assessment Framework'!AS2)","v":""},{"$f":"IF('Assessment Framework'!AT2=\"\",\"\",'Assessment Framework'!AT2)","v":""},{"$f":"IF('Assessment Framework'!AU2=\"\",\"\",'Assessment Framework'!AU2)","v":""},{"$f":"IF('Assessment Framework'!AV2=\"\",\"\",'Assessment Framework'!AV2)","v":""},{"$f":"IF('Assessment Framework'!AW2=\"\",\"\",'Assessment Framework'!AW2)","v":""},{"$f":"IF('Assessment Framework'!AX2=\"\",\"\",'Assessment Framework'!AX2)","v":""},{"$f":"IF('Assessment Framework'!AY2=\"\",\"\",'Assessment Framework'!AY2)","v":""},{"$f":"IF('Assessment Framework'!AZ2=\"\",\"\",'Assessment Framework'!AZ2)","v":""},{"$f":"IF('Assessment Framework'!BA2=\"\",\"\",'Assessment Framework'!BA2)","v":""},{"$f":"IF('Assessment Framework'!BB2=\"\",\"\",'Assessment Framework'!BB2)","v":""},{"$f":"IF('Assessment Framework'!BC2=\"\",\"\",'Assessment Framework'!BC2)","v":""},{"$f":"IF('Assessment Framework'!BD2=\"\",\"\",'Assessment Framework'!BD2)","v":""},{"$f":"IF('Assessment Framework'!BE2=\"\",\"\",'Assessment Framework'!BE2)","v":""},{"$f":"IF('Assessment Framework'!BF2=\"\",\"\",'Assessment Framework'!BF2)","v":""},{"$f":"IF('Assessment Framework'!BG2=\"\",\"\",'Assessment Framework'!BG2)","v":""},{"$f":"IF('Assessment Framework'!BH2=\"\",\"\",'Assessment Framework'!BH2)","v":""},{"$f":"IF('Assessment Framework'!BI2=\"\",\"\",'Assessment Framework'!BI2)","v":""},{"$f":"IF('Assessment Framework'!BJ2=\"\",\"\",'Assessment Framework'!BJ2)","v":""},{"$f":"IF('Assessment Framework'!BK2=\"\",\"\",'Assessment Framework'!BK2)","v":""},{"$f":"IF('Assessment Framework'!BL2=\"\",\"\",'Assessment Framework'!BL2)","v":""},{"$f":"IF('Assessment Framework'!BM2=\"\",\"\",'Assessment Framework'!BM2)","v":""},{"$f":"IF('Assessment Framework'!BN2=\"\",\"\",'Assessment Framework'!BN2)","v":""},{"$f":"IF('Assessment Framework'!BO2=\"\",\"\",'Assessment Framework'!BO2)","v":""},{"$f":"IF('Assessment Framework'!BP2=\"\",\"\",'Assessment Framework'!BP2)","v":""},{"$f":"IF('Assessment Framework'!BQ2=\"\",\"\",'Assessment Framework'!BQ2)","v":""},{"$f":"IF('Assessment Framework'!BR2=\"\",\"\",'Assessment Framework'!BR2)","v":""},{"$f":"IF('Assessment Framework'!BS2=\"\",\"\",'Assessment Framework'!BS2)","v":""},{"$f":"IF('Assessment Framework'!BT2=\"\",\"\",'Assessment Framework'!BT2)","v":""},{"$f":"IF('Assessment Framework'!BU2=\"\",\"\",'Assessment Framework'!BU2)","v":""},{"$f":"IF('Assessment Framework'!BV2=\"\",\"\",'Assessment Framework'!BV2)","v":""},{"$f":"IF('Assessment Framework'!BW2=\"\",\"\",'Assessment Framework'!BW2)","v":""},{"$f":"IF('Assessment Framework'!BX2=\"\",\"\",'Assessment Framework'!BX2)","v":""},{"$f":"IF('Assessment Framework'!BY2=\"\",\"\",'Assessment Framework'!BY2)","v":""},{"$f":"IF('Assessment Framework'!BZ2=\"\",\"\",'Assessment Framework'!BZ2)","v":""},{"$f":"IF('Assessment Framework'!CA2=\"\",\"\",'Assessment Framework'!CA2)","v":""},{"$f":"IF('Assessment Framework'!CB2=\"\",\"\",'Assessment Framework'!CB2)","v":""},{"$f":"IF('Assessment Framework'!CC2=\"\",\"\",'Assessment Framework'!CC2)","v":""},{"$f":"IF('Assessment Framework'!CD2=\"\",\"\",'Assessment Framework'!CD2)","v":""},{"$f":"IF('Assessment Framework'!CE2=\"\",\"\",'Assessment Framework'!CE2)","v":""},{"$f":"IF('Assessment Framework'!CF2=\"\",\"\",'Assessment Framework'!CF2)","v":""},{"$f":"IF('Assessment Framework'!CG2=\"\",\"\",'Assessment Framework'!CG2)","v":""},{"$f":"IF('Assessment Framework'!CH2=\"\",\"\",'Assessment Framework'!CH2)","v":""},{"$f":"IF('Assessment Framework'!CI2=\"\",\"\",'Assessment Framework'!CI2)","v":""},{"$f":"IF('Assessment Framework'!CJ2=\"\",\"\",'Assessment Framework'!CJ2)","v":""},{"$f":"IF('Assessment Framework'!CK2=\"\",\"\",'Assessment Framework'!CK2)","v":""},{"$f":"IF('Assessment Framework'!CL2=\"\",\"\",'Assessment Framework'!CL2)","v":""},{"$f":"IF('Assessment Framework'!CM2=\"\",\"\",'Assessment Framework'!CM2)","v":""}]
[null,null,null,"Organization(s) / Author(s)","Name of organization(s) or authors for academic papers","Text","NA",{"$f":"IF('Assessment Framework'!G3=\"\",\"\",'Assessment Framework'!G3)","v":"Van Emmerik et al."},{"$f":"IF('Assessment Framework'!H3=\"\",\"\",'Assessment Framework'!H3)","v":"World Bank, Wolf et al"},{"$f":"IF('Assessment Framework'!I3=\"\",\"\",'Assessment Framework'!I3)","v":"Schulz et al."},{"$f":"IF('Assessment Framework'!J3=\"\",\"\",'Assessment Framework'!J3)","v":"Basel Convention"},{"$f":"IF('Assessment Framework'!K3=\"\",\"\",'Assessment Framework'!K3)","v":"EU Joint Research Centre (Hanke et al)"},{"$f":"IF('Assessment Framework'!L3=\"\",\"\",'Assessment Framework'!L3)","v":"Circularity Informatics Lab (CIL)"},{"$f":"IF('Assessment Framework'!M3=\"\",\"\",'Assessment Framework'!M3)","v":"Kaandorp et al"},{"$f":"IF('Assessment Framework'!N3=\"\",\"\",'Assessment Framework'!N3)","v":"Consultic / BKV"},{"$f":"IF('Assessment Framework'!O3=\"\",\"\",'Assessment Framework'!O3)","v":"GA Circular"},{"$f":"IF('Assessment Framework'!P3=\"\",\"\",'Assessment Framework'!P3)","v":"CSIRO"},{"$f":"IF('Assessment Framework'!Q3=\"\",\"\",'Assessment Framework'!Q3)","v":"Nihei et al"},{"$f":"IF('Assessment Framework'!R3=\"\",\"\",'Assessment Framework'!R3)","v":"Tudor & Williams\n"},{"$f":"IF('Assessment Framework'!S3=\"\",\"\",'Assessment Framework'!S3)","v":"ISWA, University of Leeds"},{"$f":"IF('Assessment Framework'!T3=\"\",\"\",'Assessment Framework'!T3)","v":"GRID-Arendal, SALT"},{"$f":"IF('Assessment Framework'!U3=\"\",\"\",'Assessment Framework'!U3)","v":"UNEP, IUCN, EA, Quantis, Life Cycle Initiative"},{"$f":"IF('Assessment Framework'!V3=\"\",\"\",'Assessment Framework'!V3)","v":"OSPAR \nSchulz et al"},{"$f":"IF('Assessment Framework'!W3=\"\",\"\",'Assessment Framework'!W3)","v":"The PEW Charitable Trusts, SYSTEMIQ, University of Leeds, University of Oxford"},{"$f":"IF('Assessment Framework'!X3=\"\",\"\",'Assessment Framework'!X3)","v":"PEW, Oxford University"},{"$f":"IF('Assessment Framework'!Y3=\"\",\"\",'Assessment Framework'!Y3)","v":"Common Seas"},{"$f":"IF('Assessment Framework'!Z3=\"\",\"\",'Assessment Framework'!Z3)","v":"Quantis / EA"},{"$f":"IF('Assessment Framework'!AA3=\"\",\"\",'Assessment Framework'!AA3)","v":"Mellink et al."},{"$f":"IF('Assessment Framework'!AB3=\"\",\"\",'Assessment Framework'!AB3)","v":"World Bank, Deltares, Haskoning PT"},{"$f":"IF('Assessment Framework'!AC3=\"\",\"\",'Assessment Framework'!AC3)","v":"Kawecki and Nowack"},{"$f":"IF('Assessment Framework'!AD3=\"\",\"\",'Assessment Framework'!AD3)","v":"European Commission Joint Research Centre (JRC)"},{"$f":"IF('Assessment Framework'!AE3=\"\",\"\",'Assessment Framework'!AE3)","v":"UNEP, DHI"},{"$f":"IF('Assessment Framework'!AF3=\"\",\"\",'Assessment Framework'!AF3)","v":"Turrell"},{"$f":"IF('Assessment Framework'!AG3=\"\",\"\",'Assessment Framework'!AG3)","v":"Several (e.g. Soto-Navarro et al, 2020; Deltares; KTH - Royal Institute of Technology, 2018; van der Mheen, 2020; Mansui et al, 2020)"},{"$f":"IF('Assessment Framework'!AH3=\"\",\"\",'Assessment Framework'!AH3)","v":"University of Leeds"},{"$f":"IF('Assessment Framework'!AI3=\"\",\"\",'Assessment Framework'!AI3)","v":"Kurniawan and Imron"},{"$f":"IF('Assessment Framework'!AJ3=\"\",\"\",'Assessment Framework'!AJ3)","v":"GIZ, University of Leeds, Eawag-Sandec, Wasteaware"},{"$f":"IF('Assessment Framework'!AK3=\"\",\"\",'Assessment Framework'!AK3)","v":"Schöneich-Argent et al"},{"$f":"IF('Assessment Framework'!AL3=\"\",\"\",'Assessment Framework'!AL3)","v":""},{"$f":"IF('Assessment Framework'!AM3=\"\",\"\",'Assessment Framework'!AM3)","v":""},{"$f":"IF('Assessment Framework'!AN3=\"\",\"\",'Assessment Framework'!AN3)","v":""},{"$f":"IF('Assessment Framework'!AO3=\"\",\"\",'Assessment Framework'!AO3)","v":""},{"$f":"IF('Assessment Framework'!AP3=\"\",\"\",'Assessment Framework'!AP3)","v":""},{"$f":"IF('Assessment Framework'!AQ3=\"\",\"\",'Assessment Framework'!AQ3)","v":""},{"$f":"IF('Assessment Framework'!AR3=\"\",\"\",'Assessment Framework'!AR3)","v":""},{"$f":"IF('Assessment Framework'!AS3=\"\",\"\",'Assessment Framework'!AS3)","v":""},{"$f":"IF('Assessment Framework'!AT3=\"\",\"\",'Assessment Framework'!AT3)","v":""},{"$f":"IF('Assessment Framework'!AU3=\"\",\"\",'Assessment Framework'!AU3)","v":""},{"$f":"IF('Assessment Framework'!AV3=\"\",\"\",'Assessment Framework'!AV3)","v":""},{"$f":"IF('Assessment Framework'!AW3=\"\",\"\",'Assessment Framework'!AW3)","v":""},{"$f":"IF('Assessment Framework'!AX3=\"\",\"\",'Assessment Framework'!AX3)","v":""},{"$f":"IF('Assessment Framework'!AY3=\"\",\"\",'Assessment Framework'!AY3)","v":""},{"$f":"IF('Assessment Framework'!AZ3=\"\",\"\",'Assessment Framework'!AZ3)","v":""},{"$f":"IF('Assessment Framework'!BA3=\"\",\"\",'Assessment Framework'!BA3)","v":""},{"$f":"IF('Assessment Framework'!BB3=\"\",\"\",'Assessment Framework'!BB3)","v":""},{"$f":"IF('Assessment Framework'!BC3=\"\",\"\",'Assessment Framework'!BC3)","v":""},{"$f":"IF('Assessment Framework'!BD3=\"\",\"\",'Assessment Framework'!BD3)","v":""},{"$f":"IF('Assessment Framework'!BE3=\"\",\"\",'Assessment Framework'!BE3)","v":""},{"$f":"IF('Assessment Framework'!BF3=\"\",\"\",'Assessment Framework'!BF3)","v":""},{"$f":"IF('Assessment Framework'!BG3=\"\",\"\",'Assessment Framework'!BG3)","v":""},{"$f":"IF('Assessment Framework'!BH3=\"\",\"\",'Assessment Framework'!BH3)","v":""},{"$f":"IF('Assessment Framework'!BI3=\"\",\"\",'Assessment Framework'!BI3)","v":""},{"$f":"IF('Assessment Framework'!BJ3=\"\",\"\",'Assessment Framework'!BJ3)","v":""},{"$f":"IF('Assessment Framework'!BK3=\"\",\"\",'Assessment Framework'!BK3)","v":""},{"$f":"IF('Assessment Framework'!BL3=\"\",\"\",'Assessment Framework'!BL3)","v":""},{"$f":"IF('Assessment Framework'!BM3=\"\",\"\",'Assessment Framework'!BM3)","v":""},{"$f":"IF('Assessment Framework'!BN3=\"\",\"\",'Assessment Framework'!BN3)","v":""},{"$f":"IF('Assessment Framework'!BO3=\"\",\"\",'Assessment Framework'!BO3)","v":""},{"$f":"IF('Assessment Framework'!BP3=\"\",\"\",'Assessment Framework'!BP3)","v":""},{"$f":"IF('Assessment Framework'!BQ3=\"\",\"\",'Assessment Framework'!BQ3)","v":""},{"$f":"IF('Assessment Framework'!BR3=\"\",\"\",'Assessment Framework'!BR3)","v":""},{"$f":"IF('Assessment Framework'!BS3=\"\",\"\",'Assessment Framework'!BS3)","v":""},{"$f":"IF('Assessment Framework'!BT3=\"\",\"\",'Assessment Framework'!BT3)","v":""},{"$f":"IF('Assessment Framework'!BU3=\"\",\"\",'Assessment Framework'!BU3)","v":""},{"$f":"IF('Assessment Framework'!BV3=\"\",\"\",'Assessment Framework'!BV3)","v":""},{"$f":"IF('Assessment Framework'!BW3=\"\",\"\",'Assessment Framework'!BW3)","v":""},{"$f":"IF('Assessment Framework'!BX3=\"\",\"\",'Assessment Framework'!BX3)","v":""},{"$f":"IF('Assessment Framework'!BY3=\"\",\"\",'Assessment Framework'!BY3)","v":""},{"$f":"IF('Assessment Framework'!BZ3=\"\",\"\",'Assessment Framework'!BZ3)","v":""},{"$f":"IF('Assessment Framework'!CA3=\"\",\"\",'Assessment Framework'!CA3)","v":""},{"$f":"IF('Assessment Framework'!CB3=\"\",\"\",'Assessment Framework'!CB3)","v":""},{"$f":"IF('Assessment Framework'!CC3=\"\",\"\",'Assessment Framework'!CC3)","v":""},{"$f":"IF('Assessment Framework'!CD3=\"\",\"\",'Assessment Framework'!CD3)","v":""},{"$f":"IF('Assessment Framework'!CE3=\"\",\"\",'Assessment Framework'!CE3)","v":""},{"$f":"IF('Assessment Framework'!CF3=\"\",\"\",'Assessment Framework'!CF3)","v":""},{"$f":"IF('Assessment Framework'!CG3=\"\",\"\",'Assessment Framework'!CG3)","v":""},{"$f":"IF('Assessment Framework'!CH3=\"\",\"\",'Assessment Framework'!CH3)","v":""},{"$f":"IF('Assessment Framework'!CI3=\"\",\"\",'Assessment Framework'!CI3)","v":""},{"$f":"IF('Assessment Framework'!CJ3=\"\",\"\",'Assessment Framework'!CJ3)","v":""},{"$f":"IF('Assessment Framework'!CK3=\"\",\"\",'Assessment Framework'!CK3)","v":""},{"$f":"IF('Assessment Framework'!CL3=\"\",\"\",'Assessment Framework'!CL3)","v":""},{"$f":"IF('Assessment Framework'!CM3=\"\",\"\",'Assessment Framework'!CM3)","v":""}]
[null,null,null,"URL (if available)","Website address of plastic pollution assessment methodology","URL","NA",{"$f":"IF('Assessment Framework'!G4=\"\",\"\",'Assessment Framework'!G4)","v":"https://doi.org/10.3389/fmars.2018.00372"},{"$f":"IF('Assessment Framework'!H4=\"\",\"\",'Assessment Framework'!H4)","v":"https://iopscience.iop.org/article/10.1088/1748-9326/abbd01"},{"$f":"IF('Assessment Framework'!I4=\"\",\"\",'Assessment Framework'!I4)","v":"https://www.sciencedirect.com/science/article/pii/S0269749118350565"},{"$f":"IF('Assessment Framework'!J4=\"\",\"\",'Assessment Framework'!J4)","v":"http://www.basel.int/Countries/NationalReporting/Toolkitsforwasteinventory/tabid/9043/Default.aspx"},{"$f":"IF('Assessment Framework'!K4=\"\",\"\",'Assessment Framework'!K4)","v":"https://mcc.jrc.ec.europa.eu/main/dev.py?N=41&O=452"},{"$f":"IF('Assessment Framework'!L4=\"\",\"\",'Assessment Framework'!L4)","v":"https://www.circularityinformatics.org"},{"$f":"IF('Assessment Framework'!M4=\"\",\"\",'Assessment Framework'!M4)","v":"https://pubs.acs.org/doi/10.1021/acs.est.0c01984"},{"$f":"IF('Assessment Framework'!N4=\"\",\"\",'Assessment Framework'!N4)","v":"https://www.bkv-gmbh.de/plastics-in-the-environment.html"},{"$f":"IF('Assessment Framework'!O4=\"\",\"\",'Assessment Framework'!O4)","v":"https://www.gacircular.com/_files/ugd/d424f7_d612161763824d3b9fbbf00affea9a9f.pdf"},{"$f":"IF('Assessment Framework'!P4=\"\",\"\",'Assessment Framework'!P4)","v":"https://research.csiro.au/marinedebris/projects/globalplasticsleakageproject"},{"$f":"IF('Assessment Framework'!Q4=\"\",\"\",'Assessment Framework'!Q4)","v":"https://www.mdpi.com/2073-4441/12/4/951"},{"$f":"IF('Assessment Framework'!R4=\"\",\"\",'Assessment Framework'!R4)","v":"https://doi.org/10.1652/1400-0350(2004)010[0119:DOAMST]2.0.CO;2"},{"$f":"IF('Assessment Framework'!S4=\"\",\"\",'Assessment Framework'!S4)","v":"https://plasticpollution.leeds.ac.uk/toolkits/calculator"},{"$f":"IF('Assessment Framework'!T4=\"\",\"\",'Assessment Framework'!T4)","v":"https://www.sciencedirect.com/science/article/pii/S0025326X18308762"},{"$f":"IF('Assessment Framework'!U4=\"\",\"\",'Assessment Framework'!U4)","v":"https://plastichotspotting.lifecycleinitiative.org"},{"$f":"IF('Assessment Framework'!V4=\"\",\"\",'Assessment Framework'!V4)","v":"https://www.sciencedirect.com/science/article/pii/S0025326X17305246"},{"$f":"IF('Assessment Framework'!W4=\"\",\"\",'Assessment Framework'!W4)","v":"https://science.sciencemag.org/content/369/6510/1455"},{"$f":"IF('Assessment Framework'!X4=\"\",\"\",'Assessment Framework'!X4)","v":"https://www.pewtrusts.org/en/research-and-analysis/fact-sheets/2022/09/a-new-tool-can-help-address-ocean-plastic-pollution"},{"$f":"IF('Assessment Framework'!Y4=\"\",\"\",'Assessment Framework'!Y4)","v":"https://doi.org/10.1016/j.gloenvcha.2021.102442"},{"$f":"IF('Assessment Framework'!Z4=\"\",\"\",'Assessment Framework'!Z4)","v":"https://quantis.com/who-we-guide/our-impact/sustainability-initiatives/plastic-leak-project/"},{"$f":"IF('Assessment Framework'!AA4=\"\",\"\",'Assessment Framework'!AA4)","v":"https://doi.org/10.3389/fenvs.2022.979685"},{"$f":"IF('Assessment Framework'!AB4=\"\",\"\",'Assessment Framework'!AB4)","v":"https://documents.worldbank.org/en/publication/documents-reports/documentdetail/146261621356766241/main-report"},{"$f":"IF('Assessment Framework'!AC4=\"\",\"\",'Assessment Framework'!AC4)","v":"https://pubs.acs.org/doi/10.1021/acs.est.9b02900"},{"$f":"IF('Assessment Framework'!AD4=\"\",\"\",'Assessment Framework'!AD4)","v":"https://mcc.jrc.ec.europa.eu/main/dev.py?N=simple&O=394&titre_page=RIMMEL%2520observation%2520Network"},{"$f":"IF('Assessment Framework'!AE4=\"\",\"\",'Assessment Framework'!AE4)","v":"https://www.dhigroup.com/global/news/2022/02/stopping-plastic-pollution,-c-,-early-warning-system-forecasts-river-plastic-flows-to-oceans"},{"$f":"IF('Assessment Framework'!AF4=\"\",\"\",'Assessment Framework'!AF4)","v":"https://doi.org/10.1016/j.marpolbul.2019.110725"},{"$f":"IF('Assessment Framework'!AG4=\"\",\"\",'Assessment Framework'!AG4)","v":"https://doi.org/10.1088/1748-9326/ab6d7d"},{"$f":"IF('Assessment Framework'!AH4=\"\",\"\",'Assessment Framework'!AH4)","v":"https://plasticpollution.leeds.ac.uk/toolkits/spot"},{"$f":"IF('Assessment Framework'!AI4=\"\",\"\",'Assessment Framework'!AI4)","v":"https://www.sciencedirect.com/science/article/pii/S2352186419301671"},{"$f":"IF('Assessment Framework'!AJ4=\"\",\"\",'Assessment Framework'!AJ4)","v":"https://wfd.rwm.global"},{"$f":"IF('Assessment Framework'!AK4=\"\",\"\",'Assessment Framework'!AK4)","v":"https://doi.org/10.1016/j.envpol.2020.114367"},{"$f":"IF('Assessment Framework'!AL4=\"\",\"\",'Assessment Framework'!AL4)","v":""},{"$f":"IF('Assessment Framework'!AM4=\"\",\"\",'Assessment Framework'!AM4)","v":""},{"$f":"IF('Assessment Framework'!AN4=\"\",\"\",'Assessment Framework'!AN4)","v":""},{"$f":"IF('Assessment Framework'!AO4=\"\",\"\",'Assessment Framework'!AO4)","v":""},{"$f":"IF('Assessment Framework'!AP4=\"\",\"\",'Assessment Framework'!AP4)","v":""},{"$f":"IF('Assessment Framework'!AQ4=\"\",\"\",'Assessment Framework'!AQ4)","v":""},{"$f":"IF('Assessment Framework'!AR4=\"\",\"\",'Assessment Framework'!AR4)","v":""},{"$f":"IF('Assessment Framework'!AS4=\"\",\"\",'Assessment Framework'!AS4)","v":""},{"$f":"IF('Assessment Framework'!AT4=\"\",\"\",'Assessment Framework'!AT4)","v":""},{"$f":"IF('Assessment Framework'!AU4=\"\",\"\",'Assessment Framework'!AU4)","v":""},{"$f":"IF('Assessment Framework'!AV4=\"\",\"\",'Assessment Framework'!AV4)","v":""},{"$f":"IF('Assessment Framework'!AW4=\"\",\"\",'Assessment Framework'!AW4)","v":""},{"$f":"IF('Assessment Framework'!AX4=\"\",\"\",'Assessment Framework'!AX4)","v":""},{"$f":"IF('Assessment Framework'!AY4=\"\",\"\",'Assessment Framework'!AY4)","v":""},{"$f":"IF('Assessment Framework'!AZ4=\"\",\"\",'Assessment Framework'!AZ4)","v":""},{"$f":"IF('Assessment Framework'!BA4=\"\",\"\",'Assessment Framework'!BA4)","v":""},{"$f":"IF('Assessment Framework'!BB4=\"\",\"\",'Assessment Framework'!BB4)","v":""},{"$f":"IF('Assessment Framework'!BC4=\"\",\"\",'Assessment Framework'!BC4)","v":""},{"$f":"IF('Assessment Framework'!BD4=\"\",\"\",'Assessment Framework'!BD4)","v":""},{"$f":"IF('Assessment Framework'!BE4=\"\",\"\",'Assessment Framework'!BE4)","v":""},{"$f":"IF('Assessment Framework'!BF4=\"\",\"\",'Assessment Framework'!BF4)","v":""},{"$f":"IF('Assessment Framework'!BG4=\"\",\"\",'Assessment Framework'!BG4)","v":""},{"$f":"IF('Assessment Framework'!BH4=\"\",\"\",'Assessment Framework'!BH4)","v":""},{"$f":"IF('Assessment Framework'!BI4=\"\",\"\",'Assessment Framework'!BI4)","v":""},{"$f":"IF('Assessment Framework'!BJ4=\"\",\"\",'Assessment Framework'!BJ4)","v":""},{"$f":"IF('Assessment Framework'!BK4=\"\",\"\",'Assessment Framework'!BK4)","v":""},{"$f":"IF('Assessment Framework'!BL4=\"\",\"\",'Assessment Framework'!BL4)","v":""},{"$f":"IF('Assessment Framework'!BM4=\"\",\"\",'Assessment Framework'!BM4)","v":""},{"$f":"IF('Assessment Framework'!BN4=\"\",\"\",'Assessment Framework'!BN4)","v":""},{"$f":"IF('Assessment Framework'!BO4=\"\",\"\",'Assessment Framework'!BO4)","v":""},{"$f":"IF('Assessment Framework'!BP4=\"\",\"\",'Assessment Framework'!BP4)","v":""},{"$f":"IF('Assessment Framework'!BQ4=\"\",\"\",'Assessment Framework'!BQ4)","v":""},{"$f":"IF('Assessment Framework'!BR4=\"\",\"\",'Assessment Framework'!BR4)","v":""},{"$f":"IF('Assessment Framework'!BS4=\"\",\"\",'Assessment Framework'!BS4)","v":""},{"$f":"IF('Assessment Framework'!BT4=\"\",\"\",'Assessment Framework'!BT4)","v":""},{"$f":"IF('Assessment Framework'!BU4=\"\",\"\",'Assessment Framework'!BU4)","v":""},{"$f":"IF('Assessment Framework'!BV4=\"\",\"\",'Assessment Framework'!BV4)","v":""},{"$f":"IF('Assessment Framework'!BW4=\"\",\"\",'Assessment Framework'!BW4)","v":""},{"$f":"IF('Assessment Framework'!BX4=\"\",\"\",'Assessment Framework'!BX4)","v":""},{"$f":"IF('Assessment Framework'!BY4=\"\",\"\",'Assessment Framework'!BY4)","v":""},{"$f":"IF('Assessment Framework'!BZ4=\"\",\"\",'Assessment Framework'!BZ4)","v":""},{"$f":"IF('Assessment Framework'!CA4=\"\",\"\",'Assessment Framework'!CA4)","v":""},{"$f":"IF('Assessment Framework'!CB4=\"\",\"\",'Assessment Framework'!CB4)","v":""},{"$f":"IF('Assessment Framework'!CC4=\"\",\"\",'Assessment Framework'!CC4)","v":""},{"$f":"IF('Assessment Framework'!CD4=\"\",\"\",'Assessment Framework'!CD4)","v":""},{"$f":"IF('Assessment Framework'!CE4=\"\",\"\",'Assessment Framework'!CE4)","v":""},{"$f":"IF('Assessment Framework'!CF4=\"\",\"\",'Assessment Framework'!CF4)","v":""},{"$f":"IF('Assessment Framework'!CG4=\"\",\"\",'Assessment Framework'!CG4)","v":""},{"$f":"IF('Assessment Framework'!CH4=\"\",\"\",'Assessment Framework'!CH4)","v":""},{"$f":"IF('Assessment Framework'!CI4=\"\",\"\",'Assessment Framework'!CI4)","v":""},{"$f":"IF('Assessment Framework'!CJ4=\"\",\"\",'Assessment Framework'!CJ4)","v":""},{"$f":"IF('Assessment Framework'!CK4=\"\",\"\",'Assessment Framework'!CK4)","v":""},{"$f":"IF('Assessment Framework'!CL4=\"\",\"\",'Assessment Framework'!CL4)","v":""},{"$f":"IF('Assessment Framework'!CM4=\"\",\"\",'Assessment Framework'!CM4)","v":""}]
[null,null,null,"Objectives","Objectives","Text","NA",{"$f":"IF('Assessment Framework'!G5=\"\",\"\",'Assessment Framework'!G5)","v":"To quantify riverine macroplastic emissions into oceans and account for temporal variations."},{"$f":"IF('Assessment Framework'!H5=\"\",\"\",'Assessment Framework'!H5)","v":"Detecting and quantifying floating and washed ashore plastic litter using machine learning image recognition techniques."},{"$f":"IF('Assessment Framework'!I5=\"\",\"\",'Assessment Framework'!I5)","v":"Establishes a baseline of beach litter abundance and estimates the minimum number of required beach litter surveys in order to detect a certain reduction in abundance."},{"$f":"IF('Assessment Framework'!J5=\"\",\"\",'Assessment Framework'!J5)","v":"Two toolkits are made available from the Basel Convention, each of which is run independently. The 'Consumption-Lifespan' method developed by UNITAR aims to calculate the mass of plastc placed on market and becoming waste within a Country. The second toolkit known as the 'Material Flow Analysis Method' was developed by Resource Futures and aims to map the flows of plastic waste throughout the solid waste management system, including emissions into the environment. Only the 'Material Flow Analysis' method falls within scope for this toolkit due to it quantifying plastic pollution rather than just plastic waste."},{"$f":"IF('Assessment Framework'!K5=\"\",\"\",'Assessment Framework'!K5)","v":"Develop a harmonised baseline of beach litter using existing sampling data"},{"$f":"IF('Assessment Framework'!L5=\"\",\"\",'Assessment Framework'!L5)","v":"The Circularity Assessment Protocol (CAP) is designed to analyse consumer plastic waste in a community (city) including its leakage into the environment."},{"$f":"IF('Assessment Framework'!M5=\"\",\"\",'Assessment Framework'!M5)","v":"To improve understanding of possible sources and fate of plastics within the ocean."},{"$f":"IF('Assessment Framework'!N5=\"\",\"\",'Assessment Framework'!N5)","v":"Developed by Consultic and BKV, the plastic pollution assessment model entitled ‘From the land to the sea – land-based model to capture plastic waste’ aims to identify the land-based sources and pathways of marine litter. "},{"$f":"IF('Assessment Framework'!O5=\"\",\"\",'Assessment Framework'!O5)","v":"Maps PET plastic bottles for the entire life cycle, including amounts produced, recycled, landfilled and leaked in the environment,"},{"$f":"IF('Assessment Framework'!P5=\"\",\"\",'Assessment Framework'!P5)","v":"Developed by the Commonwealth Scientific and Industrial Research Organisation (CSIRO) in Australia, this plastic pollution assessment methodology estimates the sources, distribution and movement of plastic waste in the environment."},{"$f":"IF('Assessment Framework'!Q5=\"\",\"\",'Assessment Framework'!Q5)","v":"To derive high-resolution maps of plastic waste in the environment and estimate the amount of this transferring to oceans."},{"$f":"IF('Assessment Framework'!R5=\"\",\"\",'Assessment Framework'!R5)","v":"Identify sources of marine litter for a certain site/area. "},{"$f":"IF('Assessment Framework'!S5=\"\",\"\",'Assessment Framework'!S5)","v":"Developed as part of the International Solid Waste Associations Task Force on Marine Litter, the Plastic Pollution Calculator’s aims to map the flows of plastic waste in the solid waste management system and the environment, enabling action plans to be developed and interventions to be prioritised."},{"$f":"IF('Assessment Framework'!T5=\"\",\"\",'Assessment Framework'!T5)","v":"Predict litter accumulation hotspots for the coastlines."},{"$f":"IF('Assessment Framework'!U5=\"\",\"\",'Assessment Framework'!U5)","v":"The National Guidance for Plastic Pollution Hotspotting and Shaping Action methodology developed by UNEP and IUCN aims to both identify plastic pollution hotspots and shape corresponding actions. "},{"$f":"IF('Assessment Framework'!V5=\"\",\"\",'Assessment Framework'!V5)","v":"A statistical software package, OSPAR Litter Analyst, was produced for analysing beach litter data with the aim of compiling the most optimal statistical methodologies for analysing litter abundance and trends."},{"$f":"IF('Assessment Framework'!W5=\"\",\"\",'Assessment Framework'!W5)","v":"To examine scenarios for reducing plastic emissions to the ocean."},{"$f":"IF('Assessment Framework'!X5=\"\",\"\",'Assessment Framework'!X5)","v":"To Pathways Tool is a flexible piece of software that builds upon the P2O (Breaking the Plastic Wave) tool by allowing users to perform material flow analysis with customizable intervenions, projections and uncertainty incorporated."},{"$f":"IF('Assessment Framework'!Y5=\"\",\"\",'Assessment Framework'!Y5)","v":"Plastic Drawdown aims to baseline a countries plastic pollution up to 2030 and visualise how varies interventions may reduce it."},{"$f":"IF('Assessment Framework'!Z5=\"\",\"\",'Assessment Framework'!Z5)","v":"The Plastic Leak Project (PLP) aims to enable companies to inventory plastic waste flows, including those related to plastic production, packaging, products amongst other sources. Updated data and support is available through the Plastic Footprint Network (PFN)."},{"$f":"IF('Assessment Framework'!AA5=\"\",\"\",'Assessment Framework'!AA5)","v":"To map the movement of plastic across land."},{"$f":"IF('Assessment Framework'!AB5=\"\",\"\",'Assessment Framework'!AB5)","v":"Estimate a national baseline of plastic waste discharges from land-based sources, via rivers and coastlines, integrating hydrology"},{"$f":"IF('Assessment Framework'!AC5=\"\",\"\",'Assessment Framework'!AC5)","v":"Map the flows of seven polymers within a country including their loss to the environment."},{"$f":"IF('Assessment Framework'!AD5=\"\",\"\",'Assessment Framework'!AD5)","v":"The Riverine and Marine floating macro litter Monitoring and Modelling of Environmental Loading (RIMMEL) aimsat harmonizing data collection and reporting for macro-litter observations."},{"$f":"IF('Assessment Framework'!AE5=\"\",\"\",'Assessment Framework'!AE5)","v":"To forecast freshwater river hotspots of macroplastic accumulation for up to nine months in the future."},{"$f":"IF('Assessment Framework'!AF5=\"\",\"\",'Assessment Framework'!AF5)","v":"A model to estimate annual inputs and outputs of macro- and microplastics to a region of sea."},{"$f":"IF('Assessment Framework'!AG5=\"\",\"\",'Assessment Framework'!AG5)","v":"To track the fate of debris by simulating pre-defined environmental conditions."},{"$f":"IF('Assessment Framework'!AH5=\"\",\"\",'Assessment Framework'!AH5)","v":"SPOT is local-to-global model for generating macroplastic emission inventories at all scales. SPOT predicts the origins, transportation pathways, and sink hotspots of plastic pollution, as well as estimating SDG11.6.1 - degree of controlled waste management in a city."},{"$f":"IF('Assessment Framework'!AI5=\"\",\"\",'Assessment Framework'!AI5)","v":"The method aims to understand the effect of tide levels on debris distribution along the coastline. This was applied for the case study site of the Wonorejo River Estuary in Surabay, Indonesia"},{"$f":"IF('Assessment Framework'!AJ5=\"\",\"\",'Assessment Framework'!AJ5)","v":"To allow rapid quantification of a cities plastic pollution."},{"$f":"IF('Assessment Framework'!AK5=\"\",\"\",'Assessment Framework'!AK5)","v":"Assessment of macroplastic emissions from rivers using sampling data from embankments, river surface, water colums and river beds."},{"$f":"IF('Assessment Framework'!AL5=\"\",\"\",'Assessment Framework'!AL5)","v":""},{"$f":"IF('Assessment Framework'!AM5=\"\",\"\",'Assessment Framework'!AM5)","v":""},{"$f":"IF('Assessment Framework'!AN5=\"\",\"\",'Assessment Framework'!AN5)","v":""},{"$f":"IF('Assessment Framework'!AO5=\"\",\"\",'Assessment Framework'!AO5)","v":""},{"$f":"IF('Assessment Framework'!AP5=\"\",\"\",'Assessment Framework'!AP5)","v":""},{"$f":"IF('Assessment Framework'!AQ5=\"\",\"\",'Assessment Framework'!AQ5)","v":""},{"$f":"IF('Assessment Framework'!AR5=\"\",\"\",'Assessment Framework'!AR5)","v":""},{"$f":"IF('Assessment Framework'!AS5=\"\",\"\",'Assessment Framework'!AS5)","v":""},{"$f":"IF('Assessment Framework'!AT5=\"\",\"\",'Assessment Framework'!AT5)","v":""},{"$f":"IF('Assessment Framework'!AU5=\"\",\"\",'Assessment Framework'!AU5)","v":""},{"$f":"IF('Assessment Framework'!AV5=\"\",\"\",'Assessment Framework'!AV5)","v":""},{"$f":"IF('Assessment Framework'!AW5=\"\",\"\",'Assessment Framework'!AW5)","v":""},{"$f":"IF('Assessment Framework'!AX5=\"\",\"\",'Assessment Framework'!AX5)","v":""},{"$f":"IF('Assessment Framework'!AY5=\"\",\"\",'Assessment Framework'!AY5)","v":""},{"$f":"IF('Assessment Framework'!AZ5=\"\",\"\",'Assessment Framework'!AZ5)","v":""},{"$f":"IF('Assessment Framework'!BA5=\"\",\"\",'Assessment Framework'!BA5)","v":""},{"$f":"IF('Assessment Framework'!BB5=\"\",\"\",'Assessment Framework'!BB5)","v":""},{"$f":"IF('Assessment Framework'!BC5=\"\",\"\",'Assessment Framework'!BC5)","v":""},{"$f":"IF('Assessment Framework'!BD5=\"\",\"\",'Assessment Framework'!BD5)","v":""},{"$f":"IF('Assessment Framework'!BE5=\"\",\"\",'Assessment Framework'!BE5)","v":""},{"$f":"IF('Assessment Framework'!BF5=\"\",\"\",'Assessment Framework'!BF5)","v":""},{"$f":"IF('Assessment Framework'!BG5=\"\",\"\",'Assessment Framework'!BG5)","v":""},{"$f":"IF('Assessment Framework'!BH5=\"\",\"\",'Assessment Framework'!BH5)","v":""},{"$f":"IF('Assessment Framework'!BI5=\"\",\"\",'Assessment Framework'!BI5)","v":""},{"$f":"IF('Assessment Framework'!BJ5=\"\",\"\",'Assessment Framework'!BJ5)","v":""},{"$f":"IF('Assessment Framework'!BK5=\"\",\"\",'Assessment Framework'!BK5)","v":""},{"$f":"IF('Assessment Framework'!BL5=\"\",\"\",'Assessment Framework'!BL5)","v":""},{"$f":"IF('Assessment Framework'!BM5=\"\",\"\",'Assessment Framework'!BM5)","v":""},{"$f":"IF('Assessment Framework'!BN5=\"\",\"\",'Assessment Framework'!BN5)","v":""},{"$f":"IF('Assessment Framework'!BO5=\"\",\"\",'Assessment Framework'!BO5)","v":""},{"$f":"IF('Assessment Framework'!BP5=\"\",\"\",'Assessment Framework'!BP5)","v":""},{"$f":"IF('Assessment Framework'!BQ5=\"\",\"\",'Assessment Framework'!BQ5)","v":""},{"$f":"IF('Assessment Framework'!BR5=\"\",\"\",'Assessment Framework'!BR5)","v":""},{"$f":"IF('Assessment Framework'!BS5=\"\",\"\",'Assessment Framework'!BS5)","v":""},{"$f":"IF('Assessment Framework'!BT5=\"\",\"\",'Assessment Framework'!BT5)","v":""},{"$f":"IF('Assessment Framework'!BU5=\"\",\"\",'Assessment Framework'!BU5)","v":""},{"$f":"IF('Assessment Framework'!BV5=\"\",\"\",'Assessment Framework'!BV5)","v":""},{"$f":"IF('Assessment Framework'!BW5=\"\",\"\",'Assessment Framework'!BW5)","v":""},{"$f":"IF('Assessment Framework'!BX5=\"\",\"\",'Assessment Framework'!BX5)","v":""},{"$f":"IF('Assessment Framework'!BY5=\"\",\"\",'Assessment Framework'!BY5)","v":""},{"$f":"IF('Assessment Framework'!BZ5=\"\",\"\",'Assessment Framework'!BZ5)","v":""},{"$f":"IF('Assessment Framework'!CA5=\"\",\"\",'Assessment Framework'!CA5)","v":""},{"$f":"IF('Assessment Framework'!CB5=\"\",\"\",'Assessment Framework'!CB5)","v":""},{"$f":"IF('Assessment Framework'!CC5=\"\",\"\",'Assessment Framework'!CC5)","v":""},{"$f":"IF('Assessment Framework'!CD5=\"\",\"\",'Assessment Framework'!CD5)","v":""},{"$f":"IF('Assessment Framework'!CE5=\"\",\"\",'Assessment Framework'!CE5)","v":""},{"$f":"IF('Assessment Framework'!CF5=\"\",\"\",'Assessment Framework'!CF5)","v":""},{"$f":"IF('Assessment Framework'!CG5=\"\",\"\",'Assessment Framework'!CG5)","v":""},{"$f":"IF('Assessment Framework'!CH5=\"\",\"\",'Assessment Framework'!CH5)","v":""},{"$f":"IF('Assessment Framework'!CI5=\"\",\"\",'Assessment Framework'!CI5)","v":""},{"$f":"IF('Assessment Framework'!CJ5=\"\",\"\",'Assessment Framework'!CJ5)","v":""},{"$f":"IF('Assessment Framework'!CK5=\"\",\"\",'Assessment Framework'!CK5)","v":""},{"$f":"IF('Assessment Framework'!CL5=\"\",\"\",'Assessment Framework'!CL5)","v":""},{"$f":"IF('Assessment Framework'!CM5=\"\",\"\",'Assessment Framework'!CM5)","v":""}]
[null,null,null,"Methodology","Methodology","Text","NA",{"$f":"IF('Assessment Framework'!G6=\"\",\"\",'Assessment Framework'!G6)","v":"Visual counting of floating macroplastic at various points across a river width is undertaken to determine the plastic flux profile. Measurements are also taken using static bridge-mounted trawls to determine the composition that is plastic. This data is then combined with hydology data of the river in order to extrapolate the sampled plastic to daily, monthly or annual estimations of plastic emission to oceans. Adaptions to this method include the use of unmanned aerial vehicles for counting plastic floating in rivers, and tthe use of passive sampling in the river to supplement the visual observations."},{"$f":"IF('Assessment Framework'!H6=\"\",\"\",'Assessment Framework'!H6)","v":"The machine learning algorithm is based on convolutional neural networks (CNNs) and was trained using geospatial imagery from aerial drone surveys in Cambodia. Comprised of two parts, APLASTIC-Q first detects plastic litter against water, sand or vegetation with an 83% accuracy, before quantifying the count of different plastic items (e.g. bottles, polystyrene packaging etc.), accounting for aggregated litter."},{"$f":"IF('Assessment Framework'!I6=\"\",\"\",'Assessment Framework'!I6)","v":"Methodology applied in the European OSPAR region. A variety of statistical analyses are conducted on data from the OSPAR beach litter database between 2001-2017. The types of analyses included performing standard descriptive statistics, trend analyses and power analyses using the Wilcoxon test. Only the power analyses were relevant for the estimation of the minimum number of required surveys to detect a significant reduction in beach litter. All the analyses carried out have been made available as an open-source software package, litteR, which was developed to support policy makers for plastic litter assessments. "},{"$f":"IF('Assessment Framework'!J6=\"\",\"\",'Assessment Framework'!J6)","v":"The 'Material Flow Analysis Method' uses data on the solid waste management system to map the flows of plastic, before using an adaption of the Waste Flow Diagram methodology to estimate plastic emissions into the environment."},{"$f":"IF('Assessment Framework'!K6=\"\",\"\",'Assessment Framework'!K6)","v":"In this study, data from all EU regions were analysed and baselines were calculated at different spatial scales i.e. country, regional and EU-level. This was done for the year 2015 and 2016. An important aspect of the methodology is data quality assurance and control, which includes harmonization of methodologies and preparing data such that comparative analysis can be performed. The baseline can further be linked to a threshold value, defined as the 10th percentile of the total litter abundance from all European beaches.\n\n"},{"$f":"IF('Assessment Framework'!L6=\"\",\"\",'Assessment Framework'!L6)","v":"The protocol focuses on seven spokes over which information of plastic use, flows and its management are collected. These spoke are: Input, Community, Product Design, Use, Collection, End of Cycle, and Leakage. Apps such as the marine debris tracker are used to assess the amount and composition of plastic in the environment, where as field assessments and stakeholder interviews are used to collect data on the non-leakage spokes."},{"$f":"IF('Assessment Framework'!M6=\"\",\"\",'Assessment Framework'!M6)","v":"An inverse modelling approach, based on the OceanParcels Lagrangian ocean analysis framework, was used to estimate quantities of floating plastics in the ocean. Field measurements of plastics were carried out and used for model parameterization. The methodology was applied for the case study of the Mediterranean Sea."},{"$f":"IF('Assessment Framework'!N6=\"\",\"\",'Assessment Framework'!N6)","v":"A transfer coefficient approach is taken whereby initial flows of inadequately disposed waste are multiplied by coefficients to estimate the quantity entering the ocean. "},{"$f":"IF('Assessment Framework'!O6=\"\",\"\",'Assessment Framework'!O6)","v":"This assessment methodology uses industry data to understand the market input of PET bottles. This is then allocated to locations based on consumption data before distributing this further between disposal, collection for recycling (formal and informal) or environmental leakage using primary data collection, stakeholder interviews and secondary literature data. Whilst applied on the city scale, the results are estimated nationally by accounting differences in urban-rural compositions, waste collection coverages and the presence of the informal sector. The methodology was appied for six countries in Southeast Asia."},{"$f":"IF('Assessment Framework'!P6=\"\",\"\",'Assessment Framework'!P6)","v":"Field measurements are combined with mathematical modelling to estimate the sources, distributions and movement of plastic waste. Field measurements involve performing surveys of plastic waste found inland, in rivers, in coastal areas, and in the nearshore area. Questionnaires on land use and waste management practices feed into statistical models which allow the key sources to be identified and the surveys to be extrapolated, resulting in maps of plastic pollution sources, pathways and amounts entering oceans. "},{"$f":"IF('Assessment Framework'!Q6=\"\",\"\",'Assessment Framework'!Q6)","v":"The methodology was applied for the case study of Japan. 1-km resolution maps of microplastic concentrations were produced by interpolating field observations of microplastics derived from surveys of 70 rivers and 90 study sites across Japan, to socio-economic parameters including population density and the urban area ratio. Based on previous studies, macroplastic concentrations can be obtained by applying a multiplication coefficient to the microplastic concentrations. The final plastic leakage output is produced by combining the map of concentrations with the output from a simple water balance model."},{"$f":"IF('Assessment Framework'!R6=\"\",\"\",'Assessment Framework'!R6)","v":"Originally developed by Tudor & Williams (2004) and put forward by the EU Technical Group Marine Litter (TGML), this approach considers individual beach litter item categories and assesses the likelihood of it originating from a series of potential sources (i.e. the economic sectors, such as fisheries, shipping, coastal tourism, households, etc) taking into account the identity and function of the item, the beach location in terms of influence of particular activities and potential sources of litter, the “mix” of litter found, any indicator-items present and their quantity. "},{"$f":"IF('Assessment Framework'!S6=\"\",\"\",'Assessment Framework'!S6)","v":"Its approach relies on performing material flow analysis across several plastic item types and multiple waste generating sources (e.g. households, retail, etc). Plastic emissions and their transportation on land is estimated via conceptual models using details on the socioeconomics, meteorology, infrastructure and waste management practices. By relating the plastic pollution sources to the local details of waste management infrastructure and practices, the Calculator can provide casuality behind emissions and therefore identify targeted policy and engineering interventions. The Calculator is applied at an intracity ‘neighbourhood’ level but can be scaled to a larger city, regional or provincial level."},{"$f":"IF('Assessment Framework'!T6=\"\",\"\",'Assessment Framework'!T6)","v":"A combination of environmental variables including the steepness of the area, morphology of the coastline, hydro-meteo and socio-economic parameters are fed into a GIS-based plastic predictive model to estimate likely areas of litter accumulation on coastlines. Methodology was applied for the case stuydy of the Norwegian coastline."},{"$f":"IF('Assessment Framework'!U6=\"\",\"\",'Assessment Framework'!U6)","v":"The guidance itself acts as a framework for stakeholders at the national, sub-national, and local level, allowing a harmonised approach for benchmarking and identification of interventions. Nine modules make up the framework, with the first six using a top-dwn approach to model the plastic flows, waste management system, hotspots and impacts, before the latter three identify the hotspots to prioritise and suggest appropriate interventions. These hotspots are multifaceted, relating to either key locations, sources, polymers, applications or industrial sectors. \nPlastic flows are calculated by performing mass balance operations between plastic production and imports, balanced against the generation of waste and exports. Leakage to the environment is then determined from these flows by applying loss rates calculated according to the approach used in the Plastic Leak Project methodology. Hotspots are prioritised according to either absolute leakage, relative leakage or potential impacts; before matching against a list of interventions. These interventions can be further prioritised and matched against specific instruments by which they can be delivered.  "},{"$f":"IF('Assessment Framework'!V6=\"\",\"\",'Assessment Framework'!V6)","v":"Commissioned by the Directorate-General for Public Works and Water Management , the Litter Analyst is an openly-available Windows-based program for performing in-depth statistical analyses on beach litter data, using data imported from the OSPAR beach litter database. The statistical methodologies implemented within the program includes both basic descriptive statistics and more advanced methodologies for trend analyses"},{"$f":"IF('Assessment Framework'!W6=\"\",\"\",'Assessment Framework'!W6)","v":"Developed to perform global flow modelling as part of a project funded by The Pew Charitable Trust which examined scenarios to reduce plastic emissions to the oceans to near zero by 2040. The model characterises municipal plastic stocks and flows for land-based sources of plastic pollution, using coupled ordinary differential equations to model five scenarios up until 2040. Costs are further incorporated into the model, calculated as a function of the mass flows and all parameters are capable of being represented graphically using a wedges type illustration  (as first applied in climate change for visualising how interventions can combine to meet targets) to signify the joint impact of interventions  towards reaching emission targets.\nPlastic is represented by 4 categories, namely rigid, flexible, multi-material and microplastic in order to account for the differences in the value chain of each. Currently the model is applied according to eight archetypes based on the income group and rurality. Subdivisions of each of these archetypes according to the distance that populations live from rivers, lakes and coastal waters. The model was applied globally but has the potential to be adapted to national resolution."},{"$f":"IF('Assessment Framework'!X6=\"\",\"\",'Assessment Framework'!X6)","v":"No strict methodology exists given the tool can be adapted to map waste flows in any system. However, given its relationship to the P2O (Breaking the Plastic Wave) model, the framework here has been completed assuming the same general scope, albeit with more flexability given to the scale and flows modelled."},{"$f":"IF('Assessment Framework'!Y6=\"\",\"\",'Assessment Framework'!Y6)","v":"The assessment methodology uses consumption data to model a countries plastic waste generation across 24 macroplastic and 5 microplastic items. Plastic pollution sources and pathways are then mapped across the system over time, developing a Business-as-usual (BAU) scenario. Policy wedges are allocated with time, showing potential plastic pollution savings compared to the BAU scenario."},{"$f":"IF('Assessment Framework'!Z6=\"\",\"\",'Assessment Framework'!Z6)","v":"The PLP / PFN methodology targets both mismanaged macro and microplastic waste by mapping flows. Using a transfer coefficient approach, default values are provided within the guidelines for areas where data availability is lacking."},{"$f":"IF('Assessment Framework'!AA6=\"\",\"\",'Assessment Framework'!AA6)","v":"The methodology is based on a framework that takes mismanged plastic waste and applies thresholds that dictate when the plastic may move due to environmental conditions (e.g. wind speed). The movement of the plastic is mapped across a 2D matrix of grid cells with time but stops at the point at which plastic enters the aquatic environment (e.g. rivers)"},{"$f":"IF('Assessment Framework'!AB6=\"\",\"\",'Assessment Framework'!AB6)","v":"This approach integrates data of waste generation and waste management performance in a country with the hydrological conditions which carry plastic waste from land-based sources into the marine environment. Material flow analysis was used to map flows of waste and estimate mismanaged palstic waste. An existing hydrological model (WFLOW) is used alongside a fate and transport model (DELWAQ) to estimate the amount, location and time that this may enter marine environments. The methodology was applied to the case study of Indonesia."},{"$f":"IF('Assessment Framework'!AC6=\"\",\"\",'Assessment Framework'!AC6)","v":"Released as academic papers (Kawecki et al., 2019, Kawecki and Nowack, 2020), this plastic pollution assessment methodology uses probabilistic material flow analysis to quantify the flows of polymers within a country. Uncertainty is incorporated via the use of Monte Carlo analysis with probability distributions determined for each transfer coefficient according to the available data and its assessed reliability. \nWith both a macro- and microplastics focus, the assessment methodology considers the life cycle flows of seven polymers from production, manufacturing, use, to end-of-life. With relevance to macroplastic emissions, emphasis is given to the processes of littering, dumping, flushing of waste, contamination of organic waste and unintentional release due to weather or transportation. Applied across Switzerland, recent developments to the methodology have seen the addition of GIS capabilities using proxies such as land use, population density, traffic and construction to spatially resolve the emissions."},{"$f":"IF('Assessment Framework'!AD6=\"\",\"\",'Assessment Framework'!AD6)","v":"Using the Riverine Litter Observation Network (RiLON), RIMMEL collects data on riverine floating macro litter inputs into the ocean. Data from visual observations are collected and documented using JRC’s Floating Litter Monitoring Application for mobile devices, which was harmonized with the EU Marine Strategy Framework Directive (MSFD) Master List of Categories for Litter Items."},{"$f":"IF('Assessment Framework'!AE6=\"\",\"\",'Assessment Framework'!AE6)","v":"The model works in real-time and uses DHI Global Hydrological Model alongside estimates of plastic in the environment from the University of Leeds SPOT model, to calculate simulations of plastic accummulation for over 870,000 points along rivers worldwide. "},{"$f":"IF('Assessment Framework'!AF6=\"\",\"\",'Assessment Framework'!AF6)","v":"The approach uses estimates of land-based sources from published studies and scaled it to the relevant catchment area population size. For the marine domain, supply of floating plastics is estimated for wind-driven and general circulation sources. In addition, direct inputs from fishing and settling of macroplastics onto the seabed are included in the model. Finally, basic descriptive statistics are used to estimate the level of uncertainty. The model has been applied for the case study of the Scottish Atlantic Coast and the Scottish North Sea Coast."},{"$f":"IF('Assessment Framework'!AG6=\"\",\"\",'Assessment Framework'!AG6)","v":"These approaches typically employ a numerical modelling approach and are typically used for tracking the fate of debris or the transport behaviour within the ocean or inland waterway. See the description within each model for more detailed information. "},{"$f":"IF('Assessment Framework'!AH6=\"\",\"\",'Assessment Framework'!AH6)","v":"SPOT is a bottom up model that uses data on solid waste management at a municipal level to map the flows of waste and plastc emissions into the environment creating a macroplastic pollution emission inventory. Machine learning allows data gaps to be filled for municipalities without data, whilst local results are aggregated to the desired reporting scale (e.g. National level or above). GIS hydrodynamic transportation capabilities  spatially map the flows of plastic emissions from land into rivers and to the ocean, accounting for local hydrology, land use, meteorology and the physical properties of the plastic item itself. Temporal elements such as plastic stocks are incorporated into GIS-approach, allowing detailed analysis of plastic movements and how these vary with time. Although SPOT is a global model with periodic results released, the model can also be ran for set regions or countries using national datasets and more detailed analysis,"},{"$f":"IF('Assessment Framework'!AI6=\"\",\"\",'Assessment Framework'!AI6)","v":"Using three sampling locations and statistical tests, the distribution of the data and its correlation with tide levels is analysed."},{"$f":"IF('Assessment Framework'!AJ6=\"\",\"\",'Assessment Framework'!AJ6)","v":"A combination of material flow analysis alongside observational based asssessments of a cities waste management system allow municipal solid waste flows and plastic emissions to be estimated and assigned to a variety of sources. Existing data can be used for the material flow analysis if available, or to toolkit can automatically work alongside the Waste Wise Cities Tool to measure crucial data points such as waste generation and composition."},{"$f":"IF('Assessment Framework'!AK6=\"\",\"\",'Assessment Framework'!AK6)","v":"The methodology uses a holistic data collection approach  covering four river compartments: banks, surfaces, water columns and river beds. Ttwo upscaling approaches then allow extrapolation from measurements to daily and annual fluxes of floating and suspended litter. The methodology was applied in the linked study for three rivers in Germany. "},{"$f":"IF('Assessment Framework'!AL6=\"\",\"\",'Assessment Framework'!AL6)","v":""},{"$f":"IF('Assessment Framework'!AM6=\"\",\"\",'Assessment Framework'!AM6)","v":""},{"$f":"IF('Assessment Framework'!AN6=\"\",\"\",'Assessment Framework'!AN6)","v":""},{"$f":"IF('Assessment Framework'!AO6=\"\",\"\",'Assessment Framework'!AO6)","v":""},{"$f":"IF('Assessment Framework'!AP6=\"\",\"\",'Assessment Framework'!AP6)","v":""},{"$f":"IF('Assessment Framework'!AQ6=\"\",\"\",'Assessment Framework'!AQ6)","v":""},{"$f":"IF('Assessment Framework'!AR6=\"\",\"\",'Assessment Framework'!AR6)","v":""},{"$f":"IF('Assessment Framework'!AS6=\"\",\"\",'Assessment Framework'!AS6)","v":""},{"$f":"IF('Assessment Framework'!AT6=\"\",\"\",'Assessment Framework'!AT6)","v":""},{"$f":"IF('Assessment Framework'!AU6=\"\",\"\",'Assessment Framework'!AU6)","v":""},{"$f":"IF('Assessment Framework'!AV6=\"\",\"\",'Assessment Framework'!AV6)","v":""},{"$f":"IF('Assessment Framework'!AW6=\"\",\"\",'Assessment Framework'!AW6)","v":""},{"$f":"IF('Assessment Framework'!AX6=\"\",\"\",'Assessment Framework'!AX6)","v":""},{"$f":"IF('Assessment Framework'!AY6=\"\",\"\",'Assessment Framework'!AY6)","v":""},{"$f":"IF('Assessment Framework'!AZ6=\"\",\"\",'Assessment Framework'!AZ6)","v":""},{"$f":"IF('Assessment Framework'!BA6=\"\",\"\",'Assessment Framework'!BA6)","v":""},{"$f":"IF('Assessment Framework'!BB6=\"\",\"\",'Assessment Framework'!BB6)","v":""},{"$f":"IF('Assessment Framework'!BC6=\"\",\"\",'Assessment Framework'!BC6)","v":""},{"$f":"IF('Assessment Framework'!BD6=\"\",\"\",'Assessment Framework'!BD6)","v":""},{"$f":"IF('Assessment Framework'!BE6=\"\",\"\",'Assessment Framework'!BE6)","v":""},{"$f":"IF('Assessment Framework'!BF6=\"\",\"\",'Assessment Framework'!BF6)","v":""},{"$f":"IF('Assessment Framework'!BG6=\"\",\"\",'Assessment Framework'!BG6)","v":""},{"$f":"IF('Assessment Framework'!BH6=\"\",\"\",'Assessment Framework'!BH6)","v":""},{"$f":"IF('Assessment Framework'!BI6=\"\",\"\",'Assessment Framework'!BI6)","v":""},{"$f":"IF('Assessment Framework'!BJ6=\"\",\"\",'Assessment Framework'!BJ6)","v":""},{"$f":"IF('Assessment Framework'!BK6=\"\",\"\",'Assessment Framework'!BK6)","v":""},{"$f":"IF('Assessment Framework'!BL6=\"\",\"\",'Assessment Framework'!BL6)","v":""},{"$f":"IF('Assessment Framework'!BM6=\"\",\"\",'Assessment Framework'!BM6)","v":""},{"$f":"IF('Assessment Framework'!BN6=\"\",\"\",'Assessment Framework'!BN6)","v":""},{"$f":"IF('Assessment Framework'!BO6=\"\",\"\",'Assessment Framework'!BO6)","v":""},{"$f":"IF('Assessment Framework'!BP6=\"\",\"\",'Assessment Framework'!BP6)","v":""},{"$f":"IF('Assessment Framework'!BQ6=\"\",\"\",'Assessment Framework'!BQ6)","v":""},{"$f":"IF('Assessment Framework'!BR6=\"\",\"\",'Assessment Framework'!BR6)","v":""},{"$f":"IF('Assessment Framework'!BS6=\"\",\"\",'Assessment Framework'!BS6)","v":""},{"$f":"IF('Assessment Framework'!BT6=\"\",\"\",'Assessment Framework'!BT6)","v":""},{"$f":"IF('Assessment Framework'!BU6=\"\",\"\",'Assessment Framework'!BU6)","v":""},{"$f":"IF('Assessment Framework'!BV6=\"\",\"\",'Assessment Framework'!BV6)","v":""},{"$f":"IF('Assessment Framework'!BW6=\"\",\"\",'Assessment Framework'!BW6)","v":""},{"$f":"IF('Assessment Framework'!BX6=\"\",\"\",'Assessment Framework'!BX6)","v":""},{"$f":"IF('Assessment Framework'!BY6=\"\",\"\",'Assessment Framework'!BY6)","v":""},{"$f":"IF('Assessment Framework'!BZ6=\"\",\"\",'Assessment Framework'!BZ6)","v":""},{"$f":"IF('Assessment Framework'!CA6=\"\",\"\",'Assessment Framework'!CA6)","v":""},{"$f":"IF('Assessment Framework'!CB6=\"\",\"\",'Assessment Framework'!CB6)","v":""},{"$f":"IF('Assessment Framework'!CC6=\"\",\"\",'Assessment Framework'!CC6)","v":""},{"$f":"IF('Assessment Framework'!CD6=\"\",\"\",'Assessment Framework'!CD6)","v":""},{"$f":"IF('Assessment Framework'!CE6=\"\",\"\",'Assessment Framework'!CE6)","v":""},{"$f":"IF('Assessment Framework'!CF6=\"\",\"\",'Assessment Framework'!CF6)","v":""},{"$f":"IF('Assessment Framework'!CG6=\"\",\"\",'Assessment Framework'!CG6)","v":""},{"$f":"IF('Assessment Framework'!CH6=\"\",\"\",'Assessment Framework'!CH6)","v":""},{"$f":"IF('Assessment Framework'!CI6=\"\",\"\",'Assessment Framework'!CI6)","v":""},{"$f":"IF('Assessment Framework'!CJ6=\"\",\"\",'Assessment Framework'!CJ6)","v":""},{"$f":"IF('Assessment Framework'!CK6=\"\",\"\",'Assessment Framework'!CK6)","v":""},{"$f":"IF('Assessment Framework'!CL6=\"\",\"\",'Assessment Framework'!CL6)","v":""},{"$f":"IF('Assessment Framework'!CM6=\"\",\"\",'Assessment Framework'!CM6)","v":""}]
[null,null,null,"Key outputs","Key outputs","Text","NA",{"$f":"IF('Assessment Framework'!G7=\"\",\"\",'Assessment Framework'!G7)","v":"Estimates of daily, monthly and annual plastic emissions from a river."},{"$f":"IF('Assessment Framework'!H7=\"\",\"\",'Assessment Framework'!H7)","v":"Quantification (counts) of plastic items in the environment."},{"$f":"IF('Assessment Framework'!I7=\"\",\"\",'Assessment Framework'!I7)","v":"A sufficiently stable and precise baseline value for beach litter and a the number of beach litter surveys necessary to detect reductions "},{"$f":"IF('Assessment Framework'!J7=\"\",\"\",'Assessment Framework'!J7)","v":"Outputs include plastic waste generation, flows of plastic waste in the solid waste management system, and quantifcation of plastic emissions into the environment."},{"$f":"IF('Assessment Framework'!K7=\"\",\"\",'Assessment Framework'!K7)","v":"A baseline of beach litter at different spatial scales"},{"$f":"IF('Assessment Framework'!L7=\"\",\"\",'Assessment Framework'!L7)","v":"Outputs include identification of plastic waste mamagement issues within a community and suggestions of opportunities to increase circularity."},{"$f":"IF('Assessment Framework'!M7=\"\",\"\",'Assessment Framework'!M7)","v":"Model parameters such as time scale for sinks and likely sources of floating plastic. For the Mediterranean Sea, a little more than half of plastics end up stranded, while close to half of plastics end up sinking. A major source of plastics has been identified as originating from coastal  settlements \n"},{"$f":"IF('Assessment Framework'!N7=\"\",\"\",'Assessment Framework'!N7)","v":"Outputs includes analysis of emissions of plastic from littered waste entering rivers, coastal litter, inland waterways shipping, ports and landfills"},{"$f":"IF('Assessment Framework'!O7=\"\",\"\",'Assessment Framework'!O7)","v":"Model outputs include the quantification of PET bottle recycling, disposal, informal sector contribution and environmental leakage."},{"$f":"IF('Assessment Framework'!P7=\"\",\"\",'Assessment Framework'!P7)","v":"The outputs allow a benchmark of plastic waste on land and entering oceans."},{"$f":"IF('Assessment Framework'!Q7=\"\",\"\",'Assessment Framework'!Q7)","v":"A nation-wide map of plastic waste in the environment with estimates of amounts entering oceans."},{"$f":"IF('Assessment Framework'!R7=\"\",\"\",'Assessment Framework'!R7)","v":"Relative contribution of different economic sectors and human activities to the marine litter pollution recorded in a certain area"},{"$f":"IF('Assessment Framework'!S7=\"\",\"\",'Assessment Framework'!S7)","v":"Outputs include quantification of plastic pollution sources, pathways and sinks, along with identifying targeted engineering and policy interventions to stop the plastic pollution at source."},{"$f":"IF('Assessment Framework'!T7=\"\",\"\",'Assessment Framework'!T7)","v":"An interactive, map-based decision support system, including litter accumulation likelihood "},{"$f":"IF('Assessment Framework'!U7=\"\",\"\",'Assessment Framework'!U7)","v":"Identification of plastic pollution hotspots and selection of prioritised interventions"},{"$f":"IF('Assessment Framework'!V7=\"\",\"\",'Assessment Framework'!V7)","v":"Statistics of beach litter"},{"$f":"IF('Assessment Framework'!W7=\"\",\"\",'Assessment Framework'!W7)","v":"Projections of how various policy and engineering interventions can combine to reduce plastic pollution to target levels."},{"$f":"IF('Assessment Framework'!X7=\"\",\"\",'Assessment Framework'!X7)","v":"Mapping of plastic waste flows with projections for reducing plastic pollution based on implementation of interventions. "},{"$f":"IF('Assessment Framework'!Y7=\"\",\"\",'Assessment Framework'!Y7)","v":"Informs on the best combination of policies to meet targets."},{"$f":"IF('Assessment Framework'!Z7=\"\",\"\",'Assessment Framework'!Z7)","v":"Outputs are quantifications of plastic flows from their initial loss into the environment through to their eventual final compartment such as entering the ocean of retained in soils."},{"$f":"IF('Assessment Framework'!AA7=\"\",\"\",'Assessment Framework'!AA7)","v":" Outputs including estimates of the distribution of mismanaged plastic waste with time at a river basin scale."},{"$f":"IF('Assessment Framework'!AB7=\"\",\"\",'Assessment Framework'!AB7)","v":"A country-wide representation of mismanaged plastic waste generated, carried and discharged by runoff and rivers, with high spatial and temporal resolution. The outputs include: plastic waste material flow, disaggregated per administrative units; on a basin-scale, modelling of the wash-off of plastic waste from land, as a result of rainfall and runoff; and modelling transport downstream and discharge into the marine environment. This modelling approach offers a detailed representation of the variability in time and in space of the relation between plastic waste generated, plastic washed off and plastic input into the sea. "},{"$f":"IF('Assessment Framework'!AC7=\"\",\"\",'Assessment Framework'!AC7)","v":"Quantification of macro and micro plastic pollution across all environmental compartments on a polymer basis."},{"$f":"IF('Assessment Framework'!AD7=\"\",\"\",'Assessment Framework'!AD7)","v":"A list of the most frequently occurring floating macro-litter items that enter seas via riverine input."},{"$f":"IF('Assessment Framework'!AE7=\"\",\"\",'Assessment Framework'!AE7)","v":"Forecasts of macroplastic accumulation in rivers with high temporal resolution. Results of the global model are made available via the GPML Platform"},{"$f":"IF('Assessment Framework'!AF7=\"\",\"\",'Assessment Framework'!AF7)","v":"Annual estimated input of macro and microplastics into marine waters."},{"$f":"IF('Assessment Framework'!AG7=\"\",\"\",'Assessment Framework'!AG7)","v":"A simulation of the fate and transport of litter within a system. These can be used identifying potential accumulation hotspots and can subsequently be utilized for guiding intervention measures. "},{"$f":"IF('Assessment Framework'!AH7=\"\",\"\",'Assessment Framework'!AH7)","v":"Outputs include quantification of sources of plastic pollution by municipality (emissions inventory) as well as hotspot maps of plastic in the environment and pathways by which it moves."},{"$f":"IF('Assessment Framework'!AI7=\"\",\"\",'Assessment Framework'!AI7)","v":"Evidence of tidal influence on beach debris and most abundant polymers."},{"$f":"IF('Assessment Framework'!AJ7=\"\",\"\",'Assessment Framework'!AJ7)","v":"Quantification of plastic emissions by different sources and visualisation of municipal solid waste flows by material in the form of sankey diagrams."},{"$f":"IF('Assessment Framework'!AK7=\"\",\"\",'Assessment Framework'!AK7)","v":"Emissions of macroplastic from rivers at a daily and annual temporal resolution."},{"$f":"IF('Assessment Framework'!AL7=\"\",\"\",'Assessment Framework'!AL7)","v":""},{"$f":"IF('Assessment Framework'!AM7=\"\",\"\",'Assessment Framework'!AM7)","v":""},{"$f":"IF('Assessment Framework'!AN7=\"\",\"\",'Assessment Framework'!AN7)","v":""},{"$f":"IF('Assessment Framework'!AO7=\"\",\"\",'Assessment Framework'!AO7)","v":""},{"$f":"IF('Assessment Framework'!AP7=\"\",\"\",'Assessment Framework'!AP7)","v":""},{"$f":"IF('Assessment Framework'!AQ7=\"\",\"\",'Assessment Framework'!AQ7)","v":""},{"$f":"IF('Assessment Framework'!AR7=\"\",\"\",'Assessment Framework'!AR7)","v":""},{"$f":"IF('Assessment Framework'!AS7=\"\",\"\",'Assessment Framework'!AS7)","v":""},{"$f":"IF('Assessment Framework'!AT7=\"\",\"\",'Assessment Framework'!AT7)","v":""},{"$f":"IF('Assessment Framework'!AU7=\"\",\"\",'Assessment Framework'!AU7)","v":""},{"$f":"IF('Assessment Framework'!AV7=\"\",\"\",'Assessment Framework'!AV7)","v":""},{"$f":"IF('Assessment Framework'!AW7=\"\",\"\",'Assessment Framework'!AW7)","v":""},{"$f":"IF('Assessment Framework'!AX7=\"\",\"\",'Assessment Framework'!AX7)","v":""},{"$f":"IF('Assessment Framework'!AY7=\"\",\"\",'Assessment Framework'!AY7)","v":""},{"$f":"IF('Assessment Framework'!AZ7=\"\",\"\",'Assessment Framework'!AZ7)","v":""},{"$f":"IF('Assessment Framework'!BA7=\"\",\"\",'Assessment Framework'!BA7)","v":""},{"$f":"IF('Assessment Framework'!BB7=\"\",\"\",'Assessment Framework'!BB7)","v":""},{"$f":"IF('Assessment Framework'!BC7=\"\",\"\",'Assessment Framework'!BC7)","v":""},{"$f":"IF('Assessment Framework'!BD7=\"\",\"\",'Assessment Framework'!BD7)","v":""},{"$f":"IF('Assessment Framework'!BE7=\"\",\"\",'Assessment Framework'!BE7)","v":""},{"$f":"IF('Assessment Framework'!BF7=\"\",\"\",'Assessment Framework'!BF7)","v":""},{"$f":"IF('Assessment Framework'!BG7=\"\",\"\",'Assessment Framework'!BG7)","v":""},{"$f":"IF('Assessment Framework'!BH7=\"\",\"\",'Assessment Framework'!BH7)","v":""},{"$f":"IF('Assessment Framework'!BI7=\"\",\"\",'Assessment Framework'!BI7)","v":""},{"$f":"IF('Assessment Framework'!BJ7=\"\",\"\",'Assessment Framework'!BJ7)","v":""},{"$f":"IF('Assessment Framework'!BK7=\"\",\"\",'Assessment Framework'!BK7)","v":""},{"$f":"IF('Assessment Framework'!BL7=\"\",\"\",'Assessment Framework'!BL7)","v":""},{"$f":"IF('Assessment Framework'!BM7=\"\",\"\",'Assessment Framework'!BM7)","v":""},{"$f":"IF('Assessment Framework'!BN7=\"\",\"\",'Assessment Framework'!BN7)","v":""},{"$f":"IF('Assessment Framework'!BO7=\"\",\"\",'Assessment Framework'!BO7)","v":""},{"$f":"IF('Assessment Framework'!BP7=\"\",\"\",'Assessment Framework'!BP7)","v":""},{"$f":"IF('Assessment Framework'!BQ7=\"\",\"\",'Assessment Framework'!BQ7)","v":""},{"$f":"IF('Assessment Framework'!BR7=\"\",\"\",'Assessment Framework'!BR7)","v":""},{"$f":"IF('Assessment Framework'!BS7=\"\",\"\",'Assessment Framework'!BS7)","v":""},{"$f":"IF('Assessment Framework'!BT7=\"\",\"\",'Assessment Framework'!BT7)","v":""},{"$f":"IF('Assessment Framework'!BU7=\"\",\"\",'Assessment Framework'!BU7)","v":""},{"$f":"IF('Assessment Framework'!BV7=\"\",\"\",'Assessment Framework'!BV7)","v":""},{"$f":"IF('Assessment Framework'!BW7=\"\",\"\",'Assessment Framework'!BW7)","v":""},{"$f":"IF('Assessment Framework'!BX7=\"\",\"\",'Assessment Framework'!BX7)","v":""},{"$f":"IF('Assessment Framework'!BY7=\"\",\"\",'Assessment Framework'!BY7)","v":""},{"$f":"IF('Assessment Framework'!BZ7=\"\",\"\",'Assessment Framework'!BZ7)","v":""},{"$f":"IF('Assessment Framework'!CA7=\"\",\"\",'Assessment Framework'!CA7)","v":""},{"$f":"IF('Assessment Framework'!CB7=\"\",\"\",'Assessment Framework'!CB7)","v":""},{"$f":"IF('Assessment Framework'!CC7=\"\",\"\",'Assessment Framework'!CC7)","v":""},{"$f":"IF('Assessment Framework'!CD7=\"\",\"\",'Assessment Framework'!CD7)","v":""},{"$f":"IF('Assessment Framework'!CE7=\"\",\"\",'Assessment Framework'!CE7)","v":""},{"$f":"IF('Assessment Framework'!CF7=\"\",\"\",'Assessment Framework'!CF7)","v":""},{"$f":"IF('Assessment Framework'!CG7=\"\",\"\",'Assessment Framework'!CG7)","v":""},{"$f":"IF('Assessment Framework'!CH7=\"\",\"\",'Assessment Framework'!CH7)","v":""},{"$f":"IF('Assessment Framework'!CI7=\"\",\"\",'Assessment Framework'!CI7)","v":""},{"$f":"IF('Assessment Framework'!CJ7=\"\",\"\",'Assessment Framework'!CJ7)","v":""},{"$f":"IF('Assessment Framework'!CK7=\"\",\"\",'Assessment Framework'!CK7)","v":""},{"$f":"IF('Assessment Framework'!CL7=\"\",\"\",'Assessment Framework'!CL7)","v":""},{"$f":"IF('Assessment Framework'!CM7=\"\",\"\",'Assessment Framework'!CM7)","v":""}]
[null,null,null,"Year released","Year of initial release","Year","NA",{"$f":"IF('Assessment Framework'!G8=\"\",\"\",'Assessment Framework'!G8)","v":2018},{"$f":"IF('Assessment Framework'!H8=\"\",\"\",'Assessment Framework'!H8)","v":2020},{"$f":"IF('Assessment Framework'!I8=\"\",\"\",'Assessment Framework'!I8)","v":2019},{"$f":"IF('Assessment Framework'!J8=\"\",\"\",'Assessment Framework'!J8)","v":2021},{"$f":"IF('Assessment Framework'!K8=\"\",\"\",'Assessment Framework'!K8)","v":2020},{"$f":"IF('Assessment Framework'!L8=\"\",\"\",'Assessment Framework'!L8)","v":2020},{"$f":"IF('Assessment Framework'!M8=\"\",\"\",'Assessment Framework'!M8)","v":2020},{"$f":"IF('Assessment Framework'!N8=\"\",\"\",'Assessment Framework'!N8)","v":2016},{"$f":"IF('Assessment Framework'!O8=\"\",\"\",'Assessment Framework'!O8)","v":2019},{"$f":"IF('Assessment Framework'!P8=\"\",\"\",'Assessment Framework'!P8)","v":2018},{"$f":"IF('Assessment Framework'!Q8=\"\",\"\",'Assessment Framework'!Q8)","v":2020},{"$f":"IF('Assessment Framework'!R8=\"\",\"\",'Assessment Framework'!R8)","v":"2004, 2016"},{"$f":"IF('Assessment Framework'!S8=\"\",\"\",'Assessment Framework'!S8)","v":2018},{"$f":"IF('Assessment Framework'!T8=\"\",\"\",'Assessment Framework'!T8)","v":2017},{"$f":"IF('Assessment Framework'!U8=\"\",\"\",'Assessment Framework'!U8)","v":2020},{"$f":"IF('Assessment Framework'!V8=\"\",\"\",'Assessment Framework'!V8)","v":"2014-2018"},{"$f":"IF('Assessment Framework'!W8=\"\",\"\",'Assessment Framework'!W8)","v":2020},{"$f":"IF('Assessment Framework'!X8=\"\",\"\",'Assessment Framework'!X8)","v":2022},{"$f":"IF('Assessment Framework'!Y8=\"\",\"\",'Assessment Framework'!Y8)","v":2019},{"$f":"IF('Assessment Framework'!Z8=\"\",\"\",'Assessment Framework'!Z8)","v":"2019 - 2022"},{"$f":"IF('Assessment Framework'!AA8=\"\",\"\",'Assessment Framework'!AA8)","v":2022},{"$f":"IF('Assessment Framework'!AB8=\"\",\"\",'Assessment Framework'!AB8)","v":2021},{"$f":"IF('Assessment Framework'!AC8=\"\",\"\",'Assessment Framework'!AC8)","v":2019},{"$f":"IF('Assessment Framework'!AD8=\"\",\"\",'Assessment Framework'!AD8)","v":"2016-2017"},{"$f":"IF('Assessment Framework'!AE8=\"\",\"\",'Assessment Framework'!AE8)","v":2022},{"$f":"IF('Assessment Framework'!AF8=\"\",\"\",'Assessment Framework'!AF8)","v":2020},{"$f":"IF('Assessment Framework'!AG8=\"\",\"\",'Assessment Framework'!AG8)","v":"Various"},{"$f":"IF('Assessment Framework'!AH8=\"\",\"\",'Assessment Framework'!AH8)","v":2019},{"$f":"IF('Assessment Framework'!AI8=\"\",\"\",'Assessment Framework'!AI8)","v":2019},{"$f":"IF('Assessment Framework'!AJ8=\"\",\"\",'Assessment Framework'!AJ8)","v":2019},{"$f":"IF('Assessment Framework'!AK8=\"\",\"\",'Assessment Framework'!AK8)","v":2020},{"$f":"IF('Assessment Framework'!AL8=\"\",\"\",'Assessment Framework'!AL8)","v":""},{"$f":"IF('Assessment Framework'!AM8=\"\",\"\",'Assessment Framework'!AM8)","v":""},{"$f":"IF('Assessment Framework'!AN8=\"\",\"\",'Assessment Framework'!AN8)","v":""},{"$f":"IF('Assessment Framework'!AO8=\"\",\"\",'Assessment Framework'!AO8)","v":""},{"$f":"IF('Assessment Framework'!AP8=\"\",\"\",'Assessment Framework'!AP8)","v":""},{"$f":"IF('Assessment Framework'!AQ8=\"\",\"\",'Assessment Framework'!AQ8)","v":""},{"$f":"IF('Assessment Framework'!AR8=\"\",\"\",'Assessment Framework'!AR8)","v":""},{"$f":"IF('Assessment Framework'!AS8=\"\",\"\",'Assessment Framework'!AS8)","v":""},{"$f":"IF('Assessment Framework'!AT8=\"\",\"\",'Assessment Framework'!AT8)","v":""},{"$f":"IF('Assessment Framework'!AU8=\"\",\"\",'Assessment Framework'!AU8)","v":""},{"$f":"IF('Assessment Framework'!AV8=\"\",\"\",'Assessment Framework'!AV8)","v":""},{"$f":"IF('Assessment Framework'!AW8=\"\",\"\",'Assessment Framework'!AW8)","v":""},{"$f":"IF('Assessment Framework'!AX8=\"\",\"\",'Assessment Framework'!AX8)","v":""},{"$f":"IF('Assessment Framework'!AY8=\"\",\"\",'Assessment Framework'!AY8)","v":""},{"$f":"IF('Assessment Framework'!AZ8=\"\",\"\",'Assessment Framework'!AZ8)","v":""},{"$f":"IF('Assessment Framework'!BA8=\"\",\"\",'Assessment Framework'!BA8)","v":""},{"$f":"IF('Assessment Framework'!BB8=\"\",\"\",'Assessment Framework'!BB8)","v":""},{"$f":"IF('Assessment Framework'!BC8=\"\",\"\",'Assessment Framework'!BC8)","v":""},{"$f":"IF('Assessment Framework'!BD8=\"\",\"\",'Assessment Framework'!BD8)","v":""},{"$f":"IF('Assessment Framework'!BE8=\"\",\"\",'Assessment Framework'!BE8)","v":""},{"$f":"IF('Assessment Framework'!BF8=\"\",\"\",'Assessment Framework'!BF8)","v":""},{"$f":"IF('Assessment Framework'!BG8=\"\",\"\",'Assessment Framework'!BG8)","v":""},{"$f":"IF('Assessment Framework'!BH8=\"\",\"\",'Assessment Framework'!BH8)","v":""},{"$f":"IF('Assessment Framework'!BI8=\"\",\"\",'Assessment Framework'!BI8)","v":""},{"$f":"IF('Assessment Framework'!BJ8=\"\",\"\",'Assessment Framework'!BJ8)","v":""},{"$f":"IF('Assessment Framework'!BK8=\"\",\"\",'Assessment Framework'!BK8)","v":""},{"$f":"IF('Assessment Framework'!BL8=\"\",\"\",'Assessment Framework'!BL8)","v":""},{"$f":"IF('Assessment Framework'!BM8=\"\",\"\",'Assessment Framework'!BM8)","v":""},{"$f":"IF('Assessment Framework'!BN8=\"\",\"\",'Assessment Framework'!BN8)","v":""},{"$f":"IF('Assessment Framework'!BO8=\"\",\"\",'Assessment Framework'!BO8)","v":""},{"$f":"IF('Assessment Framework'!BP8=\"\",\"\",'Assessment Framework'!BP8)","v":""},{"$f":"IF('Assessment Framework'!BQ8=\"\",\"\",'Assessment Framework'!BQ8)","v":""},{"$f":"IF('Assessment Framework'!BR8=\"\",\"\",'Assessment Framework'!BR8)","v":""},{"$f":"IF('Assessment Framework'!BS8=\"\",\"\",'Assessment Framework'!BS8)","v":""},{"$f":"IF('Assessment Framework'!BT8=\"\",\"\",'Assessment Framework'!BT8)","v":""},{"$f":"IF('Assessment Framework'!BU8=\"\",\"\",'Assessment Framework'!BU8)","v":""},{"$f":"IF('Assessment Framework'!BV8=\"\",\"\",'Assessment Framework'!BV8)","v":""},{"$f":"IF('Assessment Framework'!BW8=\"\",\"\",'Assessment Framework'!BW8)","v":""},{"$f":"IF('Assessment Framework'!BX8=\"\",\"\",'Assessment Framework'!BX8)","v":""},{"$f":"IF('Assessment Framework'!BY8=\"\",\"\",'Assessment Framework'!BY8)","v":""},{"$f":"IF('Assessment Framework'!BZ8=\"\",\"\",'Assessment Framework'!BZ8)","v":""},{"$f":"IF('Assessment Framework'!CA8=\"\",\"\",'Assessment Framework'!CA8)","v":""},{"$f":"IF('Assessment Framework'!CB8=\"\",\"\",'Assessment Framework'!CB8)","v":""},{"$f":"IF('Assessment Framework'!CC8=\"\",\"\",'Assessment Framework'!CC8)","v":""},{"$f":"IF('Assessment Framework'!CD8=\"\",\"\",'Assessment Framework'!CD8)","v":""},{"$f":"IF('Assessment Framework'!CE8=\"\",\"\",'Assessment Framework'!CE8)","v":""},{"$f":"IF('Assessment Framework'!CF8=\"\",\"\",'Assessment Framework'!CF8)","v":""},{"$f":"IF('Assessment Framework'!CG8=\"\",\"\",'Assessment Framework'!CG8)","v":""},{"$f":"IF('Assessment Framework'!CH8=\"\",\"\",'Assessment Framework'!CH8)","v":""},{"$f":"IF('Assessment Framework'!CI8=\"\",\"\",'Assessment Framework'!CI8)","v":""},{"$f":"IF('Assessment Framework'!CJ8=\"\",\"\",'Assessment Framework'!CJ8)","v":""},{"$f":"IF('Assessment Framework'!CK8=\"\",\"\",'Assessment Framework'!CK8)","v":""},{"$f":"IF('Assessment Framework'!CL8=\"\",\"\",'Assessment Framework'!CL8)","v":""},{"$f":"IF('Assessment Framework'!CM8=\"\",\"\",'Assessment Framework'!CM8)","v":""}]
["High-level policy framework","Stage of objective","The stage of the objective relates to how progressed the user is in regards to planning on how to mitigate plastic pollution. The framework informs on whether the assessment methodology can help the user meet this stage of their objective.","Can be used for baselining","Initial quantification of plastic pollution to identify areas to focus and establish a reference","Y,N",{"$f":"IF('A - Policy objectives'!C7=\"\",\"No\",'A - Policy objectives'!C7)","v":"No"},{"$f":"IF($G9=\"No\",0,1)*IF('Assessment Framework'!G9=\"Y\",1,0)","v":0},{"$f":"IF($G9=\"No\",0,1)*IF('Assessment Framework'!H9=\"Y\",1,0)","v":0},{"$f":"IF($G9=\"No\",0,1)*IF('Assessment Framework'!I9=\"Y\",1,0)","v":0},{"$f":"IF($G9=\"No\",0,1)*IF('Assessment Framework'!J9=\"Y\",1,0)","v":0},{"$f":"IF($G9=\"No\",0,1)*IF('Assessment Framework'!K9=\"Y\",1,0)","v":0},{"$f":"IF($G9=\"No\",0,1)*IF('Assessment Framework'!L9=\"Y\",1,0)","v":0},{"$f":"IF($G9=\"No\",0,1)*IF('Assessment Framework'!M9=\"Y\",1,0)","v":0},{"$f":"IF($G9=\"No\",0,1)*IF('Assessment Framework'!N9=\"Y\",1,0)","v":0},{"$f":"IF($G9=\"No\",0,1)*IF('Assessment Framework'!O9=\"Y\",1,0)","v":0},{"$f":"IF($G9=\"No\",0,1)*IF('Assessment Framework'!P9=\"Y\",1,0)","v":0},{"$f":"IF($G9=\"No\",0,1)*IF('Assessment Framework'!Q9=\"Y\",1,0)","v":0},{"$f":"IF($G9=\"No\",0,1)*IF('Assessment Framework'!R9=\"Y\",1,0)","v":0},{"$f":"IF($G9=\"No\",0,1)*IF('Assessment Framework'!S9=\"Y\",1,0)","v":0},{"$f":"IF($G9=\"No\",0,1)*IF('Assessment Framework'!T9=\"Y\",1,0)","v":0},{"$f":"IF($G9=\"No\",0,1)*IF('Assessment Framework'!U9=\"Y\",1,0)","v":0},{"$f":"IF($G9=\"No\",0,1)*IF('Assessment Framework'!V9=\"Y\",1,0)","v":0},{"$f":"IF($G9=\"No\",0,1)*IF('Assessment Framework'!W9=\"Y\",1,0)","v":0},{"$f":"IF($G9=\"No\",0,1)*IF('Assessment Framework'!X9=\"Y\",1,0)","v":0},{"$f":"IF($G9=\"No\",0,1)*IF('Assessment Framework'!Y9=\"Y\",1,0)","v":0},{"$f":"IF($G9=\"No\",0,1)*IF('Assessment Framework'!Z9=\"Y\",1,0)","v":0},{"$f":"IF($G9=\"No\",0,1)*IF('Assessment Framework'!AA9=\"Y\",1,0)","v":0},{"$f":"IF($G9=\"No\",0,1)*IF('Assessment Framework'!AB9=\"Y\",1,0)","v":0},{"$f":"IF($G9=\"No\",0,1)*IF('Assessment Framework'!AC9=\"Y\",1,0)","v":0},{"$f":"IF($G9=\"No\",0,1)*IF('Assessment Framework'!AD9=\"Y\",1,0)","v":0},{"$f":"IF($G9=\"No\",0,1)*IF('Assessment Framework'!AE9=\"Y\",1,0)","v":0},{"$f":"IF($G9=\"No\",0,1)*IF('Assessment Framework'!AF9=\"Y\",1,0)","v":0},{"$f":"IF($G9=\"No\",0,1)*IF('Assessment Framework'!AG9=\"Y\",1,0)","v":0},{"$f":"IF($G9=\"No\",0,1)*IF('Assessment Framework'!AH9=\"Y\",1,0)","v":0},{"$f":"IF($G9=\"No\",0,1)*IF('Assessment Framework'!AI9=\"Y\",1,0)","v":0},{"$f":"IF($G9=\"No\",0,1)*IF('Assessment Framework'!AJ9=\"Y\",1,0)","v":0},{"$f":"IF($G9=\"No\",0,1)*IF('Assessment Framework'!AK9=\"Y\",1,0)","v":0},{"$f":"IF($G9=\"No\",0,1)*IF('Assessment Framework'!AL9=\"Y\",1,0)","v":0},{"$f":"IF($G9=\"No\",0,1)*IF('Assessment Framework'!AM9=\"Y\",1,0)","v":0},{"$f":"IF($G9=\"No\",0,1)*IF('Assessment Framework'!AN9=\"Y\",1,0)","v":0},{"$f":"IF($G9=\"No\",0,1)*IF('Assessment Framework'!AO9=\"Y\",1,0)","v":0},{"$f":"IF($G9=\"No\",0,1)*IF('Assessment Framework'!AP9=\"Y\",1,0)","v":0},{"$f":"IF($G9=\"No\",0,1)*IF('Assessment Framework'!AQ9=\"Y\",1,0)","v":0},{"$f":"IF($G9=\"No\",0,1)*IF('Assessment Framework'!AR9=\"Y\",1,0)","v":0},{"$f":"IF($G9=\"No\",0,1)*IF('Assessment Framework'!AS9=\"Y\",1,0)","v":0},{"$f":"IF($G9=\"No\",0,1)*IF('Assessment Framework'!AT9=\"Y\",1,0)","v":0},{"$f":"IF($G9=\"No\",0,1)*IF('Assessment Framework'!AU9=\"Y\",1,0)","v":0},{"$f":"IF($G9=\"No\",0,1)*IF('Assessment Framework'!AV9=\"Y\",1,0)","v":0},{"$f":"IF($G9=\"No\",0,1)*IF('Assessment Framework'!AW9=\"Y\",1,0)","v":0},{"$f":"IF($G9=\"No\",0,1)*IF('Assessment Framework'!AX9=\"Y\",1,0)","v":0},{"$f":"IF($G9=\"No\",0,1)*IF('Assessment Framework'!AY9=\"Y\",1,0)","v":0},{"$f":"IF($G9=\"No\",0,1)*IF('Assessment Framework'!AZ9=\"Y\",1,0)","v":0},{"$f":"IF($G9=\"No\",0,1)*IF('Assessment Framework'!BA9=\"Y\",1,0)","v":0},{"$f":"IF($G9=\"No\",0,1)*IF('Assessment Framework'!BB9=\"Y\",1,0)","v":0},{"$f":"IF($G9=\"No\",0,1)*IF('Assessment Framework'!BC9=\"Y\",1,0)","v":0},{"$f":"IF($G9=\"No\",0,1)*IF('Assessment Framework'!BD9=\"Y\",1,0)","v":0},{"$f":"IF($G9=\"No\",0,1)*IF('Assessment Framework'!BE9=\"Y\",1,0)","v":0},{"$f":"IF($G9=\"No\",0,1)*IF('Assessment Framework'!BF9=\"Y\",1,0)","v":0},{"$f":"IF($G9=\"No\",0,1)*IF('Assessment Framework'!BG9=\"Y\",1,0)","v":0},{"$f":"IF($G9=\"No\",0,1)*IF('Assessment Framework'!BH9=\"Y\",1,0)","v":0},{"$f":"IF($G9=\"No\",0,1)*IF('Assessment Framework'!BI9=\"Y\",1,0)","v":0},{"$f":"IF($G9=\"No\",0,1)*IF('Assessment Framework'!BJ9=\"Y\",1,0)","v":0},{"$f":"IF($G9=\"No\",0,1)*IF('Assessment Framework'!BK9=\"Y\",1,0)","v":0},{"$f":"IF($G9=\"No\",0,1)*IF('Assessment Framework'!BL9=\"Y\",1,0)","v":0},{"$f":"IF($G9=\"No\",0,1)*IF('Assessment Framework'!BM9=\"Y\",1,0)","v":0},{"$f":"IF($G9=\"No\",0,1)*IF('Assessment Framework'!BN9=\"Y\",1,0)","v":0},{"$f":"IF($G9=\"No\",0,1)*IF('Assessment Framework'!BO9=\"Y\",1,0)","v":0},{"$f":"IF($G9=\"No\",0,1)*IF('Assessment Framework'!BP9=\"Y\",1,0)","v":0},{"$f":"IF($G9=\"No\",0,1)*IF('Assessment Framework'!BQ9=\"Y\",1,0)","v":0},{"$f":"IF($G9=\"No\",0,1)*IF('Assessment Framework'!BR9=\"Y\",1,0)","v":0},{"$f":"IF($G9=\"No\",0,1)*IF('Assessment Framework'!BS9=\"Y\",1,0)","v":0},{"$f":"IF($G9=\"No\",0,1)*IF('Assessment Framework'!BT9=\"Y\",1,0)","v":0},{"$f":"IF($G9=\"No\",0,1)*IF('Assessment Framework'!BU9=\"Y\",1,0)","v":0},{"$f":"IF($G9=\"No\",0,1)*IF('Assessment Framework'!BV9=\"Y\",1,0)","v":0},{"$f":"IF($G9=\"No\",0,1)*IF('Assessment Framework'!BW9=\"Y\",1,0)","v":0},{"$f":"IF($G9=\"No\",0,1)*IF('Assessment Framework'!BX9=\"Y\",1,0)","v":0},{"$f":"IF($G9=\"No\",0,1)*IF('Assessment Framework'!BY9=\"Y\",1,0)","v":0},{"$f":"IF($G9=\"No\",0,1)*IF('Assessment Framework'!BZ9=\"Y\",1,0)","v":0},{"$f":"IF($G9=\"No\",0,1)*IF('Assessment Framework'!CA9=\"Y\",1,0)","v":0},{"$f":"IF($G9=\"No\",0,1)*IF('Assessment Framework'!CB9=\"Y\",1,0)","v":0},{"$f":"IF($G9=\"No\",0,1)*IF('Assessment Framework'!CC9=\"Y\",1,0)","v":0},{"$f":"IF($G9=\"No\",0,1)*IF('Assessment Framework'!CD9=\"Y\",1,0)","v":0},{"$f":"IF($G9=\"No\",0,1)*IF('Assessment Framework'!CE9=\"Y\",1,0)","v":0},{"$f":"IF($G9=\"No\",0,1)*IF('Assessment Framework'!CF9=\"Y\",1,0)","v":0},{"$f":"IF($G9=\"No\",0,1)*IF('Assessment Framework'!CG9=\"Y\",1,0)","v":0},{"$f":"IF($G9=\"No\",0,1)*IF('Assessment Framework'!CH9=\"Y\",1,0)","v":0},{"$f":"IF($G9=\"No\",0,1)*IF('Assessment Framework'!CI9=\"Y\",1,0)","v":0},{"$f":"IF($G9=\"No\",0,1)*IF('Assessment Framework'!CJ9=\"Y\",1,0)","v":0},{"$f":"IF($G9=\"No\",0,1)*IF('Assessment Framework'!CK9=\"Y\",1,0)","v":0},{"$f":"IF($G9=\"No\",0,1)*IF('Assessment Framework'!CL9=\"Y\",1,0)","v":0},{"$f":"IF($G9=\"No\",0,1)*IF('Assessment Framework'!CM9=\"Y\",1,0)","v":0}]
[null,null,null,"Provides details of interventions necessary to implement action plans","Identification of interventions to apply within action plans to mitigate plastic pollution","Y,N",{"$f":"IF('A - Policy objectives'!C8=\"\",\"No\",'A - Policy objectives'!C8)","v":"No"},{"$f":"IF($G10=\"No\",0,1)*IF('Assessment Framework'!G10=\"Y\",1,0)","v":0},{"$f":"IF($G10=\"No\",0,1)*IF('Assessment Framework'!H10=\"Y\",1,0)","v":0},{"$f":"IF($G10=\"No\",0,1)*IF('Assessment Framework'!I10=\"Y\",1,0)","v":0},{"$f":"IF($G10=\"No\",0,1)*IF('Assessment Framework'!J10=\"Y\",1,0)","v":0},{"$f":"IF($G10=\"No\",0,1)*IF('Assessment Framework'!K10=\"Y\",1,0)","v":0},{"$f":"IF($G10=\"No\",0,1)*IF('Assessment Framework'!L10=\"Y\",1,0)","v":0},{"$f":"IF($G10=\"No\",0,1)*IF('Assessment Framework'!M10=\"Y\",1,0)","v":0},{"$f":"IF($G10=\"No\",0,1)*IF('Assessment Framework'!N10=\"Y\",1,0)","v":0},{"$f":"IF($G10=\"No\",0,1)*IF('Assessment Framework'!O10=\"Y\",1,0)","v":0},{"$f":"IF($G10=\"No\",0,1)*IF('Assessment Framework'!P10=\"Y\",1,0)","v":0},{"$f":"IF($G10=\"No\",0,1)*IF('Assessment Framework'!Q10=\"Y\",1,0)","v":0},{"$f":"IF($G10=\"No\",0,1)*IF('Assessment Framework'!R10=\"Y\",1,0)","v":0},{"$f":"IF($G10=\"No\",0,1)*IF('Assessment Framework'!S10=\"Y\",1,0)","v":0},{"$f":"IF($G10=\"No\",0,1)*IF('Assessment Framework'!T10=\"Y\",1,0)","v":0},{"$f":"IF($G10=\"No\",0,1)*IF('Assessment Framework'!U10=\"Y\",1,0)","v":0},{"$f":"IF($G10=\"No\",0,1)*IF('Assessment Framework'!V10=\"Y\",1,0)","v":0},{"$f":"IF($G10=\"No\",0,1)*IF('Assessment Framework'!W10=\"Y\",1,0)","v":0},{"$f":"IF($G10=\"No\",0,1)*IF('Assessment Framework'!X10=\"Y\",1,0)","v":0},{"$f":"IF($G10=\"No\",0,1)*IF('Assessment Framework'!Y10=\"Y\",1,0)","v":0},{"$f":"IF($G10=\"No\",0,1)*IF('Assessment Framework'!Z10=\"Y\",1,0)","v":0},{"$f":"IF($G10=\"No\",0,1)*IF('Assessment Framework'!AA10=\"Y\",1,0)","v":0},{"$f":"IF($G10=\"No\",0,1)*IF('Assessment Framework'!AB10=\"Y\",1,0)","v":0},{"$f":"IF($G10=\"No\",0,1)*IF('Assessment Framework'!AC10=\"Y\",1,0)","v":0},{"$f":"IF($G10=\"No\",0,1)*IF('Assessment Framework'!AD10=\"Y\",1,0)","v":0},{"$f":"IF($G10=\"No\",0,1)*IF('Assessment Framework'!AE10=\"Y\",1,0)","v":0},{"$f":"IF($G10=\"No\",0,1)*IF('Assessment Framework'!AF10=\"Y\",1,0)","v":0},{"$f":"IF($G10=\"No\",0,1)*IF('Assessment Framework'!AG10=\"Y\",1,0)","v":0},{"$f":"IF($G10=\"No\",0,1)*IF('Assessment Framework'!AH10=\"Y\",1,0)","v":0},{"$f":"IF($G10=\"No\",0,1)*IF('Assessment Framework'!AI10=\"Y\",1,0)","v":0},{"$f":"IF($G10=\"No\",0,1)*IF('Assessment Framework'!AJ10=\"Y\",1,0)","v":0},{"$f":"IF($G10=\"No\",0,1)*IF('Assessment Framework'!AK10=\"Y\",1,0)","v":0},{"$f":"IF($G10=\"No\",0,1)*IF('Assessment Framework'!AL10=\"Y\",1,0)","v":0},{"$f":"IF($G10=\"No\",0,1)*IF('Assessment Framework'!AM10=\"Y\",1,0)","v":0},{"$f":"IF($G10=\"No\",0,1)*IF('Assessment Framework'!AN10=\"Y\",1,0)","v":0},{"$f":"IF($G10=\"No\",0,1)*IF('Assessment Framework'!AO10=\"Y\",1,0)","v":0},{"$f":"IF($G10=\"No\",0,1)*IF('Assessment Framework'!AP10=\"Y\",1,0)","v":0},{"$f":"IF($G10=\"No\",0,1)*IF('Assessment Framework'!AQ10=\"Y\",1,0)","v":0},{"$f":"IF($G10=\"No\",0,1)*IF('Assessment Framework'!AR10=\"Y\",1,0)","v":0},{"$f":"IF($G10=\"No\",0,1)*IF('Assessment Framework'!AS10=\"Y\",1,0)","v":0},{"$f":"IF($G10=\"No\",0,1)*IF('Assessment Framework'!AT10=\"Y\",1,0)","v":0},{"$f":"IF($G10=\"No\",0,1)*IF('Assessment Framework'!AU10=\"Y\",1,0)","v":0},{"$f":"IF($G10=\"No\",0,1)*IF('Assessment Framework'!AV10=\"Y\",1,0)","v":0},{"$f":"IF($G10=\"No\",0,1)*IF('Assessment Framework'!AW10=\"Y\",1,0)","v":0},{"$f":"IF($G10=\"No\",0,1)*IF('Assessment Framework'!AX10=\"Y\",1,0)","v":0},{"$f":"IF($G10=\"No\",0,1)*IF('Assessment Framework'!AY10=\"Y\",1,0)","v":0},{"$f":"IF($G10=\"No\",0,1)*IF('Assessment Framework'!AZ10=\"Y\",1,0)","v":0},{"$f":"IF($G10=\"No\",0,1)*IF('Assessment Framework'!BA10=\"Y\",1,0)","v":0},{"$f":"IF($G10=\"No\",0,1)*IF('Assessment Framework'!BB10=\"Y\",1,0)","v":0},{"$f":"IF($G10=\"No\",0,1)*IF('Assessment Framework'!BC10=\"Y\",1,0)","v":0},{"$f":"IF($G10=\"No\",0,1)*IF('Assessment Framework'!BD10=\"Y\",1,0)","v":0},{"$f":"IF($G10=\"No\",0,1)*IF('Assessment Framework'!BE10=\"Y\",1,0)","v":0},{"$f":"IF($G10=\"No\",0,1)*IF('Assessment Framework'!BF10=\"Y\",1,0)","v":0},{"$f":"IF($G10=\"No\",0,1)*IF('Assessment Framework'!BG10=\"Y\",1,0)","v":0},{"$f":"IF($G10=\"No\",0,1)*IF('Assessment Framework'!BH10=\"Y\",1,0)","v":0},{"$f":"IF($G10=\"No\",0,1)*IF('Assessment Framework'!BI10=\"Y\",1,0)","v":0},{"$f":"IF($G10=\"No\",0,1)*IF('Assessment Framework'!BJ10=\"Y\",1,0)","v":0},{"$f":"IF($G10=\"No\",0,1)*IF('Assessment Framework'!BK10=\"Y\",1,0)","v":0},{"$f":"IF($G10=\"No\",0,1)*IF('Assessment Framework'!BL10=\"Y\",1,0)","v":0},{"$f":"IF($G10=\"No\",0,1)*IF('Assessment Framework'!BM10=\"Y\",1,0)","v":0},{"$f":"IF($G10=\"No\",0,1)*IF('Assessment Framework'!BN10=\"Y\",1,0)","v":0},{"$f":"IF($G10=\"No\",0,1)*IF('Assessment Framework'!BO10=\"Y\",1,0)","v":0},{"$f":"IF($G10=\"No\",0,1)*IF('Assessment Framework'!BP10=\"Y\",1,0)","v":0},{"$f":"IF($G10=\"No\",0,1)*IF('Assessment Framework'!BQ10=\"Y\",1,0)","v":0},{"$f":"IF($G10=\"No\",0,1)*IF('Assessment Framework'!BR10=\"Y\",1,0)","v":0},{"$f":"IF($G10=\"No\",0,1)*IF('Assessment Framework'!BS10=\"Y\",1,0)","v":0},{"$f":"IF($G10=\"No\",0,1)*IF('Assessment Framework'!BT10=\"Y\",1,0)","v":0},{"$f":"IF($G10=\"No\",0,1)*IF('Assessment Framework'!BU10=\"Y\",1,0)","v":0},{"$f":"IF($G10=\"No\",0,1)*IF('Assessment Framework'!BV10=\"Y\",1,0)","v":0},{"$f":"IF($G10=\"No\",0,1)*IF('Assessment Framework'!BW10=\"Y\",1,0)","v":0},{"$f":"IF($G10=\"No\",0,1)*IF('Assessment Framework'!BX10=\"Y\",1,0)","v":0},{"$f":"IF($G10=\"No\",0,1)*IF('Assessment Framework'!BY10=\"Y\",1,0)","v":0},{"$f":"IF($G10=\"No\",0,1)*IF('Assessment Framework'!BZ10=\"Y\",1,0)","v":0},{"$f":"IF($G10=\"No\",0,1)*IF('Assessment Framework'!CA10=\"Y\",1,0)","v":0},{"$f":"IF($G10=\"No\",0,1)*IF('Assessment Framework'!CB10=\"Y\",1,0)","v":0},{"$f":"IF($G10=\"No\",0,1)*IF('Assessment Framework'!CC10=\"Y\",1,0)","v":0},{"$f":"IF($G10=\"No\",0,1)*IF('Assessment Framework'!CD10=\"Y\",1,0)","v":0},{"$f":"IF($G10=\"No\",0,1)*IF('Assessment Framework'!CE10=\"Y\",1,0)","v":0},{"$f":"IF($G10=\"No\",0,1)*IF('Assessment Framework'!CF10=\"Y\",1,0)","v":0},{"$f":"IF($G10=\"No\",0,1)*IF('Assessment Framework'!CG10=\"Y\",1,0)","v":0},{"$f":"IF($G10=\"No\",0,1)*IF('Assessment Framework'!CH10=\"Y\",1,0)","v":0},{"$f":"IF($G10=\"No\",0,1)*IF('Assessment Framework'!CI10=\"Y\",1,0)","v":0},{"$f":"IF($G10=\"No\",0,1)*IF('Assessment Framework'!CJ10=\"Y\",1,0)","v":0},{"$f":"IF($G10=\"No\",0,1)*IF('Assessment Framework'!CK10=\"Y\",1,0)","v":0},{"$f":"IF($G10=\"No\",0,1)*IF('Assessment Framework'!CL10=\"Y\",1,0)","v":0},{"$f":"IF($G10=\"No\",0,1)*IF('Assessment Framework'!CM10=\"Y\",1,0)","v":0}]
[null,null,null,"Can be used for monitoring","Regular quantification of plastic pollution to assess effectiveness of interventions and track progress towards goals and commitments","Y,N",{"$f":"IF('A - Policy objectives'!C9=\"\",\"No\",'A - Policy objectives'!C9)","v":"No"},{"$f":"IF($G11=\"No\",0,1)*IF('Assessment Framework'!G11=\"Y\",1,0)","v":0},{"$f":"IF($G11=\"No\",0,1)*IF('Assessment Framework'!H11=\"Y\",1,0)","v":0},{"$f":"IF($G11=\"No\",0,1)*IF('Assessment Framework'!I11=\"Y\",1,0)","v":0},{"$f":"IF($G11=\"No\",0,1)*IF('Assessment Framework'!J11=\"Y\",1,0)","v":0},{"$f":"IF($G11=\"No\",0,1)*IF('Assessment Framework'!K11=\"Y\",1,0)","v":0},{"$f":"IF($G11=\"No\",0,1)*IF('Assessment Framework'!L11=\"Y\",1,0)","v":0},{"$f":"IF($G11=\"No\",0,1)*IF('Assessment Framework'!M11=\"Y\",1,0)","v":0},{"$f":"IF($G11=\"No\",0,1)*IF('Assessment Framework'!N11=\"Y\",1,0)","v":0},{"$f":"IF($G11=\"No\",0,1)*IF('Assessment Framework'!O11=\"Y\",1,0)","v":0},{"$f":"IF($G11=\"No\",0,1)*IF('Assessment Framework'!P11=\"Y\",1,0)","v":0},{"$f":"IF($G11=\"No\",0,1)*IF('Assessment Framework'!Q11=\"Y\",1,0)","v":0},{"$f":"IF($G11=\"No\",0,1)*IF('Assessment Framework'!R11=\"Y\",1,0)","v":0},{"$f":"IF($G11=\"No\",0,1)*IF('Assessment Framework'!S11=\"Y\",1,0)","v":0},{"$f":"IF($G11=\"No\",0,1)*IF('Assessment Framework'!T11=\"Y\",1,0)","v":0},{"$f":"IF($G11=\"No\",0,1)*IF('Assessment Framework'!U11=\"Y\",1,0)","v":0},{"$f":"IF($G11=\"No\",0,1)*IF('Assessment Framework'!V11=\"Y\",1,0)","v":0},{"$f":"IF($G11=\"No\",0,1)*IF('Assessment Framework'!W11=\"Y\",1,0)","v":0},{"$f":"IF($G11=\"No\",0,1)*IF('Assessment Framework'!X11=\"Y\",1,0)","v":0},{"$f":"IF($G11=\"No\",0,1)*IF('Assessment Framework'!Y11=\"Y\",1,0)","v":0},{"$f":"IF($G11=\"No\",0,1)*IF('Assessment Framework'!Z11=\"Y\",1,0)","v":0},{"$f":"IF($G11=\"No\",0,1)*IF('Assessment Framework'!AA11=\"Y\",1,0)","v":0},{"$f":"IF($G11=\"No\",0,1)*IF('Assessment Framework'!AB11=\"Y\",1,0)","v":0},{"$f":"IF($G11=\"No\",0,1)*IF('Assessment Framework'!AC11=\"Y\",1,0)","v":0},{"$f":"IF($G11=\"No\",0,1)*IF('Assessment Framework'!AD11=\"Y\",1,0)","v":0},{"$f":"IF($G11=\"No\",0,1)*IF('Assessment Framework'!AE11=\"Y\",1,0)","v":0},{"$f":"IF($G11=\"No\",0,1)*IF('Assessment Framework'!AF11=\"Y\",1,0)","v":0},{"$f":"IF($G11=\"No\",0,1)*IF('Assessment Framework'!AG11=\"Y\",1,0)","v":0},{"$f":"IF($G11=\"No\",0,1)*IF('Assessment Framework'!AH11=\"Y\",1,0)","v":0},{"$f":"IF($G11=\"No\",0,1)*IF('Assessment Framework'!AI11=\"Y\",1,0)","v":0},{"$f":"IF($G11=\"No\",0,1)*IF('Assessment Framework'!AJ11=\"Y\",1,0)","v":0},{"$f":"IF($G11=\"No\",0,1)*IF('Assessment Framework'!AK11=\"Y\",1,0)","v":0},{"$f":"IF($G11=\"No\",0,1)*IF('Assessment Framework'!AL11=\"Y\",1,0)","v":0},{"$f":"IF($G11=\"No\",0,1)*IF('Assessment Framework'!AM11=\"Y\",1,0)","v":0},{"$f":"IF($G11=\"No\",0,1)*IF('Assessment Framework'!AN11=\"Y\",1,0)","v":0},{"$f":"IF($G11=\"No\",0,1)*IF('Assessment Framework'!AO11=\"Y\",1,0)","v":0},{"$f":"IF($G11=\"No\",0,1)*IF('Assessment Framework'!AP11=\"Y\",1,0)","v":0},{"$f":"IF($G11=\"No\",0,1)*IF('Assessment Framework'!AQ11=\"Y\",1,0)","v":0},{"$f":"IF($G11=\"No\",0,1)*IF('Assessment Framework'!AR11=\"Y\",1,0)","v":0},{"$f":"IF($G11=\"No\",0,1)*IF('Assessment Framework'!AS11=\"Y\",1,0)","v":0},{"$f":"IF($G11=\"No\",0,1)*IF('Assessment Framework'!AT11=\"Y\",1,0)","v":0},{"$f":"IF($G11=\"No\",0,1)*IF('Assessment Framework'!AU11=\"Y\",1,0)","v":0},{"$f":"IF($G11=\"No\",0,1)*IF('Assessment Framework'!AV11=\"Y\",1,0)","v":0},{"$f":"IF($G11=\"No\",0,1)*IF('Assessment Framework'!AW11=\"Y\",1,0)","v":0},{"$f":"IF($G11=\"No\",0,1)*IF('Assessment Framework'!AX11=\"Y\",1,0)","v":0},{"$f":"IF($G11=\"No\",0,1)*IF('Assessment Framework'!AY11=\"Y\",1,0)","v":0},{"$f":"IF($G11=\"No\",0,1)*IF('Assessment Framework'!AZ11=\"Y\",1,0)","v":0},{"$f":"IF($G11=\"No\",0,1)*IF('Assessment Framework'!BA11=\"Y\",1,0)","v":0},{"$f":"IF($G11=\"No\",0,1)*IF('Assessment Framework'!BB11=\"Y\",1,0)","v":0},{"$f":"IF($G11=\"No\",0,1)*IF('Assessment Framework'!BC11=\"Y\",1,0)","v":0},{"$f":"IF($G11=\"No\",0,1)*IF('Assessment Framework'!BD11=\"Y\",1,0)","v":0},{"$f":"IF($G11=\"No\",0,1)*IF('Assessment Framework'!BE11=\"Y\",1,0)","v":0},{"$f":"IF($G11=\"No\",0,1)*IF('Assessment Framework'!BF11=\"Y\",1,0)","v":0},{"$f":"IF($G11=\"No\",0,1)*IF('Assessment Framework'!BG11=\"Y\",1,0)","v":0},{"$f":"IF($G11=\"No\",0,1)*IF('Assessment Framework'!BH11=\"Y\",1,0)","v":0},{"$f":"IF($G11=\"No\",0,1)*IF('Assessment Framework'!BI11=\"Y\",1,0)","v":0},{"$f":"IF($G11=\"No\",0,1)*IF('Assessment Framework'!BJ11=\"Y\",1,0)","v":0},{"$f":"IF($G11=\"No\",0,1)*IF('Assessment Framework'!BK11=\"Y\",1,0)","v":0},{"$f":"IF($G11=\"No\",0,1)*IF('Assessment Framework'!BL11=\"Y\",1,0)","v":0},{"$f":"IF($G11=\"No\",0,1)*IF('Assessment Framework'!BM11=\"Y\",1,0)","v":0},{"$f":"IF($G11=\"No\",0,1)*IF('Assessment Framework'!BN11=\"Y\",1,0)","v":0},{"$f":"IF($G11=\"No\",0,1)*IF('Assessment Framework'!BO11=\"Y\",1,0)","v":0},{"$f":"IF($G11=\"No\",0,1)*IF('Assessment Framework'!BP11=\"Y\",1,0)","v":0},{"$f":"IF($G11=\"No\",0,1)*IF('Assessment Framework'!BQ11=\"Y\",1,0)","v":0},{"$f":"IF($G11=\"No\",0,1)*IF('Assessment Framework'!BR11=\"Y\",1,0)","v":0},{"$f":"IF($G11=\"No\",0,1)*IF('Assessment Framework'!BS11=\"Y\",1,0)","v":0},{"$f":"IF($G11=\"No\",0,1)*IF('Assessment Framework'!BT11=\"Y\",1,0)","v":0},{"$f":"IF($G11=\"No\",0,1)*IF('Assessment Framework'!BU11=\"Y\",1,0)","v":0},{"$f":"IF($G11=\"No\",0,1)*IF('Assessment Framework'!BV11=\"Y\",1,0)","v":0},{"$f":"IF($G11=\"No\",0,1)*IF('Assessment Framework'!BW11=\"Y\",1,0)","v":0},{"$f":"IF($G11=\"No\",0,1)*IF('Assessment Framework'!BX11=\"Y\",1,0)","v":0},{"$f":"IF($G11=\"No\",0,1)*IF('Assessment Framework'!BY11=\"Y\",1,0)","v":0},{"$f":"IF($G11=\"No\",0,1)*IF('Assessment Framework'!BZ11=\"Y\",1,0)","v":0},{"$f":"IF($G11=\"No\",0,1)*IF('Assessment Framework'!CA11=\"Y\",1,0)","v":0},{"$f":"IF($G11=\"No\",0,1)*IF('Assessment Framework'!CB11=\"Y\",1,0)","v":0},{"$f":"IF($G11=\"No\",0,1)*IF('Assessment Framework'!CC11=\"Y\",1,0)","v":0},{"$f":"IF($G11=\"No\",0,1)*IF('Assessment Framework'!CD11=\"Y\",1,0)","v":0},{"$f":"IF($G11=\"No\",0,1)*IF('Assessment Framework'!CE11=\"Y\",1,0)","v":0},{"$f":"IF($G11=\"No\",0,1)*IF('Assessment Framework'!CF11=\"Y\",1,0)","v":0},{"$f":"IF($G11=\"No\",0,1)*IF('Assessment Framework'!CG11=\"Y\",1,0)","v":0},{"$f":"IF($G11=\"No\",0,1)*IF('Assessment Framework'!CH11=\"Y\",1,0)","v":0},{"$f":"IF($G11=\"No\",0,1)*IF('Assessment Framework'!CI11=\"Y\",1,0)","v":0},{"$f":"IF($G11=\"No\",0,1)*IF('Assessment Framework'!CJ11=\"Y\",1,0)","v":0},{"$f":"IF($G11=\"No\",0,1)*IF('Assessment Framework'!CK11=\"Y\",1,0)","v":0},{"$f":"IF($G11=\"No\",0,1)*IF('Assessment Framework'!CL11=\"Y\",1,0)","v":0},{"$f":"IF($G11=\"No\",0,1)*IF('Assessment Framework'!CM11=\"Y\",1,0)","v":0}]
[null,null,null,"Can be used for benchmarking","Periodic quantification of plastic pollution to compare against other locations and reassess overall strategies","Y,N",{"$f":"IF('A - Policy objectives'!C10=\"\",\"No\",'A - Policy objectives'!C10)","v":"No"},{"$f":"IF($G12=\"No\",0,1)*IF('Assessment Framework'!G12=\"Y\",1,0)","v":0},{"$f":"IF($G12=\"No\",0,1)*IF('Assessment Framework'!H12=\"Y\",1,0)","v":0},{"$f":"IF($G12=\"No\",0,1)*IF('Assessment Framework'!I12=\"Y\",1,0)","v":0},{"$f":"IF($G12=\"No\",0,1)*IF('Assessment Framework'!J12=\"Y\",1,0)","v":0},{"$f":"IF($G12=\"No\",0,1)*IF('Assessment Framework'!K12=\"Y\",1,0)","v":0},{"$f":"IF($G12=\"No\",0,1)*IF('Assessment Framework'!L12=\"Y\",1,0)","v":0},{"$f":"IF($G12=\"No\",0,1)*IF('Assessment Framework'!M12=\"Y\",1,0)","v":0},{"$f":"IF($G12=\"No\",0,1)*IF('Assessment Framework'!N12=\"Y\",1,0)","v":0},{"$f":"IF($G12=\"No\",0,1)*IF('Assessment Framework'!O12=\"Y\",1,0)","v":0},{"$f":"IF($G12=\"No\",0,1)*IF('Assessment Framework'!P12=\"Y\",1,0)","v":0},{"$f":"IF($G12=\"No\",0,1)*IF('Assessment Framework'!Q12=\"Y\",1,0)","v":0},{"$f":"IF($G12=\"No\",0,1)*IF('Assessment Framework'!R12=\"Y\",1,0)","v":0},{"$f":"IF($G12=\"No\",0,1)*IF('Assessment Framework'!S12=\"Y\",1,0)","v":0},{"$f":"IF($G12=\"No\",0,1)*IF('Assessment Framework'!T12=\"Y\",1,0)","v":0},{"$f":"IF($G12=\"No\",0,1)*IF('Assessment Framework'!U12=\"Y\",1,0)","v":0},{"$f":"IF($G12=\"No\",0,1)*IF('Assessment Framework'!V12=\"Y\",1,0)","v":0},{"$f":"IF($G12=\"No\",0,1)*IF('Assessment Framework'!W12=\"Y\",1,0)","v":0},{"$f":"IF($G12=\"No\",0,1)*IF('Assessment Framework'!X12=\"Y\",1,0)","v":0},{"$f":"IF($G12=\"No\",0,1)*IF('Assessment Framework'!Y12=\"Y\",1,0)","v":0},{"$f":"IF($G12=\"No\",0,1)*IF('Assessment Framework'!Z12=\"Y\",1,0)","v":0},{"$f":"IF($G12=\"No\",0,1)*IF('Assessment Framework'!AA12=\"Y\",1,0)","v":0},{"$f":"IF($G12=\"No\",0,1)*IF('Assessment Framework'!AB12=\"Y\",1,0)","v":0},{"$f":"IF($G12=\"No\",0,1)*IF('Assessment Framework'!AC12=\"Y\",1,0)","v":0},{"$f":"IF($G12=\"No\",0,1)*IF('Assessment Framework'!AD12=\"Y\",1,0)","v":0},{"$f":"IF($G12=\"No\",0,1)*IF('Assessment Framework'!AE12=\"Y\",1,0)","v":0},{"$f":"IF($G12=\"No\",0,1)*IF('Assessment Framework'!AF12=\"Y\",1,0)","v":0},{"$f":"IF($G12=\"No\",0,1)*IF('Assessment Framework'!AG12=\"Y\",1,0)","v":0},{"$f":"IF($G12=\"No\",0,1)*IF('Assessment Framework'!AH12=\"Y\",1,0)","v":0},{"$f":"IF($G12=\"No\",0,1)*IF('Assessment Framework'!AI12=\"Y\",1,0)","v":0},{"$f":"IF($G12=\"No\",0,1)*IF('Assessment Framework'!AJ12=\"Y\",1,0)","v":0},{"$f":"IF($G12=\"No\",0,1)*IF('Assessment Framework'!AK12=\"Y\",1,0)","v":0},{"$f":"IF($G12=\"No\",0,1)*IF('Assessment Framework'!AL12=\"Y\",1,0)","v":0},{"$f":"IF($G12=\"No\",0,1)*IF('Assessment Framework'!AM12=\"Y\",1,0)","v":0},{"$f":"IF($G12=\"No\",0,1)*IF('Assessment Framework'!AN12=\"Y\",1,0)","v":0},{"$f":"IF($G12=\"No\",0,1)*IF('Assessment Framework'!AO12=\"Y\",1,0)","v":0},{"$f":"IF($G12=\"No\",0,1)*IF('Assessment Framework'!AP12=\"Y\",1,0)","v":0},{"$f":"IF($G12=\"No\",0,1)*IF('Assessment Framework'!AQ12=\"Y\",1,0)","v":0},{"$f":"IF($G12=\"No\",0,1)*IF('Assessment Framework'!AR12=\"Y\",1,0)","v":0},{"$f":"IF($G12=\"No\",0,1)*IF('Assessment Framework'!AS12=\"Y\",1,0)","v":0},{"$f":"IF($G12=\"No\",0,1)*IF('Assessment Framework'!AT12=\"Y\",1,0)","v":0},{"$f":"IF($G12=\"No\",0,1)*IF('Assessment Framework'!AU12=\"Y\",1,0)","v":0},{"$f":"IF($G12=\"No\",0,1)*IF('Assessment Framework'!AV12=\"Y\",1,0)","v":0},{"$f":"IF($G12=\"No\",0,1)*IF('Assessment Framework'!AW12=\"Y\",1,0)","v":0},{"$f":"IF($G12=\"No\",0,1)*IF('Assessment Framework'!AX12=\"Y\",1,0)","v":0},{"$f":"IF($G12=\"No\",0,1)*IF('Assessment Framework'!AY12=\"Y\",1,0)","v":0},{"$f":"IF($G12=\"No\",0,1)*IF('Assessment Framework'!AZ12=\"Y\",1,0)","v":0},{"$f":"IF($G12=\"No\",0,1)*IF('Assessment Framework'!BA12=\"Y\",1,0)","v":0},{"$f":"IF($G12=\"No\",0,1)*IF('Assessment Framework'!BB12=\"Y\",1,0)","v":0},{"$f":"IF($G12=\"No\",0,1)*IF('Assessment Framework'!BC12=\"Y\",1,0)","v":0},{"$f":"IF($G12=\"No\",0,1)*IF('Assessment Framework'!BD12=\"Y\",1,0)","v":0},{"$f":"IF($G12=\"No\",0,1)*IF('Assessment Framework'!BE12=\"Y\",1,0)","v":0},{"$f":"IF($G12=\"No\",0,1)*IF('Assessment Framework'!BF12=\"Y\",1,0)","v":0},{"$f":"IF($G12=\"No\",0,1)*IF('Assessment Framework'!BG12=\"Y\",1,0)","v":0},{"$f":"IF($G12=\"No\",0,1)*IF('Assessment Framework'!BH12=\"Y\",1,0)","v":0},{"$f":"IF($G12=\"No\",0,1)*IF('Assessment Framework'!BI12=\"Y\",1,0)","v":0},{"$f":"IF($G12=\"No\",0,1)*IF('Assessment Framework'!BJ12=\"Y\",1,0)","v":0},{"$f":"IF($G12=\"No\",0,1)*IF('Assessment Framework'!BK12=\"Y\",1,0)","v":0},{"$f":"IF($G12=\"No\",0,1)*IF('Assessment Framework'!BL12=\"Y\",1,0)","v":0},{"$f":"IF($G12=\"No\",0,1)*IF('Assessment Framework'!BM12=\"Y\",1,0)","v":0},{"$f":"IF($G12=\"No\",0,1)*IF('Assessment Framework'!BN12=\"Y\",1,0)","v":0},{"$f":"IF($G12=\"No\",0,1)*IF('Assessment Framework'!BO12=\"Y\",1,0)","v":0},{"$f":"IF($G12=\"No\",0,1)*IF('Assessment Framework'!BP12=\"Y\",1,0)","v":0},{"$f":"IF($G12=\"No\",0,1)*IF('Assessment Framework'!BQ12=\"Y\",1,0)","v":0},{"$f":"IF($G12=\"No\",0,1)*IF('Assessment Framework'!BR12=\"Y\",1,0)","v":0},{"$f":"IF($G12=\"No\",0,1)*IF('Assessment Framework'!BS12=\"Y\",1,0)","v":0},{"$f":"IF($G12=\"No\",0,1)*IF('Assessment Framework'!BT12=\"Y\",1,0)","v":0},{"$f":"IF($G12=\"No\",0,1)*IF('Assessment Framework'!BU12=\"Y\",1,0)","v":0},{"$f":"IF($G12=\"No\",0,1)*IF('Assessment Framework'!BV12=\"Y\",1,0)","v":0},{"$f":"IF($G12=\"No\",0,1)*IF('Assessment Framework'!BW12=\"Y\",1,0)","v":0},{"$f":"IF($G12=\"No\",0,1)*IF('Assessment Framework'!BX12=\"Y\",1,0)","v":0},{"$f":"IF($G12=\"No\",0,1)*IF('Assessment Framework'!BY12=\"Y\",1,0)","v":0},{"$f":"IF($G12=\"No\",0,1)*IF('Assessment Framework'!BZ12=\"Y\",1,0)","v":0},{"$f":"IF($G12=\"No\",0,1)*IF('Assessment Framework'!CA12=\"Y\",1,0)","v":0},{"$f":"IF($G12=\"No\",0,1)*IF('Assessment Framework'!CB12=\"Y\",1,0)","v":0},{"$f":"IF($G12=\"No\",0,1)*IF('Assessment Framework'!CC12=\"Y\",1,0)","v":0},{"$f":"IF($G12=\"No\",0,1)*IF('Assessment Framework'!CD12=\"Y\",1,0)","v":0},{"$f":"IF($G12=\"No\",0,1)*IF('Assessment Framework'!CE12=\"Y\",1,0)","v":0},{"$f":"IF($G12=\"No\",0,1)*IF('Assessment Framework'!CF12=\"Y\",1,0)","v":0},{"$f":"IF($G12=\"No\",0,1)*IF('Assessment Framework'!CG12=\"Y\",1,0)","v":0},{"$f":"IF($G12=\"No\",0,1)*IF('Assessment Framework'!CH12=\"Y\",1,0)","v":0},{"$f":"IF($G12=\"No\",0,1)*IF('Assessment Framework'!CI12=\"Y\",1,0)","v":0},{"$f":"IF($G12=\"No\",0,1)*IF('Assessment Framework'!CJ12=\"Y\",1,0)","v":0},{"$f":"IF($G12=\"No\",0,1)*IF('Assessment Framework'!CK12=\"Y\",1,0)","v":0},{"$f":"IF($G12=\"No\",0,1)*IF('Assessment Framework'!CL12=\"Y\",1,0)","v":0},{"$f":"IF($G12=\"No\",0,1)*IF('Assessment Framework'!CM12=\"Y\",1,0)","v":0}]
[null,"Assessment scale","The assessment scale relates to the geographic area on which the plastic assessment methodology can be practically applied within a single project.","Global","Can be applied worldwide","Y,N",{"$f":"IF('A - Policy objectives'!C13=\"\",\"Non-essential\",'A - Policy objectives'!C13)","v":"Non-essential"},{"$f":"IF($G13=\"Non-essential\",0,1)*IF('Assessment Framework'!G13=\"Y\",1,0)","v":0},{"$f":"IF($G13=\"Non-essential\",0,1)*IF('Assessment Framework'!H13=\"Y\",1,0)","v":0},{"$f":"IF($G13=\"Non-essential\",0,1)*IF('Assessment Framework'!I13=\"Y\",1,0)","v":0},{"$f":"IF($G13=\"Non-essential\",0,1)*IF('Assessment Framework'!J13=\"Y\",1,0)","v":0},{"$f":"IF($G13=\"Non-essential\",0,1)*IF('Assessment Framework'!K13=\"Y\",1,0)","v":0},{"$f":"IF($G13=\"Non-essential\",0,1)*IF('Assessment Framework'!L13=\"Y\",1,0)","v":0},{"$f":"IF($G13=\"Non-essential\",0,1)*IF('Assessment Framework'!M13=\"Y\",1,0)","v":0},{"$f":"IF($G13=\"Non-essential\",0,1)*IF('Assessment Framework'!N13=\"Y\",1,0)","v":0},{"$f":"IF($G13=\"Non-essential\",0,1)*IF('Assessment Framework'!O13=\"Y\",1,0)","v":0},{"$f":"IF($G13=\"Non-essential\",0,1)*IF('Assessment Framework'!P13=\"Y\",1,0)","v":0},{"$f":"IF($G13=\"Non-essential\",0,1)*IF('Assessment Framework'!Q13=\"Y\",1,0)","v":0},{"$f":"IF($G13=\"Non-essential\",0,1)*IF('Assessment Framework'!R13=\"Y\",1,0)","v":0},{"$f":"IF($G13=\"Non-essential\",0,1)*IF('Assessment Framework'!S13=\"Y\",1,0)","v":0},{"$f":"IF($G13=\"Non-essential\",0,1)*IF('Assessment Framework'!T13=\"Y\",1,0)","v":0},{"$f":"IF($G13=\"Non-essential\",0,1)*IF('Assessment Framework'!U13=\"Y\",1,0)","v":0},{"$f":"IF($G13=\"Non-essential\",0,1)*IF('Assessment Framework'!V13=\"Y\",1,0)","v":0},{"$f":"IF($G13=\"Non-essential\",0,1)*IF('Assessment Framework'!W13=\"Y\",1,0)","v":0},{"$f":"IF($G13=\"Non-essential\",0,1)*IF('Assessment Framework'!X13=\"Y\",1,0)","v":0},{"$f":"IF($G13=\"Non-essential\",0,1)*IF('Assessment Framework'!Y13=\"Y\",1,0)","v":0},{"$f":"IF($G13=\"Non-essential\",0,1)*IF('Assessment Framework'!Z13=\"Y\",1,0)","v":0},{"$f":"IF($G13=\"Non-essential\",0,1)*IF('Assessment Framework'!AA13=\"Y\",1,0)","v":0},{"$f":"IF($G13=\"Non-essential\",0,1)*IF('Assessment Framework'!AB13=\"Y\",1,0)","v":0},{"$f":"IF($G13=\"Non-essential\",0,1)*IF('Assessment Framework'!AC13=\"Y\",1,0)","v":0},{"$f":"IF($G13=\"Non-essential\",0,1)*IF('Assessment Framework'!AD13=\"Y\",1,0)","v":0},{"$f":"IF($G13=\"Non-essential\",0,1)*IF('Assessment Framework'!AE13=\"Y\",1,0)","v":0},{"$f":"IF($G13=\"Non-essential\",0,1)*IF('Assessment Framework'!AF13=\"Y\",1,0)","v":0},{"$f":"IF($G13=\"Non-essential\",0,1)*IF('Assessment Framework'!AG13=\"Y\",1,0)","v":0},{"$f":"IF($G13=\"Non-essential\",0,1)*IF('Assessment Framework'!AH13=\"Y\",1,0)","v":0},{"$f":"IF($G13=\"Non-essential\",0,1)*IF('Assessment Framework'!AI13=\"Y\",1,0)","v":0},{"$f":"IF($G13=\"Non-essential\",0,1)*IF('Assessment Framework'!AJ13=\"Y\",1,0)","v":0},{"$f":"IF($G13=\"Non-essential\",0,1)*IF('Assessment Framework'!AK13=\"Y\",1,0)","v":0},{"$f":"IF($G13=\"Non-essential\",0,1)*IF('Assessment Framework'!AL13=\"Y\",1,0)","v":0},{"$f":"IF($G13=\"Non-essential\",0,1)*IF('Assessment Framework'!AM13=\"Y\",1,0)","v":0},{"$f":"IF($G13=\"Non-essential\",0,1)*IF('Assessment Framework'!AN13=\"Y\",1,0)","v":0},{"$f":"IF($G13=\"Non-essential\",0,1)*IF('Assessment Framework'!AO13=\"Y\",1,0)","v":0},{"$f":"IF($G13=\"Non-essential\",0,1)*IF('Assessment Framework'!AP13=\"Y\",1,0)","v":0},{"$f":"IF($G13=\"Non-essential\",0,1)*IF('Assessment Framework'!AQ13=\"Y\",1,0)","v":0},{"$f":"IF($G13=\"Non-essential\",0,1)*IF('Assessment Framework'!AR13=\"Y\",1,0)","v":0},{"$f":"IF($G13=\"Non-essential\",0,1)*IF('Assessment Framework'!AS13=\"Y\",1,0)","v":0},{"$f":"IF($G13=\"Non-essential\",0,1)*IF('Assessment Framework'!AT13=\"Y\",1,0)","v":0},{"$f":"IF($G13=\"Non-essential\",0,1)*IF('Assessment Framework'!AU13=\"Y\",1,0)","v":0},{"$f":"IF($G13=\"Non-essential\",0,1)*IF('Assessment Framework'!AV13=\"Y\",1,0)","v":0},{"$f":"IF($G13=\"Non-essential\",0,1)*IF('Assessment Framework'!AW13=\"Y\",1,0)","v":0},{"$f":"IF($G13=\"Non-essential\",0,1)*IF('Assessment Framework'!AX13=\"Y\",1,0)","v":0},{"$f":"IF($G13=\"Non-essential\",0,1)*IF('Assessment Framework'!AY13=\"Y\",1,0)","v":0},{"$f":"IF($G13=\"Non-essential\",0,1)*IF('Assessment Framework'!AZ13=\"Y\",1,0)","v":0},{"$f":"IF($G13=\"Non-essential\",0,1)*IF('Assessment Framework'!BA13=\"Y\",1,0)","v":0},{"$f":"IF($G13=\"Non-essential\",0,1)*IF('Assessment Framework'!BB13=\"Y\",1,0)","v":0},{"$f":"IF($G13=\"Non-essential\",0,1)*IF('Assessment Framework'!BC13=\"Y\",1,0)","v":0},{"$f":"IF($G13=\"Non-essential\",0,1)*IF('Assessment Framework'!BD13=\"Y\",1,0)","v":0},{"$f":"IF($G13=\"Non-essential\",0,1)*IF('Assessment Framework'!BE13=\"Y\",1,0)","v":0},{"$f":"IF($G13=\"Non-essential\",0,1)*IF('Assessment Framework'!BF13=\"Y\",1,0)","v":0},{"$f":"IF($G13=\"Non-essential\",0,1)*IF('Assessment Framework'!BG13=\"Y\",1,0)","v":0},{"$f":"IF($G13=\"Non-essential\",0,1)*IF('Assessment Framework'!BH13=\"Y\",1,0)","v":0},{"$f":"IF($G13=\"Non-essential\",0,1)*IF('Assessment Framework'!BI13=\"Y\",1,0)","v":0},{"$f":"IF($G13=\"Non-essential\",0,1)*IF('Assessment Framework'!BJ13=\"Y\",1,0)","v":0},{"$f":"IF($G13=\"Non-essential\",0,1)*IF('Assessment Framework'!BK13=\"Y\",1,0)","v":0},{"$f":"IF($G13=\"Non-essential\",0,1)*IF('Assessment Framework'!BL13=\"Y\",1,0)","v":0},{"$f":"IF($G13=\"Non-essential\",0,1)*IF('Assessment Framework'!BM13=\"Y\",1,0)","v":0},{"$f":"IF($G13=\"Non-essential\",0,1)*IF('Assessment Framework'!BN13=\"Y\",1,0)","v":0},{"$f":"IF($G13=\"Non-essential\",0,1)*IF('Assessment Framework'!BO13=\"Y\",1,0)","v":0},{"$f":"IF($G13=\"Non-essential\",0,1)*IF('Assessment Framework'!BP13=\"Y\",1,0)","v":0},{"$f":"IF($G13=\"Non-essential\",0,1)*IF('Assessment Framework'!BQ13=\"Y\",1,0)","v":0},{"$f":"IF($G13=\"Non-essential\",0,1)*IF('Assessment Framework'!BR13=\"Y\",1,0)","v":0},{"$f":"IF($G13=\"Non-essential\",0,1)*IF('Assessment Framework'!BS13=\"Y\",1,0)","v":0},{"$f":"IF($G13=\"Non-essential\",0,1)*IF('Assessment Framework'!BT13=\"Y\",1,0)","v":0},{"$f":"IF($G13=\"Non-essential\",0,1)*IF('Assessment Framework'!BU13=\"Y\",1,0)","v":0},{"$f":"IF($G13=\"Non-essential\",0,1)*IF('Assessment Framework'!BV13=\"Y\",1,0)","v":0},{"$f":"IF($G13=\"Non-essential\",0,1)*IF('Assessment Framework'!BW13=\"Y\",1,0)","v":0},{"$f":"IF($G13=\"Non-essential\",0,1)*IF('Assessment Framework'!BX13=\"Y\",1,0)","v":0},{"$f":"IF($G13=\"Non-essential\",0,1)*IF('Assessment Framework'!BY13=\"Y\",1,0)","v":0},{"$f":"IF($G13=\"Non-essential\",0,1)*IF('Assessment Framework'!BZ13=\"Y\",1,0)","v":0},{"$f":"IF($G13=\"Non-essential\",0,1)*IF('Assessment Framework'!CA13=\"Y\",1,0)","v":0},{"$f":"IF($G13=\"Non-essential\",0,1)*IF('Assessment Framework'!CB13=\"Y\",1,0)","v":0},{"$f":"IF($G13=\"Non-essential\",0,1)*IF('Assessment Framework'!CC13=\"Y\",1,0)","v":0},{"$f":"IF($G13=\"Non-essential\",0,1)*IF('Assessment Framework'!CD13=\"Y\",1,0)","v":0},{"$f":"IF($G13=\"Non-essential\",0,1)*IF('Assessment Framework'!CE13=\"Y\",1,0)","v":0},{"$f":"IF($G13=\"Non-essential\",0,1)*IF('Assessment Framework'!CF13=\"Y\",1,0)","v":0},{"$f":"IF($G13=\"Non-essential\",0,1)*IF('Assessment Framework'!CG13=\"Y\",1,0)","v":0},{"$f":"IF($G13=\"Non-essential\",0,1)*IF('Assessment Framework'!CH13=\"Y\",1,0)","v":0},{"$f":"IF($G13=\"Non-essential\",0,1)*IF('Assessment Framework'!CI13=\"Y\",1,0)","v":0},{"$f":"IF($G13=\"Non-essential\",0,1)*IF('Assessment Framework'!CJ13=\"Y\",1,0)","v":0},{"$f":"IF($G13=\"Non-essential\",0,1)*IF('Assessment Framework'!CK13=\"Y\",1,0)","v":0},{"$f":"IF($G13=\"Non-essential\",0,1)*IF('Assessment Framework'!CL13=\"Y\",1,0)","v":0},{"$f":"IF($G13=\"Non-essential\",0,1)*IF('Assessment Framework'!CM13=\"Y\",1,0)","v":0}]
[null,null,null,"Regional (multiple countries)","Can be applied across multiple countries or continents","Y,N",{"$f":"IF('A - Policy objectives'!C14=\"\",\"Non-essential\",'A - Policy objectives'!C14)","v":"Non-essential"},{"$f":"IF($G14=\"Non-essential\",0,1)*IF('Assessment Framework'!G14=\"Y\",1,0)","v":0},{"$f":"IF($G14=\"Non-essential\",0,1)*IF('Assessment Framework'!H14=\"Y\",1,0)","v":0},{"$f":"IF($G14=\"Non-essential\",0,1)*IF('Assessment Framework'!I14=\"Y\",1,0)","v":0},{"$f":"IF($G14=\"Non-essential\",0,1)*IF('Assessment Framework'!J14=\"Y\",1,0)","v":0},{"$f":"IF($G14=\"Non-essential\",0,1)*IF('Assessment Framework'!K14=\"Y\",1,0)","v":0},{"$f":"IF($G14=\"Non-essential\",0,1)*IF('Assessment Framework'!L14=\"Y\",1,0)","v":0},{"$f":"IF($G14=\"Non-essential\",0,1)*IF('Assessment Framework'!M14=\"Y\",1,0)","v":0},{"$f":"IF($G14=\"Non-essential\",0,1)*IF('Assessment Framework'!N14=\"Y\",1,0)","v":0},{"$f":"IF($G14=\"Non-essential\",0,1)*IF('Assessment Framework'!O14=\"Y\",1,0)","v":0},{"$f":"IF($G14=\"Non-essential\",0,1)*IF('Assessment Framework'!P14=\"Y\",1,0)","v":0},{"$f":"IF($G14=\"Non-essential\",0,1)*IF('Assessment Framework'!Q14=\"Y\",1,0)","v":0},{"$f":"IF($G14=\"Non-essential\",0,1)*IF('Assessment Framework'!R14=\"Y\",1,0)","v":0},{"$f":"IF($G14=\"Non-essential\",0,1)*IF('Assessment Framework'!S14=\"Y\",1,0)","v":0},{"$f":"IF($G14=\"Non-essential\",0,1)*IF('Assessment Framework'!T14=\"Y\",1,0)","v":0},{"$f":"IF($G14=\"Non-essential\",0,1)*IF('Assessment Framework'!U14=\"Y\",1,0)","v":0},{"$f":"IF($G14=\"Non-essential\",0,1)*IF('Assessment Framework'!V14=\"Y\",1,0)","v":0},{"$f":"IF($G14=\"Non-essential\",0,1)*IF('Assessment Framework'!W14=\"Y\",1,0)","v":0},{"$f":"IF($G14=\"Non-essential\",0,1)*IF('Assessment Framework'!X14=\"Y\",1,0)","v":0},{"$f":"IF($G14=\"Non-essential\",0,1)*IF('Assessment Framework'!Y14=\"Y\",1,0)","v":0},{"$f":"IF($G14=\"Non-essential\",0,1)*IF('Assessment Framework'!Z14=\"Y\",1,0)","v":0},{"$f":"IF($G14=\"Non-essential\",0,1)*IF('Assessment Framework'!AA14=\"Y\",1,0)","v":0},{"$f":"IF($G14=\"Non-essential\",0,1)*IF('Assessment Framework'!AB14=\"Y\",1,0)","v":0},{"$f":"IF($G14=\"Non-essential\",0,1)*IF('Assessment Framework'!AC14=\"Y\",1,0)","v":0},{"$f":"IF($G14=\"Non-essential\",0,1)*IF('Assessment Framework'!AD14=\"Y\",1,0)","v":0},{"$f":"IF($G14=\"Non-essential\",0,1)*IF('Assessment Framework'!AE14=\"Y\",1,0)","v":0},{"$f":"IF($G14=\"Non-essential\",0,1)*IF('Assessment Framework'!AF14=\"Y\",1,0)","v":0},{"$f":"IF($G14=\"Non-essential\",0,1)*IF('Assessment Framework'!AG14=\"Y\",1,0)","v":0},{"$f":"IF($G14=\"Non-essential\",0,1)*IF('Assessment Framework'!AH14=\"Y\",1,0)","v":0},{"$f":"IF($G14=\"Non-essential\",0,1)*IF('Assessment Framework'!AI14=\"Y\",1,0)","v":0},{"$f":"IF($G14=\"Non-essential\",0,1)*IF('Assessment Framework'!AJ14=\"Y\",1,0)","v":0},{"$f":"IF($G14=\"Non-essential\",0,1)*IF('Assessment Framework'!AK14=\"Y\",1,0)","v":0},{"$f":"IF($G14=\"Non-essential\",0,1)*IF('Assessment Framework'!AL14=\"Y\",1,0)","v":0},{"$f":"IF($G14=\"Non-essential\",0,1)*IF('Assessment Framework'!AM14=\"Y\",1,0)","v":0},{"$f":"IF($G14=\"Non-essential\",0,1)*IF('Assessment Framework'!AN14=\"Y\",1,0)","v":0},{"$f":"IF($G14=\"Non-essential\",0,1)*IF('Assessment Framework'!AO14=\"Y\",1,0)","v":0},{"$f":"IF($G14=\"Non-essential\",0,1)*IF('Assessment Framework'!AP14=\"Y\",1,0)","v":0},{"$f":"IF($G14=\"Non-essential\",0,1)*IF('Assessment Framework'!AQ14=\"Y\",1,0)","v":0},{"$f":"IF($G14=\"Non-essential\",0,1)*IF('Assessment Framework'!AR14=\"Y\",1,0)","v":0},{"$f":"IF($G14=\"Non-essential\",0,1)*IF('Assessment Framework'!AS14=\"Y\",1,0)","v":0},{"$f":"IF($G14=\"Non-essential\",0,1)*IF('Assessment Framework'!AT14=\"Y\",1,0)","v":0},{"$f":"IF($G14=\"Non-essential\",0,1)*IF('Assessment Framework'!AU14=\"Y\",1,0)","v":0},{"$f":"IF($G14=\"Non-essential\",0,1)*IF('Assessment Framework'!AV14=\"Y\",1,0)","v":0},{"$f":"IF($G14=\"Non-essential\",0,1)*IF('Assessment Framework'!AW14=\"Y\",1,0)","v":0},{"$f":"IF($G14=\"Non-essential\",0,1)*IF('Assessment Framework'!AX14=\"Y\",1,0)","v":0},{"$f":"IF($G14=\"Non-essential\",0,1)*IF('Assessment Framework'!AY14=\"Y\",1,0)","v":0},{"$f":"IF($G14=\"Non-essential\",0,1)*IF('Assessment Framework'!AZ14=\"Y\",1,0)","v":0},{"$f":"IF($G14=\"Non-essential\",0,1)*IF('Assessment Framework'!BA14=\"Y\",1,0)","v":0},{"$f":"IF($G14=\"Non-essential\",0,1)*IF('Assessment Framework'!BB14=\"Y\",1,0)","v":0},{"$f":"IF($G14=\"Non-essential\",0,1)*IF('Assessment Framework'!BC14=\"Y\",1,0)","v":0},{"$f":"IF($G14=\"Non-essential\",0,1)*IF('Assessment Framework'!BD14=\"Y\",1,0)","v":0},{"$f":"IF($G14=\"Non-essential\",0,1)*IF('Assessment Framework'!BE14=\"Y\",1,0)","v":0},{"$f":"IF($G14=\"Non-essential\",0,1)*IF('Assessment Framework'!BF14=\"Y\",1,0)","v":0},{"$f":"IF($G14=\"Non-essential\",0,1)*IF('Assessment Framework'!BG14=\"Y\",1,0)","v":0},{"$f":"IF($G14=\"Non-essential\",0,1)*IF('Assessment Framework'!BH14=\"Y\",1,0)","v":0},{"$f":"IF($G14=\"Non-essential\",0,1)*IF('Assessment Framework'!BI14=\"Y\",1,0)","v":0},{"$f":"IF($G14=\"Non-essential\",0,1)*IF('Assessment Framework'!BJ14=\"Y\",1,0)","v":0},{"$f":"IF($G14=\"Non-essential\",0,1)*IF('Assessment Framework'!BK14=\"Y\",1,0)","v":0},{"$f":"IF($G14=\"Non-essential\",0,1)*IF('Assessment Framework'!BL14=\"Y\",1,0)","v":0},{"$f":"IF($G14=\"Non-essential\",0,1)*IF('Assessment Framework'!BM14=\"Y\",1,0)","v":0},{"$f":"IF($G14=\"Non-essential\",0,1)*IF('Assessment Framework'!BN14=\"Y\",1,0)","v":0},{"$f":"IF($G14=\"Non-essential\",0,1)*IF('Assessment Framework'!BO14=\"Y\",1,0)","v":0},{"$f":"IF($G14=\"Non-essential\",0,1)*IF('Assessment Framework'!BP14=\"Y\",1,0)","v":0},{"$f":"IF($G14=\"Non-essential\",0,1)*IF('Assessment Framework'!BQ14=\"Y\",1,0)","v":0},{"$f":"IF($G14=\"Non-essential\",0,1)*IF('Assessment Framework'!BR14=\"Y\",1,0)","v":0},{"$f":"IF($G14=\"Non-essential\",0,1)*IF('Assessment Framework'!BS14=\"Y\",1,0)","v":0},{"$f":"IF($G14=\"Non-essential\",0,1)*IF('Assessment Framework'!BT14=\"Y\",1,0)","v":0},{"$f":"IF($G14=\"Non-essential\",0,1)*IF('Assessment Framework'!BU14=\"Y\",1,0)","v":0},{"$f":"IF($G14=\"Non-essential\",0,1)*IF('Assessment Framework'!BV14=\"Y\",1,0)","v":0},{"$f":"IF($G14=\"Non-essential\",0,1)*IF('Assessment Framework'!BW14=\"Y\",1,0)","v":0},{"$f":"IF($G14=\"Non-essential\",0,1)*IF('Assessment Framework'!BX14=\"Y\",1,0)","v":0},{"$f":"IF($G14=\"Non-essential\",0,1)*IF('Assessment Framework'!BY14=\"Y\",1,0)","v":0},{"$f":"IF($G14=\"Non-essential\",0,1)*IF('Assessment Framework'!BZ14=\"Y\",1,0)","v":0},{"$f":"IF($G14=\"Non-essential\",0,1)*IF('Assessment Framework'!CA14=\"Y\",1,0)","v":0},{"$f":"IF($G14=\"Non-essential\",0,1)*IF('Assessment Framework'!CB14=\"Y\",1,0)","v":0},{"$f":"IF($G14=\"Non-essential\",0,1)*IF('Assessment Framework'!CC14=\"Y\",1,0)","v":0},{"$f":"IF($G14=\"Non-essential\",0,1)*IF('Assessment Framework'!CD14=\"Y\",1,0)","v":0},{"$f":"IF($G14=\"Non-essential\",0,1)*IF('Assessment Framework'!CE14=\"Y\",1,0)","v":0},{"$f":"IF($G14=\"Non-essential\",0,1)*IF('Assessment Framework'!CF14=\"Y\",1,0)","v":0},{"$f":"IF($G14=\"Non-essential\",0,1)*IF('Assessment Framework'!CG14=\"Y\",1,0)","v":0},{"$f":"IF($G14=\"Non-essential\",0,1)*IF('Assessment Framework'!CH14=\"Y\",1,0)","v":0},{"$f":"IF($G14=\"Non-essential\",0,1)*IF('Assessment Framework'!CI14=\"Y\",1,0)","v":0},{"$f":"IF($G14=\"Non-essential\",0,1)*IF('Assessment Framework'!CJ14=\"Y\",1,0)","v":0},{"$f":"IF($G14=\"Non-essential\",0,1)*IF('Assessment Framework'!CK14=\"Y\",1,0)","v":0},{"$f":"IF($G14=\"Non-essential\",0,1)*IF('Assessment Framework'!CL14=\"Y\",1,0)","v":0},{"$f":"IF($G14=\"Non-essential\",0,1)*IF('Assessment Framework'!CM14=\"Y\",1,0)","v":0}]
[null,null,null,"National","Can be applied at a national (country) scale","Y,N",{"$f":"IF('A - Policy objectives'!C15=\"\",\"Non-essential\",'A - Policy objectives'!C15)","v":"Non-essential"},{"$f":"IF($G15=\"Non-essential\",0,1)*IF('Assessment Framework'!G15=\"Y\",1,0)","v":0},{"$f":"IF($G15=\"Non-essential\",0,1)*IF('Assessment Framework'!H15=\"Y\",1,0)","v":0},{"$f":"IF($G15=\"Non-essential\",0,1)*IF('Assessment Framework'!I15=\"Y\",1,0)","v":0},{"$f":"IF($G15=\"Non-essential\",0,1)*IF('Assessment Framework'!J15=\"Y\",1,0)","v":0},{"$f":"IF($G15=\"Non-essential\",0,1)*IF('Assessment Framework'!K15=\"Y\",1,0)","v":0},{"$f":"IF($G15=\"Non-essential\",0,1)*IF('Assessment Framework'!L15=\"Y\",1,0)","v":0},{"$f":"IF($G15=\"Non-essential\",0,1)*IF('Assessment Framework'!M15=\"Y\",1,0)","v":0},{"$f":"IF($G15=\"Non-essential\",0,1)*IF('Assessment Framework'!N15=\"Y\",1,0)","v":0},{"$f":"IF($G15=\"Non-essential\",0,1)*IF('Assessment Framework'!O15=\"Y\",1,0)","v":0},{"$f":"IF($G15=\"Non-essential\",0,1)*IF('Assessment Framework'!P15=\"Y\",1,0)","v":0},{"$f":"IF($G15=\"Non-essential\",0,1)*IF('Assessment Framework'!Q15=\"Y\",1,0)","v":0},{"$f":"IF($G15=\"Non-essential\",0,1)*IF('Assessment Framework'!R15=\"Y\",1,0)","v":0},{"$f":"IF($G15=\"Non-essential\",0,1)*IF('Assessment Framework'!S15=\"Y\",1,0)","v":0},{"$f":"IF($G15=\"Non-essential\",0,1)*IF('Assessment Framework'!T15=\"Y\",1,0)","v":0},{"$f":"IF($G15=\"Non-essential\",0,1)*IF('Assessment Framework'!U15=\"Y\",1,0)","v":0},{"$f":"IF($G15=\"Non-essential\",0,1)*IF('Assessment Framework'!V15=\"Y\",1,0)","v":0},{"$f":"IF($G15=\"Non-essential\",0,1)*IF('Assessment Framework'!W15=\"Y\",1,0)","v":0},{"$f":"IF($G15=\"Non-essential\",0,1)*IF('Assessment Framework'!X15=\"Y\",1,0)","v":0},{"$f":"IF($G15=\"Non-essential\",0,1)*IF('Assessment Framework'!Y15=\"Y\",1,0)","v":0},{"$f":"IF($G15=\"Non-essential\",0,1)*IF('Assessment Framework'!Z15=\"Y\",1,0)","v":0},{"$f":"IF($G15=\"Non-essential\",0,1)*IF('Assessment Framework'!AA15=\"Y\",1,0)","v":0},{"$f":"IF($G15=\"Non-essential\",0,1)*IF('Assessment Framework'!AB15=\"Y\",1,0)","v":0},{"$f":"IF($G15=\"Non-essential\",0,1)*IF('Assessment Framework'!AC15=\"Y\",1,0)","v":0},{"$f":"IF($G15=\"Non-essential\",0,1)*IF('Assessment Framework'!AD15=\"Y\",1,0)","v":0},{"$f":"IF($G15=\"Non-essential\",0,1)*IF('Assessment Framework'!AE15=\"Y\",1,0)","v":0},{"$f":"IF($G15=\"Non-essential\",0,1)*IF('Assessment Framework'!AF15=\"Y\",1,0)","v":0},{"$f":"IF($G15=\"Non-essential\",0,1)*IF('Assessment Framework'!AG15=\"Y\",1,0)","v":0},{"$f":"IF($G15=\"Non-essential\",0,1)*IF('Assessment Framework'!AH15=\"Y\",1,0)","v":0},{"$f":"IF($G15=\"Non-essential\",0,1)*IF('Assessment Framework'!AI15=\"Y\",1,0)","v":0},{"$f":"IF($G15=\"Non-essential\",0,1)*IF('Assessment Framework'!AJ15=\"Y\",1,0)","v":0},{"$f":"IF($G15=\"Non-essential\",0,1)*IF('Assessment Framework'!AK15=\"Y\",1,0)","v":0},{"$f":"IF($G15=\"Non-essential\",0,1)*IF('Assessment Framework'!AL15=\"Y\",1,0)","v":0},{"$f":"IF($G15=\"Non-essential\",0,1)*IF('Assessment Framework'!AM15=\"Y\",1,0)","v":0},{"$f":"IF($G15=\"Non-essential\",0,1)*IF('Assessment Framework'!AN15=\"Y\",1,0)","v":0},{"$f":"IF($G15=\"Non-essential\",0,1)*IF('Assessment Framework'!AO15=\"Y\",1,0)","v":0},{"$f":"IF($G15=\"Non-essential\",0,1)*IF('Assessment Framework'!AP15=\"Y\",1,0)","v":0},{"$f":"IF($G15=\"Non-essential\",0,1)*IF('Assessment Framework'!AQ15=\"Y\",1,0)","v":0},{"$f":"IF($G15=\"Non-essential\",0,1)*IF('Assessment Framework'!AR15=\"Y\",1,0)","v":0},{"$f":"IF($G15=\"Non-essential\",0,1)*IF('Assessment Framework'!AS15=\"Y\",1,0)","v":0},{"$f":"IF($G15=\"Non-essential\",0,1)*IF('Assessment Framework'!AT15=\"Y\",1,0)","v":0},{"$f":"IF($G15=\"Non-essential\",0,1)*IF('Assessment Framework'!AU15=\"Y\",1,0)","v":0},{"$f":"IF($G15=\"Non-essential\",0,1)*IF('Assessment Framework'!AV15=\"Y\",1,0)","v":0},{"$f":"IF($G15=\"Non-essential\",0,1)*IF('Assessment Framework'!AW15=\"Y\",1,0)","v":0},{"$f":"IF($G15=\"Non-essential\",0,1)*IF('Assessment Framework'!AX15=\"Y\",1,0)","v":0},{"$f":"IF($G15=\"Non-essential\",0,1)*IF('Assessment Framework'!AY15=\"Y\",1,0)","v":0},{"$f":"IF($G15=\"Non-essential\",0,1)*IF('Assessment Framework'!AZ15=\"Y\",1,0)","v":0},{"$f":"IF($G15=\"Non-essential\",0,1)*IF('Assessment Framework'!BA15=\"Y\",1,0)","v":0},{"$f":"IF($G15=\"Non-essential\",0,1)*IF('Assessment Framework'!BB15=\"Y\",1,0)","v":0},{"$f":"IF($G15=\"Non-essential\",0,1)*IF('Assessment Framework'!BC15=\"Y\",1,0)","v":0},{"$f":"IF($G15=\"Non-essential\",0,1)*IF('Assessment Framework'!BD15=\"Y\",1,0)","v":0},{"$f":"IF($G15=\"Non-essential\",0,1)*IF('Assessment Framework'!BE15=\"Y\",1,0)","v":0},{"$f":"IF($G15=\"Non-essential\",0,1)*IF('Assessment Framework'!BF15=\"Y\",1,0)","v":0},{"$f":"IF($G15=\"Non-essential\",0,1)*IF('Assessment Framework'!BG15=\"Y\",1,0)","v":0},{"$f":"IF($G15=\"Non-essential\",0,1)*IF('Assessment Framework'!BH15=\"Y\",1,0)","v":0},{"$f":"IF($G15=\"Non-essential\",0,1)*IF('Assessment Framework'!BI15=\"Y\",1,0)","v":0},{"$f":"IF($G15=\"Non-essential\",0,1)*IF('Assessment Framework'!BJ15=\"Y\",1,0)","v":0},{"$f":"IF($G15=\"Non-essential\",0,1)*IF('Assessment Framework'!BK15=\"Y\",1,0)","v":0},{"$f":"IF($G15=\"Non-essential\",0,1)*IF('Assessment Framework'!BL15=\"Y\",1,0)","v":0},{"$f":"IF($G15=\"Non-essential\",0,1)*IF('Assessment Framework'!BM15=\"Y\",1,0)","v":0},{"$f":"IF($G15=\"Non-essential\",0,1)*IF('Assessment Framework'!BN15=\"Y\",1,0)","v":0},{"$f":"IF($G15=\"Non-essential\",0,1)*IF('Assessment Framework'!BO15=\"Y\",1,0)","v":0},{"$f":"IF($G15=\"Non-essential\",0,1)*IF('Assessment Framework'!BP15=\"Y\",1,0)","v":0},{"$f":"IF($G15=\"Non-essential\",0,1)*IF('Assessment Framework'!BQ15=\"Y\",1,0)","v":0},{"$f":"IF($G15=\"Non-essential\",0,1)*IF('Assessment Framework'!BR15=\"Y\",1,0)","v":0},{"$f":"IF($G15=\"Non-essential\",0,1)*IF('Assessment Framework'!BS15=\"Y\",1,0)","v":0},{"$f":"IF($G15=\"Non-essential\",0,1)*IF('Assessment Framework'!BT15=\"Y\",1,0)","v":0},{"$f":"IF($G15=\"Non-essential\",0,1)*IF('Assessment Framework'!BU15=\"Y\",1,0)","v":0},{"$f":"IF($G15=\"Non-essential\",0,1)*IF('Assessment Framework'!BV15=\"Y\",1,0)","v":0},{"$f":"IF($G15=\"Non-essential\",0,1)*IF('Assessment Framework'!BW15=\"Y\",1,0)","v":0},{"$f":"IF($G15=\"Non-essential\",0,1)*IF('Assessment Framework'!BX15=\"Y\",1,0)","v":0},{"$f":"IF($G15=\"Non-essential\",0,1)*IF('Assessment Framework'!BY15=\"Y\",1,0)","v":0},{"$f":"IF($G15=\"Non-essential\",0,1)*IF('Assessment Framework'!BZ15=\"Y\",1,0)","v":0},{"$f":"IF($G15=\"Non-essential\",0,1)*IF('Assessment Framework'!CA15=\"Y\",1,0)","v":0},{"$f":"IF($G15=\"Non-essential\",0,1)*IF('Assessment Framework'!CB15=\"Y\",1,0)","v":0},{"$f":"IF($G15=\"Non-essential\",0,1)*IF('Assessment Framework'!CC15=\"Y\",1,0)","v":0},{"$f":"IF($G15=\"Non-essential\",0,1)*IF('Assessment Framework'!CD15=\"Y\",1,0)","v":0},{"$f":"IF($G15=\"Non-essential\",0,1)*IF('Assessment Framework'!CE15=\"Y\",1,0)","v":0},{"$f":"IF($G15=\"Non-essential\",0,1)*IF('Assessment Framework'!CF15=\"Y\",1,0)","v":0},{"$f":"IF($G15=\"Non-essential\",0,1)*IF('Assessment Framework'!CG15=\"Y\",1,0)","v":0},{"$f":"IF($G15=\"Non-essential\",0,1)*IF('Assessment Framework'!CH15=\"Y\",1,0)","v":0},{"$f":"IF($G15=\"Non-essential\",0,1)*IF('Assessment Framework'!CI15=\"Y\",1,0)","v":0},{"$f":"IF($G15=\"Non-essential\",0,1)*IF('Assessment Framework'!CJ15=\"Y\",1,0)","v":0},{"$f":"IF($G15=\"Non-essential\",0,1)*IF('Assessment Framework'!CK15=\"Y\",1,0)","v":0},{"$f":"IF($G15=\"Non-essential\",0,1)*IF('Assessment Framework'!CL15=\"Y\",1,0)","v":0},{"$f":"IF($G15=\"Non-essential\",0,1)*IF('Assessment Framework'!CM15=\"Y\",1,0)","v":0}]
[null,null,null,"Provincial","Can be applied to a province, county or state","Y,N",{"$f":"IF('A - Policy objectives'!C16=\"\",\"Non-essential\",'A - Policy objectives'!C16)","v":"Non-essential"},{"$f":"IF($G16=\"Non-essential\",0,1)*IF('Assessment Framework'!G16=\"Y\",1,0)","v":0},{"$f":"IF($G16=\"Non-essential\",0,1)*IF('Assessment Framework'!H16=\"Y\",1,0)","v":0},{"$f":"IF($G16=\"Non-essential\",0,1)*IF('Assessment Framework'!I16=\"Y\",1,0)","v":0},{"$f":"IF($G16=\"Non-essential\",0,1)*IF('Assessment Framework'!J16=\"Y\",1,0)","v":0},{"$f":"IF($G16=\"Non-essential\",0,1)*IF('Assessment Framework'!K16=\"Y\",1,0)","v":0},{"$f":"IF($G16=\"Non-essential\",0,1)*IF('Assessment Framework'!L16=\"Y\",1,0)","v":0},{"$f":"IF($G16=\"Non-essential\",0,1)*IF('Assessment Framework'!M16=\"Y\",1,0)","v":0},{"$f":"IF($G16=\"Non-essential\",0,1)*IF('Assessment Framework'!N16=\"Y\",1,0)","v":0},{"$f":"IF($G16=\"Non-essential\",0,1)*IF('Assessment Framework'!O16=\"Y\",1,0)","v":0},{"$f":"IF($G16=\"Non-essential\",0,1)*IF('Assessment Framework'!P16=\"Y\",1,0)","v":0},{"$f":"IF($G16=\"Non-essential\",0,1)*IF('Assessment Framework'!Q16=\"Y\",1,0)","v":0},{"$f":"IF($G16=\"Non-essential\",0,1)*IF('Assessment Framework'!R16=\"Y\",1,0)","v":0},{"$f":"IF($G16=\"Non-essential\",0,1)*IF('Assessment Framework'!S16=\"Y\",1,0)","v":0},{"$f":"IF($G16=\"Non-essential\",0,1)*IF('Assessment Framework'!T16=\"Y\",1,0)","v":0},{"$f":"IF($G16=\"Non-essential\",0,1)*IF('Assessment Framework'!U16=\"Y\",1,0)","v":0},{"$f":"IF($G16=\"Non-essential\",0,1)*IF('Assessment Framework'!V16=\"Y\",1,0)","v":0},{"$f":"IF($G16=\"Non-essential\",0,1)*IF('Assessment Framework'!W16=\"Y\",1,0)","v":0},{"$f":"IF($G16=\"Non-essential\",0,1)*IF('Assessment Framework'!X16=\"Y\",1,0)","v":0},{"$f":"IF($G16=\"Non-essential\",0,1)*IF('Assessment Framework'!Y16=\"Y\",1,0)","v":0},{"$f":"IF($G16=\"Non-essential\",0,1)*IF('Assessment Framework'!Z16=\"Y\",1,0)","v":0},{"$f":"IF($G16=\"Non-essential\",0,1)*IF('Assessment Framework'!AA16=\"Y\",1,0)","v":0},{"$f":"IF($G16=\"Non-essential\",0,1)*IF('Assessment Framework'!AB16=\"Y\",1,0)","v":0},{"$f":"IF($G16=\"Non-essential\",0,1)*IF('Assessment Framework'!AC16=\"Y\",1,0)","v":0},{"$f":"IF($G16=\"Non-essential\",0,1)*IF('Assessment Framework'!AD16=\"Y\",1,0)","v":0},{"$f":"IF($G16=\"Non-essential\",0,1)*IF('Assessment Framework'!AE16=\"Y\",1,0)","v":0},{"$f":"IF($G16=\"Non-essential\",0,1)*IF('Assessment Framework'!AF16=\"Y\",1,0)","v":0},{"$f":"IF($G16=\"Non-essential\",0,1)*IF('Assessment Framework'!AG16=\"Y\",1,0)","v":0},{"$f":"IF($G16=\"Non-essential\",0,1)*IF('Assessment Framework'!AH16=\"Y\",1,0)","v":0},{"$f":"IF($G16=\"Non-essential\",0,1)*IF('Assessment Framework'!AI16=\"Y\",1,0)","v":0},{"$f":"IF($G16=\"Non-essential\",0,1)*IF('Assessment Framework'!AJ16=\"Y\",1,0)","v":0},{"$f":"IF($G16=\"Non-essential\",0,1)*IF('Assessment Framework'!AK16=\"Y\",1,0)","v":0},{"$f":"IF($G16=\"Non-essential\",0,1)*IF('Assessment Framework'!AL16=\"Y\",1,0)","v":0},{"$f":"IF($G16=\"Non-essential\",0,1)*IF('Assessment Framework'!AM16=\"Y\",1,0)","v":0},{"$f":"IF($G16=\"Non-essential\",0,1)*IF('Assessment Framework'!AN16=\"Y\",1,0)","v":0},{"$f":"IF($G16=\"Non-essential\",0,1)*IF('Assessment Framework'!AO16=\"Y\",1,0)","v":0},{"$f":"IF($G16=\"Non-essential\",0,1)*IF('Assessment Framework'!AP16=\"Y\",1,0)","v":0},{"$f":"IF($G16=\"Non-essential\",0,1)*IF('Assessment Framework'!AQ16=\"Y\",1,0)","v":0},{"$f":"IF($G16=\"Non-essential\",0,1)*IF('Assessment Framework'!AR16=\"Y\",1,0)","v":0},{"$f":"IF($G16=\"Non-essential\",0,1)*IF('Assessment Framework'!AS16=\"Y\",1,0)","v":0},{"$f":"IF($G16=\"Non-essential\",0,1)*IF('Assessment Framework'!AT16=\"Y\",1,0)","v":0},{"$f":"IF($G16=\"Non-essential\",0,1)*IF('Assessment Framework'!AU16=\"Y\",1,0)","v":0},{"$f":"IF($G16=\"Non-essential\",0,1)*IF('Assessment Framework'!AV16=\"Y\",1,0)","v":0},{"$f":"IF($G16=\"Non-essential\",0,1)*IF('Assessment Framework'!AW16=\"Y\",1,0)","v":0},{"$f":"IF($G16=\"Non-essential\",0,1)*IF('Assessment Framework'!AX16=\"Y\",1,0)","v":0},{"$f":"IF($G16=\"Non-essential\",0,1)*IF('Assessment Framework'!AY16=\"Y\",1,0)","v":0},{"$f":"IF($G16=\"Non-essential\",0,1)*IF('Assessment Framework'!AZ16=\"Y\",1,0)","v":0},{"$f":"IF($G16=\"Non-essential\",0,1)*IF('Assessment Framework'!BA16=\"Y\",1,0)","v":0},{"$f":"IF($G16=\"Non-essential\",0,1)*IF('Assessment Framework'!BB16=\"Y\",1,0)","v":0},{"$f":"IF($G16=\"Non-essential\",0,1)*IF('Assessment Framework'!BC16=\"Y\",1,0)","v":0},{"$f":"IF($G16=\"Non-essential\",0,1)*IF('Assessment Framework'!BD16=\"Y\",1,0)","v":0},{"$f":"IF($G16=\"Non-essential\",0,1)*IF('Assessment Framework'!BE16=\"Y\",1,0)","v":0},{"$f":"IF($G16=\"Non-essential\",0,1)*IF('Assessment Framework'!BF16=\"Y\",1,0)","v":0},{"$f":"IF($G16=\"Non-essential\",0,1)*IF('Assessment Framework'!BG16=\"Y\",1,0)","v":0},{"$f":"IF($G16=\"Non-essential\",0,1)*IF('Assessment Framework'!BH16=\"Y\",1,0)","v":0},{"$f":"IF($G16=\"Non-essential\",0,1)*IF('Assessment Framework'!BI16=\"Y\",1,0)","v":0},{"$f":"IF($G16=\"Non-essential\",0,1)*IF('Assessment Framework'!BJ16=\"Y\",1,0)","v":0},{"$f":"IF($G16=\"Non-essential\",0,1)*IF('Assessment Framework'!BK16=\"Y\",1,0)","v":0},{"$f":"IF($G16=\"Non-essential\",0,1)*IF('Assessment Framework'!BL16=\"Y\",1,0)","v":0},{"$f":"IF($G16=\"Non-essential\",0,1)*IF('Assessment Framework'!BM16=\"Y\",1,0)","v":0},{"$f":"IF($G16=\"Non-essential\",0,1)*IF('Assessment Framework'!BN16=\"Y\",1,0)","v":0},{"$f":"IF($G16=\"Non-essential\",0,1)*IF('Assessment Framework'!BO16=\"Y\",1,0)","v":0},{"$f":"IF($G16=\"Non-essential\",0,1)*IF('Assessment Framework'!BP16=\"Y\",1,0)","v":0},{"$f":"IF($G16=\"Non-essential\",0,1)*IF('Assessment Framework'!BQ16=\"Y\",1,0)","v":0},{"$f":"IF($G16=\"Non-essential\",0,1)*IF('Assessment Framework'!BR16=\"Y\",1,0)","v":0},{"$f":"IF($G16=\"Non-essential\",0,1)*IF('Assessment Framework'!BS16=\"Y\",1,0)","v":0},{"$f":"IF($G16=\"Non-essential\",0,1)*IF('Assessment Framework'!BT16=\"Y\",1,0)","v":0},{"$f":"IF($G16=\"Non-essential\",0,1)*IF('Assessment Framework'!BU16=\"Y\",1,0)","v":0},{"$f":"IF($G16=\"Non-essential\",0,1)*IF('Assessment Framework'!BV16=\"Y\",1,0)","v":0},{"$f":"IF($G16=\"Non-essential\",0,1)*IF('Assessment Framework'!BW16=\"Y\",1,0)","v":0},{"$f":"IF($G16=\"Non-essential\",0,1)*IF('Assessment Framework'!BX16=\"Y\",1,0)","v":0},{"$f":"IF($G16=\"Non-essential\",0,1)*IF('Assessment Framework'!BY16=\"Y\",1,0)","v":0},{"$f":"IF($G16=\"Non-essential\",0,1)*IF('Assessment Framework'!BZ16=\"Y\",1,0)","v":0},{"$f":"IF($G16=\"Non-essential\",0,1)*IF('Assessment Framework'!CA16=\"Y\",1,0)","v":0},{"$f":"IF($G16=\"Non-essential\",0,1)*IF('Assessment Framework'!CB16=\"Y\",1,0)","v":0},{"$f":"IF($G16=\"Non-essential\",0,1)*IF('Assessment Framework'!CC16=\"Y\",1,0)","v":0},{"$f":"IF($G16=\"Non-essential\",0,1)*IF('Assessment Framework'!CD16=\"Y\",1,0)","v":0},{"$f":"IF($G16=\"Non-essential\",0,1)*IF('Assessment Framework'!CE16=\"Y\",1,0)","v":0},{"$f":"IF($G16=\"Non-essential\",0,1)*IF('Assessment Framework'!CF16=\"Y\",1,0)","v":0},{"$f":"IF($G16=\"Non-essential\",0,1)*IF('Assessment Framework'!CG16=\"Y\",1,0)","v":0},{"$f":"IF($G16=\"Non-essential\",0,1)*IF('Assessment Framework'!CH16=\"Y\",1,0)","v":0},{"$f":"IF($G16=\"Non-essential\",0,1)*IF('Assessment Framework'!CI16=\"Y\",1,0)","v":0},{"$f":"IF($G16=\"Non-essential\",0,1)*IF('Assessment Framework'!CJ16=\"Y\",1,0)","v":0},{"$f":"IF($G16=\"Non-essential\",0,1)*IF('Assessment Framework'!CK16=\"Y\",1,0)","v":0},{"$f":"IF($G16=\"Non-essential\",0,1)*IF('Assessment Framework'!CL16=\"Y\",1,0)","v":0},{"$f":"IF($G16=\"Non-essential\",0,1)*IF('Assessment Framework'!CM16=\"Y\",1,0)","v":0}]
[null,null,null,"Municipal","Can be applied to a municipality or local authority","Y,N",{"$f":"IF('A - Policy objectives'!C17=\"\",\"Non-essential\",'A - Policy objectives'!C17)","v":"Non-essential"},{"$f":"IF($G17=\"Non-essential\",0,1)*IF('Assessment Framework'!G17=\"Y\",1,0)","v":0},{"$f":"IF($G17=\"Non-essential\",0,1)*IF('Assessment Framework'!H17=\"Y\",1,0)","v":0},{"$f":"IF($G17=\"Non-essential\",0,1)*IF('Assessment Framework'!I17=\"Y\",1,0)","v":0},{"$f":"IF($G17=\"Non-essential\",0,1)*IF('Assessment Framework'!J17=\"Y\",1,0)","v":0},{"$f":"IF($G17=\"Non-essential\",0,1)*IF('Assessment Framework'!K17=\"Y\",1,0)","v":0},{"$f":"IF($G17=\"Non-essential\",0,1)*IF('Assessment Framework'!L17=\"Y\",1,0)","v":0},{"$f":"IF($G17=\"Non-essential\",0,1)*IF('Assessment Framework'!M17=\"Y\",1,0)","v":0},{"$f":"IF($G17=\"Non-essential\",0,1)*IF('Assessment Framework'!N17=\"Y\",1,0)","v":0},{"$f":"IF($G17=\"Non-essential\",0,1)*IF('Assessment Framework'!O17=\"Y\",1,0)","v":0},{"$f":"IF($G17=\"Non-essential\",0,1)*IF('Assessment Framework'!P17=\"Y\",1,0)","v":0},{"$f":"IF($G17=\"Non-essential\",0,1)*IF('Assessment Framework'!Q17=\"Y\",1,0)","v":0},{"$f":"IF($G17=\"Non-essential\",0,1)*IF('Assessment Framework'!R17=\"Y\",1,0)","v":0},{"$f":"IF($G17=\"Non-essential\",0,1)*IF('Assessment Framework'!S17=\"Y\",1,0)","v":0},{"$f":"IF($G17=\"Non-essential\",0,1)*IF('Assessment Framework'!T17=\"Y\",1,0)","v":0},{"$f":"IF($G17=\"Non-essential\",0,1)*IF('Assessment Framework'!U17=\"Y\",1,0)","v":0},{"$f":"IF($G17=\"Non-essential\",0,1)*IF('Assessment Framework'!V17=\"Y\",1,0)","v":0},{"$f":"IF($G17=\"Non-essential\",0,1)*IF('Assessment Framework'!W17=\"Y\",1,0)","v":0},{"$f":"IF($G17=\"Non-essential\",0,1)*IF('Assessment Framework'!X17=\"Y\",1,0)","v":0},{"$f":"IF($G17=\"Non-essential\",0,1)*IF('Assessment Framework'!Y17=\"Y\",1,0)","v":0},{"$f":"IF($G17=\"Non-essential\",0,1)*IF('Assessment Framework'!Z17=\"Y\",1,0)","v":0},{"$f":"IF($G17=\"Non-essential\",0,1)*IF('Assessment Framework'!AA17=\"Y\",1,0)","v":0},{"$f":"IF($G17=\"Non-essential\",0,1)*IF('Assessment Framework'!AB17=\"Y\",1,0)","v":0},{"$f":"IF($G17=\"Non-essential\",0,1)*IF('Assessment Framework'!AC17=\"Y\",1,0)","v":0},{"$f":"IF($G17=\"Non-essential\",0,1)*IF('Assessment Framework'!AD17=\"Y\",1,0)","v":0},{"$f":"IF($G17=\"Non-essential\",0,1)*IF('Assessment Framework'!AE17=\"Y\",1,0)","v":0},{"$f":"IF($G17=\"Non-essential\",0,1)*IF('Assessment Framework'!AF17=\"Y\",1,0)","v":0},{"$f":"IF($G17=\"Non-essential\",0,1)*IF('Assessment Framework'!AG17=\"Y\",1,0)","v":0},{"$f":"IF($G17=\"Non-essential\",0,1)*IF('Assessment Framework'!AH17=\"Y\",1,0)","v":0},{"$f":"IF($G17=\"Non-essential\",0,1)*IF('Assessment Framework'!AI17=\"Y\",1,0)","v":0},{"$f":"IF($G17=\"Non-essential\",0,1)*IF('Assessment Framework'!AJ17=\"Y\",1,0)","v":0},{"$f":"IF($G17=\"Non-essential\",0,1)*IF('Assessment Framework'!AK17=\"Y\",1,0)","v":0},{"$f":"IF($G17=\"Non-essential\",0,1)*IF('Assessment Framework'!AL17=\"Y\",1,0)","v":0},{"$f":"IF($G17=\"Non-essential\",0,1)*IF('Assessment Framework'!AM17=\"Y\",1,0)","v":0},{"$f":"IF($G17=\"Non-essential\",0,1)*IF('Assessment Framework'!AN17=\"Y\",1,0)","v":0},{"$f":"IF($G17=\"Non-essential\",0,1)*IF('Assessment Framework'!AO17=\"Y\",1,0)","v":0},{"$f":"IF($G17=\"Non-essential\",0,1)*IF('Assessment Framework'!AP17=\"Y\",1,0)","v":0},{"$f":"IF($G17=\"Non-essential\",0,1)*IF('Assessment Framework'!AQ17=\"Y\",1,0)","v":0},{"$f":"IF($G17=\"Non-essential\",0,1)*IF('Assessment Framework'!AR17=\"Y\",1,0)","v":0},{"$f":"IF($G17=\"Non-essential\",0,1)*IF('Assessment Framework'!AS17=\"Y\",1,0)","v":0},{"$f":"IF($G17=\"Non-essential\",0,1)*IF('Assessment Framework'!AT17=\"Y\",1,0)","v":0},{"$f":"IF($G17=\"Non-essential\",0,1)*IF('Assessment Framework'!AU17=\"Y\",1,0)","v":0},{"$f":"IF($G17=\"Non-essential\",0,1)*IF('Assessment Framework'!AV17=\"Y\",1,0)","v":0},{"$f":"IF($G17=\"Non-essential\",0,1)*IF('Assessment Framework'!AW17=\"Y\",1,0)","v":0},{"$f":"IF($G17=\"Non-essential\",0,1)*IF('Assessment Framework'!AX17=\"Y\",1,0)","v":0},{"$f":"IF($G17=\"Non-essential\",0,1)*IF('Assessment Framework'!AY17=\"Y\",1,0)","v":0},{"$f":"IF($G17=\"Non-essential\",0,1)*IF('Assessment Framework'!AZ17=\"Y\",1,0)","v":0},{"$f":"IF($G17=\"Non-essential\",0,1)*IF('Assessment Framework'!BA17=\"Y\",1,0)","v":0},{"$f":"IF($G17=\"Non-essential\",0,1)*IF('Assessment Framework'!BB17=\"Y\",1,0)","v":0},{"$f":"IF($G17=\"Non-essential\",0,1)*IF('Assessment Framework'!BC17=\"Y\",1,0)","v":0},{"$f":"IF($G17=\"Non-essential\",0,1)*IF('Assessment Framework'!BD17=\"Y\",1,0)","v":0},{"$f":"IF($G17=\"Non-essential\",0,1)*IF('Assessment Framework'!BE17=\"Y\",1,0)","v":0},{"$f":"IF($G17=\"Non-essential\",0,1)*IF('Assessment Framework'!BF17=\"Y\",1,0)","v":0},{"$f":"IF($G17=\"Non-essential\",0,1)*IF('Assessment Framework'!BG17=\"Y\",1,0)","v":0},{"$f":"IF($G17=\"Non-essential\",0,1)*IF('Assessment Framework'!BH17=\"Y\",1,0)","v":0},{"$f":"IF($G17=\"Non-essential\",0,1)*IF('Assessment Framework'!BI17=\"Y\",1,0)","v":0},{"$f":"IF($G17=\"Non-essential\",0,1)*IF('Assessment Framework'!BJ17=\"Y\",1,0)","v":0},{"$f":"IF($G17=\"Non-essential\",0,1)*IF('Assessment Framework'!BK17=\"Y\",1,0)","v":0},{"$f":"IF($G17=\"Non-essential\",0,1)*IF('Assessment Framework'!BL17=\"Y\",1,0)","v":0},{"$f":"IF($G17=\"Non-essential\",0,1)*IF('Assessment Framework'!BM17=\"Y\",1,0)","v":0},{"$f":"IF($G17=\"Non-essential\",0,1)*IF('Assessment Framework'!BN17=\"Y\",1,0)","v":0},{"$f":"IF($G17=\"Non-essential\",0,1)*IF('Assessment Framework'!BO17=\"Y\",1,0)","v":0},{"$f":"IF($G17=\"Non-essential\",0,1)*IF('Assessment Framework'!BP17=\"Y\",1,0)","v":0},{"$f":"IF($G17=\"Non-essential\",0,1)*IF('Assessment Framework'!BQ17=\"Y\",1,0)","v":0},{"$f":"IF($G17=\"Non-essential\",0,1)*IF('Assessment Framework'!BR17=\"Y\",1,0)","v":0},{"$f":"IF($G17=\"Non-essential\",0,1)*IF('Assessment Framework'!BS17=\"Y\",1,0)","v":0},{"$f":"IF($G17=\"Non-essential\",0,1)*IF('Assessment Framework'!BT17=\"Y\",1,0)","v":0},{"$f":"IF($G17=\"Non-essential\",0,1)*IF('Assessment Framework'!BU17=\"Y\",1,0)","v":0},{"$f":"IF($G17=\"Non-essential\",0,1)*IF('Assessment Framework'!BV17=\"Y\",1,0)","v":0},{"$f":"IF($G17=\"Non-essential\",0,1)*IF('Assessment Framework'!BW17=\"Y\",1,0)","v":0},{"$f":"IF($G17=\"Non-essential\",0,1)*IF('Assessment Framework'!BX17=\"Y\",1,0)","v":0},{"$f":"IF($G17=\"Non-essential\",0,1)*IF('Assessment Framework'!BY17=\"Y\",1,0)","v":0},{"$f":"IF($G17=\"Non-essential\",0,1)*IF('Assessment Framework'!BZ17=\"Y\",1,0)","v":0},{"$f":"IF($G17=\"Non-essential\",0,1)*IF('Assessment Framework'!CA17=\"Y\",1,0)","v":0},{"$f":"IF($G17=\"Non-essential\",0,1)*IF('Assessment Framework'!CB17=\"Y\",1,0)","v":0},{"$f":"IF($G17=\"Non-essential\",0,1)*IF('Assessment Framework'!CC17=\"Y\",1,0)","v":0},{"$f":"IF($G17=\"Non-essential\",0,1)*IF('Assessment Framework'!CD17=\"Y\",1,0)","v":0},{"$f":"IF($G17=\"Non-essential\",0,1)*IF('Assessment Framework'!CE17=\"Y\",1,0)","v":0},{"$f":"IF($G17=\"Non-essential\",0,1)*IF('Assessment Framework'!CF17=\"Y\",1,0)","v":0},{"$f":"IF($G17=\"Non-essential\",0,1)*IF('Assessment Framework'!CG17=\"Y\",1,0)","v":0},{"$f":"IF($G17=\"Non-essential\",0,1)*IF('Assessment Framework'!CH17=\"Y\",1,0)","v":0},{"$f":"IF($G17=\"Non-essential\",0,1)*IF('Assessment Framework'!CI17=\"Y\",1,0)","v":0},{"$f":"IF($G17=\"Non-essential\",0,1)*IF('Assessment Framework'!CJ17=\"Y\",1,0)","v":0},{"$f":"IF($G17=\"Non-essential\",0,1)*IF('Assessment Framework'!CK17=\"Y\",1,0)","v":0},{"$f":"IF($G17=\"Non-essential\",0,1)*IF('Assessment Framework'!CL17=\"Y\",1,0)","v":0},{"$f":"IF($G17=\"Non-essential\",0,1)*IF('Assessment Framework'!CM17=\"Y\",1,0)","v":0}]
[null,null,null,"Sub-municipal (local)","Can be applied to a local area smaller than a municipality e.g. a neighbourhood.","Y,N",{"$f":"IF('A - Policy objectives'!C18=\"\",\"Non-essential\",'A - Policy objectives'!C18)","v":"Non-essential"},{"$f":"IF($G18=\"Non-essential\",0,1)*IF('Assessment Framework'!G18=\"Y\",1,0)","v":0},{"$f":"IF($G18=\"Non-essential\",0,1)*IF('Assessment Framework'!H18=\"Y\",1,0)","v":0},{"$f":"IF($G18=\"Non-essential\",0,1)*IF('Assessment Framework'!I18=\"Y\",1,0)","v":0},{"$f":"IF($G18=\"Non-essential\",0,1)*IF('Assessment Framework'!J18=\"Y\",1,0)","v":0},{"$f":"IF($G18=\"Non-essential\",0,1)*IF('Assessment Framework'!K18=\"Y\",1,0)","v":0},{"$f":"IF($G18=\"Non-essential\",0,1)*IF('Assessment Framework'!L18=\"Y\",1,0)","v":0},{"$f":"IF($G18=\"Non-essential\",0,1)*IF('Assessment Framework'!M18=\"Y\",1,0)","v":0},{"$f":"IF($G18=\"Non-essential\",0,1)*IF('Assessment Framework'!N18=\"Y\",1,0)","v":0},{"$f":"IF($G18=\"Non-essential\",0,1)*IF('Assessment Framework'!O18=\"Y\",1,0)","v":0},{"$f":"IF($G18=\"Non-essential\",0,1)*IF('Assessment Framework'!P18=\"Y\",1,0)","v":0},{"$f":"IF($G18=\"Non-essential\",0,1)*IF('Assessment Framework'!Q18=\"Y\",1,0)","v":0},{"$f":"IF($G18=\"Non-essential\",0,1)*IF('Assessment Framework'!R18=\"Y\",1,0)","v":0},{"$f":"IF($G18=\"Non-essential\",0,1)*IF('Assessment Framework'!S18=\"Y\",1,0)","v":0},{"$f":"IF($G18=\"Non-essential\",0,1)*IF('Assessment Framework'!T18=\"Y\",1,0)","v":0},{"$f":"IF($G18=\"Non-essential\",0,1)*IF('Assessment Framework'!U18=\"Y\",1,0)","v":0},{"$f":"IF($G18=\"Non-essential\",0,1)*IF('Assessment Framework'!V18=\"Y\",1,0)","v":0},{"$f":"IF($G18=\"Non-essential\",0,1)*IF('Assessment Framework'!W18=\"Y\",1,0)","v":0},{"$f":"IF($G18=\"Non-essential\",0,1)*IF('Assessment Framework'!X18=\"Y\",1,0)","v":0},{"$f":"IF($G18=\"Non-essential\",0,1)*IF('Assessment Framework'!Y18=\"Y\",1,0)","v":0},{"$f":"IF($G18=\"Non-essential\",0,1)*IF('Assessment Framework'!Z18=\"Y\",1,0)","v":0},{"$f":"IF($G18=\"Non-essential\",0,1)*IF('Assessment Framework'!AA18=\"Y\",1,0)","v":0},{"$f":"IF($G18=\"Non-essential\",0,1)*IF('Assessment Framework'!AB18=\"Y\",1,0)","v":0},{"$f":"IF($G18=\"Non-essential\",0,1)*IF('Assessment Framework'!AC18=\"Y\",1,0)","v":0},{"$f":"IF($G18=\"Non-essential\",0,1)*IF('Assessment Framework'!AD18=\"Y\",1,0)","v":0},{"$f":"IF($G18=\"Non-essential\",0,1)*IF('Assessment Framework'!AE18=\"Y\",1,0)","v":0},{"$f":"IF($G18=\"Non-essential\",0,1)*IF('Assessment Framework'!AF18=\"Y\",1,0)","v":0},{"$f":"IF($G18=\"Non-essential\",0,1)*IF('Assessment Framework'!AG18=\"Y\",1,0)","v":0},{"$f":"IF($G18=\"Non-essential\",0,1)*IF('Assessment Framework'!AH18=\"Y\",1,0)","v":0},{"$f":"IF($G18=\"Non-essential\",0,1)*IF('Assessment Framework'!AI18=\"Y\",1,0)","v":0},{"$f":"IF($G18=\"Non-essential\",0,1)*IF('Assessment Framework'!AJ18=\"Y\",1,0)","v":0},{"$f":"IF($G18=\"Non-essential\",0,1)*IF('Assessment Framework'!AK18=\"Y\",1,0)","v":0},{"$f":"IF($G18=\"Non-essential\",0,1)*IF('Assessment Framework'!AL18=\"Y\",1,0)","v":0},{"$f":"IF($G18=\"Non-essential\",0,1)*IF('Assessment Framework'!AM18=\"Y\",1,0)","v":0},{"$f":"IF($G18=\"Non-essential\",0,1)*IF('Assessment Framework'!AN18=\"Y\",1,0)","v":0},{"$f":"IF($G18=\"Non-essential\",0,1)*IF('Assessment Framework'!AO18=\"Y\",1,0)","v":0},{"$f":"IF($G18=\"Non-essential\",0,1)*IF('Assessment Framework'!AP18=\"Y\",1,0)","v":0},{"$f":"IF($G18=\"Non-essential\",0,1)*IF('Assessment Framework'!AQ18=\"Y\",1,0)","v":0},{"$f":"IF($G18=\"Non-essential\",0,1)*IF('Assessment Framework'!AR18=\"Y\",1,0)","v":0},{"$f":"IF($G18=\"Non-essential\",0,1)*IF('Assessment Framework'!AS18=\"Y\",1,0)","v":0},{"$f":"IF($G18=\"Non-essential\",0,1)*IF('Assessment Framework'!AT18=\"Y\",1,0)","v":0},{"$f":"IF($G18=\"Non-essential\",0,1)*IF('Assessment Framework'!AU18=\"Y\",1,0)","v":0},{"$f":"IF($G18=\"Non-essential\",0,1)*IF('Assessment Framework'!AV18=\"Y\",1,0)","v":0},{"$f":"IF($G18=\"Non-essential\",0,1)*IF('Assessment Framework'!AW18=\"Y\",1,0)","v":0},{"$f":"IF($G18=\"Non-essential\",0,1)*IF('Assessment Framework'!AX18=\"Y\",1,0)","v":0},{"$f":"IF($G18=\"Non-essential\",0,1)*IF('Assessment Framework'!AY18=\"Y\",1,0)","v":0},{"$f":"IF($G18=\"Non-essential\",0,1)*IF('Assessment Framework'!AZ18=\"Y\",1,0)","v":0},{"$f":"IF($G18=\"Non-essential\",0,1)*IF('Assessment Framework'!BA18=\"Y\",1,0)","v":0},{"$f":"IF($G18=\"Non-essential\",0,1)*IF('Assessment Framework'!BB18=\"Y\",1,0)","v":0},{"$f":"IF($G18=\"Non-essential\",0,1)*IF('Assessment Framework'!BC18=\"Y\",1,0)","v":0},{"$f":"IF($G18=\"Non-essential\",0,1)*IF('Assessment Framework'!BD18=\"Y\",1,0)","v":0},{"$f":"IF($G18=\"Non-essential\",0,1)*IF('Assessment Framework'!BE18=\"Y\",1,0)","v":0},{"$f":"IF($G18=\"Non-essential\",0,1)*IF('Assessment Framework'!BF18=\"Y\",1,0)","v":0},{"$f":"IF($G18=\"Non-essential\",0,1)*IF('Assessment Framework'!BG18=\"Y\",1,0)","v":0},{"$f":"IF($G18=\"Non-essential\",0,1)*IF('Assessment Framework'!BH18=\"Y\",1,0)","v":0},{"$f":"IF($G18=\"Non-essential\",0,1)*IF('Assessment Framework'!BI18=\"Y\",1,0)","v":0},{"$f":"IF($G18=\"Non-essential\",0,1)*IF('Assessment Framework'!BJ18=\"Y\",1,0)","v":0},{"$f":"IF($G18=\"Non-essential\",0,1)*IF('Assessment Framework'!BK18=\"Y\",1,0)","v":0},{"$f":"IF($G18=\"Non-essential\",0,1)*IF('Assessment Framework'!BL18=\"Y\",1,0)","v":0},{"$f":"IF($G18=\"Non-essential\",0,1)*IF('Assessment Framework'!BM18=\"Y\",1,0)","v":0},{"$f":"IF($G18=\"Non-essential\",0,1)*IF('Assessment Framework'!BN18=\"Y\",1,0)","v":0},{"$f":"IF($G18=\"Non-essential\",0,1)*IF('Assessment Framework'!BO18=\"Y\",1,0)","v":0},{"$f":"IF($G18=\"Non-essential\",0,1)*IF('Assessment Framework'!BP18=\"Y\",1,0)","v":0},{"$f":"IF($G18=\"Non-essential\",0,1)*IF('Assessment Framework'!BQ18=\"Y\",1,0)","v":0},{"$f":"IF($G18=\"Non-essential\",0,1)*IF('Assessment Framework'!BR18=\"Y\",1,0)","v":0},{"$f":"IF($G18=\"Non-essential\",0,1)*IF('Assessment Framework'!BS18=\"Y\",1,0)","v":0},{"$f":"IF($G18=\"Non-essential\",0,1)*IF('Assessment Framework'!BT18=\"Y\",1,0)","v":0},{"$f":"IF($G18=\"Non-essential\",0,1)*IF('Assessment Framework'!BU18=\"Y\",1,0)","v":0},{"$f":"IF($G18=\"Non-essential\",0,1)*IF('Assessment Framework'!BV18=\"Y\",1,0)","v":0},{"$f":"IF($G18=\"Non-essential\",0,1)*IF('Assessment Framework'!BW18=\"Y\",1,0)","v":0},{"$f":"IF($G18=\"Non-essential\",0,1)*IF('Assessment Framework'!BX18=\"Y\",1,0)","v":0},{"$f":"IF($G18=\"Non-essential\",0,1)*IF('Assessment Framework'!BY18=\"Y\",1,0)","v":0},{"$f":"IF($G18=\"Non-essential\",0,1)*IF('Assessment Framework'!BZ18=\"Y\",1,0)","v":0},{"$f":"IF($G18=\"Non-essential\",0,1)*IF('Assessment Framework'!CA18=\"Y\",1,0)","v":0},{"$f":"IF($G18=\"Non-essential\",0,1)*IF('Assessment Framework'!CB18=\"Y\",1,0)","v":0},{"$f":"IF($G18=\"Non-essential\",0,1)*IF('Assessment Framework'!CC18=\"Y\",1,0)","v":0},{"$f":"IF($G18=\"Non-essential\",0,1)*IF('Assessment Framework'!CD18=\"Y\",1,0)","v":0},{"$f":"IF($G18=\"Non-essential\",0,1)*IF('Assessment Framework'!CE18=\"Y\",1,0)","v":0},{"$f":"IF($G18=\"Non-essential\",0,1)*IF('Assessment Framework'!CF18=\"Y\",1,0)","v":0},{"$f":"IF($G18=\"Non-essential\",0,1)*IF('Assessment Framework'!CG18=\"Y\",1,0)","v":0},{"$f":"IF($G18=\"Non-essential\",0,1)*IF('Assessment Framework'!CH18=\"Y\",1,0)","v":0},{"$f":"IF($G18=\"Non-essential\",0,1)*IF('Assessment Framework'!CI18=\"Y\",1,0)","v":0},{"$f":"IF($G18=\"Non-essential\",0,1)*IF('Assessment Framework'!CJ18=\"Y\",1,0)","v":0},{"$f":"IF($G18=\"Non-essential\",0,1)*IF('Assessment Framework'!CK18=\"Y\",1,0)","v":0},{"$f":"IF($G18=\"Non-essential\",0,1)*IF('Assessment Framework'!CL18=\"Y\",1,0)","v":0},{"$f":"IF($G18=\"Non-essential\",0,1)*IF('Assessment Framework'!CM18=\"Y\",1,0)","v":0}]
[null,"Assessment scope","The assessment scope relates the component of plastic pollution that the user is most interested in understanding.  The framework informs on whether the assessment methodology can help the user understand this aspect of plastic pollution.","Pre-leakage / upstream","Plastic prior to its emission into the environment, e.g. production, imports / exports, waste generation, recycling, waste management. ","Y,N",{"$f":"IF('A - Policy objectives'!C21=\"\",\"Non-essential\",'A - Policy objectives'!C21)","v":"Non-essential"},{"$f":"IF($G19=\"Non-essential\",0,1)*IF('Assessment Framework'!G19=\"Y\",1,0)","v":0},{"$f":"IF($G19=\"Non-essential\",0,1)*IF('Assessment Framework'!H19=\"Y\",1,0)","v":0},{"$f":"IF($G19=\"Non-essential\",0,1)*IF('Assessment Framework'!I19=\"Y\",1,0)","v":0},{"$f":"IF($G19=\"Non-essential\",0,1)*IF('Assessment Framework'!J19=\"Y\",1,0)","v":0},{"$f":"IF($G19=\"Non-essential\",0,1)*IF('Assessment Framework'!K19=\"Y\",1,0)","v":0},{"$f":"IF($G19=\"Non-essential\",0,1)*IF('Assessment Framework'!L19=\"Y\",1,0)","v":0},{"$f":"IF($G19=\"Non-essential\",0,1)*IF('Assessment Framework'!M19=\"Y\",1,0)","v":0},{"$f":"IF($G19=\"Non-essential\",0,1)*IF('Assessment Framework'!N19=\"Y\",1,0)","v":0},{"$f":"IF($G19=\"Non-essential\",0,1)*IF('Assessment Framework'!O19=\"Y\",1,0)","v":0},{"$f":"IF($G19=\"Non-essential\",0,1)*IF('Assessment Framework'!P19=\"Y\",1,0)","v":0},{"$f":"IF($G19=\"Non-essential\",0,1)*IF('Assessment Framework'!Q19=\"Y\",1,0)","v":0},{"$f":"IF($G19=\"Non-essential\",0,1)*IF('Assessment Framework'!R19=\"Y\",1,0)","v":0},{"$f":"IF($G19=\"Non-essential\",0,1)*IF('Assessment Framework'!S19=\"Y\",1,0)","v":0},{"$f":"IF($G19=\"Non-essential\",0,1)*IF('Assessment Framework'!T19=\"Y\",1,0)","v":0},{"$f":"IF($G19=\"Non-essential\",0,1)*IF('Assessment Framework'!U19=\"Y\",1,0)","v":0},{"$f":"IF($G19=\"Non-essential\",0,1)*IF('Assessment Framework'!V19=\"Y\",1,0)","v":0},{"$f":"IF($G19=\"Non-essential\",0,1)*IF('Assessment Framework'!W19=\"Y\",1,0)","v":0},{"$f":"IF($G19=\"Non-essential\",0,1)*IF('Assessment Framework'!X19=\"Y\",1,0)","v":0},{"$f":"IF($G19=\"Non-essential\",0,1)*IF('Assessment Framework'!Y19=\"Y\",1,0)","v":0},{"$f":"IF($G19=\"Non-essential\",0,1)*IF('Assessment Framework'!Z19=\"Y\",1,0)","v":0},{"$f":"IF($G19=\"Non-essential\",0,1)*IF('Assessment Framework'!AA19=\"Y\",1,0)","v":0},{"$f":"IF($G19=\"Non-essential\",0,1)*IF('Assessment Framework'!AB19=\"Y\",1,0)","v":0},{"$f":"IF($G19=\"Non-essential\",0,1)*IF('Assessment Framework'!AC19=\"Y\",1,0)","v":0},{"$f":"IF($G19=\"Non-essential\",0,1)*IF('Assessment Framework'!AD19=\"Y\",1,0)","v":0},{"$f":"IF($G19=\"Non-essential\",0,1)*IF('Assessment Framework'!AE19=\"Y\",1,0)","v":0},{"$f":"IF($G19=\"Non-essential\",0,1)*IF('Assessment Framework'!AF19=\"Y\",1,0)","v":0},{"$f":"IF($G19=\"Non-essential\",0,1)*IF('Assessment Framework'!AG19=\"Y\",1,0)","v":0},{"$f":"IF($G19=\"Non-essential\",0,1)*IF('Assessment Framework'!AH19=\"Y\",1,0)","v":0},{"$f":"IF($G19=\"Non-essential\",0,1)*IF('Assessment Framework'!AI19=\"Y\",1,0)","v":0},{"$f":"IF($G19=\"Non-essential\",0,1)*IF('Assessment Framework'!AJ19=\"Y\",1,0)","v":0},{"$f":"IF($G19=\"Non-essential\",0,1)*IF('Assessment Framework'!AK19=\"Y\",1,0)","v":0},{"$f":"IF($G19=\"Non-essential\",0,1)*IF('Assessment Framework'!AL19=\"Y\",1,0)","v":0},{"$f":"IF($G19=\"Non-essential\",0,1)*IF('Assessment Framework'!AM19=\"Y\",1,0)","v":0},{"$f":"IF($G19=\"Non-essential\",0,1)*IF('Assessment Framework'!AN19=\"Y\",1,0)","v":0},{"$f":"IF($G19=\"Non-essential\",0,1)*IF('Assessment Framework'!AO19=\"Y\",1,0)","v":0},{"$f":"IF($G19=\"Non-essential\",0,1)*IF('Assessment Framework'!AP19=\"Y\",1,0)","v":0},{"$f":"IF($G19=\"Non-essential\",0,1)*IF('Assessment Framework'!AQ19=\"Y\",1,0)","v":0},{"$f":"IF($G19=\"Non-essential\",0,1)*IF('Assessment Framework'!AR19=\"Y\",1,0)","v":0},{"$f":"IF($G19=\"Non-essential\",0,1)*IF('Assessment Framework'!AS19=\"Y\",1,0)","v":0},{"$f":"IF($G19=\"Non-essential\",0,1)*IF('Assessment Framework'!AT19=\"Y\",1,0)","v":0},{"$f":"IF($G19=\"Non-essential\",0,1)*IF('Assessment Framework'!AU19=\"Y\",1,0)","v":0},{"$f":"IF($G19=\"Non-essential\",0,1)*IF('Assessment Framework'!AV19=\"Y\",1,0)","v":0},{"$f":"IF($G19=\"Non-essential\",0,1)*IF('Assessment Framework'!AW19=\"Y\",1,0)","v":0},{"$f":"IF($G19=\"Non-essential\",0,1)*IF('Assessment Framework'!AX19=\"Y\",1,0)","v":0},{"$f":"IF($G19=\"Non-essential\",0,1)*IF('Assessment Framework'!AY19=\"Y\",1,0)","v":0},{"$f":"IF($G19=\"Non-essential\",0,1)*IF('Assessment Framework'!AZ19=\"Y\",1,0)","v":0},{"$f":"IF($G19=\"Non-essential\",0,1)*IF('Assessment Framework'!BA19=\"Y\",1,0)","v":0},{"$f":"IF($G19=\"Non-essential\",0,1)*IF('Assessment Framework'!BB19=\"Y\",1,0)","v":0},{"$f":"IF($G19=\"Non-essential\",0,1)*IF('Assessment Framework'!BC19=\"Y\",1,0)","v":0},{"$f":"IF($G19=\"Non-essential\",0,1)*IF('Assessment Framework'!BD19=\"Y\",1,0)","v":0},{"$f":"IF($G19=\"Non-essential\",0,1)*IF('Assessment Framework'!BE19=\"Y\",1,0)","v":0},{"$f":"IF($G19=\"Non-essential\",0,1)*IF('Assessment Framework'!BF19=\"Y\",1,0)","v":0},{"$f":"IF($G19=\"Non-essential\",0,1)*IF('Assessment Framework'!BG19=\"Y\",1,0)","v":0},{"$f":"IF($G19=\"Non-essential\",0,1)*IF('Assessment Framework'!BH19=\"Y\",1,0)","v":0},{"$f":"IF($G19=\"Non-essential\",0,1)*IF('Assessment Framework'!BI19=\"Y\",1,0)","v":0},{"$f":"IF($G19=\"Non-essential\",0,1)*IF('Assessment Framework'!BJ19=\"Y\",1,0)","v":0},{"$f":"IF($G19=\"Non-essential\",0,1)*IF('Assessment Framework'!BK19=\"Y\",1,0)","v":0},{"$f":"IF($G19=\"Non-essential\",0,1)*IF('Assessment Framework'!BL19=\"Y\",1,0)","v":0},{"$f":"IF($G19=\"Non-essential\",0,1)*IF('Assessment Framework'!BM19=\"Y\",1,0)","v":0},{"$f":"IF($G19=\"Non-essential\",0,1)*IF('Assessment Framework'!BN19=\"Y\",1,0)","v":0},{"$f":"IF($G19=\"Non-essential\",0,1)*IF('Assessment Framework'!BO19=\"Y\",1,0)","v":0},{"$f":"IF($G19=\"Non-essential\",0,1)*IF('Assessment Framework'!BP19=\"Y\",1,0)","v":0},{"$f":"IF($G19=\"Non-essential\",0,1)*IF('Assessment Framework'!BQ19=\"Y\",1,0)","v":0},{"$f":"IF($G19=\"Non-essential\",0,1)*IF('Assessment Framework'!BR19=\"Y\",1,0)","v":0},{"$f":"IF($G19=\"Non-essential\",0,1)*IF('Assessment Framework'!BS19=\"Y\",1,0)","v":0},{"$f":"IF($G19=\"Non-essential\",0,1)*IF('Assessment Framework'!BT19=\"Y\",1,0)","v":0},{"$f":"IF($G19=\"Non-essential\",0,1)*IF('Assessment Framework'!BU19=\"Y\",1,0)","v":0},{"$f":"IF($G19=\"Non-essential\",0,1)*IF('Assessment Framework'!BV19=\"Y\",1,0)","v":0},{"$f":"IF($G19=\"Non-essential\",0,1)*IF('Assessment Framework'!BW19=\"Y\",1,0)","v":0},{"$f":"IF($G19=\"Non-essential\",0,1)*IF('Assessment Framework'!BX19=\"Y\",1,0)","v":0},{"$f":"IF($G19=\"Non-essential\",0,1)*IF('Assessment Framework'!BY19=\"Y\",1,0)","v":0},{"$f":"IF($G19=\"Non-essential\",0,1)*IF('Assessment Framework'!BZ19=\"Y\",1,0)","v":0},{"$f":"IF($G19=\"Non-essential\",0,1)*IF('Assessment Framework'!CA19=\"Y\",1,0)","v":0},{"$f":"IF($G19=\"Non-essential\",0,1)*IF('Assessment Framework'!CB19=\"Y\",1,0)","v":0},{"$f":"IF($G19=\"Non-essential\",0,1)*IF('Assessment Framework'!CC19=\"Y\",1,0)","v":0},{"$f":"IF($G19=\"Non-essential\",0,1)*IF('Assessment Framework'!CD19=\"Y\",1,0)","v":0},{"$f":"IF($G19=\"Non-essential\",0,1)*IF('Assessment Framework'!CE19=\"Y\",1,0)","v":0},{"$f":"IF($G19=\"Non-essential\",0,1)*IF('Assessment Framework'!CF19=\"Y\",1,0)","v":0},{"$f":"IF($G19=\"Non-essential\",0,1)*IF('Assessment Framework'!CG19=\"Y\",1,0)","v":0},{"$f":"IF($G19=\"Non-essential\",0,1)*IF('Assessment Framework'!CH19=\"Y\",1,0)","v":0},{"$f":"IF($G19=\"Non-essential\",0,1)*IF('Assessment Framework'!CI19=\"Y\",1,0)","v":0},{"$f":"IF($G19=\"Non-essential\",0,1)*IF('Assessment Framework'!CJ19=\"Y\",1,0)","v":0},{"$f":"IF($G19=\"Non-essential\",0,1)*IF('Assessment Framework'!CK19=\"Y\",1,0)","v":0},{"$f":"IF($G19=\"Non-essential\",0,1)*IF('Assessment Framework'!CL19=\"Y\",1,0)","v":0},{"$f":"IF($G19=\"Non-essential\",0,1)*IF('Assessment Framework'!CM19=\"Y\",1,0)","v":0}]
[null,null,null,"Point of uncontrolled release into environment (sources)","Plastic at the point of its uncontrolled release (leakage) into the environment. This may be to all environmental compartments, not just marine e.g. littering on land.","Y,N",{"$f":"IF('A - Policy objectives'!C22=\"\",\"Non-essential\",'A - Policy objectives'!C22)","v":"Non-essential"},{"$f":"IF($G20=\"Non-essential\",0,1)*IF('Assessment Framework'!G20=\"Y\",1,0)","v":0},{"$f":"IF($G20=\"Non-essential\",0,1)*IF('Assessment Framework'!H20=\"Y\",1,0)","v":0},{"$f":"IF($G20=\"Non-essential\",0,1)*IF('Assessment Framework'!I20=\"Y\",1,0)","v":0},{"$f":"IF($G20=\"Non-essential\",0,1)*IF('Assessment Framework'!J20=\"Y\",1,0)","v":0},{"$f":"IF($G20=\"Non-essential\",0,1)*IF('Assessment Framework'!K20=\"Y\",1,0)","v":0},{"$f":"IF($G20=\"Non-essential\",0,1)*IF('Assessment Framework'!L20=\"Y\",1,0)","v":0},{"$f":"IF($G20=\"Non-essential\",0,1)*IF('Assessment Framework'!M20=\"Y\",1,0)","v":0},{"$f":"IF($G20=\"Non-essential\",0,1)*IF('Assessment Framework'!N20=\"Y\",1,0)","v":0},{"$f":"IF($G20=\"Non-essential\",0,1)*IF('Assessment Framework'!O20=\"Y\",1,0)","v":0},{"$f":"IF($G20=\"Non-essential\",0,1)*IF('Assessment Framework'!P20=\"Y\",1,0)","v":0},{"$f":"IF($G20=\"Non-essential\",0,1)*IF('Assessment Framework'!Q20=\"Y\",1,0)","v":0},{"$f":"IF($G20=\"Non-essential\",0,1)*IF('Assessment Framework'!R20=\"Y\",1,0)","v":0},{"$f":"IF($G20=\"Non-essential\",0,1)*IF('Assessment Framework'!S20=\"Y\",1,0)","v":0},{"$f":"IF($G20=\"Non-essential\",0,1)*IF('Assessment Framework'!T20=\"Y\",1,0)","v":0},{"$f":"IF($G20=\"Non-essential\",0,1)*IF('Assessment Framework'!U20=\"Y\",1,0)","v":0},{"$f":"IF($G20=\"Non-essential\",0,1)*IF('Assessment Framework'!V20=\"Y\",1,0)","v":0},{"$f":"IF($G20=\"Non-essential\",0,1)*IF('Assessment Framework'!W20=\"Y\",1,0)","v":0},{"$f":"IF($G20=\"Non-essential\",0,1)*IF('Assessment Framework'!X20=\"Y\",1,0)","v":0},{"$f":"IF($G20=\"Non-essential\",0,1)*IF('Assessment Framework'!Y20=\"Y\",1,0)","v":0},{"$f":"IF($G20=\"Non-essential\",0,1)*IF('Assessment Framework'!Z20=\"Y\",1,0)","v":0},{"$f":"IF($G20=\"Non-essential\",0,1)*IF('Assessment Framework'!AA20=\"Y\",1,0)","v":0},{"$f":"IF($G20=\"Non-essential\",0,1)*IF('Assessment Framework'!AB20=\"Y\",1,0)","v":0},{"$f":"IF($G20=\"Non-essential\",0,1)*IF('Assessment Framework'!AC20=\"Y\",1,0)","v":0},{"$f":"IF($G20=\"Non-essential\",0,1)*IF('Assessment Framework'!AD20=\"Y\",1,0)","v":0},{"$f":"IF($G20=\"Non-essential\",0,1)*IF('Assessment Framework'!AE20=\"Y\",1,0)","v":0},{"$f":"IF($G20=\"Non-essential\",0,1)*IF('Assessment Framework'!AF20=\"Y\",1,0)","v":0},{"$f":"IF($G20=\"Non-essential\",0,1)*IF('Assessment Framework'!AG20=\"Y\",1,0)","v":0},{"$f":"IF($G20=\"Non-essential\",0,1)*IF('Assessment Framework'!AH20=\"Y\",1,0)","v":0},{"$f":"IF($G20=\"Non-essential\",0,1)*IF('Assessment Framework'!AI20=\"Y\",1,0)","v":0},{"$f":"IF($G20=\"Non-essential\",0,1)*IF('Assessment Framework'!AJ20=\"Y\",1,0)","v":0},{"$f":"IF($G20=\"Non-essential\",0,1)*IF('Assessment Framework'!AK20=\"Y\",1,0)","v":0},{"$f":"IF($G20=\"Non-essential\",0,1)*IF('Assessment Framework'!AL20=\"Y\",1,0)","v":0},{"$f":"IF($G20=\"Non-essential\",0,1)*IF('Assessment Framework'!AM20=\"Y\",1,0)","v":0},{"$f":"IF($G20=\"Non-essential\",0,1)*IF('Assessment Framework'!AN20=\"Y\",1,0)","v":0},{"$f":"IF($G20=\"Non-essential\",0,1)*IF('Assessment Framework'!AO20=\"Y\",1,0)","v":0},{"$f":"IF($G20=\"Non-essential\",0,1)*IF('Assessment Framework'!AP20=\"Y\",1,0)","v":0},{"$f":"IF($G20=\"Non-essential\",0,1)*IF('Assessment Framework'!AQ20=\"Y\",1,0)","v":0},{"$f":"IF($G20=\"Non-essential\",0,1)*IF('Assessment Framework'!AR20=\"Y\",1,0)","v":0},{"$f":"IF($G20=\"Non-essential\",0,1)*IF('Assessment Framework'!AS20=\"Y\",1,0)","v":0},{"$f":"IF($G20=\"Non-essential\",0,1)*IF('Assessment Framework'!AT20=\"Y\",1,0)","v":0},{"$f":"IF($G20=\"Non-essential\",0,1)*IF('Assessment Framework'!AU20=\"Y\",1,0)","v":0},{"$f":"IF($G20=\"Non-essential\",0,1)*IF('Assessment Framework'!AV20=\"Y\",1,0)","v":0},{"$f":"IF($G20=\"Non-essential\",0,1)*IF('Assessment Framework'!AW20=\"Y\",1,0)","v":0},{"$f":"IF($G20=\"Non-essential\",0,1)*IF('Assessment Framework'!AX20=\"Y\",1,0)","v":0},{"$f":"IF($G20=\"Non-essential\",0,1)*IF('Assessment Framework'!AY20=\"Y\",1,0)","v":0},{"$f":"IF($G20=\"Non-essential\",0,1)*IF('Assessment Framework'!AZ20=\"Y\",1,0)","v":0},{"$f":"IF($G20=\"Non-essential\",0,1)*IF('Assessment Framework'!BA20=\"Y\",1,0)","v":0},{"$f":"IF($G20=\"Non-essential\",0,1)*IF('Assessment Framework'!BB20=\"Y\",1,0)","v":0},{"$f":"IF($G20=\"Non-essential\",0,1)*IF('Assessment Framework'!BC20=\"Y\",1,0)","v":0},{"$f":"IF($G20=\"Non-essential\",0,1)*IF('Assessment Framework'!BD20=\"Y\",1,0)","v":0},{"$f":"IF($G20=\"Non-essential\",0,1)*IF('Assessment Framework'!BE20=\"Y\",1,0)","v":0},{"$f":"IF($G20=\"Non-essential\",0,1)*IF('Assessment Framework'!BF20=\"Y\",1,0)","v":0},{"$f":"IF($G20=\"Non-essential\",0,1)*IF('Assessment Framework'!BG20=\"Y\",1,0)","v":0},{"$f":"IF($G20=\"Non-essential\",0,1)*IF('Assessment Framework'!BH20=\"Y\",1,0)","v":0},{"$f":"IF($G20=\"Non-essential\",0,1)*IF('Assessment Framework'!BI20=\"Y\",1,0)","v":0},{"$f":"IF($G20=\"Non-essential\",0,1)*IF('Assessment Framework'!BJ20=\"Y\",1,0)","v":0},{"$f":"IF($G20=\"Non-essential\",0,1)*IF('Assessment Framework'!BK20=\"Y\",1,0)","v":0},{"$f":"IF($G20=\"Non-essential\",0,1)*IF('Assessment Framework'!BL20=\"Y\",1,0)","v":0},{"$f":"IF($G20=\"Non-essential\",0,1)*IF('Assessment Framework'!BM20=\"Y\",1,0)","v":0},{"$f":"IF($G20=\"Non-essential\",0,1)*IF('Assessment Framework'!BN20=\"Y\",1,0)","v":0},{"$f":"IF($G20=\"Non-essential\",0,1)*IF('Assessment Framework'!BO20=\"Y\",1,0)","v":0},{"$f":"IF($G20=\"Non-essential\",0,1)*IF('Assessment Framework'!BP20=\"Y\",1,0)","v":0},{"$f":"IF($G20=\"Non-essential\",0,1)*IF('Assessment Framework'!BQ20=\"Y\",1,0)","v":0},{"$f":"IF($G20=\"Non-essential\",0,1)*IF('Assessment Framework'!BR20=\"Y\",1,0)","v":0},{"$f":"IF($G20=\"Non-essential\",0,1)*IF('Assessment Framework'!BS20=\"Y\",1,0)","v":0},{"$f":"IF($G20=\"Non-essential\",0,1)*IF('Assessment Framework'!BT20=\"Y\",1,0)","v":0},{"$f":"IF($G20=\"Non-essential\",0,1)*IF('Assessment Framework'!BU20=\"Y\",1,0)","v":0},{"$f":"IF($G20=\"Non-essential\",0,1)*IF('Assessment Framework'!BV20=\"Y\",1,0)","v":0},{"$f":"IF($G20=\"Non-essential\",0,1)*IF('Assessment Framework'!BW20=\"Y\",1,0)","v":0},{"$f":"IF($G20=\"Non-essential\",0,1)*IF('Assessment Framework'!BX20=\"Y\",1,0)","v":0},{"$f":"IF($G20=\"Non-essential\",0,1)*IF('Assessment Framework'!BY20=\"Y\",1,0)","v":0},{"$f":"IF($G20=\"Non-essential\",0,1)*IF('Assessment Framework'!BZ20=\"Y\",1,0)","v":0},{"$f":"IF($G20=\"Non-essential\",0,1)*IF('Assessment Framework'!CA20=\"Y\",1,0)","v":0},{"$f":"IF($G20=\"Non-essential\",0,1)*IF('Assessment Framework'!CB20=\"Y\",1,0)","v":0},{"$f":"IF($G20=\"Non-essential\",0,1)*IF('Assessment Framework'!CC20=\"Y\",1,0)","v":0},{"$f":"IF($G20=\"Non-essential\",0,1)*IF('Assessment Framework'!CD20=\"Y\",1,0)","v":0},{"$f":"IF($G20=\"Non-essential\",0,1)*IF('Assessment Framework'!CE20=\"Y\",1,0)","v":0},{"$f":"IF($G20=\"Non-essential\",0,1)*IF('Assessment Framework'!CF20=\"Y\",1,0)","v":0},{"$f":"IF($G20=\"Non-essential\",0,1)*IF('Assessment Framework'!CG20=\"Y\",1,0)","v":0},{"$f":"IF($G20=\"Non-essential\",0,1)*IF('Assessment Framework'!CH20=\"Y\",1,0)","v":0},{"$f":"IF($G20=\"Non-essential\",0,1)*IF('Assessment Framework'!CI20=\"Y\",1,0)","v":0},{"$f":"IF($G20=\"Non-essential\",0,1)*IF('Assessment Framework'!CJ20=\"Y\",1,0)","v":0},{"$f":"IF($G20=\"Non-essential\",0,1)*IF('Assessment Framework'!CK20=\"Y\",1,0)","v":0},{"$f":"IF($G20=\"Non-essential\",0,1)*IF('Assessment Framework'!CL20=\"Y\",1,0)","v":0},{"$f":"IF($G20=\"Non-essential\",0,1)*IF('Assessment Framework'!CM20=\"Y\",1,0)","v":0}]
[null,null,null,"Plastic discharge to oceans (marine litter)","Flux (e.g. rates) of plastic entering the oceans and becoming marine litter, typically via rivers.","Y,N",{"$f":"IF('A - Policy objectives'!C23=\"\",\"Non-essential\",'A - Policy objectives'!C23)","v":"Non-essential"},{"$f":"IF($G21=\"Non-essential\",0,1)*IF('Assessment Framework'!G21=\"Y\",1,0)","v":0},{"$f":"IF($G21=\"Non-essential\",0,1)*IF('Assessment Framework'!H21=\"Y\",1,0)","v":0},{"$f":"IF($G21=\"Non-essential\",0,1)*IF('Assessment Framework'!I21=\"Y\",1,0)","v":0},{"$f":"IF($G21=\"Non-essential\",0,1)*IF('Assessment Framework'!J21=\"Y\",1,0)","v":0},{"$f":"IF($G21=\"Non-essential\",0,1)*IF('Assessment Framework'!K21=\"Y\",1,0)","v":0},{"$f":"IF($G21=\"Non-essential\",0,1)*IF('Assessment Framework'!L21=\"Y\",1,0)","v":0},{"$f":"IF($G21=\"Non-essential\",0,1)*IF('Assessment Framework'!M21=\"Y\",1,0)","v":0},{"$f":"IF($G21=\"Non-essential\",0,1)*IF('Assessment Framework'!N21=\"Y\",1,0)","v":0},{"$f":"IF($G21=\"Non-essential\",0,1)*IF('Assessment Framework'!O21=\"Y\",1,0)","v":0},{"$f":"IF($G21=\"Non-essential\",0,1)*IF('Assessment Framework'!P21=\"Y\",1,0)","v":0},{"$f":"IF($G21=\"Non-essential\",0,1)*IF('Assessment Framework'!Q21=\"Y\",1,0)","v":0},{"$f":"IF($G21=\"Non-essential\",0,1)*IF('Assessment Framework'!R21=\"Y\",1,0)","v":0},{"$f":"IF($G21=\"Non-essential\",0,1)*IF('Assessment Framework'!S21=\"Y\",1,0)","v":0},{"$f":"IF($G21=\"Non-essential\",0,1)*IF('Assessment Framework'!T21=\"Y\",1,0)","v":0},{"$f":"IF($G21=\"Non-essential\",0,1)*IF('Assessment Framework'!U21=\"Y\",1,0)","v":0},{"$f":"IF($G21=\"Non-essential\",0,1)*IF('Assessment Framework'!V21=\"Y\",1,0)","v":0},{"$f":"IF($G21=\"Non-essential\",0,1)*IF('Assessment Framework'!W21=\"Y\",1,0)","v":0},{"$f":"IF($G21=\"Non-essential\",0,1)*IF('Assessment Framework'!X21=\"Y\",1,0)","v":0},{"$f":"IF($G21=\"Non-essential\",0,1)*IF('Assessment Framework'!Y21=\"Y\",1,0)","v":0},{"$f":"IF($G21=\"Non-essential\",0,1)*IF('Assessment Framework'!Z21=\"Y\",1,0)","v":0},{"$f":"IF($G21=\"Non-essential\",0,1)*IF('Assessment Framework'!AA21=\"Y\",1,0)","v":0},{"$f":"IF($G21=\"Non-essential\",0,1)*IF('Assessment Framework'!AB21=\"Y\",1,0)","v":0},{"$f":"IF($G21=\"Non-essential\",0,1)*IF('Assessment Framework'!AC21=\"Y\",1,0)","v":0},{"$f":"IF($G21=\"Non-essential\",0,1)*IF('Assessment Framework'!AD21=\"Y\",1,0)","v":0},{"$f":"IF($G21=\"Non-essential\",0,1)*IF('Assessment Framework'!AE21=\"Y\",1,0)","v":0},{"$f":"IF($G21=\"Non-essential\",0,1)*IF('Assessment Framework'!AF21=\"Y\",1,0)","v":0},{"$f":"IF($G21=\"Non-essential\",0,1)*IF('Assessment Framework'!AG21=\"Y\",1,0)","v":0},{"$f":"IF($G21=\"Non-essential\",0,1)*IF('Assessment Framework'!AH21=\"Y\",1,0)","v":0},{"$f":"IF($G21=\"Non-essential\",0,1)*IF('Assessment Framework'!AI21=\"Y\",1,0)","v":0},{"$f":"IF($G21=\"Non-essential\",0,1)*IF('Assessment Framework'!AJ21=\"Y\",1,0)","v":0},{"$f":"IF($G21=\"Non-essential\",0,1)*IF('Assessment Framework'!AK21=\"Y\",1,0)","v":0},{"$f":"IF($G21=\"Non-essential\",0,1)*IF('Assessment Framework'!AL21=\"Y\",1,0)","v":0},{"$f":"IF($G21=\"Non-essential\",0,1)*IF('Assessment Framework'!AM21=\"Y\",1,0)","v":0},{"$f":"IF($G21=\"Non-essential\",0,1)*IF('Assessment Framework'!AN21=\"Y\",1,0)","v":0},{"$f":"IF($G21=\"Non-essential\",0,1)*IF('Assessment Framework'!AO21=\"Y\",1,0)","v":0},{"$f":"IF($G21=\"Non-essential\",0,1)*IF('Assessment Framework'!AP21=\"Y\",1,0)","v":0},{"$f":"IF($G21=\"Non-essential\",0,1)*IF('Assessment Framework'!AQ21=\"Y\",1,0)","v":0},{"$f":"IF($G21=\"Non-essential\",0,1)*IF('Assessment Framework'!AR21=\"Y\",1,0)","v":0},{"$f":"IF($G21=\"Non-essential\",0,1)*IF('Assessment Framework'!AS21=\"Y\",1,0)","v":0},{"$f":"IF($G21=\"Non-essential\",0,1)*IF('Assessment Framework'!AT21=\"Y\",1,0)","v":0},{"$f":"IF($G21=\"Non-essential\",0,1)*IF('Assessment Framework'!AU21=\"Y\",1,0)","v":0},{"$f":"IF($G21=\"Non-essential\",0,1)*IF('Assessment Framework'!AV21=\"Y\",1,0)","v":0},{"$f":"IF($G21=\"Non-essential\",0,1)*IF('Assessment Framework'!AW21=\"Y\",1,0)","v":0},{"$f":"IF($G21=\"Non-essential\",0,1)*IF('Assessment Framework'!AX21=\"Y\",1,0)","v":0},{"$f":"IF($G21=\"Non-essential\",0,1)*IF('Assessment Framework'!AY21=\"Y\",1,0)","v":0},{"$f":"IF($G21=\"Non-essential\",0,1)*IF('Assessment Framework'!AZ21=\"Y\",1,0)","v":0},{"$f":"IF($G21=\"Non-essential\",0,1)*IF('Assessment Framework'!BA21=\"Y\",1,0)","v":0},{"$f":"IF($G21=\"Non-essential\",0,1)*IF('Assessment Framework'!BB21=\"Y\",1,0)","v":0},{"$f":"IF($G21=\"Non-essential\",0,1)*IF('Assessment Framework'!BC21=\"Y\",1,0)","v":0},{"$f":"IF($G21=\"Non-essential\",0,1)*IF('Assessment Framework'!BD21=\"Y\",1,0)","v":0},{"$f":"IF($G21=\"Non-essential\",0,1)*IF('Assessment Framework'!BE21=\"Y\",1,0)","v":0},{"$f":"IF($G21=\"Non-essential\",0,1)*IF('Assessment Framework'!BF21=\"Y\",1,0)","v":0},{"$f":"IF($G21=\"Non-essential\",0,1)*IF('Assessment Framework'!BG21=\"Y\",1,0)","v":0},{"$f":"IF($G21=\"Non-essential\",0,1)*IF('Assessment Framework'!BH21=\"Y\",1,0)","v":0},{"$f":"IF($G21=\"Non-essential\",0,1)*IF('Assessment Framework'!BI21=\"Y\",1,0)","v":0},{"$f":"IF($G21=\"Non-essential\",0,1)*IF('Assessment Framework'!BJ21=\"Y\",1,0)","v":0},{"$f":"IF($G21=\"Non-essential\",0,1)*IF('Assessment Framework'!BK21=\"Y\",1,0)","v":0},{"$f":"IF($G21=\"Non-essential\",0,1)*IF('Assessment Framework'!BL21=\"Y\",1,0)","v":0},{"$f":"IF($G21=\"Non-essential\",0,1)*IF('Assessment Framework'!BM21=\"Y\",1,0)","v":0},{"$f":"IF($G21=\"Non-essential\",0,1)*IF('Assessment Framework'!BN21=\"Y\",1,0)","v":0},{"$f":"IF($G21=\"Non-essential\",0,1)*IF('Assessment Framework'!BO21=\"Y\",1,0)","v":0},{"$f":"IF($G21=\"Non-essential\",0,1)*IF('Assessment Framework'!BP21=\"Y\",1,0)","v":0},{"$f":"IF($G21=\"Non-essential\",0,1)*IF('Assessment Framework'!BQ21=\"Y\",1,0)","v":0},{"$f":"IF($G21=\"Non-essential\",0,1)*IF('Assessment Framework'!BR21=\"Y\",1,0)","v":0},{"$f":"IF($G21=\"Non-essential\",0,1)*IF('Assessment Framework'!BS21=\"Y\",1,0)","v":0},{"$f":"IF($G21=\"Non-essential\",0,1)*IF('Assessment Framework'!BT21=\"Y\",1,0)","v":0},{"$f":"IF($G21=\"Non-essential\",0,1)*IF('Assessment Framework'!BU21=\"Y\",1,0)","v":0},{"$f":"IF($G21=\"Non-essential\",0,1)*IF('Assessment Framework'!BV21=\"Y\",1,0)","v":0},{"$f":"IF($G21=\"Non-essential\",0,1)*IF('Assessment Framework'!BW21=\"Y\",1,0)","v":0},{"$f":"IF($G21=\"Non-essential\",0,1)*IF('Assessment Framework'!BX21=\"Y\",1,0)","v":0},{"$f":"IF($G21=\"Non-essential\",0,1)*IF('Assessment Framework'!BY21=\"Y\",1,0)","v":0},{"$f":"IF($G21=\"Non-essential\",0,1)*IF('Assessment Framework'!BZ21=\"Y\",1,0)","v":0},{"$f":"IF($G21=\"Non-essential\",0,1)*IF('Assessment Framework'!CA21=\"Y\",1,0)","v":0},{"$f":"IF($G21=\"Non-essential\",0,1)*IF('Assessment Framework'!CB21=\"Y\",1,0)","v":0},{"$f":"IF($G21=\"Non-essential\",0,1)*IF('Assessment Framework'!CC21=\"Y\",1,0)","v":0},{"$f":"IF($G21=\"Non-essential\",0,1)*IF('Assessment Framework'!CD21=\"Y\",1,0)","v":0},{"$f":"IF($G21=\"Non-essential\",0,1)*IF('Assessment Framework'!CE21=\"Y\",1,0)","v":0},{"$f":"IF($G21=\"Non-essential\",0,1)*IF('Assessment Framework'!CF21=\"Y\",1,0)","v":0},{"$f":"IF($G21=\"Non-essential\",0,1)*IF('Assessment Framework'!CG21=\"Y\",1,0)","v":0},{"$f":"IF($G21=\"Non-essential\",0,1)*IF('Assessment Framework'!CH21=\"Y\",1,0)","v":0},{"$f":"IF($G21=\"Non-essential\",0,1)*IF('Assessment Framework'!CI21=\"Y\",1,0)","v":0},{"$f":"IF($G21=\"Non-essential\",0,1)*IF('Assessment Framework'!CJ21=\"Y\",1,0)","v":0},{"$f":"IF($G21=\"Non-essential\",0,1)*IF('Assessment Framework'!CK21=\"Y\",1,0)","v":0},{"$f":"IF($G21=\"Non-essential\",0,1)*IF('Assessment Framework'!CL21=\"Y\",1,0)","v":0},{"$f":"IF($G21=\"Non-essential\",0,1)*IF('Assessment Framework'!CM21=\"Y\",1,0)","v":0}]
[null,null,null,"State of the environment (accumulations)","Stock (e.g. concentration) of plastic which has accumulated in the environment over time","Y,N",{"$f":"IF('A - Policy objectives'!C24=\"\",\"Non-essential\",'A - Policy objectives'!C24)","v":"Non-essential"},{"$f":"IF($G22=\"Non-essential\",0,1)*IF('Assessment Framework'!G22=\"Y\",1,0)","v":0},{"$f":"IF($G22=\"Non-essential\",0,1)*IF('Assessment Framework'!H22=\"Y\",1,0)","v":0},{"$f":"IF($G22=\"Non-essential\",0,1)*IF('Assessment Framework'!I22=\"Y\",1,0)","v":0},{"$f":"IF($G22=\"Non-essential\",0,1)*IF('Assessment Framework'!J22=\"Y\",1,0)","v":0},{"$f":"IF($G22=\"Non-essential\",0,1)*IF('Assessment Framework'!K22=\"Y\",1,0)","v":0},{"$f":"IF($G22=\"Non-essential\",0,1)*IF('Assessment Framework'!L22=\"Y\",1,0)","v":0},{"$f":"IF($G22=\"Non-essential\",0,1)*IF('Assessment Framework'!M22=\"Y\",1,0)","v":0},{"$f":"IF($G22=\"Non-essential\",0,1)*IF('Assessment Framework'!N22=\"Y\",1,0)","v":0},{"$f":"IF($G22=\"Non-essential\",0,1)*IF('Assessment Framework'!O22=\"Y\",1,0)","v":0},{"$f":"IF($G22=\"Non-essential\",0,1)*IF('Assessment Framework'!P22=\"Y\",1,0)","v":0},{"$f":"IF($G22=\"Non-essential\",0,1)*IF('Assessment Framework'!Q22=\"Y\",1,0)","v":0},{"$f":"IF($G22=\"Non-essential\",0,1)*IF('Assessment Framework'!R22=\"Y\",1,0)","v":0},{"$f":"IF($G22=\"Non-essential\",0,1)*IF('Assessment Framework'!S22=\"Y\",1,0)","v":0},{"$f":"IF($G22=\"Non-essential\",0,1)*IF('Assessment Framework'!T22=\"Y\",1,0)","v":0},{"$f":"IF($G22=\"Non-essential\",0,1)*IF('Assessment Framework'!U22=\"Y\",1,0)","v":0},{"$f":"IF($G22=\"Non-essential\",0,1)*IF('Assessment Framework'!V22=\"Y\",1,0)","v":0},{"$f":"IF($G22=\"Non-essential\",0,1)*IF('Assessment Framework'!W22=\"Y\",1,0)","v":0},{"$f":"IF($G22=\"Non-essential\",0,1)*IF('Assessment Framework'!X22=\"Y\",1,0)","v":0},{"$f":"IF($G22=\"Non-essential\",0,1)*IF('Assessment Framework'!Y22=\"Y\",1,0)","v":0},{"$f":"IF($G22=\"Non-essential\",0,1)*IF('Assessment Framework'!Z22=\"Y\",1,0)","v":0},{"$f":"IF($G22=\"Non-essential\",0,1)*IF('Assessment Framework'!AA22=\"Y\",1,0)","v":0},{"$f":"IF($G22=\"Non-essential\",0,1)*IF('Assessment Framework'!AB22=\"Y\",1,0)","v":0},{"$f":"IF($G22=\"Non-essential\",0,1)*IF('Assessment Framework'!AC22=\"Y\",1,0)","v":0},{"$f":"IF($G22=\"Non-essential\",0,1)*IF('Assessment Framework'!AD22=\"Y\",1,0)","v":0},{"$f":"IF($G22=\"Non-essential\",0,1)*IF('Assessment Framework'!AE22=\"Y\",1,0)","v":0},{"$f":"IF($G22=\"Non-essential\",0,1)*IF('Assessment Framework'!AF22=\"Y\",1,0)","v":0},{"$f":"IF($G22=\"Non-essential\",0,1)*IF('Assessment Framework'!AG22=\"Y\",1,0)","v":0},{"$f":"IF($G22=\"Non-essential\",0,1)*IF('Assessment Framework'!AH22=\"Y\",1,0)","v":0},{"$f":"IF($G22=\"Non-essential\",0,1)*IF('Assessment Framework'!AI22=\"Y\",1,0)","v":0},{"$f":"IF($G22=\"Non-essential\",0,1)*IF('Assessment Framework'!AJ22=\"Y\",1,0)","v":0},{"$f":"IF($G22=\"Non-essential\",0,1)*IF('Assessment Framework'!AK22=\"Y\",1,0)","v":0},{"$f":"IF($G22=\"Non-essential\",0,1)*IF('Assessment Framework'!AL22=\"Y\",1,0)","v":0},{"$f":"IF($G22=\"Non-essential\",0,1)*IF('Assessment Framework'!AM22=\"Y\",1,0)","v":0},{"$f":"IF($G22=\"Non-essential\",0,1)*IF('Assessment Framework'!AN22=\"Y\",1,0)","v":0},{"$f":"IF($G22=\"Non-essential\",0,1)*IF('Assessment Framework'!AO22=\"Y\",1,0)","v":0},{"$f":"IF($G22=\"Non-essential\",0,1)*IF('Assessment Framework'!AP22=\"Y\",1,0)","v":0},{"$f":"IF($G22=\"Non-essential\",0,1)*IF('Assessment Framework'!AQ22=\"Y\",1,0)","v":0},{"$f":"IF($G22=\"Non-essential\",0,1)*IF('Assessment Framework'!AR22=\"Y\",1,0)","v":0},{"$f":"IF($G22=\"Non-essential\",0,1)*IF('Assessment Framework'!AS22=\"Y\",1,0)","v":0},{"$f":"IF($G22=\"Non-essential\",0,1)*IF('Assessment Framework'!AT22=\"Y\",1,0)","v":0},{"$f":"IF($G22=\"Non-essential\",0,1)*IF('Assessment Framework'!AU22=\"Y\",1,0)","v":0},{"$f":"IF($G22=\"Non-essential\",0,1)*IF('Assessment Framework'!AV22=\"Y\",1,0)","v":0},{"$f":"IF($G22=\"Non-essential\",0,1)*IF('Assessment Framework'!AW22=\"Y\",1,0)","v":0},{"$f":"IF($G22=\"Non-essential\",0,1)*IF('Assessment Framework'!AX22=\"Y\",1,0)","v":0},{"$f":"IF($G22=\"Non-essential\",0,1)*IF('Assessment Framework'!AY22=\"Y\",1,0)","v":0},{"$f":"IF($G22=\"Non-essential\",0,1)*IF('Assessment Framework'!AZ22=\"Y\",1,0)","v":0},{"$f":"IF($G22=\"Non-essential\",0,1)*IF('Assessment Framework'!BA22=\"Y\",1,0)","v":0},{"$f":"IF($G22=\"Non-essential\",0,1)*IF('Assessment Framework'!BB22=\"Y\",1,0)","v":0},{"$f":"IF($G22=\"Non-essential\",0,1)*IF('Assessment Framework'!BC22=\"Y\",1,0)","v":0},{"$f":"IF($G22=\"Non-essential\",0,1)*IF('Assessment Framework'!BD22=\"Y\",1,0)","v":0},{"$f":"IF($G22=\"Non-essential\",0,1)*IF('Assessment Framework'!BE22=\"Y\",1,0)","v":0},{"$f":"IF($G22=\"Non-essential\",0,1)*IF('Assessment Framework'!BF22=\"Y\",1,0)","v":0},{"$f":"IF($G22=\"Non-essential\",0,1)*IF('Assessment Framework'!BG22=\"Y\",1,0)","v":0},{"$f":"IF($G22=\"Non-essential\",0,1)*IF('Assessment Framework'!BH22=\"Y\",1,0)","v":0},{"$f":"IF($G22=\"Non-essential\",0,1)*IF('Assessment Framework'!BI22=\"Y\",1,0)","v":0},{"$f":"IF($G22=\"Non-essential\",0,1)*IF('Assessment Framework'!BJ22=\"Y\",1,0)","v":0},{"$f":"IF($G22=\"Non-essential\",0,1)*IF('Assessment Framework'!BK22=\"Y\",1,0)","v":0},{"$f":"IF($G22=\"Non-essential\",0,1)*IF('Assessment Framework'!BL22=\"Y\",1,0)","v":0},{"$f":"IF($G22=\"Non-essential\",0,1)*IF('Assessment Framework'!BM22=\"Y\",1,0)","v":0},{"$f":"IF($G22=\"Non-essential\",0,1)*IF('Assessment Framework'!BN22=\"Y\",1,0)","v":0},{"$f":"IF($G22=\"Non-essential\",0,1)*IF('Assessment Framework'!BO22=\"Y\",1,0)","v":0},{"$f":"IF($G22=\"Non-essential\",0,1)*IF('Assessment Framework'!BP22=\"Y\",1,0)","v":0},{"$f":"IF($G22=\"Non-essential\",0,1)*IF('Assessment Framework'!BQ22=\"Y\",1,0)","v":0},{"$f":"IF($G22=\"Non-essential\",0,1)*IF('Assessment Framework'!BR22=\"Y\",1,0)","v":0},{"$f":"IF($G22=\"Non-essential\",0,1)*IF('Assessment Framework'!BS22=\"Y\",1,0)","v":0},{"$f":"IF($G22=\"Non-essential\",0,1)*IF('Assessment Framework'!BT22=\"Y\",1,0)","v":0},{"$f":"IF($G22=\"Non-essential\",0,1)*IF('Assessment Framework'!BU22=\"Y\",1,0)","v":0},{"$f":"IF($G22=\"Non-essential\",0,1)*IF('Assessment Framework'!BV22=\"Y\",1,0)","v":0},{"$f":"IF($G22=\"Non-essential\",0,1)*IF('Assessment Framework'!BW22=\"Y\",1,0)","v":0},{"$f":"IF($G22=\"Non-essential\",0,1)*IF('Assessment Framework'!BX22=\"Y\",1,0)","v":0},{"$f":"IF($G22=\"Non-essential\",0,1)*IF('Assessment Framework'!BY22=\"Y\",1,0)","v":0},{"$f":"IF($G22=\"Non-essential\",0,1)*IF('Assessment Framework'!BZ22=\"Y\",1,0)","v":0},{"$f":"IF($G22=\"Non-essential\",0,1)*IF('Assessment Framework'!CA22=\"Y\",1,0)","v":0},{"$f":"IF($G22=\"Non-essential\",0,1)*IF('Assessment Framework'!CB22=\"Y\",1,0)","v":0},{"$f":"IF($G22=\"Non-essential\",0,1)*IF('Assessment Framework'!CC22=\"Y\",1,0)","v":0},{"$f":"IF($G22=\"Non-essential\",0,1)*IF('Assessment Framework'!CD22=\"Y\",1,0)","v":0},{"$f":"IF($G22=\"Non-essential\",0,1)*IF('Assessment Framework'!CE22=\"Y\",1,0)","v":0},{"$f":"IF($G22=\"Non-essential\",0,1)*IF('Assessment Framework'!CF22=\"Y\",1,0)","v":0},{"$f":"IF($G22=\"Non-essential\",0,1)*IF('Assessment Framework'!CG22=\"Y\",1,0)","v":0},{"$f":"IF($G22=\"Non-essential\",0,1)*IF('Assessment Framework'!CH22=\"Y\",1,0)","v":0},{"$f":"IF($G22=\"Non-essential\",0,1)*IF('Assessment Framework'!CI22=\"Y\",1,0)","v":0},{"$f":"IF($G22=\"Non-essential\",0,1)*IF('Assessment Framework'!CJ22=\"Y\",1,0)","v":0},{"$f":"IF($G22=\"Non-essential\",0,1)*IF('Assessment Framework'!CK22=\"Y\",1,0)","v":0},{"$f":"IF($G22=\"Non-essential\",0,1)*IF('Assessment Framework'!CL22=\"Y\",1,0)","v":0},{"$f":"IF($G22=\"Non-essential\",0,1)*IF('Assessment Framework'!CM22=\"Y\",1,0)","v":0}]
[null,"Environmental compartment","The environmental compartment relates to the part of the environment where the user is most interested in understanding the sources, flows or concentrations of plastic pollution. This is typically the environmental compartment in which the method is applied. Users can select multiple environmental compartments of interest.","Land","Terrestrial environment including non-perennial drains (e.g. those not permanently filled with water).","Y,N",{"$f":"IF('A - Policy objectives'!C27=\"\",\"Non-essential\",'A - Policy objectives'!C27)","v":"Non-essential"},{"$f":"IF($G23=\"Non-essential\",0,1)*IF('Assessment Framework'!G23=\"Y\",1,0)","v":0},{"$f":"IF($G23=\"Non-essential\",0,1)*IF('Assessment Framework'!H23=\"Y\",1,0)","v":0},{"$f":"IF($G23=\"Non-essential\",0,1)*IF('Assessment Framework'!I23=\"Y\",1,0)","v":0},{"$f":"IF($G23=\"Non-essential\",0,1)*IF('Assessment Framework'!J23=\"Y\",1,0)","v":0},{"$f":"IF($G23=\"Non-essential\",0,1)*IF('Assessment Framework'!K23=\"Y\",1,0)","v":0},{"$f":"IF($G23=\"Non-essential\",0,1)*IF('Assessment Framework'!L23=\"Y\",1,0)","v":0},{"$f":"IF($G23=\"Non-essential\",0,1)*IF('Assessment Framework'!M23=\"Y\",1,0)","v":0},{"$f":"IF($G23=\"Non-essential\",0,1)*IF('Assessment Framework'!N23=\"Y\",1,0)","v":0},{"$f":"IF($G23=\"Non-essential\",0,1)*IF('Assessment Framework'!O23=\"Y\",1,0)","v":0},{"$f":"IF($G23=\"Non-essential\",0,1)*IF('Assessment Framework'!P23=\"Y\",1,0)","v":0},{"$f":"IF($G23=\"Non-essential\",0,1)*IF('Assessment Framework'!Q23=\"Y\",1,0)","v":0},{"$f":"IF($G23=\"Non-essential\",0,1)*IF('Assessment Framework'!R23=\"Y\",1,0)","v":0},{"$f":"IF($G23=\"Non-essential\",0,1)*IF('Assessment Framework'!S23=\"Y\",1,0)","v":0},{"$f":"IF($G23=\"Non-essential\",0,1)*IF('Assessment Framework'!T23=\"Y\",1,0)","v":0},{"$f":"IF($G23=\"Non-essential\",0,1)*IF('Assessment Framework'!U23=\"Y\",1,0)","v":0},{"$f":"IF($G23=\"Non-essential\",0,1)*IF('Assessment Framework'!V23=\"Y\",1,0)","v":0},{"$f":"IF($G23=\"Non-essential\",0,1)*IF('Assessment Framework'!W23=\"Y\",1,0)","v":0},{"$f":"IF($G23=\"Non-essential\",0,1)*IF('Assessment Framework'!X23=\"Y\",1,0)","v":0},{"$f":"IF($G23=\"Non-essential\",0,1)*IF('Assessment Framework'!Y23=\"Y\",1,0)","v":0},{"$f":"IF($G23=\"Non-essential\",0,1)*IF('Assessment Framework'!Z23=\"Y\",1,0)","v":0},{"$f":"IF($G23=\"Non-essential\",0,1)*IF('Assessment Framework'!AA23=\"Y\",1,0)","v":0},{"$f":"IF($G23=\"Non-essential\",0,1)*IF('Assessment Framework'!AB23=\"Y\",1,0)","v":0},{"$f":"IF($G23=\"Non-essential\",0,1)*IF('Assessment Framework'!AC23=\"Y\",1,0)","v":0},{"$f":"IF($G23=\"Non-essential\",0,1)*IF('Assessment Framework'!AD23=\"Y\",1,0)","v":0},{"$f":"IF($G23=\"Non-essential\",0,1)*IF('Assessment Framework'!AE23=\"Y\",1,0)","v":0},{"$f":"IF($G23=\"Non-essential\",0,1)*IF('Assessment Framework'!AF23=\"Y\",1,0)","v":0},{"$f":"IF($G23=\"Non-essential\",0,1)*IF('Assessment Framework'!AG23=\"Y\",1,0)","v":0},{"$f":"IF($G23=\"Non-essential\",0,1)*IF('Assessment Framework'!AH23=\"Y\",1,0)","v":0},{"$f":"IF($G23=\"Non-essential\",0,1)*IF('Assessment Framework'!AI23=\"Y\",1,0)","v":0},{"$f":"IF($G23=\"Non-essential\",0,1)*IF('Assessment Framework'!AJ23=\"Y\",1,0)","v":0},{"$f":"IF($G23=\"Non-essential\",0,1)*IF('Assessment Framework'!AK23=\"Y\",1,0)","v":0},{"$f":"IF($G23=\"Non-essential\",0,1)*IF('Assessment Framework'!AL23=\"Y\",1,0)","v":0},{"$f":"IF($G23=\"Non-essential\",0,1)*IF('Assessment Framework'!AM23=\"Y\",1,0)","v":0},{"$f":"IF($G23=\"Non-essential\",0,1)*IF('Assessment Framework'!AN23=\"Y\",1,0)","v":0},{"$f":"IF($G23=\"Non-essential\",0,1)*IF('Assessment Framework'!AO23=\"Y\",1,0)","v":0},{"$f":"IF($G23=\"Non-essential\",0,1)*IF('Assessment Framework'!AP23=\"Y\",1,0)","v":0},{"$f":"IF($G23=\"Non-essential\",0,1)*IF('Assessment Framework'!AQ23=\"Y\",1,0)","v":0},{"$f":"IF($G23=\"Non-essential\",0,1)*IF('Assessment Framework'!AR23=\"Y\",1,0)","v":0},{"$f":"IF($G23=\"Non-essential\",0,1)*IF('Assessment Framework'!AS23=\"Y\",1,0)","v":0},{"$f":"IF($G23=\"Non-essential\",0,1)*IF('Assessment Framework'!AT23=\"Y\",1,0)","v":0},{"$f":"IF($G23=\"Non-essential\",0,1)*IF('Assessment Framework'!AU23=\"Y\",1,0)","v":0},{"$f":"IF($G23=\"Non-essential\",0,1)*IF('Assessment Framework'!AV23=\"Y\",1,0)","v":0},{"$f":"IF($G23=\"Non-essential\",0,1)*IF('Assessment Framework'!AW23=\"Y\",1,0)","v":0},{"$f":"IF($G23=\"Non-essential\",0,1)*IF('Assessment Framework'!AX23=\"Y\",1,0)","v":0},{"$f":"IF($G23=\"Non-essential\",0,1)*IF('Assessment Framework'!AY23=\"Y\",1,0)","v":0},{"$f":"IF($G23=\"Non-essential\",0,1)*IF('Assessment Framework'!AZ23=\"Y\",1,0)","v":0},{"$f":"IF($G23=\"Non-essential\",0,1)*IF('Assessment Framework'!BA23=\"Y\",1,0)","v":0},{"$f":"IF($G23=\"Non-essential\",0,1)*IF('Assessment Framework'!BB23=\"Y\",1,0)","v":0},{"$f":"IF($G23=\"Non-essential\",0,1)*IF('Assessment Framework'!BC23=\"Y\",1,0)","v":0},{"$f":"IF($G23=\"Non-essential\",0,1)*IF('Assessment Framework'!BD23=\"Y\",1,0)","v":0},{"$f":"IF($G23=\"Non-essential\",0,1)*IF('Assessment Framework'!BE23=\"Y\",1,0)","v":0},{"$f":"IF($G23=\"Non-essential\",0,1)*IF('Assessment Framework'!BF23=\"Y\",1,0)","v":0},{"$f":"IF($G23=\"Non-essential\",0,1)*IF('Assessment Framework'!BG23=\"Y\",1,0)","v":0},{"$f":"IF($G23=\"Non-essential\",0,1)*IF('Assessment Framework'!BH23=\"Y\",1,0)","v":0},{"$f":"IF($G23=\"Non-essential\",0,1)*IF('Assessment Framework'!BI23=\"Y\",1,0)","v":0},{"$f":"IF($G23=\"Non-essential\",0,1)*IF('Assessment Framework'!BJ23=\"Y\",1,0)","v":0},{"$f":"IF($G23=\"Non-essential\",0,1)*IF('Assessment Framework'!BK23=\"Y\",1,0)","v":0},{"$f":"IF($G23=\"Non-essential\",0,1)*IF('Assessment Framework'!BL23=\"Y\",1,0)","v":0},{"$f":"IF($G23=\"Non-essential\",0,1)*IF('Assessment Framework'!BM23=\"Y\",1,0)","v":0},{"$f":"IF($G23=\"Non-essential\",0,1)*IF('Assessment Framework'!BN23=\"Y\",1,0)","v":0},{"$f":"IF($G23=\"Non-essential\",0,1)*IF('Assessment Framework'!BO23=\"Y\",1,0)","v":0},{"$f":"IF($G23=\"Non-essential\",0,1)*IF('Assessment Framework'!BP23=\"Y\",1,0)","v":0},{"$f":"IF($G23=\"Non-essential\",0,1)*IF('Assessment Framework'!BQ23=\"Y\",1,0)","v":0},{"$f":"IF($G23=\"Non-essential\",0,1)*IF('Assessment Framework'!BR23=\"Y\",1,0)","v":0},{"$f":"IF($G23=\"Non-essential\",0,1)*IF('Assessment Framework'!BS23=\"Y\",1,0)","v":0},{"$f":"IF($G23=\"Non-essential\",0,1)*IF('Assessment Framework'!BT23=\"Y\",1,0)","v":0},{"$f":"IF($G23=\"Non-essential\",0,1)*IF('Assessment Framework'!BU23=\"Y\",1,0)","v":0},{"$f":"IF($G23=\"Non-essential\",0,1)*IF('Assessment Framework'!BV23=\"Y\",1,0)","v":0},{"$f":"IF($G23=\"Non-essential\",0,1)*IF('Assessment Framework'!BW23=\"Y\",1,0)","v":0},{"$f":"IF($G23=\"Non-essential\",0,1)*IF('Assessment Framework'!BX23=\"Y\",1,0)","v":0},{"$f":"IF($G23=\"Non-essential\",0,1)*IF('Assessment Framework'!BY23=\"Y\",1,0)","v":0},{"$f":"IF($G23=\"Non-essential\",0,1)*IF('Assessment Framework'!BZ23=\"Y\",1,0)","v":0},{"$f":"IF($G23=\"Non-essential\",0,1)*IF('Assessment Framework'!CA23=\"Y\",1,0)","v":0},{"$f":"IF($G23=\"Non-essential\",0,1)*IF('Assessment Framework'!CB23=\"Y\",1,0)","v":0},{"$f":"IF($G23=\"Non-essential\",0,1)*IF('Assessment Framework'!CC23=\"Y\",1,0)","v":0},{"$f":"IF($G23=\"Non-essential\",0,1)*IF('Assessment Framework'!CD23=\"Y\",1,0)","v":0},{"$f":"IF($G23=\"Non-essential\",0,1)*IF('Assessment Framework'!CE23=\"Y\",1,0)","v":0},{"$f":"IF($G23=\"Non-essential\",0,1)*IF('Assessment Framework'!CF23=\"Y\",1,0)","v":0},{"$f":"IF($G23=\"Non-essential\",0,1)*IF('Assessment Framework'!CG23=\"Y\",1,0)","v":0},{"$f":"IF($G23=\"Non-essential\",0,1)*IF('Assessment Framework'!CH23=\"Y\",1,0)","v":0},{"$f":"IF($G23=\"Non-essential\",0,1)*IF('Assessment Framework'!CI23=\"Y\",1,0)","v":0},{"$f":"IF($G23=\"Non-essential\",0,1)*IF('Assessment Framework'!CJ23=\"Y\",1,0)","v":0},{"$f":"IF($G23=\"Non-essential\",0,1)*IF('Assessment Framework'!CK23=\"Y\",1,0)","v":0},{"$f":"IF($G23=\"Non-essential\",0,1)*IF('Assessment Framework'!CL23=\"Y\",1,0)","v":0},{"$f":"IF($G23=\"Non-essential\",0,1)*IF('Assessment Framework'!CM23=\"Y\",1,0)","v":0}]
[null,null,null,"Riverine","Rivers, lakes and perennial drains (e.g. permanently filled with water).","Y,N",{"$f":"IF('A - Policy objectives'!C28=\"\",\"Non-essential\",'A - Policy objectives'!C28)","v":"Non-essential"},{"$f":"IF($G24=\"Non-essential\",0,1)*IF('Assessment Framework'!G24=\"Y\",1,0)","v":0},{"$f":"IF($G24=\"Non-essential\",0,1)*IF('Assessment Framework'!H24=\"Y\",1,0)","v":0},{"$f":"IF($G24=\"Non-essential\",0,1)*IF('Assessment Framework'!I24=\"Y\",1,0)","v":0},{"$f":"IF($G24=\"Non-essential\",0,1)*IF('Assessment Framework'!J24=\"Y\",1,0)","v":0},{"$f":"IF($G24=\"Non-essential\",0,1)*IF('Assessment Framework'!K24=\"Y\",1,0)","v":0},{"$f":"IF($G24=\"Non-essential\",0,1)*IF('Assessment Framework'!L24=\"Y\",1,0)","v":0},{"$f":"IF($G24=\"Non-essential\",0,1)*IF('Assessment Framework'!M24=\"Y\",1,0)","v":0},{"$f":"IF($G24=\"Non-essential\",0,1)*IF('Assessment Framework'!N24=\"Y\",1,0)","v":0},{"$f":"IF($G24=\"Non-essential\",0,1)*IF('Assessment Framework'!O24=\"Y\",1,0)","v":0},{"$f":"IF($G24=\"Non-essential\",0,1)*IF('Assessment Framework'!P24=\"Y\",1,0)","v":0},{"$f":"IF($G24=\"Non-essential\",0,1)*IF('Assessment Framework'!Q24=\"Y\",1,0)","v":0},{"$f":"IF($G24=\"Non-essential\",0,1)*IF('Assessment Framework'!R24=\"Y\",1,0)","v":0},{"$f":"IF($G24=\"Non-essential\",0,1)*IF('Assessment Framework'!S24=\"Y\",1,0)","v":0},{"$f":"IF($G24=\"Non-essential\",0,1)*IF('Assessment Framework'!T24=\"Y\",1,0)","v":0},{"$f":"IF($G24=\"Non-essential\",0,1)*IF('Assessment Framework'!U24=\"Y\",1,0)","v":0},{"$f":"IF($G24=\"Non-essential\",0,1)*IF('Assessment Framework'!V24=\"Y\",1,0)","v":0},{"$f":"IF($G24=\"Non-essential\",0,1)*IF('Assessment Framework'!W24=\"Y\",1,0)","v":0},{"$f":"IF($G24=\"Non-essential\",0,1)*IF('Assessment Framework'!X24=\"Y\",1,0)","v":0},{"$f":"IF($G24=\"Non-essential\",0,1)*IF('Assessment Framework'!Y24=\"Y\",1,0)","v":0},{"$f":"IF($G24=\"Non-essential\",0,1)*IF('Assessment Framework'!Z24=\"Y\",1,0)","v":0},{"$f":"IF($G24=\"Non-essential\",0,1)*IF('Assessment Framework'!AA24=\"Y\",1,0)","v":0},{"$f":"IF($G24=\"Non-essential\",0,1)*IF('Assessment Framework'!AB24=\"Y\",1,0)","v":0},{"$f":"IF($G24=\"Non-essential\",0,1)*IF('Assessment Framework'!AC24=\"Y\",1,0)","v":0},{"$f":"IF($G24=\"Non-essential\",0,1)*IF('Assessment Framework'!AD24=\"Y\",1,0)","v":0},{"$f":"IF($G24=\"Non-essential\",0,1)*IF('Assessment Framework'!AE24=\"Y\",1,0)","v":0},{"$f":"IF($G24=\"Non-essential\",0,1)*IF('Assessment Framework'!AF24=\"Y\",1,0)","v":0},{"$f":"IF($G24=\"Non-essential\",0,1)*IF('Assessment Framework'!AG24=\"Y\",1,0)","v":0},{"$f":"IF($G24=\"Non-essential\",0,1)*IF('Assessment Framework'!AH24=\"Y\",1,0)","v":0},{"$f":"IF($G24=\"Non-essential\",0,1)*IF('Assessment Framework'!AI24=\"Y\",1,0)","v":0},{"$f":"IF($G24=\"Non-essential\",0,1)*IF('Assessment Framework'!AJ24=\"Y\",1,0)","v":0},{"$f":"IF($G24=\"Non-essential\",0,1)*IF('Assessment Framework'!AK24=\"Y\",1,0)","v":0},{"$f":"IF($G24=\"Non-essential\",0,1)*IF('Assessment Framework'!AL24=\"Y\",1,0)","v":0},{"$f":"IF($G24=\"Non-essential\",0,1)*IF('Assessment Framework'!AM24=\"Y\",1,0)","v":0},{"$f":"IF($G24=\"Non-essential\",0,1)*IF('Assessment Framework'!AN24=\"Y\",1,0)","v":0},{"$f":"IF($G24=\"Non-essential\",0,1)*IF('Assessment Framework'!AO24=\"Y\",1,0)","v":0},{"$f":"IF($G24=\"Non-essential\",0,1)*IF('Assessment Framework'!AP24=\"Y\",1,0)","v":0},{"$f":"IF($G24=\"Non-essential\",0,1)*IF('Assessment Framework'!AQ24=\"Y\",1,0)","v":0},{"$f":"IF($G24=\"Non-essential\",0,1)*IF('Assessment Framework'!AR24=\"Y\",1,0)","v":0},{"$f":"IF($G24=\"Non-essential\",0,1)*IF('Assessment Framework'!AS24=\"Y\",1,0)","v":0},{"$f":"IF($G24=\"Non-essential\",0,1)*IF('Assessment Framework'!AT24=\"Y\",1,0)","v":0},{"$f":"IF($G24=\"Non-essential\",0,1)*IF('Assessment Framework'!AU24=\"Y\",1,0)","v":0},{"$f":"IF($G24=\"Non-essential\",0,1)*IF('Assessment Framework'!AV24=\"Y\",1,0)","v":0},{"$f":"IF($G24=\"Non-essential\",0,1)*IF('Assessment Framework'!AW24=\"Y\",1,0)","v":0},{"$f":"IF($G24=\"Non-essential\",0,1)*IF('Assessment Framework'!AX24=\"Y\",1,0)","v":0},{"$f":"IF($G24=\"Non-essential\",0,1)*IF('Assessment Framework'!AY24=\"Y\",1,0)","v":0},{"$f":"IF($G24=\"Non-essential\",0,1)*IF('Assessment Framework'!AZ24=\"Y\",1,0)","v":0},{"$f":"IF($G24=\"Non-essential\",0,1)*IF('Assessment Framework'!BA24=\"Y\",1,0)","v":0},{"$f":"IF($G24=\"Non-essential\",0,1)*IF('Assessment Framework'!BB24=\"Y\",1,0)","v":0},{"$f":"IF($G24=\"Non-essential\",0,1)*IF('Assessment Framework'!BC24=\"Y\",1,0)","v":0},{"$f":"IF($G24=\"Non-essential\",0,1)*IF('Assessment Framework'!BD24=\"Y\",1,0)","v":0},{"$f":"IF($G24=\"Non-essential\",0,1)*IF('Assessment Framework'!BE24=\"Y\",1,0)","v":0},{"$f":"IF($G24=\"Non-essential\",0,1)*IF('Assessment Framework'!BF24=\"Y\",1,0)","v":0},{"$f":"IF($G24=\"Non-essential\",0,1)*IF('Assessment Framework'!BG24=\"Y\",1,0)","v":0},{"$f":"IF($G24=\"Non-essential\",0,1)*IF('Assessment Framework'!BH24=\"Y\",1,0)","v":0},{"$f":"IF($G24=\"Non-essential\",0,1)*IF('Assessment Framework'!BI24=\"Y\",1,0)","v":0},{"$f":"IF($G24=\"Non-essential\",0,1)*IF('Assessment Framework'!BJ24=\"Y\",1,0)","v":0},{"$f":"IF($G24=\"Non-essential\",0,1)*IF('Assessment Framework'!BK24=\"Y\",1,0)","v":0},{"$f":"IF($G24=\"Non-essential\",0,1)*IF('Assessment Framework'!BL24=\"Y\",1,0)","v":0},{"$f":"IF($G24=\"Non-essential\",0,1)*IF('Assessment Framework'!BM24=\"Y\",1,0)","v":0},{"$f":"IF($G24=\"Non-essential\",0,1)*IF('Assessment Framework'!BN24=\"Y\",1,0)","v":0},{"$f":"IF($G24=\"Non-essential\",0,1)*IF('Assessment Framework'!BO24=\"Y\",1,0)","v":0},{"$f":"IF($G24=\"Non-essential\",0,1)*IF('Assessment Framework'!BP24=\"Y\",1,0)","v":0},{"$f":"IF($G24=\"Non-essential\",0,1)*IF('Assessment Framework'!BQ24=\"Y\",1,0)","v":0},{"$f":"IF($G24=\"Non-essential\",0,1)*IF('Assessment Framework'!BR24=\"Y\",1,0)","v":0},{"$f":"IF($G24=\"Non-essential\",0,1)*IF('Assessment Framework'!BS24=\"Y\",1,0)","v":0},{"$f":"IF($G24=\"Non-essential\",0,1)*IF('Assessment Framework'!BT24=\"Y\",1,0)","v":0},{"$f":"IF($G24=\"Non-essential\",0,1)*IF('Assessment Framework'!BU24=\"Y\",1,0)","v":0},{"$f":"IF($G24=\"Non-essential\",0,1)*IF('Assessment Framework'!BV24=\"Y\",1,0)","v":0},{"$f":"IF($G24=\"Non-essential\",0,1)*IF('Assessment Framework'!BW24=\"Y\",1,0)","v":0},{"$f":"IF($G24=\"Non-essential\",0,1)*IF('Assessment Framework'!BX24=\"Y\",1,0)","v":0},{"$f":"IF($G24=\"Non-essential\",0,1)*IF('Assessment Framework'!BY24=\"Y\",1,0)","v":0},{"$f":"IF($G24=\"Non-essential\",0,1)*IF('Assessment Framework'!BZ24=\"Y\",1,0)","v":0},{"$f":"IF($G24=\"Non-essential\",0,1)*IF('Assessment Framework'!CA24=\"Y\",1,0)","v":0},{"$f":"IF($G24=\"Non-essential\",0,1)*IF('Assessment Framework'!CB24=\"Y\",1,0)","v":0},{"$f":"IF($G24=\"Non-essential\",0,1)*IF('Assessment Framework'!CC24=\"Y\",1,0)","v":0},{"$f":"IF($G24=\"Non-essential\",0,1)*IF('Assessment Framework'!CD24=\"Y\",1,0)","v":0},{"$f":"IF($G24=\"Non-essential\",0,1)*IF('Assessment Framework'!CE24=\"Y\",1,0)","v":0},{"$f":"IF($G24=\"Non-essential\",0,1)*IF('Assessment Framework'!CF24=\"Y\",1,0)","v":0},{"$f":"IF($G24=\"Non-essential\",0,1)*IF('Assessment Framework'!CG24=\"Y\",1,0)","v":0},{"$f":"IF($G24=\"Non-essential\",0,1)*IF('Assessment Framework'!CH24=\"Y\",1,0)","v":0},{"$f":"IF($G24=\"Non-essential\",0,1)*IF('Assessment Framework'!CI24=\"Y\",1,0)","v":0},{"$f":"IF($G24=\"Non-essential\",0,1)*IF('Assessment Framework'!CJ24=\"Y\",1,0)","v":0},{"$f":"IF($G24=\"Non-essential\",0,1)*IF('Assessment Framework'!CK24=\"Y\",1,0)","v":0},{"$f":"IF($G24=\"Non-essential\",0,1)*IF('Assessment Framework'!CL24=\"Y\",1,0)","v":0},{"$f":"IF($G24=\"Non-essential\",0,1)*IF('Assessment Framework'!CM24=\"Y\",1,0)","v":0}]
[null,null,null,"Coastal","Interface between land and sea (e.g. beaches).","Y,N",{"$f":"IF('A - Policy objectives'!C29=\"\",\"Non-essential\",'A - Policy objectives'!C29)","v":"Non-essential"},{"$f":"IF($G25=\"Non-essential\",0,1)*IF('Assessment Framework'!G25=\"Y\",1,0)","v":0},{"$f":"IF($G25=\"Non-essential\",0,1)*IF('Assessment Framework'!H25=\"Y\",1,0)","v":0},{"$f":"IF($G25=\"Non-essential\",0,1)*IF('Assessment Framework'!I25=\"Y\",1,0)","v":0},{"$f":"IF($G25=\"Non-essential\",0,1)*IF('Assessment Framework'!J25=\"Y\",1,0)","v":0},{"$f":"IF($G25=\"Non-essential\",0,1)*IF('Assessment Framework'!K25=\"Y\",1,0)","v":0},{"$f":"IF($G25=\"Non-essential\",0,1)*IF('Assessment Framework'!L25=\"Y\",1,0)","v":0},{"$f":"IF($G25=\"Non-essential\",0,1)*IF('Assessment Framework'!M25=\"Y\",1,0)","v":0},{"$f":"IF($G25=\"Non-essential\",0,1)*IF('Assessment Framework'!N25=\"Y\",1,0)","v":0},{"$f":"IF($G25=\"Non-essential\",0,1)*IF('Assessment Framework'!O25=\"Y\",1,0)","v":0},{"$f":"IF($G25=\"Non-essential\",0,1)*IF('Assessment Framework'!P25=\"Y\",1,0)","v":0},{"$f":"IF($G25=\"Non-essential\",0,1)*IF('Assessment Framework'!Q25=\"Y\",1,0)","v":0},{"$f":"IF($G25=\"Non-essential\",0,1)*IF('Assessment Framework'!R25=\"Y\",1,0)","v":0},{"$f":"IF($G25=\"Non-essential\",0,1)*IF('Assessment Framework'!S25=\"Y\",1,0)","v":0},{"$f":"IF($G25=\"Non-essential\",0,1)*IF('Assessment Framework'!T25=\"Y\",1,0)","v":0},{"$f":"IF($G25=\"Non-essential\",0,1)*IF('Assessment Framework'!U25=\"Y\",1,0)","v":0},{"$f":"IF($G25=\"Non-essential\",0,1)*IF('Assessment Framework'!V25=\"Y\",1,0)","v":0},{"$f":"IF($G25=\"Non-essential\",0,1)*IF('Assessment Framework'!W25=\"Y\",1,0)","v":0},{"$f":"IF($G25=\"Non-essential\",0,1)*IF('Assessment Framework'!X25=\"Y\",1,0)","v":0},{"$f":"IF($G25=\"Non-essential\",0,1)*IF('Assessment Framework'!Y25=\"Y\",1,0)","v":0},{"$f":"IF($G25=\"Non-essential\",0,1)*IF('Assessment Framework'!Z25=\"Y\",1,0)","v":0},{"$f":"IF($G25=\"Non-essential\",0,1)*IF('Assessment Framework'!AA25=\"Y\",1,0)","v":0},{"$f":"IF($G25=\"Non-essential\",0,1)*IF('Assessment Framework'!AB25=\"Y\",1,0)","v":0},{"$f":"IF($G25=\"Non-essential\",0,1)*IF('Assessment Framework'!AC25=\"Y\",1,0)","v":0},{"$f":"IF($G25=\"Non-essential\",0,1)*IF('Assessment Framework'!AD25=\"Y\",1,0)","v":0},{"$f":"IF($G25=\"Non-essential\",0,1)*IF('Assessment Framework'!AE25=\"Y\",1,0)","v":0},{"$f":"IF($G25=\"Non-essential\",0,1)*IF('Assessment Framework'!AF25=\"Y\",1,0)","v":0},{"$f":"IF($G25=\"Non-essential\",0,1)*IF('Assessment Framework'!AG25=\"Y\",1,0)","v":0},{"$f":"IF($G25=\"Non-essential\",0,1)*IF('Assessment Framework'!AH25=\"Y\",1,0)","v":0},{"$f":"IF($G25=\"Non-essential\",0,1)*IF('Assessment Framework'!AI25=\"Y\",1,0)","v":0},{"$f":"IF($G25=\"Non-essential\",0,1)*IF('Assessment Framework'!AJ25=\"Y\",1,0)","v":0},{"$f":"IF($G25=\"Non-essential\",0,1)*IF('Assessment Framework'!AK25=\"Y\",1,0)","v":0},{"$f":"IF($G25=\"Non-essential\",0,1)*IF('Assessment Framework'!AL25=\"Y\",1,0)","v":0},{"$f":"IF($G25=\"Non-essential\",0,1)*IF('Assessment Framework'!AM25=\"Y\",1,0)","v":0},{"$f":"IF($G25=\"Non-essential\",0,1)*IF('Assessment Framework'!AN25=\"Y\",1,0)","v":0},{"$f":"IF($G25=\"Non-essential\",0,1)*IF('Assessment Framework'!AO25=\"Y\",1,0)","v":0},{"$f":"IF($G25=\"Non-essential\",0,1)*IF('Assessment Framework'!AP25=\"Y\",1,0)","v":0},{"$f":"IF($G25=\"Non-essential\",0,1)*IF('Assessment Framework'!AQ25=\"Y\",1,0)","v":0},{"$f":"IF($G25=\"Non-essential\",0,1)*IF('Assessment Framework'!AR25=\"Y\",1,0)","v":0},{"$f":"IF($G25=\"Non-essential\",0,1)*IF('Assessment Framework'!AS25=\"Y\",1,0)","v":0},{"$f":"IF($G25=\"Non-essential\",0,1)*IF('Assessment Framework'!AT25=\"Y\",1,0)","v":0},{"$f":"IF($G25=\"Non-essential\",0,1)*IF('Assessment Framework'!AU25=\"Y\",1,0)","v":0},{"$f":"IF($G25=\"Non-essential\",0,1)*IF('Assessment Framework'!AV25=\"Y\",1,0)","v":0},{"$f":"IF($G25=\"Non-essential\",0,1)*IF('Assessment Framework'!AW25=\"Y\",1,0)","v":0},{"$f":"IF($G25=\"Non-essential\",0,1)*IF('Assessment Framework'!AX25=\"Y\",1,0)","v":0},{"$f":"IF($G25=\"Non-essential\",0,1)*IF('Assessment Framework'!AY25=\"Y\",1,0)","v":0},{"$f":"IF($G25=\"Non-essential\",0,1)*IF('Assessment Framework'!AZ25=\"Y\",1,0)","v":0},{"$f":"IF($G25=\"Non-essential\",0,1)*IF('Assessment Framework'!BA25=\"Y\",1,0)","v":0},{"$f":"IF($G25=\"Non-essential\",0,1)*IF('Assessment Framework'!BB25=\"Y\",1,0)","v":0},{"$f":"IF($G25=\"Non-essential\",0,1)*IF('Assessment Framework'!BC25=\"Y\",1,0)","v":0},{"$f":"IF($G25=\"Non-essential\",0,1)*IF('Assessment Framework'!BD25=\"Y\",1,0)","v":0},{"$f":"IF($G25=\"Non-essential\",0,1)*IF('Assessment Framework'!BE25=\"Y\",1,0)","v":0},{"$f":"IF($G25=\"Non-essential\",0,1)*IF('Assessment Framework'!BF25=\"Y\",1,0)","v":0},{"$f":"IF($G25=\"Non-essential\",0,1)*IF('Assessment Framework'!BG25=\"Y\",1,0)","v":0},{"$f":"IF($G25=\"Non-essential\",0,1)*IF('Assessment Framework'!BH25=\"Y\",1,0)","v":0},{"$f":"IF($G25=\"Non-essential\",0,1)*IF('Assessment Framework'!BI25=\"Y\",1,0)","v":0},{"$f":"IF($G25=\"Non-essential\",0,1)*IF('Assessment Framework'!BJ25=\"Y\",1,0)","v":0},{"$f":"IF($G25=\"Non-essential\",0,1)*IF('Assessment Framework'!BK25=\"Y\",1,0)","v":0},{"$f":"IF($G25=\"Non-essential\",0,1)*IF('Assessment Framework'!BL25=\"Y\",1,0)","v":0},{"$f":"IF($G25=\"Non-essential\",0,1)*IF('Assessment Framework'!BM25=\"Y\",1,0)","v":0},{"$f":"IF($G25=\"Non-essential\",0,1)*IF('Assessment Framework'!BN25=\"Y\",1,0)","v":0},{"$f":"IF($G25=\"Non-essential\",0,1)*IF('Assessment Framework'!BO25=\"Y\",1,0)","v":0},{"$f":"IF($G25=\"Non-essential\",0,1)*IF('Assessment Framework'!BP25=\"Y\",1,0)","v":0},{"$f":"IF($G25=\"Non-essential\",0,1)*IF('Assessment Framework'!BQ25=\"Y\",1,0)","v":0},{"$f":"IF($G25=\"Non-essential\",0,1)*IF('Assessment Framework'!BR25=\"Y\",1,0)","v":0},{"$f":"IF($G25=\"Non-essential\",0,1)*IF('Assessment Framework'!BS25=\"Y\",1,0)","v":0},{"$f":"IF($G25=\"Non-essential\",0,1)*IF('Assessment Framework'!BT25=\"Y\",1,0)","v":0},{"$f":"IF($G25=\"Non-essential\",0,1)*IF('Assessment Framework'!BU25=\"Y\",1,0)","v":0},{"$f":"IF($G25=\"Non-essential\",0,1)*IF('Assessment Framework'!BV25=\"Y\",1,0)","v":0},{"$f":"IF($G25=\"Non-essential\",0,1)*IF('Assessment Framework'!BW25=\"Y\",1,0)","v":0},{"$f":"IF($G25=\"Non-essential\",0,1)*IF('Assessment Framework'!BX25=\"Y\",1,0)","v":0},{"$f":"IF($G25=\"Non-essential\",0,1)*IF('Assessment Framework'!BY25=\"Y\",1,0)","v":0},{"$f":"IF($G25=\"Non-essential\",0,1)*IF('Assessment Framework'!BZ25=\"Y\",1,0)","v":0},{"$f":"IF($G25=\"Non-essential\",0,1)*IF('Assessment Framework'!CA25=\"Y\",1,0)","v":0},{"$f":"IF($G25=\"Non-essential\",0,1)*IF('Assessment Framework'!CB25=\"Y\",1,0)","v":0},{"$f":"IF($G25=\"Non-essential\",0,1)*IF('Assessment Framework'!CC25=\"Y\",1,0)","v":0},{"$f":"IF($G25=\"Non-essential\",0,1)*IF('Assessment Framework'!CD25=\"Y\",1,0)","v":0},{"$f":"IF($G25=\"Non-essential\",0,1)*IF('Assessment Framework'!CE25=\"Y\",1,0)","v":0},{"$f":"IF($G25=\"Non-essential\",0,1)*IF('Assessment Framework'!CF25=\"Y\",1,0)","v":0},{"$f":"IF($G25=\"Non-essential\",0,1)*IF('Assessment Framework'!CG25=\"Y\",1,0)","v":0},{"$f":"IF($G25=\"Non-essential\",0,1)*IF('Assessment Framework'!CH25=\"Y\",1,0)","v":0},{"$f":"IF($G25=\"Non-essential\",0,1)*IF('Assessment Framework'!CI25=\"Y\",1,0)","v":0},{"$f":"IF($G25=\"Non-essential\",0,1)*IF('Assessment Framework'!CJ25=\"Y\",1,0)","v":0},{"$f":"IF($G25=\"Non-essential\",0,1)*IF('Assessment Framework'!CK25=\"Y\",1,0)","v":0},{"$f":"IF($G25=\"Non-essential\",0,1)*IF('Assessment Framework'!CL25=\"Y\",1,0)","v":0},{"$f":"IF($G25=\"Non-essential\",0,1)*IF('Assessment Framework'!CM25=\"Y\",1,0)","v":0}]
[null,null,null,"Marine","Oceans and seas.","Y,N",{"$f":"IF('A - Policy objectives'!C30=\"\",\"Non-essential\",'A - Policy objectives'!C30)","v":"Non-essential"},{"$f":"IF($G26=\"Non-essential\",0,1)*IF('Assessment Framework'!G26=\"Y\",1,0)","v":0},{"$f":"IF($G26=\"Non-essential\",0,1)*IF('Assessment Framework'!H26=\"Y\",1,0)","v":0},{"$f":"IF($G26=\"Non-essential\",0,1)*IF('Assessment Framework'!I26=\"Y\",1,0)","v":0},{"$f":"IF($G26=\"Non-essential\",0,1)*IF('Assessment Framework'!J26=\"Y\",1,0)","v":0},{"$f":"IF($G26=\"Non-essential\",0,1)*IF('Assessment Framework'!K26=\"Y\",1,0)","v":0},{"$f":"IF($G26=\"Non-essential\",0,1)*IF('Assessment Framework'!L26=\"Y\",1,0)","v":0},{"$f":"IF($G26=\"Non-essential\",0,1)*IF('Assessment Framework'!M26=\"Y\",1,0)","v":0},{"$f":"IF($G26=\"Non-essential\",0,1)*IF('Assessment Framework'!N26=\"Y\",1,0)","v":0},{"$f":"IF($G26=\"Non-essential\",0,1)*IF('Assessment Framework'!O26=\"Y\",1,0)","v":0},{"$f":"IF($G26=\"Non-essential\",0,1)*IF('Assessment Framework'!P26=\"Y\",1,0)","v":0},{"$f":"IF($G26=\"Non-essential\",0,1)*IF('Assessment Framework'!Q26=\"Y\",1,0)","v":0},{"$f":"IF($G26=\"Non-essential\",0,1)*IF('Assessment Framework'!R26=\"Y\",1,0)","v":0},{"$f":"IF($G26=\"Non-essential\",0,1)*IF('Assessment Framework'!S26=\"Y\",1,0)","v":0},{"$f":"IF($G26=\"Non-essential\",0,1)*IF('Assessment Framework'!T26=\"Y\",1,0)","v":0},{"$f":"IF($G26=\"Non-essential\",0,1)*IF('Assessment Framework'!U26=\"Y\",1,0)","v":0},{"$f":"IF($G26=\"Non-essential\",0,1)*IF('Assessment Framework'!V26=\"Y\",1,0)","v":0},{"$f":"IF($G26=\"Non-essential\",0,1)*IF('Assessment Framework'!W26=\"Y\",1,0)","v":0},{"$f":"IF($G26=\"Non-essential\",0,1)*IF('Assessment Framework'!X26=\"Y\",1,0)","v":0},{"$f":"IF($G26=\"Non-essential\",0,1)*IF('Assessment Framework'!Y26=\"Y\",1,0)","v":0},{"$f":"IF($G26=\"Non-essential\",0,1)*IF('Assessment Framework'!Z26=\"Y\",1,0)","v":0},{"$f":"IF($G26=\"Non-essential\",0,1)*IF('Assessment Framework'!AA26=\"Y\",1,0)","v":0},{"$f":"IF($G26=\"Non-essential\",0,1)*IF('Assessment Framework'!AB26=\"Y\",1,0)","v":0},{"$f":"IF($G26=\"Non-essential\",0,1)*IF('Assessment Framework'!AC26=\"Y\",1,0)","v":0},{"$f":"IF($G26=\"Non-essential\",0,1)*IF('Assessment Framework'!AD26=\"Y\",1,0)","v":0},{"$f":"IF($G26=\"Non-essential\",0,1)*IF('Assessment Framework'!AE26=\"Y\",1,0)","v":0},{"$f":"IF($G26=\"Non-essential\",0,1)*IF('Assessment Framework'!AF26=\"Y\",1,0)","v":0},{"$f":"IF($G26=\"Non-essential\",0,1)*IF('Assessment Framework'!AG26=\"Y\",1,0)","v":0},{"$f":"IF($G26=\"Non-essential\",0,1)*IF('Assessment Framework'!AH26=\"Y\",1,0)","v":0},{"$f":"IF($G26=\"Non-essential\",0,1)*IF('Assessment Framework'!AI26=\"Y\",1,0)","v":0},{"$f":"IF($G26=\"Non-essential\",0,1)*IF('Assessment Framework'!AJ26=\"Y\",1,0)","v":0},{"$f":"IF($G26=\"Non-essential\",0,1)*IF('Assessment Framework'!AK26=\"Y\",1,0)","v":0},{"$f":"IF($G26=\"Non-essential\",0,1)*IF('Assessment Framework'!AL26=\"Y\",1,0)","v":0},{"$f":"IF($G26=\"Non-essential\",0,1)*IF('Assessment Framework'!AM26=\"Y\",1,0)","v":0},{"$f":"IF($G26=\"Non-essential\",0,1)*IF('Assessment Framework'!AN26=\"Y\",1,0)","v":0},{"$f":"IF($G26=\"Non-essential\",0,1)*IF('Assessment Framework'!AO26=\"Y\",1,0)","v":0},{"$f":"IF($G26=\"Non-essential\",0,1)*IF('Assessment Framework'!AP26=\"Y\",1,0)","v":0},{"$f":"IF($G26=\"Non-essential\",0,1)*IF('Assessment Framework'!AQ26=\"Y\",1,0)","v":0},{"$f":"IF($G26=\"Non-essential\",0,1)*IF('Assessment Framework'!AR26=\"Y\",1,0)","v":0},{"$f":"IF($G26=\"Non-essential\",0,1)*IF('Assessment Framework'!AS26=\"Y\",1,0)","v":0},{"$f":"IF($G26=\"Non-essential\",0,1)*IF('Assessment Framework'!AT26=\"Y\",1,0)","v":0},{"$f":"IF($G26=\"Non-essential\",0,1)*IF('Assessment Framework'!AU26=\"Y\",1,0)","v":0},{"$f":"IF($G26=\"Non-essential\",0,1)*IF('Assessment Framework'!AV26=\"Y\",1,0)","v":0},{"$f":"IF($G26=\"Non-essential\",0,1)*IF('Assessment Framework'!AW26=\"Y\",1,0)","v":0},{"$f":"IF($G26=\"Non-essential\",0,1)*IF('Assessment Framework'!AX26=\"Y\",1,0)","v":0},{"$f":"IF($G26=\"Non-essential\",0,1)*IF('Assessment Framework'!AY26=\"Y\",1,0)","v":0},{"$f":"IF($G26=\"Non-essential\",0,1)*IF('Assessment Framework'!AZ26=\"Y\",1,0)","v":0},{"$f":"IF($G26=\"Non-essential\",0,1)*IF('Assessment Framework'!BA26=\"Y\",1,0)","v":0},{"$f":"IF($G26=\"Non-essential\",0,1)*IF('Assessment Framework'!BB26=\"Y\",1,0)","v":0},{"$f":"IF($G26=\"Non-essential\",0,1)*IF('Assessment Framework'!BC26=\"Y\",1,0)","v":0},{"$f":"IF($G26=\"Non-essential\",0,1)*IF('Assessment Framework'!BD26=\"Y\",1,0)","v":0},{"$f":"IF($G26=\"Non-essential\",0,1)*IF('Assessment Framework'!BE26=\"Y\",1,0)","v":0},{"$f":"IF($G26=\"Non-essential\",0,1)*IF('Assessment Framework'!BF26=\"Y\",1,0)","v":0},{"$f":"IF($G26=\"Non-essential\",0,1)*IF('Assessment Framework'!BG26=\"Y\",1,0)","v":0},{"$f":"IF($G26=\"Non-essential\",0,1)*IF('Assessment Framework'!BH26=\"Y\",1,0)","v":0},{"$f":"IF($G26=\"Non-essential\",0,1)*IF('Assessment Framework'!BI26=\"Y\",1,0)","v":0},{"$f":"IF($G26=\"Non-essential\",0,1)*IF('Assessment Framework'!BJ26=\"Y\",1,0)","v":0},{"$f":"IF($G26=\"Non-essential\",0,1)*IF('Assessment Framework'!BK26=\"Y\",1,0)","v":0},{"$f":"IF($G26=\"Non-essential\",0,1)*IF('Assessment Framework'!BL26=\"Y\",1,0)","v":0},{"$f":"IF($G26=\"Non-essential\",0,1)*IF('Assessment Framework'!BM26=\"Y\",1,0)","v":0},{"$f":"IF($G26=\"Non-essential\",0,1)*IF('Assessment Framework'!BN26=\"Y\",1,0)","v":0},{"$f":"IF($G26=\"Non-essential\",0,1)*IF('Assessment Framework'!BO26=\"Y\",1,0)","v":0},{"$f":"IF($G26=\"Non-essential\",0,1)*IF('Assessment Framework'!BP26=\"Y\",1,0)","v":0},{"$f":"IF($G26=\"Non-essential\",0,1)*IF('Assessment Framework'!BQ26=\"Y\",1,0)","v":0},{"$f":"IF($G26=\"Non-essential\",0,1)*IF('Assessment Framework'!BR26=\"Y\",1,0)","v":0},{"$f":"IF($G26=\"Non-essential\",0,1)*IF('Assessment Framework'!BS26=\"Y\",1,0)","v":0},{"$f":"IF($G26=\"Non-essential\",0,1)*IF('Assessment Framework'!BT26=\"Y\",1,0)","v":0},{"$f":"IF($G26=\"Non-essential\",0,1)*IF('Assessment Framework'!BU26=\"Y\",1,0)","v":0},{"$f":"IF($G26=\"Non-essential\",0,1)*IF('Assessment Framework'!BV26=\"Y\",1,0)","v":0},{"$f":"IF($G26=\"Non-essential\",0,1)*IF('Assessment Framework'!BW26=\"Y\",1,0)","v":0},{"$f":"IF($G26=\"Non-essential\",0,1)*IF('Assessment Framework'!BX26=\"Y\",1,0)","v":0},{"$f":"IF($G26=\"Non-essential\",0,1)*IF('Assessment Framework'!BY26=\"Y\",1,0)","v":0},{"$f":"IF($G26=\"Non-essential\",0,1)*IF('Assessment Framework'!BZ26=\"Y\",1,0)","v":0},{"$f":"IF($G26=\"Non-essential\",0,1)*IF('Assessment Framework'!CA26=\"Y\",1,0)","v":0},{"$f":"IF($G26=\"Non-essential\",0,1)*IF('Assessment Framework'!CB26=\"Y\",1,0)","v":0},{"$f":"IF($G26=\"Non-essential\",0,1)*IF('Assessment Framework'!CC26=\"Y\",1,0)","v":0},{"$f":"IF($G26=\"Non-essential\",0,1)*IF('Assessment Framework'!CD26=\"Y\",1,0)","v":0},{"$f":"IF($G26=\"Non-essential\",0,1)*IF('Assessment Framework'!CE26=\"Y\",1,0)","v":0},{"$f":"IF($G26=\"Non-essential\",0,1)*IF('Assessment Framework'!CF26=\"Y\",1,0)","v":0},{"$f":"IF($G26=\"Non-essential\",0,1)*IF('Assessment Framework'!CG26=\"Y\",1,0)","v":0},{"$f":"IF($G26=\"Non-essential\",0,1)*IF('Assessment Framework'!CH26=\"Y\",1,0)","v":0},{"$f":"IF($G26=\"Non-essential\",0,1)*IF('Assessment Framework'!CI26=\"Y\",1,0)","v":0},{"$f":"IF($G26=\"Non-essential\",0,1)*IF('Assessment Framework'!CJ26=\"Y\",1,0)","v":0},{"$f":"IF($G26=\"Non-essential\",0,1)*IF('Assessment Framework'!CK26=\"Y\",1,0)","v":0},{"$f":"IF($G26=\"Non-essential\",0,1)*IF('Assessment Framework'!CL26=\"Y\",1,0)","v":0},{"$f":"IF($G26=\"Non-essential\",0,1)*IF('Assessment Framework'!CM26=\"Y\",1,0)","v":0}]
[null,"Resource availability","The level of resources relates to the resources available to both collect data and implement the methodology, categorised by the required expertise, equipment and time. The average combination of these dictates the overall budget requirements. \n\nAlthough it can be tempting to limit results to methodologies requiring the lowest resources, it should be noted that the quality of outputs are often related to the resources applied. Similarly, the actual level of resource required often depends on the overall scope of the project, and scorings applied in the framework are suggestions only. If in doubt, we recommend leaving this question blank.\n","Expertise required","Level of expertise required (e.g. level of support required from third parties)","High, Medium, Low",{"$f":"IF('A - Policy objectives'!C33=\"\",\"\",'A - Policy objectives'!C33)","v":""},{"$f":"IF($G27<>\"\",IF('Assessment Framework'!G27=$G27,1,IF(AND($G27=\"High\",OR('Assessment Framework'!G27=\"Medium\",'Assessment Framework'!G27=\"Low\")),0.5,IF(AND($G27=\"Medium\",'Assessment Framework'!G27=\"Low\"),0.5,0))),0)","v":0},{"$f":"IF($G27<>\"\",IF('Assessment Framework'!H27=$G27,1,IF(AND($G27=\"High\",OR('Assessment Framework'!H27=\"Medium\",'Assessment Framework'!H27=\"Low\")),0.5,IF(AND($G27=\"Medium\",'Assessment Framework'!H27=\"Low\"),0.5,0))),0)","v":0},{"$f":"IF($G27<>\"\",IF('Assessment Framework'!I27=$G27,1,IF(AND($G27=\"High\",OR('Assessment Framework'!I27=\"Medium\",'Assessment Framework'!I27=\"Low\")),0.5,IF(AND($G27=\"Medium\",'Assessment Framework'!I27=\"Low\"),0.5,0))),0)","v":0},{"$f":"IF($G27<>\"\",IF('Assessment Framework'!J27=$G27,1,IF(AND($G27=\"High\",OR('Assessment Framework'!J27=\"Medium\",'Assessment Framework'!J27=\"Low\")),0.5,IF(AND($G27=\"Medium\",'Assessment Framework'!J27=\"Low\"),0.5,0))),0)","v":0},{"$f":"IF($G27<>\"\",IF('Assessment Framework'!K27=$G27,1,IF(AND($G27=\"High\",OR('Assessment Framework'!K27=\"Medium\",'Assessment Framework'!K27=\"Low\")),0.5,IF(AND($G27=\"Medium\",'Assessment Framework'!K27=\"Low\"),0.5,0))),0)","v":0},{"$f":"IF($G27<>\"\",IF('Assessment Framework'!L27=$G27,1,IF(AND($G27=\"High\",OR('Assessment Framework'!L27=\"Medium\",'Assessment Framework'!L27=\"Low\")),0.5,IF(AND($G27=\"Medium\",'Assessment Framework'!L27=\"Low\"),0.5,0))),0)","v":0},{"$f":"IF($G27<>\"\",IF('Assessment Framework'!M27=$G27,1,IF(AND($G27=\"High\",OR('Assessment Framework'!M27=\"Medium\",'Assessment Framework'!M27=\"Low\")),0.5,IF(AND($G27=\"Medium\",'Assessment Framework'!M27=\"Low\"),0.5,0))),0)","v":0},{"$f":"IF($G27<>\"\",IF('Assessment Framework'!N27=$G27,1,IF(AND($G27=\"High\",OR('Assessment Framework'!N27=\"Medium\",'Assessment Framework'!N27=\"Low\")),0.5,IF(AND($G27=\"Medium\",'Assessment Framework'!N27=\"Low\"),0.5,0))),0)","v":0},{"$f":"IF($G27<>\"\",IF('Assessment Framework'!O27=$G27,1,IF(AND($G27=\"High\",OR('Assessment Framework'!O27=\"Medium\",'Assessment Framework'!O27=\"Low\")),0.5,IF(AND($G27=\"Medium\",'Assessment Framework'!O27=\"Low\"),0.5,0))),0)","v":0},{"$f":"IF($G27<>\"\",IF('Assessment Framework'!P27=$G27,1,IF(AND($G27=\"High\",OR('Assessment Framework'!P27=\"Medium\",'Assessment Framework'!P27=\"Low\")),0.5,IF(AND($G27=\"Medium\",'Assessment Framework'!P27=\"Low\"),0.5,0))),0)","v":0},{"$f":"IF($G27<>\"\",IF('Assessment Framework'!Q27=$G27,1,IF(AND($G27=\"High\",OR('Assessment Framework'!Q27=\"Medium\",'Assessment Framework'!Q27=\"Low\")),0.5,IF(AND($G27=\"Medium\",'Assessment Framework'!Q27=\"Low\"),0.5,0))),0)","v":0},{"$f":"IF($G27<>\"\",IF('Assessment Framework'!R27=$G27,1,IF(AND($G27=\"High\",OR('Assessment Framework'!R27=\"Medium\",'Assessment Framework'!R27=\"Low\")),0.5,IF(AND($G27=\"Medium\",'Assessment Framework'!R27=\"Low\"),0.5,0))),0)","v":0},{"$f":"IF($G27<>\"\",IF('Assessment Framework'!S27=$G27,1,IF(AND($G27=\"High\",OR('Assessment Framework'!S27=\"Medium\",'Assessment Framework'!S27=\"Low\")),0.5,IF(AND($G27=\"Medium\",'Assessment Framework'!S27=\"Low\"),0.5,0))),0)","v":0},{"$f":"IF($G27<>\"\",IF('Assessment Framework'!T27=$G27,1,IF(AND($G27=\"High\",OR('Assessment Framework'!T27=\"Medium\",'Assessment Framework'!T27=\"Low\")),0.5,IF(AND($G27=\"Medium\",'Assessment Framework'!T27=\"Low\"),0.5,0))),0)","v":0},{"$f":"IF($G27<>\"\",IF('Assessment Framework'!U27=$G27,1,IF(AND($G27=\"High\",OR('Assessment Framework'!U27=\"Medium\",'Assessment Framework'!U27=\"Low\")),0.5,IF(AND($G27=\"Medium\",'Assessment Framework'!U27=\"Low\"),0.5,0))),0)","v":0},{"$f":"IF($G27<>\"\",IF('Assessment Framework'!V27=$G27,1,IF(AND($G27=\"High\",OR('Assessment Framework'!V27=\"Medium\",'Assessment Framework'!V27=\"Low\")),0.5,IF(AND($G27=\"Medium\",'Assessment Framework'!V27=\"Low\"),0.5,0))),0)","v":0},{"$f":"IF($G27<>\"\",IF('Assessment Framework'!W27=$G27,1,IF(AND($G27=\"High\",OR('Assessment Framework'!W27=\"Medium\",'Assessment Framework'!W27=\"Low\")),0.5,IF(AND($G27=\"Medium\",'Assessment Framework'!W27=\"Low\"),0.5,0))),0)","v":0},{"$f":"IF($G27<>\"\",IF('Assessment Framework'!X27=$G27,1,IF(AND($G27=\"High\",OR('Assessment Framework'!X27=\"Medium\",'Assessment Framework'!X27=\"Low\")),0.5,IF(AND($G27=\"Medium\",'Assessment Framework'!X27=\"Low\"),0.5,0))),0)","v":0},{"$f":"IF($G27<>\"\",IF('Assessment Framework'!Y27=$G27,1,IF(AND($G27=\"High\",OR('Assessment Framework'!Y27=\"Medium\",'Assessment Framework'!Y27=\"Low\")),0.5,IF(AND($G27=\"Medium\",'Assessment Framework'!Y27=\"Low\"),0.5,0))),0)","v":0},{"$f":"IF($G27<>\"\",IF('Assessment Framework'!Z27=$G27,1,IF(AND($G27=\"High\",OR('Assessment Framework'!Z27=\"Medium\",'Assessment Framework'!Z27=\"Low\")),0.5,IF(AND($G27=\"Medium\",'Assessment Framework'!Z27=\"Low\"),0.5,0))),0)","v":0},{"$f":"IF($G27<>\"\",IF('Assessment Framework'!AA27=$G27,1,IF(AND($G27=\"High\",OR('Assessment Framework'!AA27=\"Medium\",'Assessment Framework'!AA27=\"Low\")),0.5,IF(AND($G27=\"Medium\",'Assessment Framework'!AA27=\"Low\"),0.5,0))),0)","v":0},{"$f":"IF($G27<>\"\",IF('Assessment Framework'!AB27=$G27,1,IF(AND($G27=\"High\",OR('Assessment Framework'!AB27=\"Medium\",'Assessment Framework'!AB27=\"Low\")),0.5,IF(AND($G27=\"Medium\",'Assessment Framework'!AB27=\"Low\"),0.5,0))),0)","v":0},{"$f":"IF($G27<>\"\",IF('Assessment Framework'!AC27=$G27,1,IF(AND($G27=\"High\",OR('Assessment Framework'!AC27=\"Medium\",'Assessment Framework'!AC27=\"Low\")),0.5,IF(AND($G27=\"Medium\",'Assessment Framework'!AC27=\"Low\"),0.5,0))),0)","v":0},{"$f":"IF($G27<>\"\",IF('Assessment Framework'!AD27=$G27,1,IF(AND($G27=\"High\",OR('Assessment Framework'!AD27=\"Medium\",'Assessment Framework'!AD27=\"Low\")),0.5,IF(AND($G27=\"Medium\",'Assessment Framework'!AD27=\"Low\"),0.5,0))),0)","v":0},{"$f":"IF($G27<>\"\",IF('Assessment Framework'!AE27=$G27,1,IF(AND($G27=\"High\",OR('Assessment Framework'!AE27=\"Medium\",'Assessment Framework'!AE27=\"Low\")),0.5,IF(AND($G27=\"Medium\",'Assessment Framework'!AE27=\"Low\"),0.5,0))),0)","v":0},{"$f":"IF($G27<>\"\",IF('Assessment Framework'!AF27=$G27,1,IF(AND($G27=\"High\",OR('Assessment Framework'!AF27=\"Medium\",'Assessment Framework'!AF27=\"Low\")),0.5,IF(AND($G27=\"Medium\",'Assessment Framework'!AF27=\"Low\"),0.5,0))),0)","v":0},{"$f":"IF($G27<>\"\",IF('Assessment Framework'!AG27=$G27,1,IF(AND($G27=\"High\",OR('Assessment Framework'!AG27=\"Medium\",'Assessment Framework'!AG27=\"Low\")),0.5,IF(AND($G27=\"Medium\",'Assessment Framework'!AG27=\"Low\"),0.5,0))),0)","v":0},{"$f":"IF($G27<>\"\",IF('Assessment Framework'!AH27=$G27,1,IF(AND($G27=\"High\",OR('Assessment Framework'!AH27=\"Medium\",'Assessment Framework'!AH27=\"Low\")),0.5,IF(AND($G27=\"Medium\",'Assessment Framework'!AH27=\"Low\"),0.5,0))),0)","v":0},{"$f":"IF($G27<>\"\",IF('Assessment Framework'!AI27=$G27,1,IF(AND($G27=\"High\",OR('Assessment Framework'!AI27=\"Medium\",'Assessment Framework'!AI27=\"Low\")),0.5,IF(AND($G27=\"Medium\",'Assessment Framework'!AI27=\"Low\"),0.5,0))),0)","v":0},{"$f":"IF($G27<>\"\",IF('Assessment Framework'!AJ27=$G27,1,IF(AND($G27=\"High\",OR('Assessment Framework'!AJ27=\"Medium\",'Assessment Framework'!AJ27=\"Low\")),0.5,IF(AND($G27=\"Medium\",'Assessment Framework'!AJ27=\"Low\"),0.5,0))),0)","v":0},{"$f":"IF($G27<>\"\",IF('Assessment Framework'!AK27=$G27,1,IF(AND($G27=\"High\",OR('Assessment Framework'!AK27=\"Medium\",'Assessment Framework'!AK27=\"Low\")),0.5,IF(AND($G27=\"Medium\",'Assessment Framework'!AK27=\"Low\"),0.5,0))),0)","v":0},{"$f":"IF($G27<>\"\",IF('Assessment Framework'!AL27=$G27,1,IF(AND($G27=\"High\",OR('Assessment Framework'!AL27=\"Medium\",'Assessment Framework'!AL27=\"Low\")),0.5,IF(AND($G27=\"Medium\",'Assessment Framework'!AL27=\"Low\"),0.5,0))),0)","v":0},{"$f":"IF($G27<>\"\",IF('Assessment Framework'!AM27=$G27,1,IF(AND($G27=\"High\",OR('Assessment Framework'!AM27=\"Medium\",'Assessment Framework'!AM27=\"Low\")),0.5,IF(AND($G27=\"Medium\",'Assessment Framework'!AM27=\"Low\"),0.5,0))),0)","v":0},{"$f":"IF($G27<>\"\",IF('Assessment Framework'!AN27=$G27,1,IF(AND($G27=\"High\",OR('Assessment Framework'!AN27=\"Medium\",'Assessment Framework'!AN27=\"Low\")),0.5,IF(AND($G27=\"Medium\",'Assessment Framework'!AN27=\"Low\"),0.5,0))),0)","v":0},{"$f":"IF($G27<>\"\",IF('Assessment Framework'!AO27=$G27,1,IF(AND($G27=\"High\",OR('Assessment Framework'!AO27=\"Medium\",'Assessment Framework'!AO27=\"Low\")),0.5,IF(AND($G27=\"Medium\",'Assessment Framework'!AO27=\"Low\"),0.5,0))),0)","v":0},{"$f":"IF($G27<>\"\",IF('Assessment Framework'!AP27=$G27,1,IF(AND($G27=\"High\",OR('Assessment Framework'!AP27=\"Medium\",'Assessment Framework'!AP27=\"Low\")),0.5,IF(AND($G27=\"Medium\",'Assessment Framework'!AP27=\"Low\"),0.5,0))),0)","v":0},{"$f":"IF($G27<>\"\",IF('Assessment Framework'!AQ27=$G27,1,IF(AND($G27=\"High\",OR('Assessment Framework'!AQ27=\"Medium\",'Assessment Framework'!AQ27=\"Low\")),0.5,IF(AND($G27=\"Medium\",'Assessment Framework'!AQ27=\"Low\"),0.5,0))),0)","v":0},{"$f":"IF($G27<>\"\",IF('Assessment Framework'!AR27=$G27,1,IF(AND($G27=\"High\",OR('Assessment Framework'!AR27=\"Medium\",'Assessment Framework'!AR27=\"Low\")),0.5,IF(AND($G27=\"Medium\",'Assessment Framework'!AR27=\"Low\"),0.5,0))),0)","v":0},{"$f":"IF($G27<>\"\",IF('Assessment Framework'!AS27=$G27,1,IF(AND($G27=\"High\",OR('Assessment Framework'!AS27=\"Medium\",'Assessment Framework'!AS27=\"Low\")),0.5,IF(AND($G27=\"Medium\",'Assessment Framework'!AS27=\"Low\"),0.5,0))),0)","v":0},{"$f":"IF($G27<>\"\",IF('Assessment Framework'!AT27=$G27,1,IF(AND($G27=\"High\",OR('Assessment Framework'!AT27=\"Medium\",'Assessment Framework'!AT27=\"Low\")),0.5,IF(AND($G27=\"Medium\",'Assessment Framework'!AT27=\"Low\"),0.5,0))),0)","v":0},{"$f":"IF($G27<>\"\",IF('Assessment Framework'!AU27=$G27,1,IF(AND($G27=\"High\",OR('Assessment Framework'!AU27=\"Medium\",'Assessment Framework'!AU27=\"Low\")),0.5,IF(AND($G27=\"Medium\",'Assessment Framework'!AU27=\"Low\"),0.5,0))),0)","v":0},{"$f":"IF($G27<>\"\",IF('Assessment Framework'!AV27=$G27,1,IF(AND($G27=\"High\",OR('Assessment Framework'!AV27=\"Medium\",'Assessment Framework'!AV27=\"Low\")),0.5,IF(AND($G27=\"Medium\",'Assessment Framework'!AV27=\"Low\"),0.5,0))),0)","v":0},{"$f":"IF($G27<>\"\",IF('Assessment Framework'!AW27=$G27,1,IF(AND($G27=\"High\",OR('Assessment Framework'!AW27=\"Medium\",'Assessment Framework'!AW27=\"Low\")),0.5,IF(AND($G27=\"Medium\",'Assessment Framework'!AW27=\"Low\"),0.5,0))),0)","v":0},{"$f":"IF($G27<>\"\",IF('Assessment Framework'!AX27=$G27,1,IF(AND($G27=\"High\",OR('Assessment Framework'!AX27=\"Medium\",'Assessment Framework'!AX27=\"Low\")),0.5,IF(AND($G27=\"Medium\",'Assessment Framework'!AX27=\"Low\"),0.5,0))),0)","v":0},{"$f":"IF($G27<>\"\",IF('Assessment Framework'!AY27=$G27,1,IF(AND($G27=\"High\",OR('Assessment Framework'!AY27=\"Medium\",'Assessment Framework'!AY27=\"Low\")),0.5,IF(AND($G27=\"Medium\",'Assessment Framework'!AY27=\"Low\"),0.5,0))),0)","v":0},{"$f":"IF($G27<>\"\",IF('Assessment Framework'!AZ27=$G27,1,IF(AND($G27=\"High\",OR('Assessment Framework'!AZ27=\"Medium\",'Assessment Framework'!AZ27=\"Low\")),0.5,IF(AND($G27=\"Medium\",'Assessment Framework'!AZ27=\"Low\"),0.5,0))),0)","v":0},{"$f":"IF($G27<>\"\",IF('Assessment Framework'!BA27=$G27,1,IF(AND($G27=\"High\",OR('Assessment Framework'!BA27=\"Medium\",'Assessment Framework'!BA27=\"Low\")),0.5,IF(AND($G27=\"Medium\",'Assessment Framework'!BA27=\"Low\"),0.5,0))),0)","v":0},{"$f":"IF($G27<>\"\",IF('Assessment Framework'!BB27=$G27,1,IF(AND($G27=\"High\",OR('Assessment Framework'!BB27=\"Medium\",'Assessment Framework'!BB27=\"Low\")),0.5,IF(AND($G27=\"Medium\",'Assessment Framework'!BB27=\"Low\"),0.5,0))),0)","v":0},{"$f":"IF($G27<>\"\",IF('Assessment Framework'!BC27=$G27,1,IF(AND($G27=\"High\",OR('Assessment Framework'!BC27=\"Medium\",'Assessment Framework'!BC27=\"Low\")),0.5,IF(AND($G27=\"Medium\",'Assessment Framework'!BC27=\"Low\"),0.5,0))),0)","v":0},{"$f":"IF($G27<>\"\",IF('Assessment Framework'!BD27=$G27,1,IF(AND($G27=\"High\",OR('Assessment Framework'!BD27=\"Medium\",'Assessment Framework'!BD27=\"Low\")),0.5,IF(AND($G27=\"Medium\",'Assessment Framework'!BD27=\"Low\"),0.5,0))),0)","v":0},{"$f":"IF($G27<>\"\",IF('Assessment Framework'!BE27=$G27,1,IF(AND($G27=\"High\",OR('Assessment Framework'!BE27=\"Medium\",'Assessment Framework'!BE27=\"Low\")),0.5,IF(AND($G27=\"Medium\",'Assessment Framework'!BE27=\"Low\"),0.5,0))),0)","v":0},{"$f":"IF($G27<>\"\",IF('Assessment Framework'!BF27=$G27,1,IF(AND($G27=\"High\",OR('Assessment Framework'!BF27=\"Medium\",'Assessment Framework'!BF27=\"Low\")),0.5,IF(AND($G27=\"Medium\",'Assessment Framework'!BF27=\"Low\"),0.5,0))),0)","v":0},{"$f":"IF($G27<>\"\",IF('Assessment Framework'!BG27=$G27,1,IF(AND($G27=\"High\",OR('Assessment Framework'!BG27=\"Medium\",'Assessment Framework'!BG27=\"Low\")),0.5,IF(AND($G27=\"Medium\",'Assessment Framework'!BG27=\"Low\"),0.5,0))),0)","v":0},{"$f":"IF($G27<>\"\",IF('Assessment Framework'!BH27=$G27,1,IF(AND($G27=\"High\",OR('Assessment Framework'!BH27=\"Medium\",'Assessment Framework'!BH27=\"Low\")),0.5,IF(AND($G27=\"Medium\",'Assessment Framework'!BH27=\"Low\"),0.5,0))),0)","v":0},{"$f":"IF($G27<>\"\",IF('Assessment Framework'!BI27=$G27,1,IF(AND($G27=\"High\",OR('Assessment Framework'!BI27=\"Medium\",'Assessment Framework'!BI27=\"Low\")),0.5,IF(AND($G27=\"Medium\",'Assessment Framework'!BI27=\"Low\"),0.5,0))),0)","v":0},{"$f":"IF($G27<>\"\",IF('Assessment Framework'!BJ27=$G27,1,IF(AND($G27=\"High\",OR('Assessment Framework'!BJ27=\"Medium\",'Assessment Framework'!BJ27=\"Low\")),0.5,IF(AND($G27=\"Medium\",'Assessment Framework'!BJ27=\"Low\"),0.5,0))),0)","v":0},{"$f":"IF($G27<>\"\",IF('Assessment Framework'!BK27=$G27,1,IF(AND($G27=\"High\",OR('Assessment Framework'!BK27=\"Medium\",'Assessment Framework'!BK27=\"Low\")),0.5,IF(AND($G27=\"Medium\",'Assessment Framework'!BK27=\"Low\"),0.5,0))),0)","v":0},{"$f":"IF($G27<>\"\",IF('Assessment Framework'!BL27=$G27,1,IF(AND($G27=\"High\",OR('Assessment Framework'!BL27=\"Medium\",'Assessment Framework'!BL27=\"Low\")),0.5,IF(AND($G27=\"Medium\",'Assessment Framework'!BL27=\"Low\"),0.5,0))),0)","v":0},{"$f":"IF($G27<>\"\",IF('Assessment Framework'!BM27=$G27,1,IF(AND($G27=\"High\",OR('Assessment Framework'!BM27=\"Medium\",'Assessment Framework'!BM27=\"Low\")),0.5,IF(AND($G27=\"Medium\",'Assessment Framework'!BM27=\"Low\"),0.5,0))),0)","v":0},{"$f":"IF($G27<>\"\",IF('Assessment Framework'!BN27=$G27,1,IF(AND($G27=\"High\",OR('Assessment Framework'!BN27=\"Medium\",'Assessment Framework'!BN27=\"Low\")),0.5,IF(AND($G27=\"Medium\",'Assessment Framework'!BN27=\"Low\"),0.5,0))),0)","v":0},{"$f":"IF($G27<>\"\",IF('Assessment Framework'!BO27=$G27,1,IF(AND($G27=\"High\",OR('Assessment Framework'!BO27=\"Medium\",'Assessment Framework'!BO27=\"Low\")),0.5,IF(AND($G27=\"Medium\",'Assessment Framework'!BO27=\"Low\"),0.5,0))),0)","v":0},{"$f":"IF($G27<>\"\",IF('Assessment Framework'!BP27=$G27,1,IF(AND($G27=\"High\",OR('Assessment Framework'!BP27=\"Medium\",'Assessment Framework'!BP27=\"Low\")),0.5,IF(AND($G27=\"Medium\",'Assessment Framework'!BP27=\"Low\"),0.5,0))),0)","v":0},{"$f":"IF($G27<>\"\",IF('Assessment Framework'!BQ27=$G27,1,IF(AND($G27=\"High\",OR('Assessment Framework'!BQ27=\"Medium\",'Assessment Framework'!BQ27=\"Low\")),0.5,IF(AND($G27=\"Medium\",'Assessment Framework'!BQ27=\"Low\"),0.5,0))),0)","v":0},{"$f":"IF($G27<>\"\",IF('Assessment Framework'!BR27=$G27,1,IF(AND($G27=\"High\",OR('Assessment Framework'!BR27=\"Medium\",'Assessment Framework'!BR27=\"Low\")),0.5,IF(AND($G27=\"Medium\",'Assessment Framework'!BR27=\"Low\"),0.5,0))),0)","v":0},{"$f":"IF($G27<>\"\",IF('Assessment Framework'!BS27=$G27,1,IF(AND($G27=\"High\",OR('Assessment Framework'!BS27=\"Medium\",'Assessment Framework'!BS27=\"Low\")),0.5,IF(AND($G27=\"Medium\",'Assessment Framework'!BS27=\"Low\"),0.5,0))),0)","v":0},{"$f":"IF($G27<>\"\",IF('Assessment Framework'!BT27=$G27,1,IF(AND($G27=\"High\",OR('Assessment Framework'!BT27=\"Medium\",'Assessment Framework'!BT27=\"Low\")),0.5,IF(AND($G27=\"Medium\",'Assessment Framework'!BT27=\"Low\"),0.5,0))),0)","v":0},{"$f":"IF($G27<>\"\",IF('Assessment Framework'!BU27=$G27,1,IF(AND($G27=\"High\",OR('Assessment Framework'!BU27=\"Medium\",'Assessment Framework'!BU27=\"Low\")),0.5,IF(AND($G27=\"Medium\",'Assessment Framework'!BU27=\"Low\"),0.5,0))),0)","v":0},{"$f":"IF($G27<>\"\",IF('Assessment Framework'!BV27=$G27,1,IF(AND($G27=\"High\",OR('Assessment Framework'!BV27=\"Medium\",'Assessment Framework'!BV27=\"Low\")),0.5,IF(AND($G27=\"Medium\",'Assessment Framework'!BV27=\"Low\"),0.5,0))),0)","v":0},{"$f":"IF($G27<>\"\",IF('Assessment Framework'!BW27=$G27,1,IF(AND($G27=\"High\",OR('Assessment Framework'!BW27=\"Medium\",'Assessment Framework'!BW27=\"Low\")),0.5,IF(AND($G27=\"Medium\",'Assessment Framework'!BW27=\"Low\"),0.5,0))),0)","v":0},{"$f":"IF($G27<>\"\",IF('Assessment Framework'!BX27=$G27,1,IF(AND($G27=\"High\",OR('Assessment Framework'!BX27=\"Medium\",'Assessment Framework'!BX27=\"Low\")),0.5,IF(AND($G27=\"Medium\",'Assessment Framework'!BX27=\"Low\"),0.5,0))),0)","v":0},{"$f":"IF($G27<>\"\",IF('Assessment Framework'!BY27=$G27,1,IF(AND($G27=\"High\",OR('Assessment Framework'!BY27=\"Medium\",'Assessment Framework'!BY27=\"Low\")),0.5,IF(AND($G27=\"Medium\",'Assessment Framework'!BY27=\"Low\"),0.5,0))),0)","v":0},{"$f":"IF($G27<>\"\",IF('Assessment Framework'!BZ27=$G27,1,IF(AND($G27=\"High\",OR('Assessment Framework'!BZ27=\"Medium\",'Assessment Framework'!BZ27=\"Low\")),0.5,IF(AND($G27=\"Medium\",'Assessment Framework'!BZ27=\"Low\"),0.5,0))),0)","v":0},{"$f":"IF($G27<>\"\",IF('Assessment Framework'!CA27=$G27,1,IF(AND($G27=\"High\",OR('Assessment Framework'!CA27=\"Medium\",'Assessment Framework'!CA27=\"Low\")),0.5,IF(AND($G27=\"Medium\",'Assessment Framework'!CA27=\"Low\"),0.5,0))),0)","v":0},{"$f":"IF($G27<>\"\",IF('Assessment Framework'!CB27=$G27,1,IF(AND($G27=\"High\",OR('Assessment Framework'!CB27=\"Medium\",'Assessment Framework'!CB27=\"Low\")),0.5,IF(AND($G27=\"Medium\",'Assessment Framework'!CB27=\"Low\"),0.5,0))),0)","v":0},{"$f":"IF($G27<>\"\",IF('Assessment Framework'!CC27=$G27,1,IF(AND($G27=\"High\",OR('Assessment Framework'!CC27=\"Medium\",'Assessment Framework'!CC27=\"Low\")),0.5,IF(AND($G27=\"Medium\",'Assessment Framework'!CC27=\"Low\"),0.5,0))),0)","v":0},{"$f":"IF($G27<>\"\",IF('Assessment Framework'!CD27=$G27,1,IF(AND($G27=\"High\",OR('Assessment Framework'!CD27=\"Medium\",'Assessment Framework'!CD27=\"Low\")),0.5,IF(AND($G27=\"Medium\",'Assessment Framework'!CD27=\"Low\"),0.5,0))),0)","v":0},{"$f":"IF($G27<>\"\",IF('Assessment Framework'!CE27=$G27,1,IF(AND($G27=\"High\",OR('Assessment Framework'!CE27=\"Medium\",'Assessment Framework'!CE27=\"Low\")),0.5,IF(AND($G27=\"Medium\",'Assessment Framework'!CE27=\"Low\"),0.5,0))),0)","v":0},{"$f":"IF($G27<>\"\",IF('Assessment Framework'!CF27=$G27,1,IF(AND($G27=\"High\",OR('Assessment Framework'!CF27=\"Medium\",'Assessment Framework'!CF27=\"Low\")),0.5,IF(AND($G27=\"Medium\",'Assessment Framework'!CF27=\"Low\"),0.5,0))),0)","v":0},{"$f":"IF($G27<>\"\",IF('Assessment Framework'!CG27=$G27,1,IF(AND($G27=\"High\",OR('Assessment Framework'!CG27=\"Medium\",'Assessment Framework'!CG27=\"Low\")),0.5,IF(AND($G27=\"Medium\",'Assessment Framework'!CG27=\"Low\"),0.5,0))),0)","v":0},{"$f":"IF($G27<>\"\",IF('Assessment Framework'!CH27=$G27,1,IF(AND($G27=\"High\",OR('Assessment Framework'!CH27=\"Medium\",'Assessment Framework'!CH27=\"Low\")),0.5,IF(AND($G27=\"Medium\",'Assessment Framework'!CH27=\"Low\"),0.5,0))),0)","v":0},{"$f":"IF($G27<>\"\",IF('Assessment Framework'!CI27=$G27,1,IF(AND($G27=\"High\",OR('Assessment Framework'!CI27=\"Medium\",'Assessment Framework'!CI27=\"Low\")),0.5,IF(AND($G27=\"Medium\",'Assessment Framework'!CI27=\"Low\"),0.5,0))),0)","v":0},{"$f":"IF($G27<>\"\",IF('Assessment Framework'!CJ27=$G27,1,IF(AND($G27=\"High\",OR('Assessment Framework'!CJ27=\"Medium\",'Assessment Framework'!CJ27=\"Low\")),0.5,IF(AND($G27=\"Medium\",'Assessment Framework'!CJ27=\"Low\"),0.5,0))),0)","v":0},{"$f":"IF($G27<>\"\",IF('Assessment Framework'!CK27=$G27,1,IF(AND($G27=\"High\",OR('Assessment Framework'!CK27=\"Medium\",'Assessment Framework'!CK27=\"Low\")),0.5,IF(AND($G27=\"Medium\",'Assessment Framework'!CK27=\"Low\"),0.5,0))),0)","v":0},{"$f":"IF($G27<>\"\",IF('Assessment Framework'!CL27=$G27,1,IF(AND($G27=\"High\",OR('Assessment Framework'!CL27=\"Medium\",'Assessment Framework'!CL27=\"Low\")),0.5,IF(AND($G27=\"Medium\",'Assessment Framework'!CL27=\"Low\"),0.5,0))),0)","v":0},{"$f":"IF($G27<>\"\",IF('Assessment Framework'!CM27=$G27,1,IF(AND($G27=\"High\",OR('Assessment Framework'!CM27=\"Medium\",'Assessment Framework'!CM27=\"Low\")),0.5,IF(AND($G27=\"Medium\",'Assessment Framework'!CM27=\"Low\"),0.5,0))),0)","v":0}]
[null,null,null,"Logistics / equipment required","Level of logistics and equipment required (e.g. specialist software or equipment)","High, Medium, Low",{"$f":"IF('A - Policy objectives'!C34=\"\",\"\",'A - Policy objectives'!C34)","v":""},{"$f":"IF($G28<>\"\",IF('Assessment Framework'!G28=$G28,1,IF(AND($G28=\"High\",OR('Assessment Framework'!G28=\"Medium\",'Assessment Framework'!G28=\"Low\")),0.5,IF(AND($G28=\"Medium\",'Assessment Framework'!G28=\"Low\"),0.5,0))),0)","v":0},{"$f":"IF($G28<>\"\",IF('Assessment Framework'!H28=$G28,1,IF(AND($G28=\"High\",OR('Assessment Framework'!H28=\"Medium\",'Assessment Framework'!H28=\"Low\")),0.5,IF(AND($G28=\"Medium\",'Assessment Framework'!H28=\"Low\"),0.5,0))),0)","v":0},{"$f":"IF($G28<>\"\",IF('Assessment Framework'!I28=$G28,1,IF(AND($G28=\"High\",OR('Assessment Framework'!I28=\"Medium\",'Assessment Framework'!I28=\"Low\")),0.5,IF(AND($G28=\"Medium\",'Assessment Framework'!I28=\"Low\"),0.5,0))),0)","v":0},{"$f":"IF($G28<>\"\",IF('Assessment Framework'!J28=$G28,1,IF(AND($G28=\"High\",OR('Assessment Framework'!J28=\"Medium\",'Assessment Framework'!J28=\"Low\")),0.5,IF(AND($G28=\"Medium\",'Assessment Framework'!J28=\"Low\"),0.5,0))),0)","v":0},{"$f":"IF($G28<>\"\",IF('Assessment Framework'!K28=$G28,1,IF(AND($G28=\"High\",OR('Assessment Framework'!K28=\"Medium\",'Assessment Framework'!K28=\"Low\")),0.5,IF(AND($G28=\"Medium\",'Assessment Framework'!K28=\"Low\"),0.5,0))),0)","v":0},{"$f":"IF($G28<>\"\",IF('Assessment Framework'!L28=$G28,1,IF(AND($G28=\"High\",OR('Assessment Framework'!L28=\"Medium\",'Assessment Framework'!L28=\"Low\")),0.5,IF(AND($G28=\"Medium\",'Assessment Framework'!L28=\"Low\"),0.5,0))),0)","v":0},{"$f":"IF($G28<>\"\",IF('Assessment Framework'!M28=$G28,1,IF(AND($G28=\"High\",OR('Assessment Framework'!M28=\"Medium\",'Assessment Framework'!M28=\"Low\")),0.5,IF(AND($G28=\"Medium\",'Assessment Framework'!M28=\"Low\"),0.5,0))),0)","v":0},{"$f":"IF($G28<>\"\",IF('Assessment Framework'!N28=$G28,1,IF(AND($G28=\"High\",OR('Assessment Framework'!N28=\"Medium\",'Assessment Framework'!N28=\"Low\")),0.5,IF(AND($G28=\"Medium\",'Assessment Framework'!N28=\"Low\"),0.5,0))),0)","v":0},{"$f":"IF($G28<>\"\",IF('Assessment Framework'!O28=$G28,1,IF(AND($G28=\"High\",OR('Assessment Framework'!O28=\"Medium\",'Assessment Framework'!O28=\"Low\")),0.5,IF(AND($G28=\"Medium\",'Assessment Framework'!O28=\"Low\"),0.5,0))),0)","v":0},{"$f":"IF($G28<>\"\",IF('Assessment Framework'!P28=$G28,1,IF(AND($G28=\"High\",OR('Assessment Framework'!P28=\"Medium\",'Assessment Framework'!P28=\"Low\")),0.5,IF(AND($G28=\"Medium\",'Assessment Framework'!P28=\"Low\"),0.5,0))),0)","v":0},{"$f":"IF($G28<>\"\",IF('Assessment Framework'!Q28=$G28,1,IF(AND($G28=\"High\",OR('Assessment Framework'!Q28=\"Medium\",'Assessment Framework'!Q28=\"Low\")),0.5,IF(AND($G28=\"Medium\",'Assessment Framework'!Q28=\"Low\"),0.5,0))),0)","v":0},{"$f":"IF($G28<>\"\",IF('Assessment Framework'!R28=$G28,1,IF(AND($G28=\"High\",OR('Assessment Framework'!R28=\"Medium\",'Assessment Framework'!R28=\"Low\")),0.5,IF(AND($G28=\"Medium\",'Assessment Framework'!R28=\"Low\"),0.5,0))),0)","v":0},{"$f":"IF($G28<>\"\",IF('Assessment Framework'!S28=$G28,1,IF(AND($G28=\"High\",OR('Assessment Framework'!S28=\"Medium\",'Assessment Framework'!S28=\"Low\")),0.5,IF(AND($G28=\"Medium\",'Assessment Framework'!S28=\"Low\"),0.5,0))),0)","v":0},{"$f":"IF($G28<>\"\",IF('Assessment Framework'!T28=$G28,1,IF(AND($G28=\"High\",OR('Assessment Framework'!T28=\"Medium\",'Assessment Framework'!T28=\"Low\")),0.5,IF(AND($G28=\"Medium\",'Assessment Framework'!T28=\"Low\"),0.5,0))),0)","v":0},{"$f":"IF($G28<>\"\",IF('Assessment Framework'!U28=$G28,1,IF(AND($G28=\"High\",OR('Assessment Framework'!U28=\"Medium\",'Assessment Framework'!U28=\"Low\")),0.5,IF(AND($G28=\"Medium\",'Assessment Framework'!U28=\"Low\"),0.5,0))),0)","v":0},{"$f":"IF($G28<>\"\",IF('Assessment Framework'!V28=$G28,1,IF(AND($G28=\"High\",OR('Assessment Framework'!V28=\"Medium\",'Assessment Framework'!V28=\"Low\")),0.5,IF(AND($G28=\"Medium\",'Assessment Framework'!V28=\"Low\"),0.5,0))),0)","v":0},{"$f":"IF($G28<>\"\",IF('Assessment Framework'!W28=$G28,1,IF(AND($G28=\"High\",OR('Assessment Framework'!W28=\"Medium\",'Assessment Framework'!W28=\"Low\")),0.5,IF(AND($G28=\"Medium\",'Assessment Framework'!W28=\"Low\"),0.5,0))),0)","v":0},{"$f":"IF($G28<>\"\",IF('Assessment Framework'!X28=$G28,1,IF(AND($G28=\"High\",OR('Assessment Framework'!X28=\"Medium\",'Assessment Framework'!X28=\"Low\")),0.5,IF(AND($G28=\"Medium\",'Assessment Framework'!X28=\"Low\"),0.5,0))),0)","v":0},{"$f":"IF($G28<>\"\",IF('Assessment Framework'!Y28=$G28,1,IF(AND($G28=\"High\",OR('Assessment Framework'!Y28=\"Medium\",'Assessment Framework'!Y28=\"Low\")),0.5,IF(AND($G28=\"Medium\",'Assessment Framework'!Y28=\"Low\"),0.5,0))),0)","v":0},{"$f":"IF($G28<>\"\",IF('Assessment Framework'!Z28=$G28,1,IF(AND($G28=\"High\",OR('Assessment Framework'!Z28=\"Medium\",'Assessment Framework'!Z28=\"Low\")),0.5,IF(AND($G28=\"Medium\",'Assessment Framework'!Z28=\"Low\"),0.5,0))),0)","v":0},{"$f":"IF($G28<>\"\",IF('Assessment Framework'!AA28=$G28,1,IF(AND($G28=\"High\",OR('Assessment Framework'!AA28=\"Medium\",'Assessment Framework'!AA28=\"Low\")),0.5,IF(AND($G28=\"Medium\",'Assessment Framework'!AA28=\"Low\"),0.5,0))),0)","v":0},{"$f":"IF($G28<>\"\",IF('Assessment Framework'!AB28=$G28,1,IF(AND($G28=\"High\",OR('Assessment Framework'!AB28=\"Medium\",'Assessment Framework'!AB28=\"Low\")),0.5,IF(AND($G28=\"Medium\",'Assessment Framework'!AB28=\"Low\"),0.5,0))),0)","v":0},{"$f":"IF($G28<>\"\",IF('Assessment Framework'!AC28=$G28,1,IF(AND($G28=\"High\",OR('Assessment Framework'!AC28=\"Medium\",'Assessment Framework'!AC28=\"Low\")),0.5,IF(AND($G28=\"Medium\",'Assessment Framework'!AC28=\"Low\"),0.5,0))),0)","v":0},{"$f":"IF($G28<>\"\",IF('Assessment Framework'!AD28=$G28,1,IF(AND($G28=\"High\",OR('Assessment Framework'!AD28=\"Medium\",'Assessment Framework'!AD28=\"Low\")),0.5,IF(AND($G28=\"Medium\",'Assessment Framework'!AD28=\"Low\"),0.5,0))),0)","v":0},{"$f":"IF($G28<>\"\",IF('Assessment Framework'!AE28=$G28,1,IF(AND($G28=\"High\",OR('Assessment Framework'!AE28=\"Medium\",'Assessment Framework'!AE28=\"Low\")),0.5,IF(AND($G28=\"Medium\",'Assessment Framework'!AE28=\"Low\"),0.5,0))),0)","v":0},{"$f":"IF($G28<>\"\",IF('Assessment Framework'!AF28=$G28,1,IF(AND($G28=\"High\",OR('Assessment Framework'!AF28=\"Medium\",'Assessment Framework'!AF28=\"Low\")),0.5,IF(AND($G28=\"Medium\",'Assessment Framework'!AF28=\"Low\"),0.5,0))),0)","v":0},{"$f":"IF($G28<>\"\",IF('Assessment Framework'!AG28=$G28,1,IF(AND($G28=\"High\",OR('Assessment Framework'!AG28=\"Medium\",'Assessment Framework'!AG28=\"Low\")),0.5,IF(AND($G28=\"Medium\",'Assessment Framework'!AG28=\"Low\"),0.5,0))),0)","v":0},{"$f":"IF($G28<>\"\",IF('Assessment Framework'!AH28=$G28,1,IF(AND($G28=\"High\",OR('Assessment Framework'!AH28=\"Medium\",'Assessment Framework'!AH28=\"Low\")),0.5,IF(AND($G28=\"Medium\",'Assessment Framework'!AH28=\"Low\"),0.5,0))),0)","v":0},{"$f":"IF($G28<>\"\",IF('Assessment Framework'!AI28=$G28,1,IF(AND($G28=\"High\",OR('Assessment Framework'!AI28=\"Medium\",'Assessment Framework'!AI28=\"Low\")),0.5,IF(AND($G28=\"Medium\",'Assessment Framework'!AI28=\"Low\"),0.5,0))),0)","v":0},{"$f":"IF($G28<>\"\",IF('Assessment Framework'!AJ28=$G28,1,IF(AND($G28=\"High\",OR('Assessment Framework'!AJ28=\"Medium\",'Assessment Framework'!AJ28=\"Low\")),0.5,IF(AND($G28=\"Medium\",'Assessment Framework'!AJ28=\"Low\"),0.5,0))),0)","v":0},{"$f":"IF($G28<>\"\",IF('Assessment Framework'!AK28=$G28,1,IF(AND($G28=\"High\",OR('Assessment Framework'!AK28=\"Medium\",'Assessment Framework'!AK28=\"Low\")),0.5,IF(AND($G28=\"Medium\",'Assessment Framework'!AK28=\"Low\"),0.5,0))),0)","v":0},{"$f":"IF($G28<>\"\",IF('Assessment Framework'!AL28=$G28,1,IF(AND($G28=\"High\",OR('Assessment Framework'!AL28=\"Medium\",'Assessment Framework'!AL28=\"Low\")),0.5,IF(AND($G28=\"Medium\",'Assessment Framework'!AL28=\"Low\"),0.5,0))),0)","v":0},{"$f":"IF($G28<>\"\",IF('Assessment Framework'!AM28=$G28,1,IF(AND($G28=\"High\",OR('Assessment Framework'!AM28=\"Medium\",'Assessment Framework'!AM28=\"Low\")),0.5,IF(AND($G28=\"Medium\",'Assessment Framework'!AM28=\"Low\"),0.5,0))),0)","v":0},{"$f":"IF($G28<>\"\",IF('Assessment Framework'!AN28=$G28,1,IF(AND($G28=\"High\",OR('Assessment Framework'!AN28=\"Medium\",'Assessment Framework'!AN28=\"Low\")),0.5,IF(AND($G28=\"Medium\",'Assessment Framework'!AN28=\"Low\"),0.5,0))),0)","v":0},{"$f":"IF($G28<>\"\",IF('Assessment Framework'!AO28=$G28,1,IF(AND($G28=\"High\",OR('Assessment Framework'!AO28=\"Medium\",'Assessment Framework'!AO28=\"Low\")),0.5,IF(AND($G28=\"Medium\",'Assessment Framework'!AO28=\"Low\"),0.5,0))),0)","v":0},{"$f":"IF($G28<>\"\",IF('Assessment Framework'!AP28=$G28,1,IF(AND($G28=\"High\",OR('Assessment Framework'!AP28=\"Medium\",'Assessment Framework'!AP28=\"Low\")),0.5,IF(AND($G28=\"Medium\",'Assessment Framework'!AP28=\"Low\"),0.5,0))),0)","v":0},{"$f":"IF($G28<>\"\",IF('Assessment Framework'!AQ28=$G28,1,IF(AND($G28=\"High\",OR('Assessment Framework'!AQ28=\"Medium\",'Assessment Framework'!AQ28=\"Low\")),0.5,IF(AND($G28=\"Medium\",'Assessment Framework'!AQ28=\"Low\"),0.5,0))),0)","v":0},{"$f":"IF($G28<>\"\",IF('Assessment Framework'!AR28=$G28,1,IF(AND($G28=\"High\",OR('Assessment Framework'!AR28=\"Medium\",'Assessment Framework'!AR28=\"Low\")),0.5,IF(AND($G28=\"Medium\",'Assessment Framework'!AR28=\"Low\"),0.5,0))),0)","v":0},{"$f":"IF($G28<>\"\",IF('Assessment Framework'!AS28=$G28,1,IF(AND($G28=\"High\",OR('Assessment Framework'!AS28=\"Medium\",'Assessment Framework'!AS28=\"Low\")),0.5,IF(AND($G28=\"Medium\",'Assessment Framework'!AS28=\"Low\"),0.5,0))),0)","v":0},{"$f":"IF($G28<>\"\",IF('Assessment Framework'!AT28=$G28,1,IF(AND($G28=\"High\",OR('Assessment Framework'!AT28=\"Medium\",'Assessment Framework'!AT28=\"Low\")),0.5,IF(AND($G28=\"Medium\",'Assessment Framework'!AT28=\"Low\"),0.5,0))),0)","v":0},{"$f":"IF($G28<>\"\",IF('Assessment Framework'!AU28=$G28,1,IF(AND($G28=\"High\",OR('Assessment Framework'!AU28=\"Medium\",'Assessment Framework'!AU28=\"Low\")),0.5,IF(AND($G28=\"Medium\",'Assessment Framework'!AU28=\"Low\"),0.5,0))),0)","v":0},{"$f":"IF($G28<>\"\",IF('Assessment Framework'!AV28=$G28,1,IF(AND($G28=\"High\",OR('Assessment Framework'!AV28=\"Medium\",'Assessment Framework'!AV28=\"Low\")),0.5,IF(AND($G28=\"Medium\",'Assessment Framework'!AV28=\"Low\"),0.5,0))),0)","v":0},{"$f":"IF($G28<>\"\",IF('Assessment Framework'!AW28=$G28,1,IF(AND($G28=\"High\",OR('Assessment Framework'!AW28=\"Medium\",'Assessment Framework'!AW28=\"Low\")),0.5,IF(AND($G28=\"Medium\",'Assessment Framework'!AW28=\"Low\"),0.5,0))),0)","v":0},{"$f":"IF($G28<>\"\",IF('Assessment Framework'!AX28=$G28,1,IF(AND($G28=\"High\",OR('Assessment Framework'!AX28=\"Medium\",'Assessment Framework'!AX28=\"Low\")),0.5,IF(AND($G28=\"Medium\",'Assessment Framework'!AX28=\"Low\"),0.5,0))),0)","v":0},{"$f":"IF($G28<>\"\",IF('Assessment Framework'!AY28=$G28,1,IF(AND($G28=\"High\",OR('Assessment Framework'!AY28=\"Medium\",'Assessment Framework'!AY28=\"Low\")),0.5,IF(AND($G28=\"Medium\",'Assessment Framework'!AY28=\"Low\"),0.5,0))),0)","v":0},{"$f":"IF($G28<>\"\",IF('Assessment Framework'!AZ28=$G28,1,IF(AND($G28=\"High\",OR('Assessment Framework'!AZ28=\"Medium\",'Assessment Framework'!AZ28=\"Low\")),0.5,IF(AND($G28=\"Medium\",'Assessment Framework'!AZ28=\"Low\"),0.5,0))),0)","v":0},{"$f":"IF($G28<>\"\",IF('Assessment Framework'!BA28=$G28,1,IF(AND($G28=\"High\",OR('Assessment Framework'!BA28=\"Medium\",'Assessment Framework'!BA28=\"Low\")),0.5,IF(AND($G28=\"Medium\",'Assessment Framework'!BA28=\"Low\"),0.5,0))),0)","v":0},{"$f":"IF($G28<>\"\",IF('Assessment Framework'!BB28=$G28,1,IF(AND($G28=\"High\",OR('Assessment Framework'!BB28=\"Medium\",'Assessment Framework'!BB28=\"Low\")),0.5,IF(AND($G28=\"Medium\",'Assessment Framework'!BB28=\"Low\"),0.5,0))),0)","v":0},{"$f":"IF($G28<>\"\",IF('Assessment Framework'!BC28=$G28,1,IF(AND($G28=\"High\",OR('Assessment Framework'!BC28=\"Medium\",'Assessment Framework'!BC28=\"Low\")),0.5,IF(AND($G28=\"Medium\",'Assessment Framework'!BC28=\"Low\"),0.5,0))),0)","v":0},{"$f":"IF($G28<>\"\",IF('Assessment Framework'!BD28=$G28,1,IF(AND($G28=\"High\",OR('Assessment Framework'!BD28=\"Medium\",'Assessment Framework'!BD28=\"Low\")),0.5,IF(AND($G28=\"Medium\",'Assessment Framework'!BD28=\"Low\"),0.5,0))),0)","v":0},{"$f":"IF($G28<>\"\",IF('Assessment Framework'!BE28=$G28,1,IF(AND($G28=\"High\",OR('Assessment Framework'!BE28=\"Medium\",'Assessment Framework'!BE28=\"Low\")),0.5,IF(AND($G28=\"Medium\",'Assessment Framework'!BE28=\"Low\"),0.5,0))),0)","v":0},{"$f":"IF($G28<>\"\",IF('Assessment Framework'!BF28=$G28,1,IF(AND($G28=\"High\",OR('Assessment Framework'!BF28=\"Medium\",'Assessment Framework'!BF28=\"Low\")),0.5,IF(AND($G28=\"Medium\",'Assessment Framework'!BF28=\"Low\"),0.5,0))),0)","v":0},{"$f":"IF($G28<>\"\",IF('Assessment Framework'!BG28=$G28,1,IF(AND($G28=\"High\",OR('Assessment Framework'!BG28=\"Medium\",'Assessment Framework'!BG28=\"Low\")),0.5,IF(AND($G28=\"Medium\",'Assessment Framework'!BG28=\"Low\"),0.5,0))),0)","v":0},{"$f":"IF($G28<>\"\",IF('Assessment Framework'!BH28=$G28,1,IF(AND($G28=\"High\",OR('Assessment Framework'!BH28=\"Medium\",'Assessment Framework'!BH28=\"Low\")),0.5,IF(AND($G28=\"Medium\",'Assessment Framework'!BH28=\"Low\"),0.5,0))),0)","v":0},{"$f":"IF($G28<>\"\",IF('Assessment Framework'!BI28=$G28,1,IF(AND($G28=\"High\",OR('Assessment Framework'!BI28=\"Medium\",'Assessment Framework'!BI28=\"Low\")),0.5,IF(AND($G28=\"Medium\",'Assessment Framework'!BI28=\"Low\"),0.5,0))),0)","v":0},{"$f":"IF($G28<>\"\",IF('Assessment Framework'!BJ28=$G28,1,IF(AND($G28=\"High\",OR('Assessment Framework'!BJ28=\"Medium\",'Assessment Framework'!BJ28=\"Low\")),0.5,IF(AND($G28=\"Medium\",'Assessment Framework'!BJ28=\"Low\"),0.5,0))),0)","v":0},{"$f":"IF($G28<>\"\",IF('Assessment Framework'!BK28=$G28,1,IF(AND($G28=\"High\",OR('Assessment Framework'!BK28=\"Medium\",'Assessment Framework'!BK28=\"Low\")),0.5,IF(AND($G28=\"Medium\",'Assessment Framework'!BK28=\"Low\"),0.5,0))),0)","v":0},{"$f":"IF($G28<>\"\",IF('Assessment Framework'!BL28=$G28,1,IF(AND($G28=\"High\",OR('Assessment Framework'!BL28=\"Medium\",'Assessment Framework'!BL28=\"Low\")),0.5,IF(AND($G28=\"Medium\",'Assessment Framework'!BL28=\"Low\"),0.5,0))),0)","v":0},{"$f":"IF($G28<>\"\",IF('Assessment Framework'!BM28=$G28,1,IF(AND($G28=\"High\",OR('Assessment Framework'!BM28=\"Medium\",'Assessment Framework'!BM28=\"Low\")),0.5,IF(AND($G28=\"Medium\",'Assessment Framework'!BM28=\"Low\"),0.5,0))),0)","v":0},{"$f":"IF($G28<>\"\",IF('Assessment Framework'!BN28=$G28,1,IF(AND($G28=\"High\",OR('Assessment Framework'!BN28=\"Medium\",'Assessment Framework'!BN28=\"Low\")),0.5,IF(AND($G28=\"Medium\",'Assessment Framework'!BN28=\"Low\"),0.5,0))),0)","v":0},{"$f":"IF($G28<>\"\",IF('Assessment Framework'!BO28=$G28,1,IF(AND($G28=\"High\",OR('Assessment Framework'!BO28=\"Medium\",'Assessment Framework'!BO28=\"Low\")),0.5,IF(AND($G28=\"Medium\",'Assessment Framework'!BO28=\"Low\"),0.5,0))),0)","v":0},{"$f":"IF($G28<>\"\",IF('Assessment Framework'!BP28=$G28,1,IF(AND($G28=\"High\",OR('Assessment Framework'!BP28=\"Medium\",'Assessment Framework'!BP28=\"Low\")),0.5,IF(AND($G28=\"Medium\",'Assessment Framework'!BP28=\"Low\"),0.5,0))),0)","v":0},{"$f":"IF($G28<>\"\",IF('Assessment Framework'!BQ28=$G28,1,IF(AND($G28=\"High\",OR('Assessment Framework'!BQ28=\"Medium\",'Assessment Framework'!BQ28=\"Low\")),0.5,IF(AND($G28=\"Medium\",'Assessment Framework'!BQ28=\"Low\"),0.5,0))),0)","v":0},{"$f":"IF($G28<>\"\",IF('Assessment Framework'!BR28=$G28,1,IF(AND($G28=\"High\",OR('Assessment Framework'!BR28=\"Medium\",'Assessment Framework'!BR28=\"Low\")),0.5,IF(AND($G28=\"Medium\",'Assessment Framework'!BR28=\"Low\"),0.5,0))),0)","v":0},{"$f":"IF($G28<>\"\",IF('Assessment Framework'!BS28=$G28,1,IF(AND($G28=\"High\",OR('Assessment Framework'!BS28=\"Medium\",'Assessment Framework'!BS28=\"Low\")),0.5,IF(AND($G28=\"Medium\",'Assessment Framework'!BS28=\"Low\"),0.5,0))),0)","v":0},{"$f":"IF($G28<>\"\",IF('Assessment Framework'!BT28=$G28,1,IF(AND($G28=\"High\",OR('Assessment Framework'!BT28=\"Medium\",'Assessment Framework'!BT28=\"Low\")),0.5,IF(AND($G28=\"Medium\",'Assessment Framework'!BT28=\"Low\"),0.5,0))),0)","v":0},{"$f":"IF($G28<>\"\",IF('Assessment Framework'!BU28=$G28,1,IF(AND($G28=\"High\",OR('Assessment Framework'!BU28=\"Medium\",'Assessment Framework'!BU28=\"Low\")),0.5,IF(AND($G28=\"Medium\",'Assessment Framework'!BU28=\"Low\"),0.5,0))),0)","v":0},{"$f":"IF($G28<>\"\",IF('Assessment Framework'!BV28=$G28,1,IF(AND($G28=\"High\",OR('Assessment Framework'!BV28=\"Medium\",'Assessment Framework'!BV28=\"Low\")),0.5,IF(AND($G28=\"Medium\",'Assessment Framework'!BV28=\"Low\"),0.5,0))),0)","v":0},{"$f":"IF($G28<>\"\",IF('Assessment Framework'!BW28=$G28,1,IF(AND($G28=\"High\",OR('Assessment Framework'!BW28=\"Medium\",'Assessment Framework'!BW28=\"Low\")),0.5,IF(AND($G28=\"Medium\",'Assessment Framework'!BW28=\"Low\"),0.5,0))),0)","v":0},{"$f":"IF($G28<>\"\",IF('Assessment Framework'!BX28=$G28,1,IF(AND($G28=\"High\",OR('Assessment Framework'!BX28=\"Medium\",'Assessment Framework'!BX28=\"Low\")),0.5,IF(AND($G28=\"Medium\",'Assessment Framework'!BX28=\"Low\"),0.5,0))),0)","v":0},{"$f":"IF($G28<>\"\",IF('Assessment Framework'!BY28=$G28,1,IF(AND($G28=\"High\",OR('Assessment Framework'!BY28=\"Medium\",'Assessment Framework'!BY28=\"Low\")),0.5,IF(AND($G28=\"Medium\",'Assessment Framework'!BY28=\"Low\"),0.5,0))),0)","v":0},{"$f":"IF($G28<>\"\",IF('Assessment Framework'!BZ28=$G28,1,IF(AND($G28=\"High\",OR('Assessment Framework'!BZ28=\"Medium\",'Assessment Framework'!BZ28=\"Low\")),0.5,IF(AND($G28=\"Medium\",'Assessment Framework'!BZ28=\"Low\"),0.5,0))),0)","v":0},{"$f":"IF($G28<>\"\",IF('Assessment Framework'!CA28=$G28,1,IF(AND($G28=\"High\",OR('Assessment Framework'!CA28=\"Medium\",'Assessment Framework'!CA28=\"Low\")),0.5,IF(AND($G28=\"Medium\",'Assessment Framework'!CA28=\"Low\"),0.5,0))),0)","v":0},{"$f":"IF($G28<>\"\",IF('Assessment Framework'!CB28=$G28,1,IF(AND($G28=\"High\",OR('Assessment Framework'!CB28=\"Medium\",'Assessment Framework'!CB28=\"Low\")),0.5,IF(AND($G28=\"Medium\",'Assessment Framework'!CB28=\"Low\"),0.5,0))),0)","v":0},{"$f":"IF($G28<>\"\",IF('Assessment Framework'!CC28=$G28,1,IF(AND($G28=\"High\",OR('Assessment Framework'!CC28=\"Medium\",'Assessment Framework'!CC28=\"Low\")),0.5,IF(AND($G28=\"Medium\",'Assessment Framework'!CC28=\"Low\"),0.5,0))),0)","v":0},{"$f":"IF($G28<>\"\",IF('Assessment Framework'!CD28=$G28,1,IF(AND($G28=\"High\",OR('Assessment Framework'!CD28=\"Medium\",'Assessment Framework'!CD28=\"Low\")),0.5,IF(AND($G28=\"Medium\",'Assessment Framework'!CD28=\"Low\"),0.5,0))),0)","v":0},{"$f":"IF($G28<>\"\",IF('Assessment Framework'!CE28=$G28,1,IF(AND($G28=\"High\",OR('Assessment Framework'!CE28=\"Medium\",'Assessment Framework'!CE28=\"Low\")),0.5,IF(AND($G28=\"Medium\",'Assessment Framework'!CE28=\"Low\"),0.5,0))),0)","v":0},{"$f":"IF($G28<>\"\",IF('Assessment Framework'!CF28=$G28,1,IF(AND($G28=\"High\",OR('Assessment Framework'!CF28=\"Medium\",'Assessment Framework'!CF28=\"Low\")),0.5,IF(AND($G28=\"Medium\",'Assessment Framework'!CF28=\"Low\"),0.5,0))),0)","v":0},{"$f":"IF($G28<>\"\",IF('Assessment Framework'!CG28=$G28,1,IF(AND($G28=\"High\",OR('Assessment Framework'!CG28=\"Medium\",'Assessment Framework'!CG28=\"Low\")),0.5,IF(AND($G28=\"Medium\",'Assessment Framework'!CG28=\"Low\"),0.5,0))),0)","v":0},{"$f":"IF($G28<>\"\",IF('Assessment Framework'!CH28=$G28,1,IF(AND($G28=\"High\",OR('Assessment Framework'!CH28=\"Medium\",'Assessment Framework'!CH28=\"Low\")),0.5,IF(AND($G28=\"Medium\",'Assessment Framework'!CH28=\"Low\"),0.5,0))),0)","v":0},{"$f":"IF($G28<>\"\",IF('Assessment Framework'!CI28=$G28,1,IF(AND($G28=\"High\",OR('Assessment Framework'!CI28=\"Medium\",'Assessment Framework'!CI28=\"Low\")),0.5,IF(AND($G28=\"Medium\",'Assessment Framework'!CI28=\"Low\"),0.5,0))),0)","v":0},{"$f":"IF($G28<>\"\",IF('Assessment Framework'!CJ28=$G28,1,IF(AND($G28=\"High\",OR('Assessment Framework'!CJ28=\"Medium\",'Assessment Framework'!CJ28=\"Low\")),0.5,IF(AND($G28=\"Medium\",'Assessment Framework'!CJ28=\"Low\"),0.5,0))),0)","v":0},{"$f":"IF($G28<>\"\",IF('Assessment Framework'!CK28=$G28,1,IF(AND($G28=\"High\",OR('Assessment Framework'!CK28=\"Medium\",'Assessment Framework'!CK28=\"Low\")),0.5,IF(AND($G28=\"Medium\",'Assessment Framework'!CK28=\"Low\"),0.5,0))),0)","v":0},{"$f":"IF($G28<>\"\",IF('Assessment Framework'!CL28=$G28,1,IF(AND($G28=\"High\",OR('Assessment Framework'!CL28=\"Medium\",'Assessment Framework'!CL28=\"Low\")),0.5,IF(AND($G28=\"Medium\",'Assessment Framework'!CL28=\"Low\"),0.5,0))),0)","v":0},{"$f":"IF($G28<>\"\",IF('Assessment Framework'!CM28=$G28,1,IF(AND($G28=\"High\",OR('Assessment Framework'!CM28=\"Medium\",'Assessment Framework'!CM28=\"Low\")),0.5,IF(AND($G28=\"Medium\",'Assessment Framework'!CM28=\"Low\"),0.5,0))),0)","v":0}]
[null,null,null,"Time required","Estimated time required for both data collection and implementation of the methodology","High, Medium, Low",{"$f":"IF('A - Policy objectives'!C35=\"\",\"\",'A - Policy objectives'!C35)","v":""},{"$f":"IF($G29<>\"\",IF('Assessment Framework'!G29=$G29,1,IF(AND($G29=\"High\",OR('Assessment Framework'!G29=\"Medium\",'Assessment Framework'!G29=\"Low\")),0.5,IF(AND($G29=\"Medium\",'Assessment Framework'!G29=\"Low\"),0.5,0))),0)","v":0},{"$f":"IF($G29<>\"\",IF('Assessment Framework'!H29=$G29,1,IF(AND($G29=\"High\",OR('Assessment Framework'!H29=\"Medium\",'Assessment Framework'!H29=\"Low\")),0.5,IF(AND($G29=\"Medium\",'Assessment Framework'!H29=\"Low\"),0.5,0))),0)","v":0},{"$f":"IF($G29<>\"\",IF('Assessment Framework'!I29=$G29,1,IF(AND($G29=\"High\",OR('Assessment Framework'!I29=\"Medium\",'Assessment Framework'!I29=\"Low\")),0.5,IF(AND($G29=\"Medium\",'Assessment Framework'!I29=\"Low\"),0.5,0))),0)","v":0},{"$f":"IF($G29<>\"\",IF('Assessment Framework'!J29=$G29,1,IF(AND($G29=\"High\",OR('Assessment Framework'!J29=\"Medium\",'Assessment Framework'!J29=\"Low\")),0.5,IF(AND($G29=\"Medium\",'Assessment Framework'!J29=\"Low\"),0.5,0))),0)","v":0},{"$f":"IF($G29<>\"\",IF('Assessment Framework'!K29=$G29,1,IF(AND($G29=\"High\",OR('Assessment Framework'!K29=\"Medium\",'Assessment Framework'!K29=\"Low\")),0.5,IF(AND($G29=\"Medium\",'Assessment Framework'!K29=\"Low\"),0.5,0))),0)","v":0},{"$f":"IF($G29<>\"\",IF('Assessment Framework'!L29=$G29,1,IF(AND($G29=\"High\",OR('Assessment Framework'!L29=\"Medium\",'Assessment Framework'!L29=\"Low\")),0.5,IF(AND($G29=\"Medium\",'Assessment Framework'!L29=\"Low\"),0.5,0))),0)","v":0},{"$f":"IF($G29<>\"\",IF('Assessment Framework'!M29=$G29,1,IF(AND($G29=\"High\",OR('Assessment Framework'!M29=\"Medium\",'Assessment Framework'!M29=\"Low\")),0.5,IF(AND($G29=\"Medium\",'Assessment Framework'!M29=\"Low\"),0.5,0))),0)","v":0},{"$f":"IF($G29<>\"\",IF('Assessment Framework'!N29=$G29,1,IF(AND($G29=\"High\",OR('Assessment Framework'!N29=\"Medium\",'Assessment Framework'!N29=\"Low\")),0.5,IF(AND($G29=\"Medium\",'Assessment Framework'!N29=\"Low\"),0.5,0))),0)","v":0},{"$f":"IF($G29<>\"\",IF('Assessment Framework'!O29=$G29,1,IF(AND($G29=\"High\",OR('Assessment Framework'!O29=\"Medium\",'Assessment Framework'!O29=\"Low\")),0.5,IF(AND($G29=\"Medium\",'Assessment Framework'!O29=\"Low\"),0.5,0))),0)","v":0},{"$f":"IF($G29<>\"\",IF('Assessment Framework'!P29=$G29,1,IF(AND($G29=\"High\",OR('Assessment Framework'!P29=\"Medium\",'Assessment Framework'!P29=\"Low\")),0.5,IF(AND($G29=\"Medium\",'Assessment Framework'!P29=\"Low\"),0.5,0))),0)","v":0},{"$f":"IF($G29<>\"\",IF('Assessment Framework'!Q29=$G29,1,IF(AND($G29=\"High\",OR('Assessment Framework'!Q29=\"Medium\",'Assessment Framework'!Q29=\"Low\")),0.5,IF(AND($G29=\"Medium\",'Assessment Framework'!Q29=\"Low\"),0.5,0))),0)","v":0},{"$f":"IF($G29<>\"\",IF('Assessment Framework'!R29=$G29,1,IF(AND($G29=\"High\",OR('Assessment Framework'!R29=\"Medium\",'Assessment Framework'!R29=\"Low\")),0.5,IF(AND($G29=\"Medium\",'Assessment Framework'!R29=\"Low\"),0.5,0))),0)","v":0},{"$f":"IF($G29<>\"\",IF('Assessment Framework'!S29=$G29,1,IF(AND($G29=\"High\",OR('Assessment Framework'!S29=\"Medium\",'Assessment Framework'!S29=\"Low\")),0.5,IF(AND($G29=\"Medium\",'Assessment Framework'!S29=\"Low\"),0.5,0))),0)","v":0},{"$f":"IF($G29<>\"\",IF('Assessment Framework'!T29=$G29,1,IF(AND($G29=\"High\",OR('Assessment Framework'!T29=\"Medium\",'Assessment Framework'!T29=\"Low\")),0.5,IF(AND($G29=\"Medium\",'Assessment Framework'!T29=\"Low\"),0.5,0))),0)","v":0},{"$f":"IF($G29<>\"\",IF('Assessment Framework'!U29=$G29,1,IF(AND($G29=\"High\",OR('Assessment Framework'!U29=\"Medium\",'Assessment Framework'!U29=\"Low\")),0.5,IF(AND($G29=\"Medium\",'Assessment Framework'!U29=\"Low\"),0.5,0))),0)","v":0},{"$f":"IF($G29<>\"\",IF('Assessment Framework'!V29=$G29,1,IF(AND($G29=\"High\",OR('Assessment Framework'!V29=\"Medium\",'Assessment Framework'!V29=\"Low\")),0.5,IF(AND($G29=\"Medium\",'Assessment Framework'!V29=\"Low\"),0.5,0))),0)","v":0},{"$f":"IF($G29<>\"\",IF('Assessment Framework'!W29=$G29,1,IF(AND($G29=\"High\",OR('Assessment Framework'!W29=\"Medium\",'Assessment Framework'!W29=\"Low\")),0.5,IF(AND($G29=\"Medium\",'Assessment Framework'!W29=\"Low\"),0.5,0))),0)","v":0},{"$f":"IF($G29<>\"\",IF('Assessment Framework'!X29=$G29,1,IF(AND($G29=\"High\",OR('Assessment Framework'!X29=\"Medium\",'Assessment Framework'!X29=\"Low\")),0.5,IF(AND($G29=\"Medium\",'Assessment Framework'!X29=\"Low\"),0.5,0))),0)","v":0},{"$f":"IF($G29<>\"\",IF('Assessment Framework'!Y29=$G29,1,IF(AND($G29=\"High\",OR('Assessment Framework'!Y29=\"Medium\",'Assessment Framework'!Y29=\"Low\")),0.5,IF(AND($G29=\"Medium\",'Assessment Framework'!Y29=\"Low\"),0.5,0))),0)","v":0},{"$f":"IF($G29<>\"\",IF('Assessment Framework'!Z29=$G29,1,IF(AND($G29=\"High\",OR('Assessment Framework'!Z29=\"Medium\",'Assessment Framework'!Z29=\"Low\")),0.5,IF(AND($G29=\"Medium\",'Assessment Framework'!Z29=\"Low\"),0.5,0))),0)","v":0},{"$f":"IF($G29<>\"\",IF('Assessment Framework'!AA29=$G29,1,IF(AND($G29=\"High\",OR('Assessment Framework'!AA29=\"Medium\",'Assessment Framework'!AA29=\"Low\")),0.5,IF(AND($G29=\"Medium\",'Assessment Framework'!AA29=\"Low\"),0.5,0))),0)","v":0},{"$f":"IF($G29<>\"\",IF('Assessment Framework'!AB29=$G29,1,IF(AND($G29=\"High\",OR('Assessment Framework'!AB29=\"Medium\",'Assessment Framework'!AB29=\"Low\")),0.5,IF(AND($G29=\"Medium\",'Assessment Framework'!AB29=\"Low\"),0.5,0))),0)","v":0},{"$f":"IF($G29<>\"\",IF('Assessment Framework'!AC29=$G29,1,IF(AND($G29=\"High\",OR('Assessment Framework'!AC29=\"Medium\",'Assessment Framework'!AC29=\"Low\")),0.5,IF(AND($G29=\"Medium\",'Assessment Framework'!AC29=\"Low\"),0.5,0))),0)","v":0},{"$f":"IF($G29<>\"\",IF('Assessment Framework'!AD29=$G29,1,IF(AND($G29=\"High\",OR('Assessment Framework'!AD29=\"Medium\",'Assessment Framework'!AD29=\"Low\")),0.5,IF(AND($G29=\"Medium\",'Assessment Framework'!AD29=\"Low\"),0.5,0))),0)","v":0},{"$f":"IF($G29<>\"\",IF('Assessment Framework'!AE29=$G29,1,IF(AND($G29=\"High\",OR('Assessment Framework'!AE29=\"Medium\",'Assessment Framework'!AE29=\"Low\")),0.5,IF(AND($G29=\"Medium\",'Assessment Framework'!AE29=\"Low\"),0.5,0))),0)","v":0},{"$f":"IF($G29<>\"\",IF('Assessment Framework'!AF29=$G29,1,IF(AND($G29=\"High\",OR('Assessment Framework'!AF29=\"Medium\",'Assessment Framework'!AF29=\"Low\")),0.5,IF(AND($G29=\"Medium\",'Assessment Framework'!AF29=\"Low\"),0.5,0))),0)","v":0},{"$f":"IF($G29<>\"\",IF('Assessment Framework'!AG29=$G29,1,IF(AND($G29=\"High\",OR('Assessment Framework'!AG29=\"Medium\",'Assessment Framework'!AG29=\"Low\")),0.5,IF(AND($G29=\"Medium\",'Assessment Framework'!AG29=\"Low\"),0.5,0))),0)","v":0},{"$f":"IF($G29<>\"\",IF('Assessment Framework'!AH29=$G29,1,IF(AND($G29=\"High\",OR('Assessment Framework'!AH29=\"Medium\",'Assessment Framework'!AH29=\"Low\")),0.5,IF(AND($G29=\"Medium\",'Assessment Framework'!AH29=\"Low\"),0.5,0))),0)","v":0},{"$f":"IF($G29<>\"\",IF('Assessment Framework'!AI29=$G29,1,IF(AND($G29=\"High\",OR('Assessment Framework'!AI29=\"Medium\",'Assessment Framework'!AI29=\"Low\")),0.5,IF(AND($G29=\"Medium\",'Assessment Framework'!AI29=\"Low\"),0.5,0))),0)","v":0},{"$f":"IF($G29<>\"\",IF('Assessment Framework'!AJ29=$G29,1,IF(AND($G29=\"High\",OR('Assessment Framework'!AJ29=\"Medium\",'Assessment Framework'!AJ29=\"Low\")),0.5,IF(AND($G29=\"Medium\",'Assessment Framework'!AJ29=\"Low\"),0.5,0))),0)","v":0},{"$f":"IF($G29<>\"\",IF('Assessment Framework'!AK29=$G29,1,IF(AND($G29=\"High\",OR('Assessment Framework'!AK29=\"Medium\",'Assessment Framework'!AK29=\"Low\")),0.5,IF(AND($G29=\"Medium\",'Assessment Framework'!AK29=\"Low\"),0.5,0))),0)","v":0},{"$f":"IF($G29<>\"\",IF('Assessment Framework'!AL29=$G29,1,IF(AND($G29=\"High\",OR('Assessment Framework'!AL29=\"Medium\",'Assessment Framework'!AL29=\"Low\")),0.5,IF(AND($G29=\"Medium\",'Assessment Framework'!AL29=\"Low\"),0.5,0))),0)","v":0},{"$f":"IF($G29<>\"\",IF('Assessment Framework'!AM29=$G29,1,IF(AND($G29=\"High\",OR('Assessment Framework'!AM29=\"Medium\",'Assessment Framework'!AM29=\"Low\")),0.5,IF(AND($G29=\"Medium\",'Assessment Framework'!AM29=\"Low\"),0.5,0))),0)","v":0},{"$f":"IF($G29<>\"\",IF('Assessment Framework'!AN29=$G29,1,IF(AND($G29=\"High\",OR('Assessment Framework'!AN29=\"Medium\",'Assessment Framework'!AN29=\"Low\")),0.5,IF(AND($G29=\"Medium\",'Assessment Framework'!AN29=\"Low\"),0.5,0))),0)","v":0},{"$f":"IF($G29<>\"\",IF('Assessment Framework'!AO29=$G29,1,IF(AND($G29=\"High\",OR('Assessment Framework'!AO29=\"Medium\",'Assessment Framework'!AO29=\"Low\")),0.5,IF(AND($G29=\"Medium\",'Assessment Framework'!AO29=\"Low\"),0.5,0))),0)","v":0},{"$f":"IF($G29<>\"\",IF('Assessment Framework'!AP29=$G29,1,IF(AND($G29=\"High\",OR('Assessment Framework'!AP29=\"Medium\",'Assessment Framework'!AP29=\"Low\")),0.5,IF(AND($G29=\"Medium\",'Assessment Framework'!AP29=\"Low\"),0.5,0))),0)","v":0},{"$f":"IF($G29<>\"\",IF('Assessment Framework'!AQ29=$G29,1,IF(AND($G29=\"High\",OR('Assessment Framework'!AQ29=\"Medium\",'Assessment Framework'!AQ29=\"Low\")),0.5,IF(AND($G29=\"Medium\",'Assessment Framework'!AQ29=\"Low\"),0.5,0))),0)","v":0},{"$f":"IF($G29<>\"\",IF('Assessment Framework'!AR29=$G29,1,IF(AND($G29=\"High\",OR('Assessment Framework'!AR29=\"Medium\",'Assessment Framework'!AR29=\"Low\")),0.5,IF(AND($G29=\"Medium\",'Assessment Framework'!AR29=\"Low\"),0.5,0))),0)","v":0},{"$f":"IF($G29<>\"\",IF('Assessment Framework'!AS29=$G29,1,IF(AND($G29=\"High\",OR('Assessment Framework'!AS29=\"Medium\",'Assessment Framework'!AS29=\"Low\")),0.5,IF(AND($G29=\"Medium\",'Assessment Framework'!AS29=\"Low\"),0.5,0))),0)","v":0},{"$f":"IF($G29<>\"\",IF('Assessment Framework'!AT29=$G29,1,IF(AND($G29=\"High\",OR('Assessment Framework'!AT29=\"Medium\",'Assessment Framework'!AT29=\"Low\")),0.5,IF(AND($G29=\"Medium\",'Assessment Framework'!AT29=\"Low\"),0.5,0))),0)","v":0},{"$f":"IF($G29<>\"\",IF('Assessment Framework'!AU29=$G29,1,IF(AND($G29=\"High\",OR('Assessment Framework'!AU29=\"Medium\",'Assessment Framework'!AU29=\"Low\")),0.5,IF(AND($G29=\"Medium\",'Assessment Framework'!AU29=\"Low\"),0.5,0))),0)","v":0},{"$f":"IF($G29<>\"\",IF('Assessment Framework'!AV29=$G29,1,IF(AND($G29=\"High\",OR('Assessment Framework'!AV29=\"Medium\",'Assessment Framework'!AV29=\"Low\")),0.5,IF(AND($G29=\"Medium\",'Assessment Framework'!AV29=\"Low\"),0.5,0))),0)","v":0},{"$f":"IF($G29<>\"\",IF('Assessment Framework'!AW29=$G29,1,IF(AND($G29=\"High\",OR('Assessment Framework'!AW29=\"Medium\",'Assessment Framework'!AW29=\"Low\")),0.5,IF(AND($G29=\"Medium\",'Assessment Framework'!AW29=\"Low\"),0.5,0))),0)","v":0},{"$f":"IF($G29<>\"\",IF('Assessment Framework'!AX29=$G29,1,IF(AND($G29=\"High\",OR('Assessment Framework'!AX29=\"Medium\",'Assessment Framework'!AX29=\"Low\")),0.5,IF(AND($G29=\"Medium\",'Assessment Framework'!AX29=\"Low\"),0.5,0))),0)","v":0},{"$f":"IF($G29<>\"\",IF('Assessment Framework'!AY29=$G29,1,IF(AND($G29=\"High\",OR('Assessment Framework'!AY29=\"Medium\",'Assessment Framework'!AY29=\"Low\")),0.5,IF(AND($G29=\"Medium\",'Assessment Framework'!AY29=\"Low\"),0.5,0))),0)","v":0},{"$f":"IF($G29<>\"\",IF('Assessment Framework'!AZ29=$G29,1,IF(AND($G29=\"High\",OR('Assessment Framework'!AZ29=\"Medium\",'Assessment Framework'!AZ29=\"Low\")),0.5,IF(AND($G29=\"Medium\",'Assessment Framework'!AZ29=\"Low\"),0.5,0))),0)","v":0},{"$f":"IF($G29<>\"\",IF('Assessment Framework'!BA29=$G29,1,IF(AND($G29=\"High\",OR('Assessment Framework'!BA29=\"Medium\",'Assessment Framework'!BA29=\"Low\")),0.5,IF(AND($G29=\"Medium\",'Assessment Framework'!BA29=\"Low\"),0.5,0))),0)","v":0},{"$f":"IF($G29<>\"\",IF('Assessment Framework'!BB29=$G29,1,IF(AND($G29=\"High\",OR('Assessment Framework'!BB29=\"Medium\",'Assessment Framework'!BB29=\"Low\")),0.5,IF(AND($G29=\"Medium\",'Assessment Framework'!BB29=\"Low\"),0.5,0))),0)","v":0},{"$f":"IF($G29<>\"\",IF('Assessment Framework'!BC29=$G29,1,IF(AND($G29=\"High\",OR('Assessment Framework'!BC29=\"Medium\",'Assessment Framework'!BC29=\"Low\")),0.5,IF(AND($G29=\"Medium\",'Assessment Framework'!BC29=\"Low\"),0.5,0))),0)","v":0},{"$f":"IF($G29<>\"\",IF('Assessment Framework'!BD29=$G29,1,IF(AND($G29=\"High\",OR('Assessment Framework'!BD29=\"Medium\",'Assessment Framework'!BD29=\"Low\")),0.5,IF(AND($G29=\"Medium\",'Assessment Framework'!BD29=\"Low\"),0.5,0))),0)","v":0},{"$f":"IF($G29<>\"\",IF('Assessment Framework'!BE29=$G29,1,IF(AND($G29=\"High\",OR('Assessment Framework'!BE29=\"Medium\",'Assessment Framework'!BE29=\"Low\")),0.5,IF(AND($G29=\"Medium\",'Assessment Framework'!BE29=\"Low\"),0.5,0))),0)","v":0},{"$f":"IF($G29<>\"\",IF('Assessment Framework'!BF29=$G29,1,IF(AND($G29=\"High\",OR('Assessment Framework'!BF29=\"Medium\",'Assessment Framework'!BF29=\"Low\")),0.5,IF(AND($G29=\"Medium\",'Assessment Framework'!BF29=\"Low\"),0.5,0))),0)","v":0},{"$f":"IF($G29<>\"\",IF('Assessment Framework'!BG29=$G29,1,IF(AND($G29=\"High\",OR('Assessment Framework'!BG29=\"Medium\",'Assessment Framework'!BG29=\"Low\")),0.5,IF(AND($G29=\"Medium\",'Assessment Framework'!BG29=\"Low\"),0.5,0))),0)","v":0},{"$f":"IF($G29<>\"\",IF('Assessment Framework'!BH29=$G29,1,IF(AND($G29=\"High\",OR('Assessment Framework'!BH29=\"Medium\",'Assessment Framework'!BH29=\"Low\")),0.5,IF(AND($G29=\"Medium\",'Assessment Framework'!BH29=\"Low\"),0.5,0))),0)","v":0},{"$f":"IF($G29<>\"\",IF('Assessment Framework'!BI29=$G29,1,IF(AND($G29=\"High\",OR('Assessment Framework'!BI29=\"Medium\",'Assessment Framework'!BI29=\"Low\")),0.5,IF(AND($G29=\"Medium\",'Assessment Framework'!BI29=\"Low\"),0.5,0))),0)","v":0},{"$f":"IF($G29<>\"\",IF('Assessment Framework'!BJ29=$G29,1,IF(AND($G29=\"High\",OR('Assessment Framework'!BJ29=\"Medium\",'Assessment Framework'!BJ29=\"Low\")),0.5,IF(AND($G29=\"Medium\",'Assessment Framework'!BJ29=\"Low\"),0.5,0))),0)","v":0},{"$f":"IF($G29<>\"\",IF('Assessment Framework'!BK29=$G29,1,IF(AND($G29=\"High\",OR('Assessment Framework'!BK29=\"Medium\",'Assessment Framework'!BK29=\"Low\")),0.5,IF(AND($G29=\"Medium\",'Assessment Framework'!BK29=\"Low\"),0.5,0))),0)","v":0},{"$f":"IF($G29<>\"\",IF('Assessment Framework'!BL29=$G29,1,IF(AND($G29=\"High\",OR('Assessment Framework'!BL29=\"Medium\",'Assessment Framework'!BL29=\"Low\")),0.5,IF(AND($G29=\"Medium\",'Assessment Framework'!BL29=\"Low\"),0.5,0))),0)","v":0},{"$f":"IF($G29<>\"\",IF('Assessment Framework'!BM29=$G29,1,IF(AND($G29=\"High\",OR('Assessment Framework'!BM29=\"Medium\",'Assessment Framework'!BM29=\"Low\")),0.5,IF(AND($G29=\"Medium\",'Assessment Framework'!BM29=\"Low\"),0.5,0))),0)","v":0},{"$f":"IF($G29<>\"\",IF('Assessment Framework'!BN29=$G29,1,IF(AND($G29=\"High\",OR('Assessment Framework'!BN29=\"Medium\",'Assessment Framework'!BN29=\"Low\")),0.5,IF(AND($G29=\"Medium\",'Assessment Framework'!BN29=\"Low\"),0.5,0))),0)","v":0},{"$f":"IF($G29<>\"\",IF('Assessment Framework'!BO29=$G29,1,IF(AND($G29=\"High\",OR('Assessment Framework'!BO29=\"Medium\",'Assessment Framework'!BO29=\"Low\")),0.5,IF(AND($G29=\"Medium\",'Assessment Framework'!BO29=\"Low\"),0.5,0))),0)","v":0},{"$f":"IF($G29<>\"\",IF('Assessment Framework'!BP29=$G29,1,IF(AND($G29=\"High\",OR('Assessment Framework'!BP29=\"Medium\",'Assessment Framework'!BP29=\"Low\")),0.5,IF(AND($G29=\"Medium\",'Assessment Framework'!BP29=\"Low\"),0.5,0))),0)","v":0},{"$f":"IF($G29<>\"\",IF('Assessment Framework'!BQ29=$G29,1,IF(AND($G29=\"High\",OR('Assessment Framework'!BQ29=\"Medium\",'Assessment Framework'!BQ29=\"Low\")),0.5,IF(AND($G29=\"Medium\",'Assessment Framework'!BQ29=\"Low\"),0.5,0))),0)","v":0},{"$f":"IF($G29<>\"\",IF('Assessment Framework'!BR29=$G29,1,IF(AND($G29=\"High\",OR('Assessment Framework'!BR29=\"Medium\",'Assessment Framework'!BR29=\"Low\")),0.5,IF(AND($G29=\"Medium\",'Assessment Framework'!BR29=\"Low\"),0.5,0))),0)","v":0},{"$f":"IF($G29<>\"\",IF('Assessment Framework'!BS29=$G29,1,IF(AND($G29=\"High\",OR('Assessment Framework'!BS29=\"Medium\",'Assessment Framework'!BS29=\"Low\")),0.5,IF(AND($G29=\"Medium\",'Assessment Framework'!BS29=\"Low\"),0.5,0))),0)","v":0},{"$f":"IF($G29<>\"\",IF('Assessment Framework'!BT29=$G29,1,IF(AND($G29=\"High\",OR('Assessment Framework'!BT29=\"Medium\",'Assessment Framework'!BT29=\"Low\")),0.5,IF(AND($G29=\"Medium\",'Assessment Framework'!BT29=\"Low\"),0.5,0))),0)","v":0},{"$f":"IF($G29<>\"\",IF('Assessment Framework'!BU29=$G29,1,IF(AND($G29=\"High\",OR('Assessment Framework'!BU29=\"Medium\",'Assessment Framework'!BU29=\"Low\")),0.5,IF(AND($G29=\"Medium\",'Assessment Framework'!BU29=\"Low\"),0.5,0))),0)","v":0},{"$f":"IF($G29<>\"\",IF('Assessment Framework'!BV29=$G29,1,IF(AND($G29=\"High\",OR('Assessment Framework'!BV29=\"Medium\",'Assessment Framework'!BV29=\"Low\")),0.5,IF(AND($G29=\"Medium\",'Assessment Framework'!BV29=\"Low\"),0.5,0))),0)","v":0},{"$f":"IF($G29<>\"\",IF('Assessment Framework'!BW29=$G29,1,IF(AND($G29=\"High\",OR('Assessment Framework'!BW29=\"Medium\",'Assessment Framework'!BW29=\"Low\")),0.5,IF(AND($G29=\"Medium\",'Assessment Framework'!BW29=\"Low\"),0.5,0))),0)","v":0},{"$f":"IF($G29<>\"\",IF('Assessment Framework'!BX29=$G29,1,IF(AND($G29=\"High\",OR('Assessment Framework'!BX29=\"Medium\",'Assessment Framework'!BX29=\"Low\")),0.5,IF(AND($G29=\"Medium\",'Assessment Framework'!BX29=\"Low\"),0.5,0))),0)","v":0},{"$f":"IF($G29<>\"\",IF('Assessment Framework'!BY29=$G29,1,IF(AND($G29=\"High\",OR('Assessment Framework'!BY29=\"Medium\",'Assessment Framework'!BY29=\"Low\")),0.5,IF(AND($G29=\"Medium\",'Assessment Framework'!BY29=\"Low\"),0.5,0))),0)","v":0},{"$f":"IF($G29<>\"\",IF('Assessment Framework'!BZ29=$G29,1,IF(AND($G29=\"High\",OR('Assessment Framework'!BZ29=\"Medium\",'Assessment Framework'!BZ29=\"Low\")),0.5,IF(AND($G29=\"Medium\",'Assessment Framework'!BZ29=\"Low\"),0.5,0))),0)","v":0},{"$f":"IF($G29<>\"\",IF('Assessment Framework'!CA29=$G29,1,IF(AND($G29=\"High\",OR('Assessment Framework'!CA29=\"Medium\",'Assessment Framework'!CA29=\"Low\")),0.5,IF(AND($G29=\"Medium\",'Assessment Framework'!CA29=\"Low\"),0.5,0))),0)","v":0},{"$f":"IF($G29<>\"\",IF('Assessment Framework'!CB29=$G29,1,IF(AND($G29=\"High\",OR('Assessment Framework'!CB29=\"Medium\",'Assessment Framework'!CB29=\"Low\")),0.5,IF(AND($G29=\"Medium\",'Assessment Framework'!CB29=\"Low\"),0.5,0))),0)","v":0},{"$f":"IF($G29<>\"\",IF('Assessment Framework'!CC29=$G29,1,IF(AND($G29=\"High\",OR('Assessment Framework'!CC29=\"Medium\",'Assessment Framework'!CC29=\"Low\")),0.5,IF(AND($G29=\"Medium\",'Assessment Framework'!CC29=\"Low\"),0.5,0))),0)","v":0},{"$f":"IF($G29<>\"\",IF('Assessment Framework'!CD29=$G29,1,IF(AND($G29=\"High\",OR('Assessment Framework'!CD29=\"Medium\",'Assessment Framework'!CD29=\"Low\")),0.5,IF(AND($G29=\"Medium\",'Assessment Framework'!CD29=\"Low\"),0.5,0))),0)","v":0},{"$f":"IF($G29<>\"\",IF('Assessment Framework'!CE29=$G29,1,IF(AND($G29=\"High\",OR('Assessment Framework'!CE29=\"Medium\",'Assessment Framework'!CE29=\"Low\")),0.5,IF(AND($G29=\"Medium\",'Assessment Framework'!CE29=\"Low\"),0.5,0))),0)","v":0},{"$f":"IF($G29<>\"\",IF('Assessment Framework'!CF29=$G29,1,IF(AND($G29=\"High\",OR('Assessment Framework'!CF29=\"Medium\",'Assessment Framework'!CF29=\"Low\")),0.5,IF(AND($G29=\"Medium\",'Assessment Framework'!CF29=\"Low\"),0.5,0))),0)","v":0},{"$f":"IF($G29<>\"\",IF('Assessment Framework'!CG29=$G29,1,IF(AND($G29=\"High\",OR('Assessment Framework'!CG29=\"Medium\",'Assessment Framework'!CG29=\"Low\")),0.5,IF(AND($G29=\"Medium\",'Assessment Framework'!CG29=\"Low\"),0.5,0))),0)","v":0},{"$f":"IF($G29<>\"\",IF('Assessment Framework'!CH29=$G29,1,IF(AND($G29=\"High\",OR('Assessment Framework'!CH29=\"Medium\",'Assessment Framework'!CH29=\"Low\")),0.5,IF(AND($G29=\"Medium\",'Assessment Framework'!CH29=\"Low\"),0.5,0))),0)","v":0},{"$f":"IF($G29<>\"\",IF('Assessment Framework'!CI29=$G29,1,IF(AND($G29=\"High\",OR('Assessment Framework'!CI29=\"Medium\",'Assessment Framework'!CI29=\"Low\")),0.5,IF(AND($G29=\"Medium\",'Assessment Framework'!CI29=\"Low\"),0.5,0))),0)","v":0},{"$f":"IF($G29<>\"\",IF('Assessment Framework'!CJ29=$G29,1,IF(AND($G29=\"High\",OR('Assessment Framework'!CJ29=\"Medium\",'Assessment Framework'!CJ29=\"Low\")),0.5,IF(AND($G29=\"Medium\",'Assessment Framework'!CJ29=\"Low\"),0.5,0))),0)","v":0},{"$f":"IF($G29<>\"\",IF('Assessment Framework'!CK29=$G29,1,IF(AND($G29=\"High\",OR('Assessment Framework'!CK29=\"Medium\",'Assessment Framework'!CK29=\"Low\")),0.5,IF(AND($G29=\"Medium\",'Assessment Framework'!CK29=\"Low\"),0.5,0))),0)","v":0},{"$f":"IF($G29<>\"\",IF('Assessment Framework'!CL29=$G29,1,IF(AND($G29=\"High\",OR('Assessment Framework'!CL29=\"Medium\",'Assessment Framework'!CL29=\"Low\")),0.5,IF(AND($G29=\"Medium\",'Assessment Framework'!CL29=\"Low\"),0.5,0))),0)","v":0},{"$f":"IF($G29<>\"\",IF('Assessment Framework'!CM29=$G29,1,IF(AND($G29=\"High\",OR('Assessment Framework'!CM29=\"Medium\",'Assessment Framework'!CM29=\"Low\")),0.5,IF(AND($G29=\"Medium\",'Assessment Framework'!CM29=\"Low\"),0.5,0))),0)","v":0}]
[null,null,null,"Calculated overall resource availability (proxy for budget)","The ‘overall resource intensity’ can be considered as a proxy for the budget required to implement the methodology. It is automatically calculated by averaging the total score for each of the above categories where high = 3, medium = 2, low = 1, before rounding to the nearest integer. ","High, Medium, Low",{"$f":"IF('A - Policy objectives'!C37=\"\",\"\",'A - Policy objectives'!C37)","v":""},{"$f":"IF($G30<>\"\",IF('Assessment Framework'!G30=$G30,1,IF(AND($G30=\"High\",OR('Assessment Framework'!G30=\"Medium\",'Assessment Framework'!G30=\"Low\")),0.5,IF(AND($G30=\"Medium\",'Assessment Framework'!G30=\"Low\"),0.5,0))),0)","v":0},{"$f":"IF($G30<>\"\",IF('Assessment Framework'!H30=$G30,1,IF(AND($G30=\"High\",OR('Assessment Framework'!H30=\"Medium\",'Assessment Framework'!H30=\"Low\")),0.5,IF(AND($G30=\"Medium\",'Assessment Framework'!H30=\"Low\"),0.5,0))),0)","v":0},{"$f":"IF($G30<>\"\",IF('Assessment Framework'!I30=$G30,1,IF(AND($G30=\"High\",OR('Assessment Framework'!I30=\"Medium\",'Assessment Framework'!I30=\"Low\")),0.5,IF(AND($G30=\"Medium\",'Assessment Framework'!I30=\"Low\"),0.5,0))),0)","v":0},{"$f":"IF($G30<>\"\",IF('Assessment Framework'!J30=$G30,1,IF(AND($G30=\"High\",OR('Assessment Framework'!J30=\"Medium\",'Assessment Framework'!J30=\"Low\")),0.5,IF(AND($G30=\"Medium\",'Assessment Framework'!J30=\"Low\"),0.5,0))),0)","v":0},{"$f":"IF($G30<>\"\",IF('Assessment Framework'!K30=$G30,1,IF(AND($G30=\"High\",OR('Assessment Framework'!K30=\"Medium\",'Assessment Framework'!K30=\"Low\")),0.5,IF(AND($G30=\"Medium\",'Assessment Framework'!K30=\"Low\"),0.5,0))),0)","v":0},{"$f":"IF($G30<>\"\",IF('Assessment Framework'!L30=$G30,1,IF(AND($G30=\"High\",OR('Assessment Framework'!L30=\"Medium\",'Assessment Framework'!L30=\"Low\")),0.5,IF(AND($G30=\"Medium\",'Assessment Framework'!L30=\"Low\"),0.5,0))),0)","v":0},{"$f":"IF($G30<>\"\",IF('Assessment Framework'!M30=$G30,1,IF(AND($G30=\"High\",OR('Assessment Framework'!M30=\"Medium\",'Assessment Framework'!M30=\"Low\")),0.5,IF(AND($G30=\"Medium\",'Assessment Framework'!M30=\"Low\"),0.5,0))),0)","v":0},{"$f":"IF($G30<>\"\",IF('Assessment Framework'!N30=$G30,1,IF(AND($G30=\"High\",OR('Assessment Framework'!N30=\"Medium\",'Assessment Framework'!N30=\"Low\")),0.5,IF(AND($G30=\"Medium\",'Assessment Framework'!N30=\"Low\"),0.5,0))),0)","v":0},{"$f":"IF($G30<>\"\",IF('Assessment Framework'!O30=$G30,1,IF(AND($G30=\"High\",OR('Assessment Framework'!O30=\"Medium\",'Assessment Framework'!O30=\"Low\")),0.5,IF(AND($G30=\"Medium\",'Assessment Framework'!O30=\"Low\"),0.5,0))),0)","v":0},{"$f":"IF($G30<>\"\",IF('Assessment Framework'!P30=$G30,1,IF(AND($G30=\"High\",OR('Assessment Framework'!P30=\"Medium\",'Assessment Framework'!P30=\"Low\")),0.5,IF(AND($G30=\"Medium\",'Assessment Framework'!P30=\"Low\"),0.5,0))),0)","v":0},{"$f":"IF($G30<>\"\",IF('Assessment Framework'!Q30=$G30,1,IF(AND($G30=\"High\",OR('Assessment Framework'!Q30=\"Medium\",'Assessment Framework'!Q30=\"Low\")),0.5,IF(AND($G30=\"Medium\",'Assessment Framework'!Q30=\"Low\"),0.5,0))),0)","v":0},{"$f":"IF($G30<>\"\",IF('Assessment Framework'!R30=$G30,1,IF(AND($G30=\"High\",OR('Assessment Framework'!R30=\"Medium\",'Assessment Framework'!R30=\"Low\")),0.5,IF(AND($G30=\"Medium\",'Assessment Framework'!R30=\"Low\"),0.5,0))),0)","v":0},{"$f":"IF($G30<>\"\",IF('Assessment Framework'!S30=$G30,1,IF(AND($G30=\"High\",OR('Assessment Framework'!S30=\"Medium\",'Assessment Framework'!S30=\"Low\")),0.5,IF(AND($G30=\"Medium\",'Assessment Framework'!S30=\"Low\"),0.5,0))),0)","v":0},{"$f":"IF($G30<>\"\",IF('Assessment Framework'!T30=$G30,1,IF(AND($G30=\"High\",OR('Assessment Framework'!T30=\"Medium\",'Assessment Framework'!T30=\"Low\")),0.5,IF(AND($G30=\"Medium\",'Assessment Framework'!T30=\"Low\"),0.5,0))),0)","v":0},{"$f":"IF($G30<>\"\",IF('Assessment Framework'!U30=$G30,1,IF(AND($G30=\"High\",OR('Assessment Framework'!U30=\"Medium\",'Assessment Framework'!U30=\"Low\")),0.5,IF(AND($G30=\"Medium\",'Assessment Framework'!U30=\"Low\"),0.5,0))),0)","v":0},{"$f":"IF($G30<>\"\",IF('Assessment Framework'!V30=$G30,1,IF(AND($G30=\"High\",OR('Assessment Framework'!V30=\"Medium\",'Assessment Framework'!V30=\"Low\")),0.5,IF(AND($G30=\"Medium\",'Assessment Framework'!V30=\"Low\"),0.5,0))),0)","v":0},{"$f":"IF($G30<>\"\",IF('Assessment Framework'!W30=$G30,1,IF(AND($G30=\"High\",OR('Assessment Framework'!W30=\"Medium\",'Assessment Framework'!W30=\"Low\")),0.5,IF(AND($G30=\"Medium\",'Assessment Framework'!W30=\"Low\"),0.5,0))),0)","v":0},{"$f":"IF($G30<>\"\",IF('Assessment Framework'!X30=$G30,1,IF(AND($G30=\"High\",OR('Assessment Framework'!X30=\"Medium\",'Assessment Framework'!X30=\"Low\")),0.5,IF(AND($G30=\"Medium\",'Assessment Framework'!X30=\"Low\"),0.5,0))),0)","v":0},{"$f":"IF($G30<>\"\",IF('Assessment Framework'!Y30=$G30,1,IF(AND($G30=\"High\",OR('Assessment Framework'!Y30=\"Medium\",'Assessment Framework'!Y30=\"Low\")),0.5,IF(AND($G30=\"Medium\",'Assessment Framework'!Y30=\"Low\"),0.5,0))),0)","v":0},{"$f":"IF($G30<>\"\",IF('Assessment Framework'!Z30=$G30,1,IF(AND($G30=\"High\",OR('Assessment Framework'!Z30=\"Medium\",'Assessment Framework'!Z30=\"Low\")),0.5,IF(AND($G30=\"Medium\",'Assessment Framework'!Z30=\"Low\"),0.5,0))),0)","v":0},{"$f":"IF($G30<>\"\",IF('Assessment Framework'!AA30=$G30,1,IF(AND($G30=\"High\",OR('Assessment Framework'!AA30=\"Medium\",'Assessment Framework'!AA30=\"Low\")),0.5,IF(AND($G30=\"Medium\",'Assessment Framework'!AA30=\"Low\"),0.5,0))),0)","v":0},{"$f":"IF($G30<>\"\",IF('Assessment Framework'!AB30=$G30,1,IF(AND($G30=\"High\",OR('Assessment Framework'!AB30=\"Medium\",'Assessment Framework'!AB30=\"Low\")),0.5,IF(AND($G30=\"Medium\",'Assessment Framework'!AB30=\"Low\"),0.5,0))),0)","v":0},{"$f":"IF($G30<>\"\",IF('Assessment Framework'!AC30=$G30,1,IF(AND($G30=\"High\",OR('Assessment Framework'!AC30=\"Medium\",'Assessment Framework'!AC30=\"Low\")),0.5,IF(AND($G30=\"Medium\",'Assessment Framework'!AC30=\"Low\"),0.5,0))),0)","v":0},{"$f":"IF($G30<>\"\",IF('Assessment Framework'!AD30=$G30,1,IF(AND($G30=\"High\",OR('Assessment Framework'!AD30=\"Medium\",'Assessment Framework'!AD30=\"Low\")),0.5,IF(AND($G30=\"Medium\",'Assessment Framework'!AD30=\"Low\"),0.5,0))),0)","v":0},{"$f":"IF($G30<>\"\",IF('Assessment Framework'!AE30=$G30,1,IF(AND($G30=\"High\",OR('Assessment Framework'!AE30=\"Medium\",'Assessment Framework'!AE30=\"Low\")),0.5,IF(AND($G30=\"Medium\",'Assessment Framework'!AE30=\"Low\"),0.5,0))),0)","v":0},{"$f":"IF($G30<>\"\",IF('Assessment Framework'!AF30=$G30,1,IF(AND($G30=\"High\",OR('Assessment Framework'!AF30=\"Medium\",'Assessment Framework'!AF30=\"Low\")),0.5,IF(AND($G30=\"Medium\",'Assessment Framework'!AF30=\"Low\"),0.5,0))),0)","v":0},{"$f":"IF($G30<>\"\",IF('Assessment Framework'!AG30=$G30,1,IF(AND($G30=\"High\",OR('Assessment Framework'!AG30=\"Medium\",'Assessment Framework'!AG30=\"Low\")),0.5,IF(AND($G30=\"Medium\",'Assessment Framework'!AG30=\"Low\"),0.5,0))),0)","v":0},{"$f":"IF($G30<>\"\",IF('Assessment Framework'!AH30=$G30,1,IF(AND($G30=\"High\",OR('Assessment Framework'!AH30=\"Medium\",'Assessment Framework'!AH30=\"Low\")),0.5,IF(AND($G30=\"Medium\",'Assessment Framework'!AH30=\"Low\"),0.5,0))),0)","v":0},{"$f":"IF($G30<>\"\",IF('Assessment Framework'!AI30=$G30,1,IF(AND($G30=\"High\",OR('Assessment Framework'!AI30=\"Medium\",'Assessment Framework'!AI30=\"Low\")),0.5,IF(AND($G30=\"Medium\",'Assessment Framework'!AI30=\"Low\"),0.5,0))),0)","v":0},{"$f":"IF($G30<>\"\",IF('Assessment Framework'!AJ30=$G30,1,IF(AND($G30=\"High\",OR('Assessment Framework'!AJ30=\"Medium\",'Assessment Framework'!AJ30=\"Low\")),0.5,IF(AND($G30=\"Medium\",'Assessment Framework'!AJ30=\"Low\"),0.5,0))),0)","v":0},{"$f":"IF($G30<>\"\",IF('Assessment Framework'!AK30=$G30,1,IF(AND($G30=\"High\",OR('Assessment Framework'!AK30=\"Medium\",'Assessment Framework'!AK30=\"Low\")),0.5,IF(AND($G30=\"Medium\",'Assessment Framework'!AK30=\"Low\"),0.5,0))),0)","v":0},{"$f":"IF($G30<>\"\",IF('Assessment Framework'!AL30=$G30,1,IF(AND($G30=\"High\",OR('Assessment Framework'!AL30=\"Medium\",'Assessment Framework'!AL30=\"Low\")),0.5,IF(AND($G30=\"Medium\",'Assessment Framework'!AL30=\"Low\"),0.5,0))),0)","v":0},{"$f":"IF($G30<>\"\",IF('Assessment Framework'!AM30=$G30,1,IF(AND($G30=\"High\",OR('Assessment Framework'!AM30=\"Medium\",'Assessment Framework'!AM30=\"Low\")),0.5,IF(AND($G30=\"Medium\",'Assessment Framework'!AM30=\"Low\"),0.5,0))),0)","v":0},{"$f":"IF($G30<>\"\",IF('Assessment Framework'!AN30=$G30,1,IF(AND($G30=\"High\",OR('Assessment Framework'!AN30=\"Medium\",'Assessment Framework'!AN30=\"Low\")),0.5,IF(AND($G30=\"Medium\",'Assessment Framework'!AN30=\"Low\"),0.5,0))),0)","v":0},{"$f":"IF($G30<>\"\",IF('Assessment Framework'!AO30=$G30,1,IF(AND($G30=\"High\",OR('Assessment Framework'!AO30=\"Medium\",'Assessment Framework'!AO30=\"Low\")),0.5,IF(AND($G30=\"Medium\",'Assessment Framework'!AO30=\"Low\"),0.5,0))),0)","v":0},{"$f":"IF($G30<>\"\",IF('Assessment Framework'!AP30=$G30,1,IF(AND($G30=\"High\",OR('Assessment Framework'!AP30=\"Medium\",'Assessment Framework'!AP30=\"Low\")),0.5,IF(AND($G30=\"Medium\",'Assessment Framework'!AP30=\"Low\"),0.5,0))),0)","v":0},{"$f":"IF($G30<>\"\",IF('Assessment Framework'!AQ30=$G30,1,IF(AND($G30=\"High\",OR('Assessment Framework'!AQ30=\"Medium\",'Assessment Framework'!AQ30=\"Low\")),0.5,IF(AND($G30=\"Medium\",'Assessment Framework'!AQ30=\"Low\"),0.5,0))),0)","v":0},{"$f":"IF($G30<>\"\",IF('Assessment Framework'!AR30=$G30,1,IF(AND($G30=\"High\",OR('Assessment Framework'!AR30=\"Medium\",'Assessment Framework'!AR30=\"Low\")),0.5,IF(AND($G30=\"Medium\",'Assessment Framework'!AR30=\"Low\"),0.5,0))),0)","v":0},{"$f":"IF($G30<>\"\",IF('Assessment Framework'!AS30=$G30,1,IF(AND($G30=\"High\",OR('Assessment Framework'!AS30=\"Medium\",'Assessment Framework'!AS30=\"Low\")),0.5,IF(AND($G30=\"Medium\",'Assessment Framework'!AS30=\"Low\"),0.5,0))),0)","v":0},{"$f":"IF($G30<>\"\",IF('Assessment Framework'!AT30=$G30,1,IF(AND($G30=\"High\",OR('Assessment Framework'!AT30=\"Medium\",'Assessment Framework'!AT30=\"Low\")),0.5,IF(AND($G30=\"Medium\",'Assessment Framework'!AT30=\"Low\"),0.5,0))),0)","v":0},{"$f":"IF($G30<>\"\",IF('Assessment Framework'!AU30=$G30,1,IF(AND($G30=\"High\",OR('Assessment Framework'!AU30=\"Medium\",'Assessment Framework'!AU30=\"Low\")),0.5,IF(AND($G30=\"Medium\",'Assessment Framework'!AU30=\"Low\"),0.5,0))),0)","v":0},{"$f":"IF($G30<>\"\",IF('Assessment Framework'!AV30=$G30,1,IF(AND($G30=\"High\",OR('Assessment Framework'!AV30=\"Medium\",'Assessment Framework'!AV30=\"Low\")),0.5,IF(AND($G30=\"Medium\",'Assessment Framework'!AV30=\"Low\"),0.5,0))),0)","v":0},{"$f":"IF($G30<>\"\",IF('Assessment Framework'!AW30=$G30,1,IF(AND($G30=\"High\",OR('Assessment Framework'!AW30=\"Medium\",'Assessment Framework'!AW30=\"Low\")),0.5,IF(AND($G30=\"Medium\",'Assessment Framework'!AW30=\"Low\"),0.5,0))),0)","v":0},{"$f":"IF($G30<>\"\",IF('Assessment Framework'!AX30=$G30,1,IF(AND($G30=\"High\",OR('Assessment Framework'!AX30=\"Medium\",'Assessment Framework'!AX30=\"Low\")),0.5,IF(AND($G30=\"Medium\",'Assessment Framework'!AX30=\"Low\"),0.5,0))),0)","v":0},{"$f":"IF($G30<>\"\",IF('Assessment Framework'!AY30=$G30,1,IF(AND($G30=\"High\",OR('Assessment Framework'!AY30=\"Medium\",'Assessment Framework'!AY30=\"Low\")),0.5,IF(AND($G30=\"Medium\",'Assessment Framework'!AY30=\"Low\"),0.5,0))),0)","v":0},{"$f":"IF($G30<>\"\",IF('Assessment Framework'!AZ30=$G30,1,IF(AND($G30=\"High\",OR('Assessment Framework'!AZ30=\"Medium\",'Assessment Framework'!AZ30=\"Low\")),0.5,IF(AND($G30=\"Medium\",'Assessment Framework'!AZ30=\"Low\"),0.5,0))),0)","v":0},{"$f":"IF($G30<>\"\",IF('Assessment Framework'!BA30=$G30,1,IF(AND($G30=\"High\",OR('Assessment Framework'!BA30=\"Medium\",'Assessment Framework'!BA30=\"Low\")),0.5,IF(AND($G30=\"Medium\",'Assessment Framework'!BA30=\"Low\"),0.5,0))),0)","v":0},{"$f":"IF($G30<>\"\",IF('Assessment Framework'!BB30=$G30,1,IF(AND($G30=\"High\",OR('Assessment Framework'!BB30=\"Medium\",'Assessment Framework'!BB30=\"Low\")),0.5,IF(AND($G30=\"Medium\",'Assessment Framework'!BB30=\"Low\"),0.5,0))),0)","v":0},{"$f":"IF($G30<>\"\",IF('Assessment Framework'!BC30=$G30,1,IF(AND($G30=\"High\",OR('Assessment Framework'!BC30=\"Medium\",'Assessment Framework'!BC30=\"Low\")),0.5,IF(AND($G30=\"Medium\",'Assessment Framework'!BC30=\"Low\"),0.5,0))),0)","v":0},{"$f":"IF($G30<>\"\",IF('Assessment Framework'!BD30=$G30,1,IF(AND($G30=\"High\",OR('Assessment Framework'!BD30=\"Medium\",'Assessment Framework'!BD30=\"Low\")),0.5,IF(AND($G30=\"Medium\",'Assessment Framework'!BD30=\"Low\"),0.5,0))),0)","v":0},{"$f":"IF($G30<>\"\",IF('Assessment Framework'!BE30=$G30,1,IF(AND($G30=\"High\",OR('Assessment Framework'!BE30=\"Medium\",'Assessment Framework'!BE30=\"Low\")),0.5,IF(AND($G30=\"Medium\",'Assessment Framework'!BE30=\"Low\"),0.5,0))),0)","v":0},{"$f":"IF($G30<>\"\",IF('Assessment Framework'!BF30=$G30,1,IF(AND($G30=\"High\",OR('Assessment Framework'!BF30=\"Medium\",'Assessment Framework'!BF30=\"Low\")),0.5,IF(AND($G30=\"Medium\",'Assessment Framework'!BF30=\"Low\"),0.5,0))),0)","v":0},{"$f":"IF($G30<>\"\",IF('Assessment Framework'!BG30=$G30,1,IF(AND($G30=\"High\",OR('Assessment Framework'!BG30=\"Medium\",'Assessment Framework'!BG30=\"Low\")),0.5,IF(AND($G30=\"Medium\",'Assessment Framework'!BG30=\"Low\"),0.5,0))),0)","v":0},{"$f":"IF($G30<>\"\",IF('Assessment Framework'!BH30=$G30,1,IF(AND($G30=\"High\",OR('Assessment Framework'!BH30=\"Medium\",'Assessment Framework'!BH30=\"Low\")),0.5,IF(AND($G30=\"Medium\",'Assessment Framework'!BH30=\"Low\"),0.5,0))),0)","v":0},{"$f":"IF($G30<>\"\",IF('Assessment Framework'!BI30=$G30,1,IF(AND($G30=\"High\",OR('Assessment Framework'!BI30=\"Medium\",'Assessment Framework'!BI30=\"Low\")),0.5,IF(AND($G30=\"Medium\",'Assessment Framework'!BI30=\"Low\"),0.5,0))),0)","v":0},{"$f":"IF($G30<>\"\",IF('Assessment Framework'!BJ30=$G30,1,IF(AND($G30=\"High\",OR('Assessment Framework'!BJ30=\"Medium\",'Assessment Framework'!BJ30=\"Low\")),0.5,IF(AND($G30=\"Medium\",'Assessment Framework'!BJ30=\"Low\"),0.5,0))),0)","v":0},{"$f":"IF($G30<>\"\",IF('Assessment Framework'!BK30=$G30,1,IF(AND($G30=\"High\",OR('Assessment Framework'!BK30=\"Medium\",'Assessment Framework'!BK30=\"Low\")),0.5,IF(AND($G30=\"Medium\",'Assessment Framework'!BK30=\"Low\"),0.5,0))),0)","v":0},{"$f":"IF($G30<>\"\",IF('Assessment Framework'!BL30=$G30,1,IF(AND($G30=\"High\",OR('Assessment Framework'!BL30=\"Medium\",'Assessment Framework'!BL30=\"Low\")),0.5,IF(AND($G30=\"Medium\",'Assessment Framework'!BL30=\"Low\"),0.5,0))),0)","v":0},{"$f":"IF($G30<>\"\",IF('Assessment Framework'!BM30=$G30,1,IF(AND($G30=\"High\",OR('Assessment Framework'!BM30=\"Medium\",'Assessment Framework'!BM30=\"Low\")),0.5,IF(AND($G30=\"Medium\",'Assessment Framework'!BM30=\"Low\"),0.5,0))),0)","v":0},{"$f":"IF($G30<>\"\",IF('Assessment Framework'!BN30=$G30,1,IF(AND($G30=\"High\",OR('Assessment Framework'!BN30=\"Medium\",'Assessment Framework'!BN30=\"Low\")),0.5,IF(AND($G30=\"Medium\",'Assessment Framework'!BN30=\"Low\"),0.5,0))),0)","v":0},{"$f":"IF($G30<>\"\",IF('Assessment Framework'!BO30=$G30,1,IF(AND($G30=\"High\",OR('Assessment Framework'!BO30=\"Medium\",'Assessment Framework'!BO30=\"Low\")),0.5,IF(AND($G30=\"Medium\",'Assessment Framework'!BO30=\"Low\"),0.5,0))),0)","v":0},{"$f":"IF($G30<>\"\",IF('Assessment Framework'!BP30=$G30,1,IF(AND($G30=\"High\",OR('Assessment Framework'!BP30=\"Medium\",'Assessment Framework'!BP30=\"Low\")),0.5,IF(AND($G30=\"Medium\",'Assessment Framework'!BP30=\"Low\"),0.5,0))),0)","v":0},{"$f":"IF($G30<>\"\",IF('Assessment Framework'!BQ30=$G30,1,IF(AND($G30=\"High\",OR('Assessment Framework'!BQ30=\"Medium\",'Assessment Framework'!BQ30=\"Low\")),0.5,IF(AND($G30=\"Medium\",'Assessment Framework'!BQ30=\"Low\"),0.5,0))),0)","v":0},{"$f":"IF($G30<>\"\",IF('Assessment Framework'!BR30=$G30,1,IF(AND($G30=\"High\",OR('Assessment Framework'!BR30=\"Medium\",'Assessment Framework'!BR30=\"Low\")),0.5,IF(AND($G30=\"Medium\",'Assessment Framework'!BR30=\"Low\"),0.5,0))),0)","v":0},{"$f":"IF($G30<>\"\",IF('Assessment Framework'!BS30=$G30,1,IF(AND($G30=\"High\",OR('Assessment Framework'!BS30=\"Medium\",'Assessment Framework'!BS30=\"Low\")),0.5,IF(AND($G30=\"Medium\",'Assessment Framework'!BS30=\"Low\"),0.5,0))),0)","v":0},{"$f":"IF($G30<>\"\",IF('Assessment Framework'!BT30=$G30,1,IF(AND($G30=\"High\",OR('Assessment Framework'!BT30=\"Medium\",'Assessment Framework'!BT30=\"Low\")),0.5,IF(AND($G30=\"Medium\",'Assessment Framework'!BT30=\"Low\"),0.5,0))),0)","v":0},{"$f":"IF($G30<>\"\",IF('Assessment Framework'!BU30=$G30,1,IF(AND($G30=\"High\",OR('Assessment Framework'!BU30=\"Medium\",'Assessment Framework'!BU30=\"Low\")),0.5,IF(AND($G30=\"Medium\",'Assessment Framework'!BU30=\"Low\"),0.5,0))),0)","v":0},{"$f":"IF($G30<>\"\",IF('Assessment Framework'!BV30=$G30,1,IF(AND($G30=\"High\",OR('Assessment Framework'!BV30=\"Medium\",'Assessment Framework'!BV30=\"Low\")),0.5,IF(AND($G30=\"Medium\",'Assessment Framework'!BV30=\"Low\"),0.5,0))),0)","v":0},{"$f":"IF($G30<>\"\",IF('Assessment Framework'!BW30=$G30,1,IF(AND($G30=\"High\",OR('Assessment Framework'!BW30=\"Medium\",'Assessment Framework'!BW30=\"Low\")),0.5,IF(AND($G30=\"Medium\",'Assessment Framework'!BW30=\"Low\"),0.5,0))),0)","v":0},{"$f":"IF($G30<>\"\",IF('Assessment Framework'!BX30=$G30,1,IF(AND($G30=\"High\",OR('Assessment Framework'!BX30=\"Medium\",'Assessment Framework'!BX30=\"Low\")),0.5,IF(AND($G30=\"Medium\",'Assessment Framework'!BX30=\"Low\"),0.5,0))),0)","v":0},{"$f":"IF($G30<>\"\",IF('Assessment Framework'!BY30=$G30,1,IF(AND($G30=\"High\",OR('Assessment Framework'!BY30=\"Medium\",'Assessment Framework'!BY30=\"Low\")),0.5,IF(AND($G30=\"Medium\",'Assessment Framework'!BY30=\"Low\"),0.5,0))),0)","v":0},{"$f":"IF($G30<>\"\",IF('Assessment Framework'!BZ30=$G30,1,IF(AND($G30=\"High\",OR('Assessment Framework'!BZ30=\"Medium\",'Assessment Framework'!BZ30=\"Low\")),0.5,IF(AND($G30=\"Medium\",'Assessment Framework'!BZ30=\"Low\"),0.5,0))),0)","v":0},{"$f":"IF($G30<>\"\",IF('Assessment Framework'!CA30=$G30,1,IF(AND($G30=\"High\",OR('Assessment Framework'!CA30=\"Medium\",'Assessment Framework'!CA30=\"Low\")),0.5,IF(AND($G30=\"Medium\",'Assessment Framework'!CA30=\"Low\"),0.5,0))),0)","v":0},{"$f":"IF($G30<>\"\",IF('Assessment Framework'!CB30=$G30,1,IF(AND($G30=\"High\",OR('Assessment Framework'!CB30=\"Medium\",'Assessment Framework'!CB30=\"Low\")),0.5,IF(AND($G30=\"Medium\",'Assessment Framework'!CB30=\"Low\"),0.5,0))),0)","v":0},{"$f":"IF($G30<>\"\",IF('Assessment Framework'!CC30=$G30,1,IF(AND($G30=\"High\",OR('Assessment Framework'!CC30=\"Medium\",'Assessment Framework'!CC30=\"Low\")),0.5,IF(AND($G30=\"Medium\",'Assessment Framework'!CC30=\"Low\"),0.5,0))),0)","v":0},{"$f":"IF($G30<>\"\",IF('Assessment Framework'!CD30=$G30,1,IF(AND($G30=\"High\",OR('Assessment Framework'!CD30=\"Medium\",'Assessment Framework'!CD30=\"Low\")),0.5,IF(AND($G30=\"Medium\",'Assessment Framework'!CD30=\"Low\"),0.5,0))),0)","v":0},{"$f":"IF($G30<>\"\",IF('Assessment Framework'!CE30=$G30,1,IF(AND($G30=\"High\",OR('Assessment Framework'!CE30=\"Medium\",'Assessment Framework'!CE30=\"Low\")),0.5,IF(AND($G30=\"Medium\",'Assessment Framework'!CE30=\"Low\"),0.5,0))),0)","v":0},{"$f":"IF($G30<>\"\",IF('Assessment Framework'!CF30=$G30,1,IF(AND($G30=\"High\",OR('Assessment Framework'!CF30=\"Medium\",'Assessment Framework'!CF30=\"Low\")),0.5,IF(AND($G30=\"Medium\",'Assessment Framework'!CF30=\"Low\"),0.5,0))),0)","v":0},{"$f":"IF($G30<>\"\",IF('Assessment Framework'!CG30=$G30,1,IF(AND($G30=\"High\",OR('Assessment Framework'!CG30=\"Medium\",'Assessment Framework'!CG30=\"Low\")),0.5,IF(AND($G30=\"Medium\",'Assessment Framework'!CG30=\"Low\"),0.5,0))),0)","v":0},{"$f":"IF($G30<>\"\",IF('Assessment Framework'!CH30=$G30,1,IF(AND($G30=\"High\",OR('Assessment Framework'!CH30=\"Medium\",'Assessment Framework'!CH30=\"Low\")),0.5,IF(AND($G30=\"Medium\",'Assessment Framework'!CH30=\"Low\"),0.5,0))),0)","v":0},{"$f":"IF($G30<>\"\",IF('Assessment Framework'!CI30=$G30,1,IF(AND($G30=\"High\",OR('Assessment Framework'!CI30=\"Medium\",'Assessment Framework'!CI30=\"Low\")),0.5,IF(AND($G30=\"Medium\",'Assessment Framework'!CI30=\"Low\"),0.5,0))),0)","v":0},{"$f":"IF($G30<>\"\",IF('Assessment Framework'!CJ30=$G30,1,IF(AND($G30=\"High\",OR('Assessment Framework'!CJ30=\"Medium\",'Assessment Framework'!CJ30=\"Low\")),0.5,IF(AND($G30=\"Medium\",'Assessment Framework'!CJ30=\"Low\"),0.5,0))),0)","v":0},{"$f":"IF($G30<>\"\",IF('Assessment Framework'!CK30=$G30,1,IF(AND($G30=\"High\",OR('Assessment Framework'!CK30=\"Medium\",'Assessment Framework'!CK30=\"Low\")),0.5,IF(AND($G30=\"Medium\",'Assessment Framework'!CK30=\"Low\"),0.5,0))),0)","v":0},{"$f":"IF($G30<>\"\",IF('Assessment Framework'!CL30=$G30,1,IF(AND($G30=\"High\",OR('Assessment Framework'!CL30=\"Medium\",'Assessment Framework'!CL30=\"Low\")),0.5,IF(AND($G30=\"Medium\",'Assessment Framework'!CL30=\"Low\"),0.5,0))),0)","v":0},{"$f":"IF($G30<>\"\",IF('Assessment Framework'!CM30=$G30,1,IF(AND($G30=\"High\",OR('Assessment Framework'!CM30=\"Medium\",'Assessment Framework'!CM30=\"Low\")),0.5,IF(AND($G30=\"Medium\",'Assessment Framework'!CM30=\"Low\"),0.5,0))),0)","v":0}]
["Technical objectives","Spatial resolution of outputs","Spatial resolution is the geographical scale at which the outputs are reported; this differs from the 'assessment scale' which is the geographical scale at which the method is applied. For example, if applying a methodology at the national scale, but where results are wanted to inform cities, the ‘assessment scale’ should be set as ‘national’ and the spatial resolution set to ‘municipal’.","Global","Informs at a global level","Y,N",{"$f":"IF('B - Technical objectives'!C7=\"\",\"Non-essential\",'B - Technical objectives'!C7)","v":"Non-essential"},{"$f":"IF($G31=\"Non-essential\",0,1)*IF('Assessment Framework'!G31=\"Y\",1,0)","v":0},{"$f":"IF($G31=\"Non-essential\",0,1)*IF('Assessment Framework'!H31=\"Y\",1,0)","v":0},{"$f":"IF($G31=\"Non-essential\",0,1)*IF('Assessment Framework'!I31=\"Y\",1,0)","v":0},{"$f":"IF($G31=\"Non-essential\",0,1)*IF('Assessment Framework'!J31=\"Y\",1,0)","v":0},{"$f":"IF($G31=\"Non-essential\",0,1)*IF('Assessment Framework'!K31=\"Y\",1,0)","v":0},{"$f":"IF($G31=\"Non-essential\",0,1)*IF('Assessment Framework'!L31=\"Y\",1,0)","v":0},{"$f":"IF($G31=\"Non-essential\",0,1)*IF('Assessment Framework'!M31=\"Y\",1,0)","v":0},{"$f":"IF($G31=\"Non-essential\",0,1)*IF('Assessment Framework'!N31=\"Y\",1,0)","v":0},{"$f":"IF($G31=\"Non-essential\",0,1)*IF('Assessment Framework'!O31=\"Y\",1,0)","v":0},{"$f":"IF($G31=\"Non-essential\",0,1)*IF('Assessment Framework'!P31=\"Y\",1,0)","v":0},{"$f":"IF($G31=\"Non-essential\",0,1)*IF('Assessment Framework'!Q31=\"Y\",1,0)","v":0},{"$f":"IF($G31=\"Non-essential\",0,1)*IF('Assessment Framework'!R31=\"Y\",1,0)","v":0},{"$f":"IF($G31=\"Non-essential\",0,1)*IF('Assessment Framework'!S31=\"Y\",1,0)","v":0},{"$f":"IF($G31=\"Non-essential\",0,1)*IF('Assessment Framework'!T31=\"Y\",1,0)","v":0},{"$f":"IF($G31=\"Non-essential\",0,1)*IF('Assessment Framework'!U31=\"Y\",1,0)","v":0},{"$f":"IF($G31=\"Non-essential\",0,1)*IF('Assessment Framework'!V31=\"Y\",1,0)","v":0},{"$f":"IF($G31=\"Non-essential\",0,1)*IF('Assessment Framework'!W31=\"Y\",1,0)","v":0},{"$f":"IF($G31=\"Non-essential\",0,1)*IF('Assessment Framework'!X31=\"Y\",1,0)","v":0},{"$f":"IF($G31=\"Non-essential\",0,1)*IF('Assessment Framework'!Y31=\"Y\",1,0)","v":0},{"$f":"IF($G31=\"Non-essential\",0,1)*IF('Assessment Framework'!Z31=\"Y\",1,0)","v":0},{"$f":"IF($G31=\"Non-essential\",0,1)*IF('Assessment Framework'!AA31=\"Y\",1,0)","v":0},{"$f":"IF($G31=\"Non-essential\",0,1)*IF('Assessment Framework'!AB31=\"Y\",1,0)","v":0},{"$f":"IF($G31=\"Non-essential\",0,1)*IF('Assessment Framework'!AC31=\"Y\",1,0)","v":0},{"$f":"IF($G31=\"Non-essential\",0,1)*IF('Assessment Framework'!AD31=\"Y\",1,0)","v":0},{"$f":"IF($G31=\"Non-essential\",0,1)*IF('Assessment Framework'!AE31=\"Y\",1,0)","v":0},{"$f":"IF($G31=\"Non-essential\",0,1)*IF('Assessment Framework'!AF31=\"Y\",1,0)","v":0},{"$f":"IF($G31=\"Non-essential\",0,1)*IF('Assessment Framework'!AG31=\"Y\",1,0)","v":0},{"$f":"IF($G31=\"Non-essential\",0,1)*IF('Assessment Framework'!AH31=\"Y\",1,0)","v":0},{"$f":"IF($G31=\"Non-essential\",0,1)*IF('Assessment Framework'!AI31=\"Y\",1,0)","v":0},{"$f":"IF($G31=\"Non-essential\",0,1)*IF('Assessment Framework'!AJ31=\"Y\",1,0)","v":0},{"$f":"IF($G31=\"Non-essential\",0,1)*IF('Assessment Framework'!AK31=\"Y\",1,0)","v":0},{"$f":"IF($G31=\"Non-essential\",0,1)*IF('Assessment Framework'!AL31=\"Y\",1,0)","v":0},{"$f":"IF($G31=\"Non-essential\",0,1)*IF('Assessment Framework'!AM31=\"Y\",1,0)","v":0},{"$f":"IF($G31=\"Non-essential\",0,1)*IF('Assessment Framework'!AN31=\"Y\",1,0)","v":0},{"$f":"IF($G31=\"Non-essential\",0,1)*IF('Assessment Framework'!AO31=\"Y\",1,0)","v":0},{"$f":"IF($G31=\"Non-essential\",0,1)*IF('Assessment Framework'!AP31=\"Y\",1,0)","v":0},{"$f":"IF($G31=\"Non-essential\",0,1)*IF('Assessment Framework'!AQ31=\"Y\",1,0)","v":0},{"$f":"IF($G31=\"Non-essential\",0,1)*IF('Assessment Framework'!AR31=\"Y\",1,0)","v":0},{"$f":"IF($G31=\"Non-essential\",0,1)*IF('Assessment Framework'!AS31=\"Y\",1,0)","v":0},{"$f":"IF($G31=\"Non-essential\",0,1)*IF('Assessment Framework'!AT31=\"Y\",1,0)","v":0},{"$f":"IF($G31=\"Non-essential\",0,1)*IF('Assessment Framework'!AU31=\"Y\",1,0)","v":0},{"$f":"IF($G31=\"Non-essential\",0,1)*IF('Assessment Framework'!AV31=\"Y\",1,0)","v":0},{"$f":"IF($G31=\"Non-essential\",0,1)*IF('Assessment Framework'!AW31=\"Y\",1,0)","v":0},{"$f":"IF($G31=\"Non-essential\",0,1)*IF('Assessment Framework'!AX31=\"Y\",1,0)","v":0},{"$f":"IF($G31=\"Non-essential\",0,1)*IF('Assessment Framework'!AY31=\"Y\",1,0)","v":0},{"$f":"IF($G31=\"Non-essential\",0,1)*IF('Assessment Framework'!AZ31=\"Y\",1,0)","v":0},{"$f":"IF($G31=\"Non-essential\",0,1)*IF('Assessment Framework'!BA31=\"Y\",1,0)","v":0},{"$f":"IF($G31=\"Non-essential\",0,1)*IF('Assessment Framework'!BB31=\"Y\",1,0)","v":0},{"$f":"IF($G31=\"Non-essential\",0,1)*IF('Assessment Framework'!BC31=\"Y\",1,0)","v":0},{"$f":"IF($G31=\"Non-essential\",0,1)*IF('Assessment Framework'!BD31=\"Y\",1,0)","v":0},{"$f":"IF($G31=\"Non-essential\",0,1)*IF('Assessment Framework'!BE31=\"Y\",1,0)","v":0},{"$f":"IF($G31=\"Non-essential\",0,1)*IF('Assessment Framework'!BF31=\"Y\",1,0)","v":0},{"$f":"IF($G31=\"Non-essential\",0,1)*IF('Assessment Framework'!BG31=\"Y\",1,0)","v":0},{"$f":"IF($G31=\"Non-essential\",0,1)*IF('Assessment Framework'!BH31=\"Y\",1,0)","v":0},{"$f":"IF($G31=\"Non-essential\",0,1)*IF('Assessment Framework'!BI31=\"Y\",1,0)","v":0},{"$f":"IF($G31=\"Non-essential\",0,1)*IF('Assessment Framework'!BJ31=\"Y\",1,0)","v":0},{"$f":"IF($G31=\"Non-essential\",0,1)*IF('Assessment Framework'!BK31=\"Y\",1,0)","v":0},{"$f":"IF($G31=\"Non-essential\",0,1)*IF('Assessment Framework'!BL31=\"Y\",1,0)","v":0},{"$f":"IF($G31=\"Non-essential\",0,1)*IF('Assessment Framework'!BM31=\"Y\",1,0)","v":0},{"$f":"IF($G31=\"Non-essential\",0,1)*IF('Assessment Framework'!BN31=\"Y\",1,0)","v":0},{"$f":"IF($G31=\"Non-essential\",0,1)*IF('Assessment Framework'!BO31=\"Y\",1,0)","v":0},{"$f":"IF($G31=\"Non-essential\",0,1)*IF('Assessment Framework'!BP31=\"Y\",1,0)","v":0},{"$f":"IF($G31=\"Non-essential\",0,1)*IF('Assessment Framework'!BQ31=\"Y\",1,0)","v":0},{"$f":"IF($G31=\"Non-essential\",0,1)*IF('Assessment Framework'!BR31=\"Y\",1,0)","v":0},{"$f":"IF($G31=\"Non-essential\",0,1)*IF('Assessment Framework'!BS31=\"Y\",1,0)","v":0},{"$f":"IF($G31=\"Non-essential\",0,1)*IF('Assessment Framework'!BT31=\"Y\",1,0)","v":0},{"$f":"IF($G31=\"Non-essential\",0,1)*IF('Assessment Framework'!BU31=\"Y\",1,0)","v":0},{"$f":"IF($G31=\"Non-essential\",0,1)*IF('Assessment Framework'!BV31=\"Y\",1,0)","v":0},{"$f":"IF($G31=\"Non-essential\",0,1)*IF('Assessment Framework'!BW31=\"Y\",1,0)","v":0},{"$f":"IF($G31=\"Non-essential\",0,1)*IF('Assessment Framework'!BX31=\"Y\",1,0)","v":0},{"$f":"IF($G31=\"Non-essential\",0,1)*IF('Assessment Framework'!BY31=\"Y\",1,0)","v":0},{"$f":"IF($G31=\"Non-essential\",0,1)*IF('Assessment Framework'!BZ31=\"Y\",1,0)","v":0},{"$f":"IF($G31=\"Non-essential\",0,1)*IF('Assessment Framework'!CA31=\"Y\",1,0)","v":0},{"$f":"IF($G31=\"Non-essential\",0,1)*IF('Assessment Framework'!CB31=\"Y\",1,0)","v":0},{"$f":"IF($G31=\"Non-essential\",0,1)*IF('Assessment Framework'!CC31=\"Y\",1,0)","v":0},{"$f":"IF($G31=\"Non-essential\",0,1)*IF('Assessment Framework'!CD31=\"Y\",1,0)","v":0},{"$f":"IF($G31=\"Non-essential\",0,1)*IF('Assessment Framework'!CE31=\"Y\",1,0)","v":0},{"$f":"IF($G31=\"Non-essential\",0,1)*IF('Assessment Framework'!CF31=\"Y\",1,0)","v":0},{"$f":"IF($G31=\"Non-essential\",0,1)*IF('Assessment Framework'!CG31=\"Y\",1,0)","v":0},{"$f":"IF($G31=\"Non-essential\",0,1)*IF('Assessment Framework'!CH31=\"Y\",1,0)","v":0},{"$f":"IF($G31=\"Non-essential\",0,1)*IF('Assessment Framework'!CI31=\"Y\",1,0)","v":0},{"$f":"IF($G31=\"Non-essential\",0,1)*IF('Assessment Framework'!CJ31=\"Y\",1,0)","v":0},{"$f":"IF($G31=\"Non-essential\",0,1)*IF('Assessment Framework'!CK31=\"Y\",1,0)","v":0},{"$f":"IF($G31=\"Non-essential\",0,1)*IF('Assessment Framework'!CL31=\"Y\",1,0)","v":0},{"$f":"IF($G31=\"Non-essential\",0,1)*IF('Assessment Framework'!CM31=\"Y\",1,0)","v":0}]
[null,null,null,"Regional (multiple countries)","Informs across multiple countries or continents","Y,N",{"$f":"IF('B - Technical objectives'!C8=\"\",\"Non-essential\",'B - Technical objectives'!C8)","v":"Non-essential"},{"$f":"IF($G32=\"Non-essential\",0,1)*IF('Assessment Framework'!G32=\"Y\",1,0)","v":0},{"$f":"IF($G32=\"Non-essential\",0,1)*IF('Assessment Framework'!H32=\"Y\",1,0)","v":0},{"$f":"IF($G32=\"Non-essential\",0,1)*IF('Assessment Framework'!I32=\"Y\",1,0)","v":0},{"$f":"IF($G32=\"Non-essential\",0,1)*IF('Assessment Framework'!J32=\"Y\",1,0)","v":0},{"$f":"IF($G32=\"Non-essential\",0,1)*IF('Assessment Framework'!K32=\"Y\",1,0)","v":0},{"$f":"IF($G32=\"Non-essential\",0,1)*IF('Assessment Framework'!L32=\"Y\",1,0)","v":0},{"$f":"IF($G32=\"Non-essential\",0,1)*IF('Assessment Framework'!M32=\"Y\",1,0)","v":0},{"$f":"IF($G32=\"Non-essential\",0,1)*IF('Assessment Framework'!N32=\"Y\",1,0)","v":0},{"$f":"IF($G32=\"Non-essential\",0,1)*IF('Assessment Framework'!O32=\"Y\",1,0)","v":0},{"$f":"IF($G32=\"Non-essential\",0,1)*IF('Assessment Framework'!P32=\"Y\",1,0)","v":0},{"$f":"IF($G32=\"Non-essential\",0,1)*IF('Assessment Framework'!Q32=\"Y\",1,0)","v":0},{"$f":"IF($G32=\"Non-essential\",0,1)*IF('Assessment Framework'!R32=\"Y\",1,0)","v":0},{"$f":"IF($G32=\"Non-essential\",0,1)*IF('Assessment Framework'!S32=\"Y\",1,0)","v":0},{"$f":"IF($G32=\"Non-essential\",0,1)*IF('Assessment Framework'!T32=\"Y\",1,0)","v":0},{"$f":"IF($G32=\"Non-essential\",0,1)*IF('Assessment Framework'!U32=\"Y\",1,0)","v":0},{"$f":"IF($G32=\"Non-essential\",0,1)*IF('Assessment Framework'!V32=\"Y\",1,0)","v":0},{"$f":"IF($G32=\"Non-essential\",0,1)*IF('Assessment Framework'!W32=\"Y\",1,0)","v":0},{"$f":"IF($G32=\"Non-essential\",0,1)*IF('Assessment Framework'!X32=\"Y\",1,0)","v":0},{"$f":"IF($G32=\"Non-essential\",0,1)*IF('Assessment Framework'!Y32=\"Y\",1,0)","v":0},{"$f":"IF($G32=\"Non-essential\",0,1)*IF('Assessment Framework'!Z32=\"Y\",1,0)","v":0},{"$f":"IF($G32=\"Non-essential\",0,1)*IF('Assessment Framework'!AA32=\"Y\",1,0)","v":0},{"$f":"IF($G32=\"Non-essential\",0,1)*IF('Assessment Framework'!AB32=\"Y\",1,0)","v":0},{"$f":"IF($G32=\"Non-essential\",0,1)*IF('Assessment Framework'!AC32=\"Y\",1,0)","v":0},{"$f":"IF($G32=\"Non-essential\",0,1)*IF('Assessment Framework'!AD32=\"Y\",1,0)","v":0},{"$f":"IF($G32=\"Non-essential\",0,1)*IF('Assessment Framework'!AE32=\"Y\",1,0)","v":0},{"$f":"IF($G32=\"Non-essential\",0,1)*IF('Assessment Framework'!AF32=\"Y\",1,0)","v":0},{"$f":"IF($G32=\"Non-essential\",0,1)*IF('Assessment Framework'!AG32=\"Y\",1,0)","v":0},{"$f":"IF($G32=\"Non-essential\",0,1)*IF('Assessment Framework'!AH32=\"Y\",1,0)","v":0},{"$f":"IF($G32=\"Non-essential\",0,1)*IF('Assessment Framework'!AI32=\"Y\",1,0)","v":0},{"$f":"IF($G32=\"Non-essential\",0,1)*IF('Assessment Framework'!AJ32=\"Y\",1,0)","v":0},{"$f":"IF($G32=\"Non-essential\",0,1)*IF('Assessment Framework'!AK32=\"Y\",1,0)","v":0},{"$f":"IF($G32=\"Non-essential\",0,1)*IF('Assessment Framework'!AL32=\"Y\",1,0)","v":0},{"$f":"IF($G32=\"Non-essential\",0,1)*IF('Assessment Framework'!AM32=\"Y\",1,0)","v":0},{"$f":"IF($G32=\"Non-essential\",0,1)*IF('Assessment Framework'!AN32=\"Y\",1,0)","v":0},{"$f":"IF($G32=\"Non-essential\",0,1)*IF('Assessment Framework'!AO32=\"Y\",1,0)","v":0},{"$f":"IF($G32=\"Non-essential\",0,1)*IF('Assessment Framework'!AP32=\"Y\",1,0)","v":0},{"$f":"IF($G32=\"Non-essential\",0,1)*IF('Assessment Framework'!AQ32=\"Y\",1,0)","v":0},{"$f":"IF($G32=\"Non-essential\",0,1)*IF('Assessment Framework'!AR32=\"Y\",1,0)","v":0},{"$f":"IF($G32=\"Non-essential\",0,1)*IF('Assessment Framework'!AS32=\"Y\",1,0)","v":0},{"$f":"IF($G32=\"Non-essential\",0,1)*IF('Assessment Framework'!AT32=\"Y\",1,0)","v":0},{"$f":"IF($G32=\"Non-essential\",0,1)*IF('Assessment Framework'!AU32=\"Y\",1,0)","v":0},{"$f":"IF($G32=\"Non-essential\",0,1)*IF('Assessment Framework'!AV32=\"Y\",1,0)","v":0},{"$f":"IF($G32=\"Non-essential\",0,1)*IF('Assessment Framework'!AW32=\"Y\",1,0)","v":0},{"$f":"IF($G32=\"Non-essential\",0,1)*IF('Assessment Framework'!AX32=\"Y\",1,0)","v":0},{"$f":"IF($G32=\"Non-essential\",0,1)*IF('Assessment Framework'!AY32=\"Y\",1,0)","v":0},{"$f":"IF($G32=\"Non-essential\",0,1)*IF('Assessment Framework'!AZ32=\"Y\",1,0)","v":0},{"$f":"IF($G32=\"Non-essential\",0,1)*IF('Assessment Framework'!BA32=\"Y\",1,0)","v":0},{"$f":"IF($G32=\"Non-essential\",0,1)*IF('Assessment Framework'!BB32=\"Y\",1,0)","v":0},{"$f":"IF($G32=\"Non-essential\",0,1)*IF('Assessment Framework'!BC32=\"Y\",1,0)","v":0},{"$f":"IF($G32=\"Non-essential\",0,1)*IF('Assessment Framework'!BD32=\"Y\",1,0)","v":0},{"$f":"IF($G32=\"Non-essential\",0,1)*IF('Assessment Framework'!BE32=\"Y\",1,0)","v":0},{"$f":"IF($G32=\"Non-essential\",0,1)*IF('Assessment Framework'!BF32=\"Y\",1,0)","v":0},{"$f":"IF($G32=\"Non-essential\",0,1)*IF('Assessment Framework'!BG32=\"Y\",1,0)","v":0},{"$f":"IF($G32=\"Non-essential\",0,1)*IF('Assessment Framework'!BH32=\"Y\",1,0)","v":0},{"$f":"IF($G32=\"Non-essential\",0,1)*IF('Assessment Framework'!BI32=\"Y\",1,0)","v":0},{"$f":"IF($G32=\"Non-essential\",0,1)*IF('Assessment Framework'!BJ32=\"Y\",1,0)","v":0},{"$f":"IF($G32=\"Non-essential\",0,1)*IF('Assessment Framework'!BK32=\"Y\",1,0)","v":0},{"$f":"IF($G32=\"Non-essential\",0,1)*IF('Assessment Framework'!BL32=\"Y\",1,0)","v":0},{"$f":"IF($G32=\"Non-essential\",0,1)*IF('Assessment Framework'!BM32=\"Y\",1,0)","v":0},{"$f":"IF($G32=\"Non-essential\",0,1)*IF('Assessment Framework'!BN32=\"Y\",1,0)","v":0},{"$f":"IF($G32=\"Non-essential\",0,1)*IF('Assessment Framework'!BO32=\"Y\",1,0)","v":0},{"$f":"IF($G32=\"Non-essential\",0,1)*IF('Assessment Framework'!BP32=\"Y\",1,0)","v":0},{"$f":"IF($G32=\"Non-essential\",0,1)*IF('Assessment Framework'!BQ32=\"Y\",1,0)","v":0},{"$f":"IF($G32=\"Non-essential\",0,1)*IF('Assessment Framework'!BR32=\"Y\",1,0)","v":0},{"$f":"IF($G32=\"Non-essential\",0,1)*IF('Assessment Framework'!BS32=\"Y\",1,0)","v":0},{"$f":"IF($G32=\"Non-essential\",0,1)*IF('Assessment Framework'!BT32=\"Y\",1,0)","v":0},{"$f":"IF($G32=\"Non-essential\",0,1)*IF('Assessment Framework'!BU32=\"Y\",1,0)","v":0},{"$f":"IF($G32=\"Non-essential\",0,1)*IF('Assessment Framework'!BV32=\"Y\",1,0)","v":0},{"$f":"IF($G32=\"Non-essential\",0,1)*IF('Assessment Framework'!BW32=\"Y\",1,0)","v":0},{"$f":"IF($G32=\"Non-essential\",0,1)*IF('Assessment Framework'!BX32=\"Y\",1,0)","v":0},{"$f":"IF($G32=\"Non-essential\",0,1)*IF('Assessment Framework'!BY32=\"Y\",1,0)","v":0},{"$f":"IF($G32=\"Non-essential\",0,1)*IF('Assessment Framework'!BZ32=\"Y\",1,0)","v":0},{"$f":"IF($G32=\"Non-essential\",0,1)*IF('Assessment Framework'!CA32=\"Y\",1,0)","v":0},{"$f":"IF($G32=\"Non-essential\",0,1)*IF('Assessment Framework'!CB32=\"Y\",1,0)","v":0},{"$f":"IF($G32=\"Non-essential\",0,1)*IF('Assessment Framework'!CC32=\"Y\",1,0)","v":0},{"$f":"IF($G32=\"Non-essential\",0,1)*IF('Assessment Framework'!CD32=\"Y\",1,0)","v":0},{"$f":"IF($G32=\"Non-essential\",0,1)*IF('Assessment Framework'!CE32=\"Y\",1,0)","v":0},{"$f":"IF($G32=\"Non-essential\",0,1)*IF('Assessment Framework'!CF32=\"Y\",1,0)","v":0},{"$f":"IF($G32=\"Non-essential\",0,1)*IF('Assessment Framework'!CG32=\"Y\",1,0)","v":0},{"$f":"IF($G32=\"Non-essential\",0,1)*IF('Assessment Framework'!CH32=\"Y\",1,0)","v":0},{"$f":"IF($G32=\"Non-essential\",0,1)*IF('Assessment Framework'!CI32=\"Y\",1,0)","v":0},{"$f":"IF($G32=\"Non-essential\",0,1)*IF('Assessment Framework'!CJ32=\"Y\",1,0)","v":0},{"$f":"IF($G32=\"Non-essential\",0,1)*IF('Assessment Framework'!CK32=\"Y\",1,0)","v":0},{"$f":"IF($G32=\"Non-essential\",0,1)*IF('Assessment Framework'!CL32=\"Y\",1,0)","v":0},{"$f":"IF($G32=\"Non-essential\",0,1)*IF('Assessment Framework'!CM32=\"Y\",1,0)","v":0}]
[null,null,null,"National (federal)","Informs at a national (country) level","Y,N",{"$f":"IF('B - Technical objectives'!C9=\"\",\"Non-essential\",'B - Technical objectives'!C9)","v":"Non-essential"},{"$f":"IF($G33=\"Non-essential\",0,1)*IF('Assessment Framework'!G33=\"Y\",1,0)","v":0},{"$f":"IF($G33=\"Non-essential\",0,1)*IF('Assessment Framework'!H33=\"Y\",1,0)","v":0},{"$f":"IF($G33=\"Non-essential\",0,1)*IF('Assessment Framework'!I33=\"Y\",1,0)","v":0},{"$f":"IF($G33=\"Non-essential\",0,1)*IF('Assessment Framework'!J33=\"Y\",1,0)","v":0},{"$f":"IF($G33=\"Non-essential\",0,1)*IF('Assessment Framework'!K33=\"Y\",1,0)","v":0},{"$f":"IF($G33=\"Non-essential\",0,1)*IF('Assessment Framework'!L33=\"Y\",1,0)","v":0},{"$f":"IF($G33=\"Non-essential\",0,1)*IF('Assessment Framework'!M33=\"Y\",1,0)","v":0},{"$f":"IF($G33=\"Non-essential\",0,1)*IF('Assessment Framework'!N33=\"Y\",1,0)","v":0},{"$f":"IF($G33=\"Non-essential\",0,1)*IF('Assessment Framework'!O33=\"Y\",1,0)","v":0},{"$f":"IF($G33=\"Non-essential\",0,1)*IF('Assessment Framework'!P33=\"Y\",1,0)","v":0},{"$f":"IF($G33=\"Non-essential\",0,1)*IF('Assessment Framework'!Q33=\"Y\",1,0)","v":0},{"$f":"IF($G33=\"Non-essential\",0,1)*IF('Assessment Framework'!R33=\"Y\",1,0)","v":0},{"$f":"IF($G33=\"Non-essential\",0,1)*IF('Assessment Framework'!S33=\"Y\",1,0)","v":0},{"$f":"IF($G33=\"Non-essential\",0,1)*IF('Assessment Framework'!T33=\"Y\",1,0)","v":0},{"$f":"IF($G33=\"Non-essential\",0,1)*IF('Assessment Framework'!U33=\"Y\",1,0)","v":0},{"$f":"IF($G33=\"Non-essential\",0,1)*IF('Assessment Framework'!V33=\"Y\",1,0)","v":0},{"$f":"IF($G33=\"Non-essential\",0,1)*IF('Assessment Framework'!W33=\"Y\",1,0)","v":0},{"$f":"IF($G33=\"Non-essential\",0,1)*IF('Assessment Framework'!X33=\"Y\",1,0)","v":0},{"$f":"IF($G33=\"Non-essential\",0,1)*IF('Assessment Framework'!Y33=\"Y\",1,0)","v":0},{"$f":"IF($G33=\"Non-essential\",0,1)*IF('Assessment Framework'!Z33=\"Y\",1,0)","v":0},{"$f":"IF($G33=\"Non-essential\",0,1)*IF('Assessment Framework'!AA33=\"Y\",1,0)","v":0},{"$f":"IF($G33=\"Non-essential\",0,1)*IF('Assessment Framework'!AB33=\"Y\",1,0)","v":0},{"$f":"IF($G33=\"Non-essential\",0,1)*IF('Assessment Framework'!AC33=\"Y\",1,0)","v":0},{"$f":"IF($G33=\"Non-essential\",0,1)*IF('Assessment Framework'!AD33=\"Y\",1,0)","v":0},{"$f":"IF($G33=\"Non-essential\",0,1)*IF('Assessment Framework'!AE33=\"Y\",1,0)","v":0},{"$f":"IF($G33=\"Non-essential\",0,1)*IF('Assessment Framework'!AF33=\"Y\",1,0)","v":0},{"$f":"IF($G33=\"Non-essential\",0,1)*IF('Assessment Framework'!AG33=\"Y\",1,0)","v":0},{"$f":"IF($G33=\"Non-essential\",0,1)*IF('Assessment Framework'!AH33=\"Y\",1,0)","v":0},{"$f":"IF($G33=\"Non-essential\",0,1)*IF('Assessment Framework'!AI33=\"Y\",1,0)","v":0},{"$f":"IF($G33=\"Non-essential\",0,1)*IF('Assessment Framework'!AJ33=\"Y\",1,0)","v":0},{"$f":"IF($G33=\"Non-essential\",0,1)*IF('Assessment Framework'!AK33=\"Y\",1,0)","v":0},{"$f":"IF($G33=\"Non-essential\",0,1)*IF('Assessment Framework'!AL33=\"Y\",1,0)","v":0},{"$f":"IF($G33=\"Non-essential\",0,1)*IF('Assessment Framework'!AM33=\"Y\",1,0)","v":0},{"$f":"IF($G33=\"Non-essential\",0,1)*IF('Assessment Framework'!AN33=\"Y\",1,0)","v":0},{"$f":"IF($G33=\"Non-essential\",0,1)*IF('Assessment Framework'!AO33=\"Y\",1,0)","v":0},{"$f":"IF($G33=\"Non-essential\",0,1)*IF('Assessment Framework'!AP33=\"Y\",1,0)","v":0},{"$f":"IF($G33=\"Non-essential\",0,1)*IF('Assessment Framework'!AQ33=\"Y\",1,0)","v":0},{"$f":"IF($G33=\"Non-essential\",0,1)*IF('Assessment Framework'!AR33=\"Y\",1,0)","v":0},{"$f":"IF($G33=\"Non-essential\",0,1)*IF('Assessment Framework'!AS33=\"Y\",1,0)","v":0},{"$f":"IF($G33=\"Non-essential\",0,1)*IF('Assessment Framework'!AT33=\"Y\",1,0)","v":0},{"$f":"IF($G33=\"Non-essential\",0,1)*IF('Assessment Framework'!AU33=\"Y\",1,0)","v":0},{"$f":"IF($G33=\"Non-essential\",0,1)*IF('Assessment Framework'!AV33=\"Y\",1,0)","v":0},{"$f":"IF($G33=\"Non-essential\",0,1)*IF('Assessment Framework'!AW33=\"Y\",1,0)","v":0},{"$f":"IF($G33=\"Non-essential\",0,1)*IF('Assessment Framework'!AX33=\"Y\",1,0)","v":0},{"$f":"IF($G33=\"Non-essential\",0,1)*IF('Assessment Framework'!AY33=\"Y\",1,0)","v":0},{"$f":"IF($G33=\"Non-essential\",0,1)*IF('Assessment Framework'!AZ33=\"Y\",1,0)","v":0},{"$f":"IF($G33=\"Non-essential\",0,1)*IF('Assessment Framework'!BA33=\"Y\",1,0)","v":0},{"$f":"IF($G33=\"Non-essential\",0,1)*IF('Assessment Framework'!BB33=\"Y\",1,0)","v":0},{"$f":"IF($G33=\"Non-essential\",0,1)*IF('Assessment Framework'!BC33=\"Y\",1,0)","v":0},{"$f":"IF($G33=\"Non-essential\",0,1)*IF('Assessment Framework'!BD33=\"Y\",1,0)","v":0},{"$f":"IF($G33=\"Non-essential\",0,1)*IF('Assessment Framework'!BE33=\"Y\",1,0)","v":0},{"$f":"IF($G33=\"Non-essential\",0,1)*IF('Assessment Framework'!BF33=\"Y\",1,0)","v":0},{"$f":"IF($G33=\"Non-essential\",0,1)*IF('Assessment Framework'!BG33=\"Y\",1,0)","v":0},{"$f":"IF($G33=\"Non-essential\",0,1)*IF('Assessment Framework'!BH33=\"Y\",1,0)","v":0},{"$f":"IF($G33=\"Non-essential\",0,1)*IF('Assessment Framework'!BI33=\"Y\",1,0)","v":0},{"$f":"IF($G33=\"Non-essential\",0,1)*IF('Assessment Framework'!BJ33=\"Y\",1,0)","v":0},{"$f":"IF($G33=\"Non-essential\",0,1)*IF('Assessment Framework'!BK33=\"Y\",1,0)","v":0},{"$f":"IF($G33=\"Non-essential\",0,1)*IF('Assessment Framework'!BL33=\"Y\",1,0)","v":0},{"$f":"IF($G33=\"Non-essential\",0,1)*IF('Assessment Framework'!BM33=\"Y\",1,0)","v":0},{"$f":"IF($G33=\"Non-essential\",0,1)*IF('Assessment Framework'!BN33=\"Y\",1,0)","v":0},{"$f":"IF($G33=\"Non-essential\",0,1)*IF('Assessment Framework'!BO33=\"Y\",1,0)","v":0},{"$f":"IF($G33=\"Non-essential\",0,1)*IF('Assessment Framework'!BP33=\"Y\",1,0)","v":0},{"$f":"IF($G33=\"Non-essential\",0,1)*IF('Assessment Framework'!BQ33=\"Y\",1,0)","v":0},{"$f":"IF($G33=\"Non-essential\",0,1)*IF('Assessment Framework'!BR33=\"Y\",1,0)","v":0},{"$f":"IF($G33=\"Non-essential\",0,1)*IF('Assessment Framework'!BS33=\"Y\",1,0)","v":0},{"$f":"IF($G33=\"Non-essential\",0,1)*IF('Assessment Framework'!BT33=\"Y\",1,0)","v":0},{"$f":"IF($G33=\"Non-essential\",0,1)*IF('Assessment Framework'!BU33=\"Y\",1,0)","v":0},{"$f":"IF($G33=\"Non-essential\",0,1)*IF('Assessment Framework'!BV33=\"Y\",1,0)","v":0},{"$f":"IF($G33=\"Non-essential\",0,1)*IF('Assessment Framework'!BW33=\"Y\",1,0)","v":0},{"$f":"IF($G33=\"Non-essential\",0,1)*IF('Assessment Framework'!BX33=\"Y\",1,0)","v":0},{"$f":"IF($G33=\"Non-essential\",0,1)*IF('Assessment Framework'!BY33=\"Y\",1,0)","v":0},{"$f":"IF($G33=\"Non-essential\",0,1)*IF('Assessment Framework'!BZ33=\"Y\",1,0)","v":0},{"$f":"IF($G33=\"Non-essential\",0,1)*IF('Assessment Framework'!CA33=\"Y\",1,0)","v":0},{"$f":"IF($G33=\"Non-essential\",0,1)*IF('Assessment Framework'!CB33=\"Y\",1,0)","v":0},{"$f":"IF($G33=\"Non-essential\",0,1)*IF('Assessment Framework'!CC33=\"Y\",1,0)","v":0},{"$f":"IF($G33=\"Non-essential\",0,1)*IF('Assessment Framework'!CD33=\"Y\",1,0)","v":0},{"$f":"IF($G33=\"Non-essential\",0,1)*IF('Assessment Framework'!CE33=\"Y\",1,0)","v":0},{"$f":"IF($G33=\"Non-essential\",0,1)*IF('Assessment Framework'!CF33=\"Y\",1,0)","v":0},{"$f":"IF($G33=\"Non-essential\",0,1)*IF('Assessment Framework'!CG33=\"Y\",1,0)","v":0},{"$f":"IF($G33=\"Non-essential\",0,1)*IF('Assessment Framework'!CH33=\"Y\",1,0)","v":0},{"$f":"IF($G33=\"Non-essential\",0,1)*IF('Assessment Framework'!CI33=\"Y\",1,0)","v":0},{"$f":"IF($G33=\"Non-essential\",0,1)*IF('Assessment Framework'!CJ33=\"Y\",1,0)","v":0},{"$f":"IF($G33=\"Non-essential\",0,1)*IF('Assessment Framework'!CK33=\"Y\",1,0)","v":0},{"$f":"IF($G33=\"Non-essential\",0,1)*IF('Assessment Framework'!CL33=\"Y\",1,0)","v":0},{"$f":"IF($G33=\"Non-essential\",0,1)*IF('Assessment Framework'!CM33=\"Y\",1,0)","v":0}]
[null,null,null,"Provincial (state)","Informs at a provincial, county or state level","Y,N",{"$f":"IF('B - Technical objectives'!C10=\"\",\"Non-essential\",'B - Technical objectives'!C10)","v":"Non-essential"},{"$f":"IF($G34=\"Non-essential\",0,1)*IF('Assessment Framework'!G34=\"Y\",1,0)","v":0},{"$f":"IF($G34=\"Non-essential\",0,1)*IF('Assessment Framework'!H34=\"Y\",1,0)","v":0},{"$f":"IF($G34=\"Non-essential\",0,1)*IF('Assessment Framework'!I34=\"Y\",1,0)","v":0},{"$f":"IF($G34=\"Non-essential\",0,1)*IF('Assessment Framework'!J34=\"Y\",1,0)","v":0},{"$f":"IF($G34=\"Non-essential\",0,1)*IF('Assessment Framework'!K34=\"Y\",1,0)","v":0},{"$f":"IF($G34=\"Non-essential\",0,1)*IF('Assessment Framework'!L34=\"Y\",1,0)","v":0},{"$f":"IF($G34=\"Non-essential\",0,1)*IF('Assessment Framework'!M34=\"Y\",1,0)","v":0},{"$f":"IF($G34=\"Non-essential\",0,1)*IF('Assessment Framework'!N34=\"Y\",1,0)","v":0},{"$f":"IF($G34=\"Non-essential\",0,1)*IF('Assessment Framework'!O34=\"Y\",1,0)","v":0},{"$f":"IF($G34=\"Non-essential\",0,1)*IF('Assessment Framework'!P34=\"Y\",1,0)","v":0},{"$f":"IF($G34=\"Non-essential\",0,1)*IF('Assessment Framework'!Q34=\"Y\",1,0)","v":0},{"$f":"IF($G34=\"Non-essential\",0,1)*IF('Assessment Framework'!R34=\"Y\",1,0)","v":0},{"$f":"IF($G34=\"Non-essential\",0,1)*IF('Assessment Framework'!S34=\"Y\",1,0)","v":0},{"$f":"IF($G34=\"Non-essential\",0,1)*IF('Assessment Framework'!T34=\"Y\",1,0)","v":0},{"$f":"IF($G34=\"Non-essential\",0,1)*IF('Assessment Framework'!U34=\"Y\",1,0)","v":0},{"$f":"IF($G34=\"Non-essential\",0,1)*IF('Assessment Framework'!V34=\"Y\",1,0)","v":0},{"$f":"IF($G34=\"Non-essential\",0,1)*IF('Assessment Framework'!W34=\"Y\",1,0)","v":0},{"$f":"IF($G34=\"Non-essential\",0,1)*IF('Assessment Framework'!X34=\"Y\",1,0)","v":0},{"$f":"IF($G34=\"Non-essential\",0,1)*IF('Assessment Framework'!Y34=\"Y\",1,0)","v":0},{"$f":"IF($G34=\"Non-essential\",0,1)*IF('Assessment Framework'!Z34=\"Y\",1,0)","v":0},{"$f":"IF($G34=\"Non-essential\",0,1)*IF('Assessment Framework'!AA34=\"Y\",1,0)","v":0},{"$f":"IF($G34=\"Non-essential\",0,1)*IF('Assessment Framework'!AB34=\"Y\",1,0)","v":0},{"$f":"IF($G34=\"Non-essential\",0,1)*IF('Assessment Framework'!AC34=\"Y\",1,0)","v":0},{"$f":"IF($G34=\"Non-essential\",0,1)*IF('Assessment Framework'!AD34=\"Y\",1,0)","v":0},{"$f":"IF($G34=\"Non-essential\",0,1)*IF('Assessment Framework'!AE34=\"Y\",1,0)","v":0},{"$f":"IF($G34=\"Non-essential\",0,1)*IF('Assessment Framework'!AF34=\"Y\",1,0)","v":0},{"$f":"IF($G34=\"Non-essential\",0,1)*IF('Assessment Framework'!AG34=\"Y\",1,0)","v":0},{"$f":"IF($G34=\"Non-essential\",0,1)*IF('Assessment Framework'!AH34=\"Y\",1,0)","v":0},{"$f":"IF($G34=\"Non-essential\",0,1)*IF('Assessment Framework'!AI34=\"Y\",1,0)","v":0},{"$f":"IF($G34=\"Non-essential\",0,1)*IF('Assessment Framework'!AJ34=\"Y\",1,0)","v":0},{"$f":"IF($G34=\"Non-essential\",0,1)*IF('Assessment Framework'!AK34=\"Y\",1,0)","v":0},{"$f":"IF($G34=\"Non-essential\",0,1)*IF('Assessment Framework'!AL34=\"Y\",1,0)","v":0},{"$f":"IF($G34=\"Non-essential\",0,1)*IF('Assessment Framework'!AM34=\"Y\",1,0)","v":0},{"$f":"IF($G34=\"Non-essential\",0,1)*IF('Assessment Framework'!AN34=\"Y\",1,0)","v":0},{"$f":"IF($G34=\"Non-essential\",0,1)*IF('Assessment Framework'!AO34=\"Y\",1,0)","v":0},{"$f":"IF($G34=\"Non-essential\",0,1)*IF('Assessment Framework'!AP34=\"Y\",1,0)","v":0},{"$f":"IF($G34=\"Non-essential\",0,1)*IF('Assessment Framework'!AQ34=\"Y\",1,0)","v":0},{"$f":"IF($G34=\"Non-essential\",0,1)*IF('Assessment Framework'!AR34=\"Y\",1,0)","v":0},{"$f":"IF($G34=\"Non-essential\",0,1)*IF('Assessment Framework'!AS34=\"Y\",1,0)","v":0},{"$f":"IF($G34=\"Non-essential\",0,1)*IF('Assessment Framework'!AT34=\"Y\",1,0)","v":0},{"$f":"IF($G34=\"Non-essential\",0,1)*IF('Assessment Framework'!AU34=\"Y\",1,0)","v":0},{"$f":"IF($G34=\"Non-essential\",0,1)*IF('Assessment Framework'!AV34=\"Y\",1,0)","v":0},{"$f":"IF($G34=\"Non-essential\",0,1)*IF('Assessment Framework'!AW34=\"Y\",1,0)","v":0},{"$f":"IF($G34=\"Non-essential\",0,1)*IF('Assessment Framework'!AX34=\"Y\",1,0)","v":0},{"$f":"IF($G34=\"Non-essential\",0,1)*IF('Assessment Framework'!AY34=\"Y\",1,0)","v":0},{"$f":"IF($G34=\"Non-essential\",0,1)*IF('Assessment Framework'!AZ34=\"Y\",1,0)","v":0},{"$f":"IF($G34=\"Non-essential\",0,1)*IF('Assessment Framework'!BA34=\"Y\",1,0)","v":0},{"$f":"IF($G34=\"Non-essential\",0,1)*IF('Assessment Framework'!BB34=\"Y\",1,0)","v":0},{"$f":"IF($G34=\"Non-essential\",0,1)*IF('Assessment Framework'!BC34=\"Y\",1,0)","v":0},{"$f":"IF($G34=\"Non-essential\",0,1)*IF('Assessment Framework'!BD34=\"Y\",1,0)","v":0},{"$f":"IF($G34=\"Non-essential\",0,1)*IF('Assessment Framework'!BE34=\"Y\",1,0)","v":0},{"$f":"IF($G34=\"Non-essential\",0,1)*IF('Assessment Framework'!BF34=\"Y\",1,0)","v":0},{"$f":"IF($G34=\"Non-essential\",0,1)*IF('Assessment Framework'!BG34=\"Y\",1,0)","v":0},{"$f":"IF($G34=\"Non-essential\",0,1)*IF('Assessment Framework'!BH34=\"Y\",1,0)","v":0},{"$f":"IF($G34=\"Non-essential\",0,1)*IF('Assessment Framework'!BI34=\"Y\",1,0)","v":0},{"$f":"IF($G34=\"Non-essential\",0,1)*IF('Assessment Framework'!BJ34=\"Y\",1,0)","v":0},{"$f":"IF($G34=\"Non-essential\",0,1)*IF('Assessment Framework'!BK34=\"Y\",1,0)","v":0},{"$f":"IF($G34=\"Non-essential\",0,1)*IF('Assessment Framework'!BL34=\"Y\",1,0)","v":0},{"$f":"IF($G34=\"Non-essential\",0,1)*IF('Assessment Framework'!BM34=\"Y\",1,0)","v":0},{"$f":"IF($G34=\"Non-essential\",0,1)*IF('Assessment Framework'!BN34=\"Y\",1,0)","v":0},{"$f":"IF($G34=\"Non-essential\",0,1)*IF('Assessment Framework'!BO34=\"Y\",1,0)","v":0},{"$f":"IF($G34=\"Non-essential\",0,1)*IF('Assessment Framework'!BP34=\"Y\",1,0)","v":0},{"$f":"IF($G34=\"Non-essential\",0,1)*IF('Assessment Framework'!BQ34=\"Y\",1,0)","v":0},{"$f":"IF($G34=\"Non-essential\",0,1)*IF('Assessment Framework'!BR34=\"Y\",1,0)","v":0},{"$f":"IF($G34=\"Non-essential\",0,1)*IF('Assessment Framework'!BS34=\"Y\",1,0)","v":0},{"$f":"IF($G34=\"Non-essential\",0,1)*IF('Assessment Framework'!BT34=\"Y\",1,0)","v":0},{"$f":"IF($G34=\"Non-essential\",0,1)*IF('Assessment Framework'!BU34=\"Y\",1,0)","v":0},{"$f":"IF($G34=\"Non-essential\",0,1)*IF('Assessment Framework'!BV34=\"Y\",1,0)","v":0},{"$f":"IF($G34=\"Non-essential\",0,1)*IF('Assessment Framework'!BW34=\"Y\",1,0)","v":0},{"$f":"IF($G34=\"Non-essential\",0,1)*IF('Assessment Framework'!BX34=\"Y\",1,0)","v":0},{"$f":"IF($G34=\"Non-essential\",0,1)*IF('Assessment Framework'!BY34=\"Y\",1,0)","v":0},{"$f":"IF($G34=\"Non-essential\",0,1)*IF('Assessment Framework'!BZ34=\"Y\",1,0)","v":0},{"$f":"IF($G34=\"Non-essential\",0,1)*IF('Assessment Framework'!CA34=\"Y\",1,0)","v":0},{"$f":"IF($G34=\"Non-essential\",0,1)*IF('Assessment Framework'!CB34=\"Y\",1,0)","v":0},{"$f":"IF($G34=\"Non-essential\",0,1)*IF('Assessment Framework'!CC34=\"Y\",1,0)","v":0},{"$f":"IF($G34=\"Non-essential\",0,1)*IF('Assessment Framework'!CD34=\"Y\",1,0)","v":0},{"$f":"IF($G34=\"Non-essential\",0,1)*IF('Assessment Framework'!CE34=\"Y\",1,0)","v":0},{"$f":"IF($G34=\"Non-essential\",0,1)*IF('Assessment Framework'!CF34=\"Y\",1,0)","v":0},{"$f":"IF($G34=\"Non-essential\",0,1)*IF('Assessment Framework'!CG34=\"Y\",1,0)","v":0},{"$f":"IF($G34=\"Non-essential\",0,1)*IF('Assessment Framework'!CH34=\"Y\",1,0)","v":0},{"$f":"IF($G34=\"Non-essential\",0,1)*IF('Assessment Framework'!CI34=\"Y\",1,0)","v":0},{"$f":"IF($G34=\"Non-essential\",0,1)*IF('Assessment Framework'!CJ34=\"Y\",1,0)","v":0},{"$f":"IF($G34=\"Non-essential\",0,1)*IF('Assessment Framework'!CK34=\"Y\",1,0)","v":0},{"$f":"IF($G34=\"Non-essential\",0,1)*IF('Assessment Framework'!CL34=\"Y\",1,0)","v":0},{"$f":"IF($G34=\"Non-essential\",0,1)*IF('Assessment Framework'!CM34=\"Y\",1,0)","v":0}]
[null,null,null,"Municipal","Informs at the municipal or local authority level","Y,N",{"$f":"IF('B - Technical objectives'!C11=\"\",\"Non-essential\",'B - Technical objectives'!C11)","v":"Non-essential"},{"$f":"IF($G35=\"Non-essential\",0,1)*IF('Assessment Framework'!G35=\"Y\",1,0)","v":0},{"$f":"IF($G35=\"Non-essential\",0,1)*IF('Assessment Framework'!H35=\"Y\",1,0)","v":0},{"$f":"IF($G35=\"Non-essential\",0,1)*IF('Assessment Framework'!I35=\"Y\",1,0)","v":0},{"$f":"IF($G35=\"Non-essential\",0,1)*IF('Assessment Framework'!J35=\"Y\",1,0)","v":0},{"$f":"IF($G35=\"Non-essential\",0,1)*IF('Assessment Framework'!K35=\"Y\",1,0)","v":0},{"$f":"IF($G35=\"Non-essential\",0,1)*IF('Assessment Framework'!L35=\"Y\",1,0)","v":0},{"$f":"IF($G35=\"Non-essential\",0,1)*IF('Assessment Framework'!M35=\"Y\",1,0)","v":0},{"$f":"IF($G35=\"Non-essential\",0,1)*IF('Assessment Framework'!N35=\"Y\",1,0)","v":0},{"$f":"IF($G35=\"Non-essential\",0,1)*IF('Assessment Framework'!O35=\"Y\",1,0)","v":0},{"$f":"IF($G35=\"Non-essential\",0,1)*IF('Assessment Framework'!P35=\"Y\",1,0)","v":0},{"$f":"IF($G35=\"Non-essential\",0,1)*IF('Assessment Framework'!Q35=\"Y\",1,0)","v":0},{"$f":"IF($G35=\"Non-essential\",0,1)*IF('Assessment Framework'!R35=\"Y\",1,0)","v":0},{"$f":"IF($G35=\"Non-essential\",0,1)*IF('Assessment Framework'!S35=\"Y\",1,0)","v":0},{"$f":"IF($G35=\"Non-essential\",0,1)*IF('Assessment Framework'!T35=\"Y\",1,0)","v":0},{"$f":"IF($G35=\"Non-essential\",0,1)*IF('Assessment Framework'!U35=\"Y\",1,0)","v":0},{"$f":"IF($G35=\"Non-essential\",0,1)*IF('Assessment Framework'!V35=\"Y\",1,0)","v":0},{"$f":"IF($G35=\"Non-essential\",0,1)*IF('Assessment Framework'!W35=\"Y\",1,0)","v":0},{"$f":"IF($G35=\"Non-essential\",0,1)*IF('Assessment Framework'!X35=\"Y\",1,0)","v":0},{"$f":"IF($G35=\"Non-essential\",0,1)*IF('Assessment Framework'!Y35=\"Y\",1,0)","v":0},{"$f":"IF($G35=\"Non-essential\",0,1)*IF('Assessment Framework'!Z35=\"Y\",1,0)","v":0},{"$f":"IF($G35=\"Non-essential\",0,1)*IF('Assessment Framework'!AA35=\"Y\",1,0)","v":0},{"$f":"IF($G35=\"Non-essential\",0,1)*IF('Assessment Framework'!AB35=\"Y\",1,0)","v":0},{"$f":"IF($G35=\"Non-essential\",0,1)*IF('Assessment Framework'!AC35=\"Y\",1,0)","v":0},{"$f":"IF($G35=\"Non-essential\",0,1)*IF('Assessment Framework'!AD35=\"Y\",1,0)","v":0},{"$f":"IF($G35=\"Non-essential\",0,1)*IF('Assessment Framework'!AE35=\"Y\",1,0)","v":0},{"$f":"IF($G35=\"Non-essential\",0,1)*IF('Assessment Framework'!AF35=\"Y\",1,0)","v":0},{"$f":"IF($G35=\"Non-essential\",0,1)*IF('Assessment Framework'!AG35=\"Y\",1,0)","v":0},{"$f":"IF($G35=\"Non-essential\",0,1)*IF('Assessment Framework'!AH35=\"Y\",1,0)","v":0},{"$f":"IF($G35=\"Non-essential\",0,1)*IF('Assessment Framework'!AI35=\"Y\",1,0)","v":0},{"$f":"IF($G35=\"Non-essential\",0,1)*IF('Assessment Framework'!AJ35=\"Y\",1,0)","v":0},{"$f":"IF($G35=\"Non-essential\",0,1)*IF('Assessment Framework'!AK35=\"Y\",1,0)","v":0},{"$f":"IF($G35=\"Non-essential\",0,1)*IF('Assessment Framework'!AL35=\"Y\",1,0)","v":0},{"$f":"IF($G35=\"Non-essential\",0,1)*IF('Assessment Framework'!AM35=\"Y\",1,0)","v":0},{"$f":"IF($G35=\"Non-essential\",0,1)*IF('Assessment Framework'!AN35=\"Y\",1,0)","v":0},{"$f":"IF($G35=\"Non-essential\",0,1)*IF('Assessment Framework'!AO35=\"Y\",1,0)","v":0},{"$f":"IF($G35=\"Non-essential\",0,1)*IF('Assessment Framework'!AP35=\"Y\",1,0)","v":0},{"$f":"IF($G35=\"Non-essential\",0,1)*IF('Assessment Framework'!AQ35=\"Y\",1,0)","v":0},{"$f":"IF($G35=\"Non-essential\",0,1)*IF('Assessment Framework'!AR35=\"Y\",1,0)","v":0},{"$f":"IF($G35=\"Non-essential\",0,1)*IF('Assessment Framework'!AS35=\"Y\",1,0)","v":0},{"$f":"IF($G35=\"Non-essential\",0,1)*IF('Assessment Framework'!AT35=\"Y\",1,0)","v":0},{"$f":"IF($G35=\"Non-essential\",0,1)*IF('Assessment Framework'!AU35=\"Y\",1,0)","v":0},{"$f":"IF($G35=\"Non-essential\",0,1)*IF('Assessment Framework'!AV35=\"Y\",1,0)","v":0},{"$f":"IF($G35=\"Non-essential\",0,1)*IF('Assessment Framework'!AW35=\"Y\",1,0)","v":0},{"$f":"IF($G35=\"Non-essential\",0,1)*IF('Assessment Framework'!AX35=\"Y\",1,0)","v":0},{"$f":"IF($G35=\"Non-essential\",0,1)*IF('Assessment Framework'!AY35=\"Y\",1,0)","v":0},{"$f":"IF($G35=\"Non-essential\",0,1)*IF('Assessment Framework'!AZ35=\"Y\",1,0)","v":0},{"$f":"IF($G35=\"Non-essential\",0,1)*IF('Assessment Framework'!BA35=\"Y\",1,0)","v":0},{"$f":"IF($G35=\"Non-essential\",0,1)*IF('Assessment Framework'!BB35=\"Y\",1,0)","v":0},{"$f":"IF($G35=\"Non-essential\",0,1)*IF('Assessment Framework'!BC35=\"Y\",1,0)","v":0},{"$f":"IF($G35=\"Non-essential\",0,1)*IF('Assessment Framework'!BD35=\"Y\",1,0)","v":0},{"$f":"IF($G35=\"Non-essential\",0,1)*IF('Assessment Framework'!BE35=\"Y\",1,0)","v":0},{"$f":"IF($G35=\"Non-essential\",0,1)*IF('Assessment Framework'!BF35=\"Y\",1,0)","v":0},{"$f":"IF($G35=\"Non-essential\",0,1)*IF('Assessment Framework'!BG35=\"Y\",1,0)","v":0},{"$f":"IF($G35=\"Non-essential\",0,1)*IF('Assessment Framework'!BH35=\"Y\",1,0)","v":0},{"$f":"IF($G35=\"Non-essential\",0,1)*IF('Assessment Framework'!BI35=\"Y\",1,0)","v":0},{"$f":"IF($G35=\"Non-essential\",0,1)*IF('Assessment Framework'!BJ35=\"Y\",1,0)","v":0},{"$f":"IF($G35=\"Non-essential\",0,1)*IF('Assessment Framework'!BK35=\"Y\",1,0)","v":0},{"$f":"IF($G35=\"Non-essential\",0,1)*IF('Assessment Framework'!BL35=\"Y\",1,0)","v":0},{"$f":"IF($G35=\"Non-essential\",0,1)*IF('Assessment Framework'!BM35=\"Y\",1,0)","v":0},{"$f":"IF($G35=\"Non-essential\",0,1)*IF('Assessment Framework'!BN35=\"Y\",1,0)","v":0},{"$f":"IF($G35=\"Non-essential\",0,1)*IF('Assessment Framework'!BO35=\"Y\",1,0)","v":0},{"$f":"IF($G35=\"Non-essential\",0,1)*IF('Assessment Framework'!BP35=\"Y\",1,0)","v":0},{"$f":"IF($G35=\"Non-essential\",0,1)*IF('Assessment Framework'!BQ35=\"Y\",1,0)","v":0},{"$f":"IF($G35=\"Non-essential\",0,1)*IF('Assessment Framework'!BR35=\"Y\",1,0)","v":0},{"$f":"IF($G35=\"Non-essential\",0,1)*IF('Assessment Framework'!BS35=\"Y\",1,0)","v":0},{"$f":"IF($G35=\"Non-essential\",0,1)*IF('Assessment Framework'!BT35=\"Y\",1,0)","v":0},{"$f":"IF($G35=\"Non-essential\",0,1)*IF('Assessment Framework'!BU35=\"Y\",1,0)","v":0},{"$f":"IF($G35=\"Non-essential\",0,1)*IF('Assessment Framework'!BV35=\"Y\",1,0)","v":0},{"$f":"IF($G35=\"Non-essential\",0,1)*IF('Assessment Framework'!BW35=\"Y\",1,0)","v":0},{"$f":"IF($G35=\"Non-essential\",0,1)*IF('Assessment Framework'!BX35=\"Y\",1,0)","v":0},{"$f":"IF($G35=\"Non-essential\",0,1)*IF('Assessment Framework'!BY35=\"Y\",1,0)","v":0},{"$f":"IF($G35=\"Non-essential\",0,1)*IF('Assessment Framework'!BZ35=\"Y\",1,0)","v":0},{"$f":"IF($G35=\"Non-essential\",0,1)*IF('Assessment Framework'!CA35=\"Y\",1,0)","v":0},{"$f":"IF($G35=\"Non-essential\",0,1)*IF('Assessment Framework'!CB35=\"Y\",1,0)","v":0},{"$f":"IF($G35=\"Non-essential\",0,1)*IF('Assessment Framework'!CC35=\"Y\",1,0)","v":0},{"$f":"IF($G35=\"Non-essential\",0,1)*IF('Assessment Framework'!CD35=\"Y\",1,0)","v":0},{"$f":"IF($G35=\"Non-essential\",0,1)*IF('Assessment Framework'!CE35=\"Y\",1,0)","v":0},{"$f":"IF($G35=\"Non-essential\",0,1)*IF('Assessment Framework'!CF35=\"Y\",1,0)","v":0},{"$f":"IF($G35=\"Non-essential\",0,1)*IF('Assessment Framework'!CG35=\"Y\",1,0)","v":0},{"$f":"IF($G35=\"Non-essential\",0,1)*IF('Assessment Framework'!CH35=\"Y\",1,0)","v":0},{"$f":"IF($G35=\"Non-essential\",0,1)*IF('Assessment Framework'!CI35=\"Y\",1,0)","v":0},{"$f":"IF($G35=\"Non-essential\",0,1)*IF('Assessment Framework'!CJ35=\"Y\",1,0)","v":0},{"$f":"IF($G35=\"Non-essential\",0,1)*IF('Assessment Framework'!CK35=\"Y\",1,0)","v":0},{"$f":"IF($G35=\"Non-essential\",0,1)*IF('Assessment Framework'!CL35=\"Y\",1,0)","v":0},{"$f":"IF($G35=\"Non-essential\",0,1)*IF('Assessment Framework'!CM35=\"Y\",1,0)","v":0}]
[null,null,null,"Sub-municipal (local)","Informs at a local level smaller than that of the municipality","Y,N",{"$f":"IF('B - Technical objectives'!C12=\"\",\"Non-essential\",'B - Technical objectives'!C12)","v":"Non-essential"},{"$f":"IF($G36=\"Non-essential\",0,1)*IF('Assessment Framework'!G36=\"Y\",1,0)","v":0},{"$f":"IF($G36=\"Non-essential\",0,1)*IF('Assessment Framework'!H36=\"Y\",1,0)","v":0},{"$f":"IF($G36=\"Non-essential\",0,1)*IF('Assessment Framework'!I36=\"Y\",1,0)","v":0},{"$f":"IF($G36=\"Non-essential\",0,1)*IF('Assessment Framework'!J36=\"Y\",1,0)","v":0},{"$f":"IF($G36=\"Non-essential\",0,1)*IF('Assessment Framework'!K36=\"Y\",1,0)","v":0},{"$f":"IF($G36=\"Non-essential\",0,1)*IF('Assessment Framework'!L36=\"Y\",1,0)","v":0},{"$f":"IF($G36=\"Non-essential\",0,1)*IF('Assessment Framework'!M36=\"Y\",1,0)","v":0},{"$f":"IF($G36=\"Non-essential\",0,1)*IF('Assessment Framework'!N36=\"Y\",1,0)","v":0},{"$f":"IF($G36=\"Non-essential\",0,1)*IF('Assessment Framework'!O36=\"Y\",1,0)","v":0},{"$f":"IF($G36=\"Non-essential\",0,1)*IF('Assessment Framework'!P36=\"Y\",1,0)","v":0},{"$f":"IF($G36=\"Non-essential\",0,1)*IF('Assessment Framework'!Q36=\"Y\",1,0)","v":0},{"$f":"IF($G36=\"Non-essential\",0,1)*IF('Assessment Framework'!R36=\"Y\",1,0)","v":0},{"$f":"IF($G36=\"Non-essential\",0,1)*IF('Assessment Framework'!S36=\"Y\",1,0)","v":0},{"$f":"IF($G36=\"Non-essential\",0,1)*IF('Assessment Framework'!T36=\"Y\",1,0)","v":0},{"$f":"IF($G36=\"Non-essential\",0,1)*IF('Assessment Framework'!U36=\"Y\",1,0)","v":0},{"$f":"IF($G36=\"Non-essential\",0,1)*IF('Assessment Framework'!V36=\"Y\",1,0)","v":0},{"$f":"IF($G36=\"Non-essential\",0,1)*IF('Assessment Framework'!W36=\"Y\",1,0)","v":0},{"$f":"IF($G36=\"Non-essential\",0,1)*IF('Assessment Framework'!X36=\"Y\",1,0)","v":0},{"$f":"IF($G36=\"Non-essential\",0,1)*IF('Assessment Framework'!Y36=\"Y\",1,0)","v":0},{"$f":"IF($G36=\"Non-essential\",0,1)*IF('Assessment Framework'!Z36=\"Y\",1,0)","v":0},{"$f":"IF($G36=\"Non-essential\",0,1)*IF('Assessment Framework'!AA36=\"Y\",1,0)","v":0},{"$f":"IF($G36=\"Non-essential\",0,1)*IF('Assessment Framework'!AB36=\"Y\",1,0)","v":0},{"$f":"IF($G36=\"Non-essential\",0,1)*IF('Assessment Framework'!AC36=\"Y\",1,0)","v":0},{"$f":"IF($G36=\"Non-essential\",0,1)*IF('Assessment Framework'!AD36=\"Y\",1,0)","v":0},{"$f":"IF($G36=\"Non-essential\",0,1)*IF('Assessment Framework'!AE36=\"Y\",1,0)","v":0},{"$f":"IF($G36=\"Non-essential\",0,1)*IF('Assessment Framework'!AF36=\"Y\",1,0)","v":0},{"$f":"IF($G36=\"Non-essential\",0,1)*IF('Assessment Framework'!AG36=\"Y\",1,0)","v":0},{"$f":"IF($G36=\"Non-essential\",0,1)*IF('Assessment Framework'!AH36=\"Y\",1,0)","v":0},{"$f":"IF($G36=\"Non-essential\",0,1)*IF('Assessment Framework'!AI36=\"Y\",1,0)","v":0},{"$f":"IF($G36=\"Non-essential\",0,1)*IF('Assessment Framework'!AJ36=\"Y\",1,0)","v":0},{"$f":"IF($G36=\"Non-essential\",0,1)*IF('Assessment Framework'!AK36=\"Y\",1,0)","v":0},{"$f":"IF($G36=\"Non-essential\",0,1)*IF('Assessment Framework'!AL36=\"Y\",1,0)","v":0},{"$f":"IF($G36=\"Non-essential\",0,1)*IF('Assessment Framework'!AM36=\"Y\",1,0)","v":0},{"$f":"IF($G36=\"Non-essential\",0,1)*IF('Assessment Framework'!AN36=\"Y\",1,0)","v":0},{"$f":"IF($G36=\"Non-essential\",0,1)*IF('Assessment Framework'!AO36=\"Y\",1,0)","v":0},{"$f":"IF($G36=\"Non-essential\",0,1)*IF('Assessment Framework'!AP36=\"Y\",1,0)","v":0},{"$f":"IF($G36=\"Non-essential\",0,1)*IF('Assessment Framework'!AQ36=\"Y\",1,0)","v":0},{"$f":"IF($G36=\"Non-essential\",0,1)*IF('Assessment Framework'!AR36=\"Y\",1,0)","v":0},{"$f":"IF($G36=\"Non-essential\",0,1)*IF('Assessment Framework'!AS36=\"Y\",1,0)","v":0},{"$f":"IF($G36=\"Non-essential\",0,1)*IF('Assessment Framework'!AT36=\"Y\",1,0)","v":0},{"$f":"IF($G36=\"Non-essential\",0,1)*IF('Assessment Framework'!AU36=\"Y\",1,0)","v":0},{"$f":"IF($G36=\"Non-essential\",0,1)*IF('Assessment Framework'!AV36=\"Y\",1,0)","v":0},{"$f":"IF($G36=\"Non-essential\",0,1)*IF('Assessment Framework'!AW36=\"Y\",1,0)","v":0},{"$f":"IF($G36=\"Non-essential\",0,1)*IF('Assessment Framework'!AX36=\"Y\",1,0)","v":0},{"$f":"IF($G36=\"Non-essential\",0,1)*IF('Assessment Framework'!AY36=\"Y\",1,0)","v":0},{"$f":"IF($G36=\"Non-essential\",0,1)*IF('Assessment Framework'!AZ36=\"Y\",1,0)","v":0},{"$f":"IF($G36=\"Non-essential\",0,1)*IF('Assessment Framework'!BA36=\"Y\",1,0)","v":0},{"$f":"IF($G36=\"Non-essential\",0,1)*IF('Assessment Framework'!BB36=\"Y\",1,0)","v":0},{"$f":"IF($G36=\"Non-essential\",0,1)*IF('Assessment Framework'!BC36=\"Y\",1,0)","v":0},{"$f":"IF($G36=\"Non-essential\",0,1)*IF('Assessment Framework'!BD36=\"Y\",1,0)","v":0},{"$f":"IF($G36=\"Non-essential\",0,1)*IF('Assessment Framework'!BE36=\"Y\",1,0)","v":0},{"$f":"IF($G36=\"Non-essential\",0,1)*IF('Assessment Framework'!BF36=\"Y\",1,0)","v":0},{"$f":"IF($G36=\"Non-essential\",0,1)*IF('Assessment Framework'!BG36=\"Y\",1,0)","v":0},{"$f":"IF($G36=\"Non-essential\",0,1)*IF('Assessment Framework'!BH36=\"Y\",1,0)","v":0},{"$f":"IF($G36=\"Non-essential\",0,1)*IF('Assessment Framework'!BI36=\"Y\",1,0)","v":0},{"$f":"IF($G36=\"Non-essential\",0,1)*IF('Assessment Framework'!BJ36=\"Y\",1,0)","v":0},{"$f":"IF($G36=\"Non-essential\",0,1)*IF('Assessment Framework'!BK36=\"Y\",1,0)","v":0},{"$f":"IF($G36=\"Non-essential\",0,1)*IF('Assessment Framework'!BL36=\"Y\",1,0)","v":0},{"$f":"IF($G36=\"Non-essential\",0,1)*IF('Assessment Framework'!BM36=\"Y\",1,0)","v":0},{"$f":"IF($G36=\"Non-essential\",0,1)*IF('Assessment Framework'!BN36=\"Y\",1,0)","v":0},{"$f":"IF($G36=\"Non-essential\",0,1)*IF('Assessment Framework'!BO36=\"Y\",1,0)","v":0},{"$f":"IF($G36=\"Non-essential\",0,1)*IF('Assessment Framework'!BP36=\"Y\",1,0)","v":0},{"$f":"IF($G36=\"Non-essential\",0,1)*IF('Assessment Framework'!BQ36=\"Y\",1,0)","v":0},{"$f":"IF($G36=\"Non-essential\",0,1)*IF('Assessment Framework'!BR36=\"Y\",1,0)","v":0},{"$f":"IF($G36=\"Non-essential\",0,1)*IF('Assessment Framework'!BS36=\"Y\",1,0)","v":0},{"$f":"IF($G36=\"Non-essential\",0,1)*IF('Assessment Framework'!BT36=\"Y\",1,0)","v":0},{"$f":"IF($G36=\"Non-essential\",0,1)*IF('Assessment Framework'!BU36=\"Y\",1,0)","v":0},{"$f":"IF($G36=\"Non-essential\",0,1)*IF('Assessment Framework'!BV36=\"Y\",1,0)","v":0},{"$f":"IF($G36=\"Non-essential\",0,1)*IF('Assessment Framework'!BW36=\"Y\",1,0)","v":0},{"$f":"IF($G36=\"Non-essential\",0,1)*IF('Assessment Framework'!BX36=\"Y\",1,0)","v":0},{"$f":"IF($G36=\"Non-essential\",0,1)*IF('Assessment Framework'!BY36=\"Y\",1,0)","v":0},{"$f":"IF($G36=\"Non-essential\",0,1)*IF('Assessment Framework'!BZ36=\"Y\",1,0)","v":0},{"$f":"IF($G36=\"Non-essential\",0,1)*IF('Assessment Framework'!CA36=\"Y\",1,0)","v":0},{"$f":"IF($G36=\"Non-essential\",0,1)*IF('Assessment Framework'!CB36=\"Y\",1,0)","v":0},{"$f":"IF($G36=\"Non-essential\",0,1)*IF('Assessment Framework'!CC36=\"Y\",1,0)","v":0},{"$f":"IF($G36=\"Non-essential\",0,1)*IF('Assessment Framework'!CD36=\"Y\",1,0)","v":0},{"$f":"IF($G36=\"Non-essential\",0,1)*IF('Assessment Framework'!CE36=\"Y\",1,0)","v":0},{"$f":"IF($G36=\"Non-essential\",0,1)*IF('Assessment Framework'!CF36=\"Y\",1,0)","v":0},{"$f":"IF($G36=\"Non-essential\",0,1)*IF('Assessment Framework'!CG36=\"Y\",1,0)","v":0},{"$f":"IF($G36=\"Non-essential\",0,1)*IF('Assessment Framework'!CH36=\"Y\",1,0)","v":0},{"$f":"IF($G36=\"Non-essential\",0,1)*IF('Assessment Framework'!CI36=\"Y\",1,0)","v":0},{"$f":"IF($G36=\"Non-essential\",0,1)*IF('Assessment Framework'!CJ36=\"Y\",1,0)","v":0},{"$f":"IF($G36=\"Non-essential\",0,1)*IF('Assessment Framework'!CK36=\"Y\",1,0)","v":0},{"$f":"IF($G36=\"Non-essential\",0,1)*IF('Assessment Framework'!CL36=\"Y\",1,0)","v":0},{"$f":"IF($G36=\"Non-essential\",0,1)*IF('Assessment Framework'!CM36=\"Y\",1,0)","v":0}]
[null,null,null,"Urban","Informs on areas with high population densities such as towns and cities.","Y,N",{"$f":"IF('B - Technical objectives'!C13=\"\",\"Non-essential\",'B - Technical objectives'!C13)","v":"Non-essential"},{"$f":"IF($G37=\"Non-essential\",0,1)*IF('Assessment Framework'!G37=\"Y\",1,0)","v":0},{"$f":"IF($G37=\"Non-essential\",0,1)*IF('Assessment Framework'!H37=\"Y\",1,0)","v":0},{"$f":"IF($G37=\"Non-essential\",0,1)*IF('Assessment Framework'!I37=\"Y\",1,0)","v":0},{"$f":"IF($G37=\"Non-essential\",0,1)*IF('Assessment Framework'!J37=\"Y\",1,0)","v":0},{"$f":"IF($G37=\"Non-essential\",0,1)*IF('Assessment Framework'!K37=\"Y\",1,0)","v":0},{"$f":"IF($G37=\"Non-essential\",0,1)*IF('Assessment Framework'!L37=\"Y\",1,0)","v":0},{"$f":"IF($G37=\"Non-essential\",0,1)*IF('Assessment Framework'!M37=\"Y\",1,0)","v":0},{"$f":"IF($G37=\"Non-essential\",0,1)*IF('Assessment Framework'!N37=\"Y\",1,0)","v":0},{"$f":"IF($G37=\"Non-essential\",0,1)*IF('Assessment Framework'!O37=\"Y\",1,0)","v":0},{"$f":"IF($G37=\"Non-essential\",0,1)*IF('Assessment Framework'!P37=\"Y\",1,0)","v":0},{"$f":"IF($G37=\"Non-essential\",0,1)*IF('Assessment Framework'!Q37=\"Y\",1,0)","v":0},{"$f":"IF($G37=\"Non-essential\",0,1)*IF('Assessment Framework'!R37=\"Y\",1,0)","v":0},{"$f":"IF($G37=\"Non-essential\",0,1)*IF('Assessment Framework'!S37=\"Y\",1,0)","v":0},{"$f":"IF($G37=\"Non-essential\",0,1)*IF('Assessment Framework'!T37=\"Y\",1,0)","v":0},{"$f":"IF($G37=\"Non-essential\",0,1)*IF('Assessment Framework'!U37=\"Y\",1,0)","v":0},{"$f":"IF($G37=\"Non-essential\",0,1)*IF('Assessment Framework'!V37=\"Y\",1,0)","v":0},{"$f":"IF($G37=\"Non-essential\",0,1)*IF('Assessment Framework'!W37=\"Y\",1,0)","v":0},{"$f":"IF($G37=\"Non-essential\",0,1)*IF('Assessment Framework'!X37=\"Y\",1,0)","v":0},{"$f":"IF($G37=\"Non-essential\",0,1)*IF('Assessment Framework'!Y37=\"Y\",1,0)","v":0},{"$f":"IF($G37=\"Non-essential\",0,1)*IF('Assessment Framework'!Z37=\"Y\",1,0)","v":0},{"$f":"IF($G37=\"Non-essential\",0,1)*IF('Assessment Framework'!AA37=\"Y\",1,0)","v":0},{"$f":"IF($G37=\"Non-essential\",0,1)*IF('Assessment Framework'!AB37=\"Y\",1,0)","v":0},{"$f":"IF($G37=\"Non-essential\",0,1)*IF('Assessment Framework'!AC37=\"Y\",1,0)","v":0},{"$f":"IF($G37=\"Non-essential\",0,1)*IF('Assessment Framework'!AD37=\"Y\",1,0)","v":0},{"$f":"IF($G37=\"Non-essential\",0,1)*IF('Assessment Framework'!AE37=\"Y\",1,0)","v":0},{"$f":"IF($G37=\"Non-essential\",0,1)*IF('Assessment Framework'!AF37=\"Y\",1,0)","v":0},{"$f":"IF($G37=\"Non-essential\",0,1)*IF('Assessment Framework'!AG37=\"Y\",1,0)","v":0},{"$f":"IF($G37=\"Non-essential\",0,1)*IF('Assessment Framework'!AH37=\"Y\",1,0)","v":0},{"$f":"IF($G37=\"Non-essential\",0,1)*IF('Assessment Framework'!AI37=\"Y\",1,0)","v":0},{"$f":"IF($G37=\"Non-essential\",0,1)*IF('Assessment Framework'!AJ37=\"Y\",1,0)","v":0},{"$f":"IF($G37=\"Non-essential\",0,1)*IF('Assessment Framework'!AK37=\"Y\",1,0)","v":0},{"$f":"IF($G37=\"Non-essential\",0,1)*IF('Assessment Framework'!AL37=\"Y\",1,0)","v":0},{"$f":"IF($G37=\"Non-essential\",0,1)*IF('Assessment Framework'!AM37=\"Y\",1,0)","v":0},{"$f":"IF($G37=\"Non-essential\",0,1)*IF('Assessment Framework'!AN37=\"Y\",1,0)","v":0},{"$f":"IF($G37=\"Non-essential\",0,1)*IF('Assessment Framework'!AO37=\"Y\",1,0)","v":0},{"$f":"IF($G37=\"Non-essential\",0,1)*IF('Assessment Framework'!AP37=\"Y\",1,0)","v":0},{"$f":"IF($G37=\"Non-essential\",0,1)*IF('Assessment Framework'!AQ37=\"Y\",1,0)","v":0},{"$f":"IF($G37=\"Non-essential\",0,1)*IF('Assessment Framework'!AR37=\"Y\",1,0)","v":0},{"$f":"IF($G37=\"Non-essential\",0,1)*IF('Assessment Framework'!AS37=\"Y\",1,0)","v":0},{"$f":"IF($G37=\"Non-essential\",0,1)*IF('Assessment Framework'!AT37=\"Y\",1,0)","v":0},{"$f":"IF($G37=\"Non-essential\",0,1)*IF('Assessment Framework'!AU37=\"Y\",1,0)","v":0},{"$f":"IF($G37=\"Non-essential\",0,1)*IF('Assessment Framework'!AV37=\"Y\",1,0)","v":0},{"$f":"IF($G37=\"Non-essential\",0,1)*IF('Assessment Framework'!AW37=\"Y\",1,0)","v":0},{"$f":"IF($G37=\"Non-essential\",0,1)*IF('Assessment Framework'!AX37=\"Y\",1,0)","v":0},{"$f":"IF($G37=\"Non-essential\",0,1)*IF('Assessment Framework'!AY37=\"Y\",1,0)","v":0},{"$f":"IF($G37=\"Non-essential\",0,1)*IF('Assessment Framework'!AZ37=\"Y\",1,0)","v":0},{"$f":"IF($G37=\"Non-essential\",0,1)*IF('Assessment Framework'!BA37=\"Y\",1,0)","v":0},{"$f":"IF($G37=\"Non-essential\",0,1)*IF('Assessment Framework'!BB37=\"Y\",1,0)","v":0},{"$f":"IF($G37=\"Non-essential\",0,1)*IF('Assessment Framework'!BC37=\"Y\",1,0)","v":0},{"$f":"IF($G37=\"Non-essential\",0,1)*IF('Assessment Framework'!BD37=\"Y\",1,0)","v":0},{"$f":"IF($G37=\"Non-essential\",0,1)*IF('Assessment Framework'!BE37=\"Y\",1,0)","v":0},{"$f":"IF($G37=\"Non-essential\",0,1)*IF('Assessment Framework'!BF37=\"Y\",1,0)","v":0},{"$f":"IF($G37=\"Non-essential\",0,1)*IF('Assessment Framework'!BG37=\"Y\",1,0)","v":0},{"$f":"IF($G37=\"Non-essential\",0,1)*IF('Assessment Framework'!BH37=\"Y\",1,0)","v":0},{"$f":"IF($G37=\"Non-essential\",0,1)*IF('Assessment Framework'!BI37=\"Y\",1,0)","v":0},{"$f":"IF($G37=\"Non-essential\",0,1)*IF('Assessment Framework'!BJ37=\"Y\",1,0)","v":0},{"$f":"IF($G37=\"Non-essential\",0,1)*IF('Assessment Framework'!BK37=\"Y\",1,0)","v":0},{"$f":"IF($G37=\"Non-essential\",0,1)*IF('Assessment Framework'!BL37=\"Y\",1,0)","v":0},{"$f":"IF($G37=\"Non-essential\",0,1)*IF('Assessment Framework'!BM37=\"Y\",1,0)","v":0},{"$f":"IF($G37=\"Non-essential\",0,1)*IF('Assessment Framework'!BN37=\"Y\",1,0)","v":0},{"$f":"IF($G37=\"Non-essential\",0,1)*IF('Assessment Framework'!BO37=\"Y\",1,0)","v":0},{"$f":"IF($G37=\"Non-essential\",0,1)*IF('Assessment Framework'!BP37=\"Y\",1,0)","v":0},{"$f":"IF($G37=\"Non-essential\",0,1)*IF('Assessment Framework'!BQ37=\"Y\",1,0)","v":0},{"$f":"IF($G37=\"Non-essential\",0,1)*IF('Assessment Framework'!BR37=\"Y\",1,0)","v":0},{"$f":"IF($G37=\"Non-essential\",0,1)*IF('Assessment Framework'!BS37=\"Y\",1,0)","v":0},{"$f":"IF($G37=\"Non-essential\",0,1)*IF('Assessment Framework'!BT37=\"Y\",1,0)","v":0},{"$f":"IF($G37=\"Non-essential\",0,1)*IF('Assessment Framework'!BU37=\"Y\",1,0)","v":0},{"$f":"IF($G37=\"Non-essential\",0,1)*IF('Assessment Framework'!BV37=\"Y\",1,0)","v":0},{"$f":"IF($G37=\"Non-essential\",0,1)*IF('Assessment Framework'!BW37=\"Y\",1,0)","v":0},{"$f":"IF($G37=\"Non-essential\",0,1)*IF('Assessment Framework'!BX37=\"Y\",1,0)","v":0},{"$f":"IF($G37=\"Non-essential\",0,1)*IF('Assessment Framework'!BY37=\"Y\",1,0)","v":0},{"$f":"IF($G37=\"Non-essential\",0,1)*IF('Assessment Framework'!BZ37=\"Y\",1,0)","v":0},{"$f":"IF($G37=\"Non-essential\",0,1)*IF('Assessment Framework'!CA37=\"Y\",1,0)","v":0},{"$f":"IF($G37=\"Non-essential\",0,1)*IF('Assessment Framework'!CB37=\"Y\",1,0)","v":0},{"$f":"IF($G37=\"Non-essential\",0,1)*IF('Assessment Framework'!CC37=\"Y\",1,0)","v":0},{"$f":"IF($G37=\"Non-essential\",0,1)*IF('Assessment Framework'!CD37=\"Y\",1,0)","v":0},{"$f":"IF($G37=\"Non-essential\",0,1)*IF('Assessment Framework'!CE37=\"Y\",1,0)","v":0},{"$f":"IF($G37=\"Non-essential\",0,1)*IF('Assessment Framework'!CF37=\"Y\",1,0)","v":0},{"$f":"IF($G37=\"Non-essential\",0,1)*IF('Assessment Framework'!CG37=\"Y\",1,0)","v":0},{"$f":"IF($G37=\"Non-essential\",0,1)*IF('Assessment Framework'!CH37=\"Y\",1,0)","v":0},{"$f":"IF($G37=\"Non-essential\",0,1)*IF('Assessment Framework'!CI37=\"Y\",1,0)","v":0},{"$f":"IF($G37=\"Non-essential\",0,1)*IF('Assessment Framework'!CJ37=\"Y\",1,0)","v":0},{"$f":"IF($G37=\"Non-essential\",0,1)*IF('Assessment Framework'!CK37=\"Y\",1,0)","v":0},{"$f":"IF($G37=\"Non-essential\",0,1)*IF('Assessment Framework'!CL37=\"Y\",1,0)","v":0},{"$f":"IF($G37=\"Non-essential\",0,1)*IF('Assessment Framework'!CM37=\"Y\",1,0)","v":0}]
[null,null,null,"Rural","Informs on areas with low population densities outside of towns and cities","Y,N",{"$f":"IF('B - Technical objectives'!C14=\"\",\"Non-essential\",'B - Technical objectives'!C14)","v":"Non-essential"},{"$f":"IF($G38=\"Non-essential\",0,1)*IF('Assessment Framework'!G38=\"Y\",1,0)","v":0},{"$f":"IF($G38=\"Non-essential\",0,1)*IF('Assessment Framework'!H38=\"Y\",1,0)","v":0},{"$f":"IF($G38=\"Non-essential\",0,1)*IF('Assessment Framework'!I38=\"Y\",1,0)","v":0},{"$f":"IF($G38=\"Non-essential\",0,1)*IF('Assessment Framework'!J38=\"Y\",1,0)","v":0},{"$f":"IF($G38=\"Non-essential\",0,1)*IF('Assessment Framework'!K38=\"Y\",1,0)","v":0},{"$f":"IF($G38=\"Non-essential\",0,1)*IF('Assessment Framework'!L38=\"Y\",1,0)","v":0},{"$f":"IF($G38=\"Non-essential\",0,1)*IF('Assessment Framework'!M38=\"Y\",1,0)","v":0},{"$f":"IF($G38=\"Non-essential\",0,1)*IF('Assessment Framework'!N38=\"Y\",1,0)","v":0},{"$f":"IF($G38=\"Non-essential\",0,1)*IF('Assessment Framework'!O38=\"Y\",1,0)","v":0},{"$f":"IF($G38=\"Non-essential\",0,1)*IF('Assessment Framework'!P38=\"Y\",1,0)","v":0},{"$f":"IF($G38=\"Non-essential\",0,1)*IF('Assessment Framework'!Q38=\"Y\",1,0)","v":0},{"$f":"IF($G38=\"Non-essential\",0,1)*IF('Assessment Framework'!R38=\"Y\",1,0)","v":0},{"$f":"IF($G38=\"Non-essential\",0,1)*IF('Assessment Framework'!S38=\"Y\",1,0)","v":0},{"$f":"IF($G38=\"Non-essential\",0,1)*IF('Assessment Framework'!T38=\"Y\",1,0)","v":0},{"$f":"IF($G38=\"Non-essential\",0,1)*IF('Assessment Framework'!U38=\"Y\",1,0)","v":0},{"$f":"IF($G38=\"Non-essential\",0,1)*IF('Assessment Framework'!V38=\"Y\",1,0)","v":0},{"$f":"IF($G38=\"Non-essential\",0,1)*IF('Assessment Framework'!W38=\"Y\",1,0)","v":0},{"$f":"IF($G38=\"Non-essential\",0,1)*IF('Assessment Framework'!X38=\"Y\",1,0)","v":0},{"$f":"IF($G38=\"Non-essential\",0,1)*IF('Assessment Framework'!Y38=\"Y\",1,0)","v":0},{"$f":"IF($G38=\"Non-essential\",0,1)*IF('Assessment Framework'!Z38=\"Y\",1,0)","v":0},{"$f":"IF($G38=\"Non-essential\",0,1)*IF('Assessment Framework'!AA38=\"Y\",1,0)","v":0},{"$f":"IF($G38=\"Non-essential\",0,1)*IF('Assessment Framework'!AB38=\"Y\",1,0)","v":0},{"$f":"IF($G38=\"Non-essential\",0,1)*IF('Assessment Framework'!AC38=\"Y\",1,0)","v":0},{"$f":"IF($G38=\"Non-essential\",0,1)*IF('Assessment Framework'!AD38=\"Y\",1,0)","v":0},{"$f":"IF($G38=\"Non-essential\",0,1)*IF('Assessment Framework'!AE38=\"Y\",1,0)","v":0},{"$f":"IF($G38=\"Non-essential\",0,1)*IF('Assessment Framework'!AF38=\"Y\",1,0)","v":0},{"$f":"IF($G38=\"Non-essential\",0,1)*IF('Assessment Framework'!AG38=\"Y\",1,0)","v":0},{"$f":"IF($G38=\"Non-essential\",0,1)*IF('Assessment Framework'!AH38=\"Y\",1,0)","v":0},{"$f":"IF($G38=\"Non-essential\",0,1)*IF('Assessment Framework'!AI38=\"Y\",1,0)","v":0},{"$f":"IF($G38=\"Non-essential\",0,1)*IF('Assessment Framework'!AJ38=\"Y\",1,0)","v":0},{"$f":"IF($G38=\"Non-essential\",0,1)*IF('Assessment Framework'!AK38=\"Y\",1,0)","v":0},{"$f":"IF($G38=\"Non-essential\",0,1)*IF('Assessment Framework'!AL38=\"Y\",1,0)","v":0},{"$f":"IF($G38=\"Non-essential\",0,1)*IF('Assessment Framework'!AM38=\"Y\",1,0)","v":0},{"$f":"IF($G38=\"Non-essential\",0,1)*IF('Assessment Framework'!AN38=\"Y\",1,0)","v":0},{"$f":"IF($G38=\"Non-essential\",0,1)*IF('Assessment Framework'!AO38=\"Y\",1,0)","v":0},{"$f":"IF($G38=\"Non-essential\",0,1)*IF('Assessment Framework'!AP38=\"Y\",1,0)","v":0},{"$f":"IF($G38=\"Non-essential\",0,1)*IF('Assessment Framework'!AQ38=\"Y\",1,0)","v":0},{"$f":"IF($G38=\"Non-essential\",0,1)*IF('Assessment Framework'!AR38=\"Y\",1,0)","v":0},{"$f":"IF($G38=\"Non-essential\",0,1)*IF('Assessment Framework'!AS38=\"Y\",1,0)","v":0},{"$f":"IF($G38=\"Non-essential\",0,1)*IF('Assessment Framework'!AT38=\"Y\",1,0)","v":0},{"$f":"IF($G38=\"Non-essential\",0,1)*IF('Assessment Framework'!AU38=\"Y\",1,0)","v":0},{"$f":"IF($G38=\"Non-essential\",0,1)*IF('Assessment Framework'!AV38=\"Y\",1,0)","v":0},{"$f":"IF($G38=\"Non-essential\",0,1)*IF('Assessment Framework'!AW38=\"Y\",1,0)","v":0},{"$f":"IF($G38=\"Non-essential\",0,1)*IF('Assessment Framework'!AX38=\"Y\",1,0)","v":0},{"$f":"IF($G38=\"Non-essential\",0,1)*IF('Assessment Framework'!AY38=\"Y\",1,0)","v":0},{"$f":"IF($G38=\"Non-essential\",0,1)*IF('Assessment Framework'!AZ38=\"Y\",1,0)","v":0},{"$f":"IF($G38=\"Non-essential\",0,1)*IF('Assessment Framework'!BA38=\"Y\",1,0)","v":0},{"$f":"IF($G38=\"Non-essential\",0,1)*IF('Assessment Framework'!BB38=\"Y\",1,0)","v":0},{"$f":"IF($G38=\"Non-essential\",0,1)*IF('Assessment Framework'!BC38=\"Y\",1,0)","v":0},{"$f":"IF($G38=\"Non-essential\",0,1)*IF('Assessment Framework'!BD38=\"Y\",1,0)","v":0},{"$f":"IF($G38=\"Non-essential\",0,1)*IF('Assessment Framework'!BE38=\"Y\",1,0)","v":0},{"$f":"IF($G38=\"Non-essential\",0,1)*IF('Assessment Framework'!BF38=\"Y\",1,0)","v":0},{"$f":"IF($G38=\"Non-essential\",0,1)*IF('Assessment Framework'!BG38=\"Y\",1,0)","v":0},{"$f":"IF($G38=\"Non-essential\",0,1)*IF('Assessment Framework'!BH38=\"Y\",1,0)","v":0},{"$f":"IF($G38=\"Non-essential\",0,1)*IF('Assessment Framework'!BI38=\"Y\",1,0)","v":0},{"$f":"IF($G38=\"Non-essential\",0,1)*IF('Assessment Framework'!BJ38=\"Y\",1,0)","v":0},{"$f":"IF($G38=\"Non-essential\",0,1)*IF('Assessment Framework'!BK38=\"Y\",1,0)","v":0},{"$f":"IF($G38=\"Non-essential\",0,1)*IF('Assessment Framework'!BL38=\"Y\",1,0)","v":0},{"$f":"IF($G38=\"Non-essential\",0,1)*IF('Assessment Framework'!BM38=\"Y\",1,0)","v":0},{"$f":"IF($G38=\"Non-essential\",0,1)*IF('Assessment Framework'!BN38=\"Y\",1,0)","v":0},{"$f":"IF($G38=\"Non-essential\",0,1)*IF('Assessment Framework'!BO38=\"Y\",1,0)","v":0},{"$f":"IF($G38=\"Non-essential\",0,1)*IF('Assessment Framework'!BP38=\"Y\",1,0)","v":0},{"$f":"IF($G38=\"Non-essential\",0,1)*IF('Assessment Framework'!BQ38=\"Y\",1,0)","v":0},{"$f":"IF($G38=\"Non-essential\",0,1)*IF('Assessment Framework'!BR38=\"Y\",1,0)","v":0},{"$f":"IF($G38=\"Non-essential\",0,1)*IF('Assessment Framework'!BS38=\"Y\",1,0)","v":0},{"$f":"IF($G38=\"Non-essential\",0,1)*IF('Assessment Framework'!BT38=\"Y\",1,0)","v":0},{"$f":"IF($G38=\"Non-essential\",0,1)*IF('Assessment Framework'!BU38=\"Y\",1,0)","v":0},{"$f":"IF($G38=\"Non-essential\",0,1)*IF('Assessment Framework'!BV38=\"Y\",1,0)","v":0},{"$f":"IF($G38=\"Non-essential\",0,1)*IF('Assessment Framework'!BW38=\"Y\",1,0)","v":0},{"$f":"IF($G38=\"Non-essential\",0,1)*IF('Assessment Framework'!BX38=\"Y\",1,0)","v":0},{"$f":"IF($G38=\"Non-essential\",0,1)*IF('Assessment Framework'!BY38=\"Y\",1,0)","v":0},{"$f":"IF($G38=\"Non-essential\",0,1)*IF('Assessment Framework'!BZ38=\"Y\",1,0)","v":0},{"$f":"IF($G38=\"Non-essential\",0,1)*IF('Assessment Framework'!CA38=\"Y\",1,0)","v":0},{"$f":"IF($G38=\"Non-essential\",0,1)*IF('Assessment Framework'!CB38=\"Y\",1,0)","v":0},{"$f":"IF($G38=\"Non-essential\",0,1)*IF('Assessment Framework'!CC38=\"Y\",1,0)","v":0},{"$f":"IF($G38=\"Non-essential\",0,1)*IF('Assessment Framework'!CD38=\"Y\",1,0)","v":0},{"$f":"IF($G38=\"Non-essential\",0,1)*IF('Assessment Framework'!CE38=\"Y\",1,0)","v":0},{"$f":"IF($G38=\"Non-essential\",0,1)*IF('Assessment Framework'!CF38=\"Y\",1,0)","v":0},{"$f":"IF($G38=\"Non-essential\",0,1)*IF('Assessment Framework'!CG38=\"Y\",1,0)","v":0},{"$f":"IF($G38=\"Non-essential\",0,1)*IF('Assessment Framework'!CH38=\"Y\",1,0)","v":0},{"$f":"IF($G38=\"Non-essential\",0,1)*IF('Assessment Framework'!CI38=\"Y\",1,0)","v":0},{"$f":"IF($G38=\"Non-essential\",0,1)*IF('Assessment Framework'!CJ38=\"Y\",1,0)","v":0},{"$f":"IF($G38=\"Non-essential\",0,1)*IF('Assessment Framework'!CK38=\"Y\",1,0)","v":0},{"$f":"IF($G38=\"Non-essential\",0,1)*IF('Assessment Framework'!CL38=\"Y\",1,0)","v":0},{"$f":"IF($G38=\"Non-essential\",0,1)*IF('Assessment Framework'!CM38=\"Y\",1,0)","v":0}]
[null,null,null,"Catchment / Basin","Informs at a river basin level (e.g. the area whereby precipitation drains to a common outlet).","Y,N",{"$f":"IF('B - Technical objectives'!C15=\"\",\"Non-essential\",'B - Technical objectives'!C15)","v":"Non-essential"},{"$f":"IF($G39=\"Non-essential\",0,1)*IF('Assessment Framework'!G39=\"Y\",1,0)","v":0},{"$f":"IF($G39=\"Non-essential\",0,1)*IF('Assessment Framework'!H39=\"Y\",1,0)","v":0},{"$f":"IF($G39=\"Non-essential\",0,1)*IF('Assessment Framework'!I39=\"Y\",1,0)","v":0},{"$f":"IF($G39=\"Non-essential\",0,1)*IF('Assessment Framework'!J39=\"Y\",1,0)","v":0},{"$f":"IF($G39=\"Non-essential\",0,1)*IF('Assessment Framework'!K39=\"Y\",1,0)","v":0},{"$f":"IF($G39=\"Non-essential\",0,1)*IF('Assessment Framework'!L39=\"Y\",1,0)","v":0},{"$f":"IF($G39=\"Non-essential\",0,1)*IF('Assessment Framework'!M39=\"Y\",1,0)","v":0},{"$f":"IF($G39=\"Non-essential\",0,1)*IF('Assessment Framework'!N39=\"Y\",1,0)","v":0},{"$f":"IF($G39=\"Non-essential\",0,1)*IF('Assessment Framework'!O39=\"Y\",1,0)","v":0},{"$f":"IF($G39=\"Non-essential\",0,1)*IF('Assessment Framework'!P39=\"Y\",1,0)","v":0},{"$f":"IF($G39=\"Non-essential\",0,1)*IF('Assessment Framework'!Q39=\"Y\",1,0)","v":0},{"$f":"IF($G39=\"Non-essential\",0,1)*IF('Assessment Framework'!R39=\"Y\",1,0)","v":0},{"$f":"IF($G39=\"Non-essential\",0,1)*IF('Assessment Framework'!S39=\"Y\",1,0)","v":0},{"$f":"IF($G39=\"Non-essential\",0,1)*IF('Assessment Framework'!T39=\"Y\",1,0)","v":0},{"$f":"IF($G39=\"Non-essential\",0,1)*IF('Assessment Framework'!U39=\"Y\",1,0)","v":0},{"$f":"IF($G39=\"Non-essential\",0,1)*IF('Assessment Framework'!V39=\"Y\",1,0)","v":0},{"$f":"IF($G39=\"Non-essential\",0,1)*IF('Assessment Framework'!W39=\"Y\",1,0)","v":0},{"$f":"IF($G39=\"Non-essential\",0,1)*IF('Assessment Framework'!X39=\"Y\",1,0)","v":0},{"$f":"IF($G39=\"Non-essential\",0,1)*IF('Assessment Framework'!Y39=\"Y\",1,0)","v":0},{"$f":"IF($G39=\"Non-essential\",0,1)*IF('Assessment Framework'!Z39=\"Y\",1,0)","v":0},{"$f":"IF($G39=\"Non-essential\",0,1)*IF('Assessment Framework'!AA39=\"Y\",1,0)","v":0},{"$f":"IF($G39=\"Non-essential\",0,1)*IF('Assessment Framework'!AB39=\"Y\",1,0)","v":0},{"$f":"IF($G39=\"Non-essential\",0,1)*IF('Assessment Framework'!AC39=\"Y\",1,0)","v":0},{"$f":"IF($G39=\"Non-essential\",0,1)*IF('Assessment Framework'!AD39=\"Y\",1,0)","v":0},{"$f":"IF($G39=\"Non-essential\",0,1)*IF('Assessment Framework'!AE39=\"Y\",1,0)","v":0},{"$f":"IF($G39=\"Non-essential\",0,1)*IF('Assessment Framework'!AF39=\"Y\",1,0)","v":0},{"$f":"IF($G39=\"Non-essential\",0,1)*IF('Assessment Framework'!AG39=\"Y\",1,0)","v":0},{"$f":"IF($G39=\"Non-essential\",0,1)*IF('Assessment Framework'!AH39=\"Y\",1,0)","v":0},{"$f":"IF($G39=\"Non-essential\",0,1)*IF('Assessment Framework'!AI39=\"Y\",1,0)","v":0},{"$f":"IF($G39=\"Non-essential\",0,1)*IF('Assessment Framework'!AJ39=\"Y\",1,0)","v":0},{"$f":"IF($G39=\"Non-essential\",0,1)*IF('Assessment Framework'!AK39=\"Y\",1,0)","v":0},{"$f":"IF($G39=\"Non-essential\",0,1)*IF('Assessment Framework'!AL39=\"Y\",1,0)","v":0},{"$f":"IF($G39=\"Non-essential\",0,1)*IF('Assessment Framework'!AM39=\"Y\",1,0)","v":0},{"$f":"IF($G39=\"Non-essential\",0,1)*IF('Assessment Framework'!AN39=\"Y\",1,0)","v":0},{"$f":"IF($G39=\"Non-essential\",0,1)*IF('Assessment Framework'!AO39=\"Y\",1,0)","v":0},{"$f":"IF($G39=\"Non-essential\",0,1)*IF('Assessment Framework'!AP39=\"Y\",1,0)","v":0},{"$f":"IF($G39=\"Non-essential\",0,1)*IF('Assessment Framework'!AQ39=\"Y\",1,0)","v":0},{"$f":"IF($G39=\"Non-essential\",0,1)*IF('Assessment Framework'!AR39=\"Y\",1,0)","v":0},{"$f":"IF($G39=\"Non-essential\",0,1)*IF('Assessment Framework'!AS39=\"Y\",1,0)","v":0},{"$f":"IF($G39=\"Non-essential\",0,1)*IF('Assessment Framework'!AT39=\"Y\",1,0)","v":0},{"$f":"IF($G39=\"Non-essential\",0,1)*IF('Assessment Framework'!AU39=\"Y\",1,0)","v":0},{"$f":"IF($G39=\"Non-essential\",0,1)*IF('Assessment Framework'!AV39=\"Y\",1,0)","v":0},{"$f":"IF($G39=\"Non-essential\",0,1)*IF('Assessment Framework'!AW39=\"Y\",1,0)","v":0},{"$f":"IF($G39=\"Non-essential\",0,1)*IF('Assessment Framework'!AX39=\"Y\",1,0)","v":0},{"$f":"IF($G39=\"Non-essential\",0,1)*IF('Assessment Framework'!AY39=\"Y\",1,0)","v":0},{"$f":"IF($G39=\"Non-essential\",0,1)*IF('Assessment Framework'!AZ39=\"Y\",1,0)","v":0},{"$f":"IF($G39=\"Non-essential\",0,1)*IF('Assessment Framework'!BA39=\"Y\",1,0)","v":0},{"$f":"IF($G39=\"Non-essential\",0,1)*IF('Assessment Framework'!BB39=\"Y\",1,0)","v":0},{"$f":"IF($G39=\"Non-essential\",0,1)*IF('Assessment Framework'!BC39=\"Y\",1,0)","v":0},{"$f":"IF($G39=\"Non-essential\",0,1)*IF('Assessment Framework'!BD39=\"Y\",1,0)","v":0},{"$f":"IF($G39=\"Non-essential\",0,1)*IF('Assessment Framework'!BE39=\"Y\",1,0)","v":0},{"$f":"IF($G39=\"Non-essential\",0,1)*IF('Assessment Framework'!BF39=\"Y\",1,0)","v":0},{"$f":"IF($G39=\"Non-essential\",0,1)*IF('Assessment Framework'!BG39=\"Y\",1,0)","v":0},{"$f":"IF($G39=\"Non-essential\",0,1)*IF('Assessment Framework'!BH39=\"Y\",1,0)","v":0},{"$f":"IF($G39=\"Non-essential\",0,1)*IF('Assessment Framework'!BI39=\"Y\",1,0)","v":0},{"$f":"IF($G39=\"Non-essential\",0,1)*IF('Assessment Framework'!BJ39=\"Y\",1,0)","v":0},{"$f":"IF($G39=\"Non-essential\",0,1)*IF('Assessment Framework'!BK39=\"Y\",1,0)","v":0},{"$f":"IF($G39=\"Non-essential\",0,1)*IF('Assessment Framework'!BL39=\"Y\",1,0)","v":0},{"$f":"IF($G39=\"Non-essential\",0,1)*IF('Assessment Framework'!BM39=\"Y\",1,0)","v":0},{"$f":"IF($G39=\"Non-essential\",0,1)*IF('Assessment Framework'!BN39=\"Y\",1,0)","v":0},{"$f":"IF($G39=\"Non-essential\",0,1)*IF('Assessment Framework'!BO39=\"Y\",1,0)","v":0},{"$f":"IF($G39=\"Non-essential\",0,1)*IF('Assessment Framework'!BP39=\"Y\",1,0)","v":0},{"$f":"IF($G39=\"Non-essential\",0,1)*IF('Assessment Framework'!BQ39=\"Y\",1,0)","v":0},{"$f":"IF($G39=\"Non-essential\",0,1)*IF('Assessment Framework'!BR39=\"Y\",1,0)","v":0},{"$f":"IF($G39=\"Non-essential\",0,1)*IF('Assessment Framework'!BS39=\"Y\",1,0)","v":0},{"$f":"IF($G39=\"Non-essential\",0,1)*IF('Assessment Framework'!BT39=\"Y\",1,0)","v":0},{"$f":"IF($G39=\"Non-essential\",0,1)*IF('Assessment Framework'!BU39=\"Y\",1,0)","v":0},{"$f":"IF($G39=\"Non-essential\",0,1)*IF('Assessment Framework'!BV39=\"Y\",1,0)","v":0},{"$f":"IF($G39=\"Non-essential\",0,1)*IF('Assessment Framework'!BW39=\"Y\",1,0)","v":0},{"$f":"IF($G39=\"Non-essential\",0,1)*IF('Assessment Framework'!BX39=\"Y\",1,0)","v":0},{"$f":"IF($G39=\"Non-essential\",0,1)*IF('Assessment Framework'!BY39=\"Y\",1,0)","v":0},{"$f":"IF($G39=\"Non-essential\",0,1)*IF('Assessment Framework'!BZ39=\"Y\",1,0)","v":0},{"$f":"IF($G39=\"Non-essential\",0,1)*IF('Assessment Framework'!CA39=\"Y\",1,0)","v":0},{"$f":"IF($G39=\"Non-essential\",0,1)*IF('Assessment Framework'!CB39=\"Y\",1,0)","v":0},{"$f":"IF($G39=\"Non-essential\",0,1)*IF('Assessment Framework'!CC39=\"Y\",1,0)","v":0},{"$f":"IF($G39=\"Non-essential\",0,1)*IF('Assessment Framework'!CD39=\"Y\",1,0)","v":0},{"$f":"IF($G39=\"Non-essential\",0,1)*IF('Assessment Framework'!CE39=\"Y\",1,0)","v":0},{"$f":"IF($G39=\"Non-essential\",0,1)*IF('Assessment Framework'!CF39=\"Y\",1,0)","v":0},{"$f":"IF($G39=\"Non-essential\",0,1)*IF('Assessment Framework'!CG39=\"Y\",1,0)","v":0},{"$f":"IF($G39=\"Non-essential\",0,1)*IF('Assessment Framework'!CH39=\"Y\",1,0)","v":0},{"$f":"IF($G39=\"Non-essential\",0,1)*IF('Assessment Framework'!CI39=\"Y\",1,0)","v":0},{"$f":"IF($G39=\"Non-essential\",0,1)*IF('Assessment Framework'!CJ39=\"Y\",1,0)","v":0},{"$f":"IF($G39=\"Non-essential\",0,1)*IF('Assessment Framework'!CK39=\"Y\",1,0)","v":0},{"$f":"IF($G39=\"Non-essential\",0,1)*IF('Assessment Framework'!CL39=\"Y\",1,0)","v":0},{"$f":"IF($G39=\"Non-essential\",0,1)*IF('Assessment Framework'!CM39=\"Y\",1,0)","v":0}]
[null,null,null,"River compartments","Informs on specific parts of a river (e.g. banks, surface etc.)","Y,N",{"$f":"IF('B - Technical objectives'!C16=\"\",\"Non-essential\",'B - Technical objectives'!C16)","v":"Non-essential"},{"$f":"IF($G40=\"Non-essential\",0,1)*IF('Assessment Framework'!G40=\"Y\",1,0)","v":0},{"$f":"IF($G40=\"Non-essential\",0,1)*IF('Assessment Framework'!H40=\"Y\",1,0)","v":0},{"$f":"IF($G40=\"Non-essential\",0,1)*IF('Assessment Framework'!I40=\"Y\",1,0)","v":0},{"$f":"IF($G40=\"Non-essential\",0,1)*IF('Assessment Framework'!J40=\"Y\",1,0)","v":0},{"$f":"IF($G40=\"Non-essential\",0,1)*IF('Assessment Framework'!K40=\"Y\",1,0)","v":0},{"$f":"IF($G40=\"Non-essential\",0,1)*IF('Assessment Framework'!L40=\"Y\",1,0)","v":0},{"$f":"IF($G40=\"Non-essential\",0,1)*IF('Assessment Framework'!M40=\"Y\",1,0)","v":0},{"$f":"IF($G40=\"Non-essential\",0,1)*IF('Assessment Framework'!N40=\"Y\",1,0)","v":0},{"$f":"IF($G40=\"Non-essential\",0,1)*IF('Assessment Framework'!O40=\"Y\",1,0)","v":0},{"$f":"IF($G40=\"Non-essential\",0,1)*IF('Assessment Framework'!P40=\"Y\",1,0)","v":0},{"$f":"IF($G40=\"Non-essential\",0,1)*IF('Assessment Framework'!Q40=\"Y\",1,0)","v":0},{"$f":"IF($G40=\"Non-essential\",0,1)*IF('Assessment Framework'!R40=\"Y\",1,0)","v":0},{"$f":"IF($G40=\"Non-essential\",0,1)*IF('Assessment Framework'!S40=\"Y\",1,0)","v":0},{"$f":"IF($G40=\"Non-essential\",0,1)*IF('Assessment Framework'!T40=\"Y\",1,0)","v":0},{"$f":"IF($G40=\"Non-essential\",0,1)*IF('Assessment Framework'!U40=\"Y\",1,0)","v":0},{"$f":"IF($G40=\"Non-essential\",0,1)*IF('Assessment Framework'!V40=\"Y\",1,0)","v":0},{"$f":"IF($G40=\"Non-essential\",0,1)*IF('Assessment Framework'!W40=\"Y\",1,0)","v":0},{"$f":"IF($G40=\"Non-essential\",0,1)*IF('Assessment Framework'!X40=\"Y\",1,0)","v":0},{"$f":"IF($G40=\"Non-essential\",0,1)*IF('Assessment Framework'!Y40=\"Y\",1,0)","v":0},{"$f":"IF($G40=\"Non-essential\",0,1)*IF('Assessment Framework'!Z40=\"Y\",1,0)","v":0},{"$f":"IF($G40=\"Non-essential\",0,1)*IF('Assessment Framework'!AA40=\"Y\",1,0)","v":0},{"$f":"IF($G40=\"Non-essential\",0,1)*IF('Assessment Framework'!AB40=\"Y\",1,0)","v":0},{"$f":"IF($G40=\"Non-essential\",0,1)*IF('Assessment Framework'!AC40=\"Y\",1,0)","v":0},{"$f":"IF($G40=\"Non-essential\",0,1)*IF('Assessment Framework'!AD40=\"Y\",1,0)","v":0},{"$f":"IF($G40=\"Non-essential\",0,1)*IF('Assessment Framework'!AE40=\"Y\",1,0)","v":0},{"$f":"IF($G40=\"Non-essential\",0,1)*IF('Assessment Framework'!AF40=\"Y\",1,0)","v":0},{"$f":"IF($G40=\"Non-essential\",0,1)*IF('Assessment Framework'!AG40=\"Y\",1,0)","v":0},{"$f":"IF($G40=\"Non-essential\",0,1)*IF('Assessment Framework'!AH40=\"Y\",1,0)","v":0},{"$f":"IF($G40=\"Non-essential\",0,1)*IF('Assessment Framework'!AI40=\"Y\",1,0)","v":0},{"$f":"IF($G40=\"Non-essential\",0,1)*IF('Assessment Framework'!AJ40=\"Y\",1,0)","v":0},{"$f":"IF($G40=\"Non-essential\",0,1)*IF('Assessment Framework'!AK40=\"Y\",1,0)","v":0},{"$f":"IF($G40=\"Non-essential\",0,1)*IF('Assessment Framework'!AL40=\"Y\",1,0)","v":0},{"$f":"IF($G40=\"Non-essential\",0,1)*IF('Assessment Framework'!AM40=\"Y\",1,0)","v":0},{"$f":"IF($G40=\"Non-essential\",0,1)*IF('Assessment Framework'!AN40=\"Y\",1,0)","v":0},{"$f":"IF($G40=\"Non-essential\",0,1)*IF('Assessment Framework'!AO40=\"Y\",1,0)","v":0},{"$f":"IF($G40=\"Non-essential\",0,1)*IF('Assessment Framework'!AP40=\"Y\",1,0)","v":0},{"$f":"IF($G40=\"Non-essential\",0,1)*IF('Assessment Framework'!AQ40=\"Y\",1,0)","v":0},{"$f":"IF($G40=\"Non-essential\",0,1)*IF('Assessment Framework'!AR40=\"Y\",1,0)","v":0},{"$f":"IF($G40=\"Non-essential\",0,1)*IF('Assessment Framework'!AS40=\"Y\",1,0)","v":0},{"$f":"IF($G40=\"Non-essential\",0,1)*IF('Assessment Framework'!AT40=\"Y\",1,0)","v":0},{"$f":"IF($G40=\"Non-essential\",0,1)*IF('Assessment Framework'!AU40=\"Y\",1,0)","v":0},{"$f":"IF($G40=\"Non-essential\",0,1)*IF('Assessment Framework'!AV40=\"Y\",1,0)","v":0},{"$f":"IF($G40=\"Non-essential\",0,1)*IF('Assessment Framework'!AW40=\"Y\",1,0)","v":0},{"$f":"IF($G40=\"Non-essential\",0,1)*IF('Assessment Framework'!AX40=\"Y\",1,0)","v":0},{"$f":"IF($G40=\"Non-essential\",0,1)*IF('Assessment Framework'!AY40=\"Y\",1,0)","v":0},{"$f":"IF($G40=\"Non-essential\",0,1)*IF('Assessment Framework'!AZ40=\"Y\",1,0)","v":0},{"$f":"IF($G40=\"Non-essential\",0,1)*IF('Assessment Framework'!BA40=\"Y\",1,0)","v":0},{"$f":"IF($G40=\"Non-essential\",0,1)*IF('Assessment Framework'!BB40=\"Y\",1,0)","v":0},{"$f":"IF($G40=\"Non-essential\",0,1)*IF('Assessment Framework'!BC40=\"Y\",1,0)","v":0},{"$f":"IF($G40=\"Non-essential\",0,1)*IF('Assessment Framework'!BD40=\"Y\",1,0)","v":0},{"$f":"IF($G40=\"Non-essential\",0,1)*IF('Assessment Framework'!BE40=\"Y\",1,0)","v":0},{"$f":"IF($G40=\"Non-essential\",0,1)*IF('Assessment Framework'!BF40=\"Y\",1,0)","v":0},{"$f":"IF($G40=\"Non-essential\",0,1)*IF('Assessment Framework'!BG40=\"Y\",1,0)","v":0},{"$f":"IF($G40=\"Non-essential\",0,1)*IF('Assessment Framework'!BH40=\"Y\",1,0)","v":0},{"$f":"IF($G40=\"Non-essential\",0,1)*IF('Assessment Framework'!BI40=\"Y\",1,0)","v":0},{"$f":"IF($G40=\"Non-essential\",0,1)*IF('Assessment Framework'!BJ40=\"Y\",1,0)","v":0},{"$f":"IF($G40=\"Non-essential\",0,1)*IF('Assessment Framework'!BK40=\"Y\",1,0)","v":0},{"$f":"IF($G40=\"Non-essential\",0,1)*IF('Assessment Framework'!BL40=\"Y\",1,0)","v":0},{"$f":"IF($G40=\"Non-essential\",0,1)*IF('Assessment Framework'!BM40=\"Y\",1,0)","v":0},{"$f":"IF($G40=\"Non-essential\",0,1)*IF('Assessment Framework'!BN40=\"Y\",1,0)","v":0},{"$f":"IF($G40=\"Non-essential\",0,1)*IF('Assessment Framework'!BO40=\"Y\",1,0)","v":0},{"$f":"IF($G40=\"Non-essential\",0,1)*IF('Assessment Framework'!BP40=\"Y\",1,0)","v":0},{"$f":"IF($G40=\"Non-essential\",0,1)*IF('Assessment Framework'!BQ40=\"Y\",1,0)","v":0},{"$f":"IF($G40=\"Non-essential\",0,1)*IF('Assessment Framework'!BR40=\"Y\",1,0)","v":0},{"$f":"IF($G40=\"Non-essential\",0,1)*IF('Assessment Framework'!BS40=\"Y\",1,0)","v":0},{"$f":"IF($G40=\"Non-essential\",0,1)*IF('Assessment Framework'!BT40=\"Y\",1,0)","v":0},{"$f":"IF($G40=\"Non-essential\",0,1)*IF('Assessment Framework'!BU40=\"Y\",1,0)","v":0},{"$f":"IF($G40=\"Non-essential\",0,1)*IF('Assessment Framework'!BV40=\"Y\",1,0)","v":0},{"$f":"IF($G40=\"Non-essential\",0,1)*IF('Assessment Framework'!BW40=\"Y\",1,0)","v":0},{"$f":"IF($G40=\"Non-essential\",0,1)*IF('Assessment Framework'!BX40=\"Y\",1,0)","v":0},{"$f":"IF($G40=\"Non-essential\",0,1)*IF('Assessment Framework'!BY40=\"Y\",1,0)","v":0},{"$f":"IF($G40=\"Non-essential\",0,1)*IF('Assessment Framework'!BZ40=\"Y\",1,0)","v":0},{"$f":"IF($G40=\"Non-essential\",0,1)*IF('Assessment Framework'!CA40=\"Y\",1,0)","v":0},{"$f":"IF($G40=\"Non-essential\",0,1)*IF('Assessment Framework'!CB40=\"Y\",1,0)","v":0},{"$f":"IF($G40=\"Non-essential\",0,1)*IF('Assessment Framework'!CC40=\"Y\",1,0)","v":0},{"$f":"IF($G40=\"Non-essential\",0,1)*IF('Assessment Framework'!CD40=\"Y\",1,0)","v":0},{"$f":"IF($G40=\"Non-essential\",0,1)*IF('Assessment Framework'!CE40=\"Y\",1,0)","v":0},{"$f":"IF($G40=\"Non-essential\",0,1)*IF('Assessment Framework'!CF40=\"Y\",1,0)","v":0},{"$f":"IF($G40=\"Non-essential\",0,1)*IF('Assessment Framework'!CG40=\"Y\",1,0)","v":0},{"$f":"IF($G40=\"Non-essential\",0,1)*IF('Assessment Framework'!CH40=\"Y\",1,0)","v":0},{"$f":"IF($G40=\"Non-essential\",0,1)*IF('Assessment Framework'!CI40=\"Y\",1,0)","v":0},{"$f":"IF($G40=\"Non-essential\",0,1)*IF('Assessment Framework'!CJ40=\"Y\",1,0)","v":0},{"$f":"IF($G40=\"Non-essential\",0,1)*IF('Assessment Framework'!CK40=\"Y\",1,0)","v":0},{"$f":"IF($G40=\"Non-essential\",0,1)*IF('Assessment Framework'!CL40=\"Y\",1,0)","v":0},{"$f":"IF($G40=\"Non-essential\",0,1)*IF('Assessment Framework'!CM40=\"Y\",1,0)","v":0}]
[null,null,null,"Estuarine","Informs on the area when freshwater meets the ocean","Y,N",{"$f":"IF('B - Technical objectives'!C17=\"\",\"Non-essential\",'B - Technical objectives'!C17)","v":"Non-essential"},{"$f":"IF($G41=\"Non-essential\",0,1)*IF('Assessment Framework'!G41=\"Y\",1,0)","v":0},{"$f":"IF($G41=\"Non-essential\",0,1)*IF('Assessment Framework'!H41=\"Y\",1,0)","v":0},{"$f":"IF($G41=\"Non-essential\",0,1)*IF('Assessment Framework'!I41=\"Y\",1,0)","v":0},{"$f":"IF($G41=\"Non-essential\",0,1)*IF('Assessment Framework'!J41=\"Y\",1,0)","v":0},{"$f":"IF($G41=\"Non-essential\",0,1)*IF('Assessment Framework'!K41=\"Y\",1,0)","v":0},{"$f":"IF($G41=\"Non-essential\",0,1)*IF('Assessment Framework'!L41=\"Y\",1,0)","v":0},{"$f":"IF($G41=\"Non-essential\",0,1)*IF('Assessment Framework'!M41=\"Y\",1,0)","v":0},{"$f":"IF($G41=\"Non-essential\",0,1)*IF('Assessment Framework'!N41=\"Y\",1,0)","v":0},{"$f":"IF($G41=\"Non-essential\",0,1)*IF('Assessment Framework'!O41=\"Y\",1,0)","v":0},{"$f":"IF($G41=\"Non-essential\",0,1)*IF('Assessment Framework'!P41=\"Y\",1,0)","v":0},{"$f":"IF($G41=\"Non-essential\",0,1)*IF('Assessment Framework'!Q41=\"Y\",1,0)","v":0},{"$f":"IF($G41=\"Non-essential\",0,1)*IF('Assessment Framework'!R41=\"Y\",1,0)","v":0},{"$f":"IF($G41=\"Non-essential\",0,1)*IF('Assessment Framework'!S41=\"Y\",1,0)","v":0},{"$f":"IF($G41=\"Non-essential\",0,1)*IF('Assessment Framework'!T41=\"Y\",1,0)","v":0},{"$f":"IF($G41=\"Non-essential\",0,1)*IF('Assessment Framework'!U41=\"Y\",1,0)","v":0},{"$f":"IF($G41=\"Non-essential\",0,1)*IF('Assessment Framework'!V41=\"Y\",1,0)","v":0},{"$f":"IF($G41=\"Non-essential\",0,1)*IF('Assessment Framework'!W41=\"Y\",1,0)","v":0},{"$f":"IF($G41=\"Non-essential\",0,1)*IF('Assessment Framework'!X41=\"Y\",1,0)","v":0},{"$f":"IF($G41=\"Non-essential\",0,1)*IF('Assessment Framework'!Y41=\"Y\",1,0)","v":0},{"$f":"IF($G41=\"Non-essential\",0,1)*IF('Assessment Framework'!Z41=\"Y\",1,0)","v":0},{"$f":"IF($G41=\"Non-essential\",0,1)*IF('Assessment Framework'!AA41=\"Y\",1,0)","v":0},{"$f":"IF($G41=\"Non-essential\",0,1)*IF('Assessment Framework'!AB41=\"Y\",1,0)","v":0},{"$f":"IF($G41=\"Non-essential\",0,1)*IF('Assessment Framework'!AC41=\"Y\",1,0)","v":0},{"$f":"IF($G41=\"Non-essential\",0,1)*IF('Assessment Framework'!AD41=\"Y\",1,0)","v":0},{"$f":"IF($G41=\"Non-essential\",0,1)*IF('Assessment Framework'!AE41=\"Y\",1,0)","v":0},{"$f":"IF($G41=\"Non-essential\",0,1)*IF('Assessment Framework'!AF41=\"Y\",1,0)","v":0},{"$f":"IF($G41=\"Non-essential\",0,1)*IF('Assessment Framework'!AG41=\"Y\",1,0)","v":0},{"$f":"IF($G41=\"Non-essential\",0,1)*IF('Assessment Framework'!AH41=\"Y\",1,0)","v":0},{"$f":"IF($G41=\"Non-essential\",0,1)*IF('Assessment Framework'!AI41=\"Y\",1,0)","v":0},{"$f":"IF($G41=\"Non-essential\",0,1)*IF('Assessment Framework'!AJ41=\"Y\",1,0)","v":0},{"$f":"IF($G41=\"Non-essential\",0,1)*IF('Assessment Framework'!AK41=\"Y\",1,0)","v":0},{"$f":"IF($G41=\"Non-essential\",0,1)*IF('Assessment Framework'!AL41=\"Y\",1,0)","v":0},{"$f":"IF($G41=\"Non-essential\",0,1)*IF('Assessment Framework'!AM41=\"Y\",1,0)","v":0},{"$f":"IF($G41=\"Non-essential\",0,1)*IF('Assessment Framework'!AN41=\"Y\",1,0)","v":0},{"$f":"IF($G41=\"Non-essential\",0,1)*IF('Assessment Framework'!AO41=\"Y\",1,0)","v":0},{"$f":"IF($G41=\"Non-essential\",0,1)*IF('Assessment Framework'!AP41=\"Y\",1,0)","v":0},{"$f":"IF($G41=\"Non-essential\",0,1)*IF('Assessment Framework'!AQ41=\"Y\",1,0)","v":0},{"$f":"IF($G41=\"Non-essential\",0,1)*IF('Assessment Framework'!AR41=\"Y\",1,0)","v":0},{"$f":"IF($G41=\"Non-essential\",0,1)*IF('Assessment Framework'!AS41=\"Y\",1,0)","v":0},{"$f":"IF($G41=\"Non-essential\",0,1)*IF('Assessment Framework'!AT41=\"Y\",1,0)","v":0},{"$f":"IF($G41=\"Non-essential\",0,1)*IF('Assessment Framework'!AU41=\"Y\",1,0)","v":0},{"$f":"IF($G41=\"Non-essential\",0,1)*IF('Assessment Framework'!AV41=\"Y\",1,0)","v":0},{"$f":"IF($G41=\"Non-essential\",0,1)*IF('Assessment Framework'!AW41=\"Y\",1,0)","v":0},{"$f":"IF($G41=\"Non-essential\",0,1)*IF('Assessment Framework'!AX41=\"Y\",1,0)","v":0},{"$f":"IF($G41=\"Non-essential\",0,1)*IF('Assessment Framework'!AY41=\"Y\",1,0)","v":0},{"$f":"IF($G41=\"Non-essential\",0,1)*IF('Assessment Framework'!AZ41=\"Y\",1,0)","v":0},{"$f":"IF($G41=\"Non-essential\",0,1)*IF('Assessment Framework'!BA41=\"Y\",1,0)","v":0},{"$f":"IF($G41=\"Non-essential\",0,1)*IF('Assessment Framework'!BB41=\"Y\",1,0)","v":0},{"$f":"IF($G41=\"Non-essential\",0,1)*IF('Assessment Framework'!BC41=\"Y\",1,0)","v":0},{"$f":"IF($G41=\"Non-essential\",0,1)*IF('Assessment Framework'!BD41=\"Y\",1,0)","v":0},{"$f":"IF($G41=\"Non-essential\",0,1)*IF('Assessment Framework'!BE41=\"Y\",1,0)","v":0},{"$f":"IF($G41=\"Non-essential\",0,1)*IF('Assessment Framework'!BF41=\"Y\",1,0)","v":0},{"$f":"IF($G41=\"Non-essential\",0,1)*IF('Assessment Framework'!BG41=\"Y\",1,0)","v":0},{"$f":"IF($G41=\"Non-essential\",0,1)*IF('Assessment Framework'!BH41=\"Y\",1,0)","v":0},{"$f":"IF($G41=\"Non-essential\",0,1)*IF('Assessment Framework'!BI41=\"Y\",1,0)","v":0},{"$f":"IF($G41=\"Non-essential\",0,1)*IF('Assessment Framework'!BJ41=\"Y\",1,0)","v":0},{"$f":"IF($G41=\"Non-essential\",0,1)*IF('Assessment Framework'!BK41=\"Y\",1,0)","v":0},{"$f":"IF($G41=\"Non-essential\",0,1)*IF('Assessment Framework'!BL41=\"Y\",1,0)","v":0},{"$f":"IF($G41=\"Non-essential\",0,1)*IF('Assessment Framework'!BM41=\"Y\",1,0)","v":0},{"$f":"IF($G41=\"Non-essential\",0,1)*IF('Assessment Framework'!BN41=\"Y\",1,0)","v":0},{"$f":"IF($G41=\"Non-essential\",0,1)*IF('Assessment Framework'!BO41=\"Y\",1,0)","v":0},{"$f":"IF($G41=\"Non-essential\",0,1)*IF('Assessment Framework'!BP41=\"Y\",1,0)","v":0},{"$f":"IF($G41=\"Non-essential\",0,1)*IF('Assessment Framework'!BQ41=\"Y\",1,0)","v":0},{"$f":"IF($G41=\"Non-essential\",0,1)*IF('Assessment Framework'!BR41=\"Y\",1,0)","v":0},{"$f":"IF($G41=\"Non-essential\",0,1)*IF('Assessment Framework'!BS41=\"Y\",1,0)","v":0},{"$f":"IF($G41=\"Non-essential\",0,1)*IF('Assessment Framework'!BT41=\"Y\",1,0)","v":0},{"$f":"IF($G41=\"Non-essential\",0,1)*IF('Assessment Framework'!BU41=\"Y\",1,0)","v":0},{"$f":"IF($G41=\"Non-essential\",0,1)*IF('Assessment Framework'!BV41=\"Y\",1,0)","v":0},{"$f":"IF($G41=\"Non-essential\",0,1)*IF('Assessment Framework'!BW41=\"Y\",1,0)","v":0},{"$f":"IF($G41=\"Non-essential\",0,1)*IF('Assessment Framework'!BX41=\"Y\",1,0)","v":0},{"$f":"IF($G41=\"Non-essential\",0,1)*IF('Assessment Framework'!BY41=\"Y\",1,0)","v":0},{"$f":"IF($G41=\"Non-essential\",0,1)*IF('Assessment Framework'!BZ41=\"Y\",1,0)","v":0},{"$f":"IF($G41=\"Non-essential\",0,1)*IF('Assessment Framework'!CA41=\"Y\",1,0)","v":0},{"$f":"IF($G41=\"Non-essential\",0,1)*IF('Assessment Framework'!CB41=\"Y\",1,0)","v":0},{"$f":"IF($G41=\"Non-essential\",0,1)*IF('Assessment Framework'!CC41=\"Y\",1,0)","v":0},{"$f":"IF($G41=\"Non-essential\",0,1)*IF('Assessment Framework'!CD41=\"Y\",1,0)","v":0},{"$f":"IF($G41=\"Non-essential\",0,1)*IF('Assessment Framework'!CE41=\"Y\",1,0)","v":0},{"$f":"IF($G41=\"Non-essential\",0,1)*IF('Assessment Framework'!CF41=\"Y\",1,0)","v":0},{"$f":"IF($G41=\"Non-essential\",0,1)*IF('Assessment Framework'!CG41=\"Y\",1,0)","v":0},{"$f":"IF($G41=\"Non-essential\",0,1)*IF('Assessment Framework'!CH41=\"Y\",1,0)","v":0},{"$f":"IF($G41=\"Non-essential\",0,1)*IF('Assessment Framework'!CI41=\"Y\",1,0)","v":0},{"$f":"IF($G41=\"Non-essential\",0,1)*IF('Assessment Framework'!CJ41=\"Y\",1,0)","v":0},{"$f":"IF($G41=\"Non-essential\",0,1)*IF('Assessment Framework'!CK41=\"Y\",1,0)","v":0},{"$f":"IF($G41=\"Non-essential\",0,1)*IF('Assessment Framework'!CL41=\"Y\",1,0)","v":0},{"$f":"IF($G41=\"Non-essential\",0,1)*IF('Assessment Framework'!CM41=\"Y\",1,0)","v":0}]
[null,null,null,"Beach","Informs on the narrow strip of sand, pebbles or rocks that separates the land from the ocean.","Y,N",{"$f":"IF('B - Technical objectives'!C18=\"\",\"Non-essential\",'B - Technical objectives'!C18)","v":"Non-essential"},{"$f":"IF($G42=\"Non-essential\",0,1)*IF('Assessment Framework'!G42=\"Y\",1,0)","v":0},{"$f":"IF($G42=\"Non-essential\",0,1)*IF('Assessment Framework'!H42=\"Y\",1,0)","v":0},{"$f":"IF($G42=\"Non-essential\",0,1)*IF('Assessment Framework'!I42=\"Y\",1,0)","v":0},{"$f":"IF($G42=\"Non-essential\",0,1)*IF('Assessment Framework'!J42=\"Y\",1,0)","v":0},{"$f":"IF($G42=\"Non-essential\",0,1)*IF('Assessment Framework'!K42=\"Y\",1,0)","v":0},{"$f":"IF($G42=\"Non-essential\",0,1)*IF('Assessment Framework'!L42=\"Y\",1,0)","v":0},{"$f":"IF($G42=\"Non-essential\",0,1)*IF('Assessment Framework'!M42=\"Y\",1,0)","v":0},{"$f":"IF($G42=\"Non-essential\",0,1)*IF('Assessment Framework'!N42=\"Y\",1,0)","v":0},{"$f":"IF($G42=\"Non-essential\",0,1)*IF('Assessment Framework'!O42=\"Y\",1,0)","v":0},{"$f":"IF($G42=\"Non-essential\",0,1)*IF('Assessment Framework'!P42=\"Y\",1,0)","v":0},{"$f":"IF($G42=\"Non-essential\",0,1)*IF('Assessment Framework'!Q42=\"Y\",1,0)","v":0},{"$f":"IF($G42=\"Non-essential\",0,1)*IF('Assessment Framework'!R42=\"Y\",1,0)","v":0},{"$f":"IF($G42=\"Non-essential\",0,1)*IF('Assessment Framework'!S42=\"Y\",1,0)","v":0},{"$f":"IF($G42=\"Non-essential\",0,1)*IF('Assessment Framework'!T42=\"Y\",1,0)","v":0},{"$f":"IF($G42=\"Non-essential\",0,1)*IF('Assessment Framework'!U42=\"Y\",1,0)","v":0},{"$f":"IF($G42=\"Non-essential\",0,1)*IF('Assessment Framework'!V42=\"Y\",1,0)","v":0},{"$f":"IF($G42=\"Non-essential\",0,1)*IF('Assessment Framework'!W42=\"Y\",1,0)","v":0},{"$f":"IF($G42=\"Non-essential\",0,1)*IF('Assessment Framework'!X42=\"Y\",1,0)","v":0},{"$f":"IF($G42=\"Non-essential\",0,1)*IF('Assessment Framework'!Y42=\"Y\",1,0)","v":0},{"$f":"IF($G42=\"Non-essential\",0,1)*IF('Assessment Framework'!Z42=\"Y\",1,0)","v":0},{"$f":"IF($G42=\"Non-essential\",0,1)*IF('Assessment Framework'!AA42=\"Y\",1,0)","v":0},{"$f":"IF($G42=\"Non-essential\",0,1)*IF('Assessment Framework'!AB42=\"Y\",1,0)","v":0},{"$f":"IF($G42=\"Non-essential\",0,1)*IF('Assessment Framework'!AC42=\"Y\",1,0)","v":0},{"$f":"IF($G42=\"Non-essential\",0,1)*IF('Assessment Framework'!AD42=\"Y\",1,0)","v":0},{"$f":"IF($G42=\"Non-essential\",0,1)*IF('Assessment Framework'!AE42=\"Y\",1,0)","v":0},{"$f":"IF($G42=\"Non-essential\",0,1)*IF('Assessment Framework'!AF42=\"Y\",1,0)","v":0},{"$f":"IF($G42=\"Non-essential\",0,1)*IF('Assessment Framework'!AG42=\"Y\",1,0)","v":0},{"$f":"IF($G42=\"Non-essential\",0,1)*IF('Assessment Framework'!AH42=\"Y\",1,0)","v":0},{"$f":"IF($G42=\"Non-essential\",0,1)*IF('Assessment Framework'!AI42=\"Y\",1,0)","v":0},{"$f":"IF($G42=\"Non-essential\",0,1)*IF('Assessment Framework'!AJ42=\"Y\",1,0)","v":0},{"$f":"IF($G42=\"Non-essential\",0,1)*IF('Assessment Framework'!AK42=\"Y\",1,0)","v":0},{"$f":"IF($G42=\"Non-essential\",0,1)*IF('Assessment Framework'!AL42=\"Y\",1,0)","v":0},{"$f":"IF($G42=\"Non-essential\",0,1)*IF('Assessment Framework'!AM42=\"Y\",1,0)","v":0},{"$f":"IF($G42=\"Non-essential\",0,1)*IF('Assessment Framework'!AN42=\"Y\",1,0)","v":0},{"$f":"IF($G42=\"Non-essential\",0,1)*IF('Assessment Framework'!AO42=\"Y\",1,0)","v":0},{"$f":"IF($G42=\"Non-essential\",0,1)*IF('Assessment Framework'!AP42=\"Y\",1,0)","v":0},{"$f":"IF($G42=\"Non-essential\",0,1)*IF('Assessment Framework'!AQ42=\"Y\",1,0)","v":0},{"$f":"IF($G42=\"Non-essential\",0,1)*IF('Assessment Framework'!AR42=\"Y\",1,0)","v":0},{"$f":"IF($G42=\"Non-essential\",0,1)*IF('Assessment Framework'!AS42=\"Y\",1,0)","v":0},{"$f":"IF($G42=\"Non-essential\",0,1)*IF('Assessment Framework'!AT42=\"Y\",1,0)","v":0},{"$f":"IF($G42=\"Non-essential\",0,1)*IF('Assessment Framework'!AU42=\"Y\",1,0)","v":0},{"$f":"IF($G42=\"Non-essential\",0,1)*IF('Assessment Framework'!AV42=\"Y\",1,0)","v":0},{"$f":"IF($G42=\"Non-essential\",0,1)*IF('Assessment Framework'!AW42=\"Y\",1,0)","v":0},{"$f":"IF($G42=\"Non-essential\",0,1)*IF('Assessment Framework'!AX42=\"Y\",1,0)","v":0},{"$f":"IF($G42=\"Non-essential\",0,1)*IF('Assessment Framework'!AY42=\"Y\",1,0)","v":0},{"$f":"IF($G42=\"Non-essential\",0,1)*IF('Assessment Framework'!AZ42=\"Y\",1,0)","v":0},{"$f":"IF($G42=\"Non-essential\",0,1)*IF('Assessment Framework'!BA42=\"Y\",1,0)","v":0},{"$f":"IF($G42=\"Non-essential\",0,1)*IF('Assessment Framework'!BB42=\"Y\",1,0)","v":0},{"$f":"IF($G42=\"Non-essential\",0,1)*IF('Assessment Framework'!BC42=\"Y\",1,0)","v":0},{"$f":"IF($G42=\"Non-essential\",0,1)*IF('Assessment Framework'!BD42=\"Y\",1,0)","v":0},{"$f":"IF($G42=\"Non-essential\",0,1)*IF('Assessment Framework'!BE42=\"Y\",1,0)","v":0},{"$f":"IF($G42=\"Non-essential\",0,1)*IF('Assessment Framework'!BF42=\"Y\",1,0)","v":0},{"$f":"IF($G42=\"Non-essential\",0,1)*IF('Assessment Framework'!BG42=\"Y\",1,0)","v":0},{"$f":"IF($G42=\"Non-essential\",0,1)*IF('Assessment Framework'!BH42=\"Y\",1,0)","v":0},{"$f":"IF($G42=\"Non-essential\",0,1)*IF('Assessment Framework'!BI42=\"Y\",1,0)","v":0},{"$f":"IF($G42=\"Non-essential\",0,1)*IF('Assessment Framework'!BJ42=\"Y\",1,0)","v":0},{"$f":"IF($G42=\"Non-essential\",0,1)*IF('Assessment Framework'!BK42=\"Y\",1,0)","v":0},{"$f":"IF($G42=\"Non-essential\",0,1)*IF('Assessment Framework'!BL42=\"Y\",1,0)","v":0},{"$f":"IF($G42=\"Non-essential\",0,1)*IF('Assessment Framework'!BM42=\"Y\",1,0)","v":0},{"$f":"IF($G42=\"Non-essential\",0,1)*IF('Assessment Framework'!BN42=\"Y\",1,0)","v":0},{"$f":"IF($G42=\"Non-essential\",0,1)*IF('Assessment Framework'!BO42=\"Y\",1,0)","v":0},{"$f":"IF($G42=\"Non-essential\",0,1)*IF('Assessment Framework'!BP42=\"Y\",1,0)","v":0},{"$f":"IF($G42=\"Non-essential\",0,1)*IF('Assessment Framework'!BQ42=\"Y\",1,0)","v":0},{"$f":"IF($G42=\"Non-essential\",0,1)*IF('Assessment Framework'!BR42=\"Y\",1,0)","v":0},{"$f":"IF($G42=\"Non-essential\",0,1)*IF('Assessment Framework'!BS42=\"Y\",1,0)","v":0},{"$f":"IF($G42=\"Non-essential\",0,1)*IF('Assessment Framework'!BT42=\"Y\",1,0)","v":0},{"$f":"IF($G42=\"Non-essential\",0,1)*IF('Assessment Framework'!BU42=\"Y\",1,0)","v":0},{"$f":"IF($G42=\"Non-essential\",0,1)*IF('Assessment Framework'!BV42=\"Y\",1,0)","v":0},{"$f":"IF($G42=\"Non-essential\",0,1)*IF('Assessment Framework'!BW42=\"Y\",1,0)","v":0},{"$f":"IF($G42=\"Non-essential\",0,1)*IF('Assessment Framework'!BX42=\"Y\",1,0)","v":0},{"$f":"IF($G42=\"Non-essential\",0,1)*IF('Assessment Framework'!BY42=\"Y\",1,0)","v":0},{"$f":"IF($G42=\"Non-essential\",0,1)*IF('Assessment Framework'!BZ42=\"Y\",1,0)","v":0},{"$f":"IF($G42=\"Non-essential\",0,1)*IF('Assessment Framework'!CA42=\"Y\",1,0)","v":0},{"$f":"IF($G42=\"Non-essential\",0,1)*IF('Assessment Framework'!CB42=\"Y\",1,0)","v":0},{"$f":"IF($G42=\"Non-essential\",0,1)*IF('Assessment Framework'!CC42=\"Y\",1,0)","v":0},{"$f":"IF($G42=\"Non-essential\",0,1)*IF('Assessment Framework'!CD42=\"Y\",1,0)","v":0},{"$f":"IF($G42=\"Non-essential\",0,1)*IF('Assessment Framework'!CE42=\"Y\",1,0)","v":0},{"$f":"IF($G42=\"Non-essential\",0,1)*IF('Assessment Framework'!CF42=\"Y\",1,0)","v":0},{"$f":"IF($G42=\"Non-essential\",0,1)*IF('Assessment Framework'!CG42=\"Y\",1,0)","v":0},{"$f":"IF($G42=\"Non-essential\",0,1)*IF('Assessment Framework'!CH42=\"Y\",1,0)","v":0},{"$f":"IF($G42=\"Non-essential\",0,1)*IF('Assessment Framework'!CI42=\"Y\",1,0)","v":0},{"$f":"IF($G42=\"Non-essential\",0,1)*IF('Assessment Framework'!CJ42=\"Y\",1,0)","v":0},{"$f":"IF($G42=\"Non-essential\",0,1)*IF('Assessment Framework'!CK42=\"Y\",1,0)","v":0},{"$f":"IF($G42=\"Non-essential\",0,1)*IF('Assessment Framework'!CL42=\"Y\",1,0)","v":0},{"$f":"IF($G42=\"Non-essential\",0,1)*IF('Assessment Framework'!CM42=\"Y\",1,0)","v":0}]
[null,null,null,"Coastline","Informs on the area where land meets the sea.","Y,N",{"$f":"IF('B - Technical objectives'!C19=\"\",\"Non-essential\",'B - Technical objectives'!C19)","v":"Non-essential"},{"$f":"IF($G43=\"Non-essential\",0,1)*IF('Assessment Framework'!G43=\"Y\",1,0)","v":0},{"$f":"IF($G43=\"Non-essential\",0,1)*IF('Assessment Framework'!H43=\"Y\",1,0)","v":0},{"$f":"IF($G43=\"Non-essential\",0,1)*IF('Assessment Framework'!I43=\"Y\",1,0)","v":0},{"$f":"IF($G43=\"Non-essential\",0,1)*IF('Assessment Framework'!J43=\"Y\",1,0)","v":0},{"$f":"IF($G43=\"Non-essential\",0,1)*IF('Assessment Framework'!K43=\"Y\",1,0)","v":0},{"$f":"IF($G43=\"Non-essential\",0,1)*IF('Assessment Framework'!L43=\"Y\",1,0)","v":0},{"$f":"IF($G43=\"Non-essential\",0,1)*IF('Assessment Framework'!M43=\"Y\",1,0)","v":0},{"$f":"IF($G43=\"Non-essential\",0,1)*IF('Assessment Framework'!N43=\"Y\",1,0)","v":0},{"$f":"IF($G43=\"Non-essential\",0,1)*IF('Assessment Framework'!O43=\"Y\",1,0)","v":0},{"$f":"IF($G43=\"Non-essential\",0,1)*IF('Assessment Framework'!P43=\"Y\",1,0)","v":0},{"$f":"IF($G43=\"Non-essential\",0,1)*IF('Assessment Framework'!Q43=\"Y\",1,0)","v":0},{"$f":"IF($G43=\"Non-essential\",0,1)*IF('Assessment Framework'!R43=\"Y\",1,0)","v":0},{"$f":"IF($G43=\"Non-essential\",0,1)*IF('Assessment Framework'!S43=\"Y\",1,0)","v":0},{"$f":"IF($G43=\"Non-essential\",0,1)*IF('Assessment Framework'!T43=\"Y\",1,0)","v":0},{"$f":"IF($G43=\"Non-essential\",0,1)*IF('Assessment Framework'!U43=\"Y\",1,0)","v":0},{"$f":"IF($G43=\"Non-essential\",0,1)*IF('Assessment Framework'!V43=\"Y\",1,0)","v":0},{"$f":"IF($G43=\"Non-essential\",0,1)*IF('Assessment Framework'!W43=\"Y\",1,0)","v":0},{"$f":"IF($G43=\"Non-essential\",0,1)*IF('Assessment Framework'!X43=\"Y\",1,0)","v":0},{"$f":"IF($G43=\"Non-essential\",0,1)*IF('Assessment Framework'!Y43=\"Y\",1,0)","v":0},{"$f":"IF($G43=\"Non-essential\",0,1)*IF('Assessment Framework'!Z43=\"Y\",1,0)","v":0},{"$f":"IF($G43=\"Non-essential\",0,1)*IF('Assessment Framework'!AA43=\"Y\",1,0)","v":0},{"$f":"IF($G43=\"Non-essential\",0,1)*IF('Assessment Framework'!AB43=\"Y\",1,0)","v":0},{"$f":"IF($G43=\"Non-essential\",0,1)*IF('Assessment Framework'!AC43=\"Y\",1,0)","v":0},{"$f":"IF($G43=\"Non-essential\",0,1)*IF('Assessment Framework'!AD43=\"Y\",1,0)","v":0},{"$f":"IF($G43=\"Non-essential\",0,1)*IF('Assessment Framework'!AE43=\"Y\",1,0)","v":0},{"$f":"IF($G43=\"Non-essential\",0,1)*IF('Assessment Framework'!AF43=\"Y\",1,0)","v":0},{"$f":"IF($G43=\"Non-essential\",0,1)*IF('Assessment Framework'!AG43=\"Y\",1,0)","v":0},{"$f":"IF($G43=\"Non-essential\",0,1)*IF('Assessment Framework'!AH43=\"Y\",1,0)","v":0},{"$f":"IF($G43=\"Non-essential\",0,1)*IF('Assessment Framework'!AI43=\"Y\",1,0)","v":0},{"$f":"IF($G43=\"Non-essential\",0,1)*IF('Assessment Framework'!AJ43=\"Y\",1,0)","v":0},{"$f":"IF($G43=\"Non-essential\",0,1)*IF('Assessment Framework'!AK43=\"Y\",1,0)","v":0},{"$f":"IF($G43=\"Non-essential\",0,1)*IF('Assessment Framework'!AL43=\"Y\",1,0)","v":0},{"$f":"IF($G43=\"Non-essential\",0,1)*IF('Assessment Framework'!AM43=\"Y\",1,0)","v":0},{"$f":"IF($G43=\"Non-essential\",0,1)*IF('Assessment Framework'!AN43=\"Y\",1,0)","v":0},{"$f":"IF($G43=\"Non-essential\",0,1)*IF('Assessment Framework'!AO43=\"Y\",1,0)","v":0},{"$f":"IF($G43=\"Non-essential\",0,1)*IF('Assessment Framework'!AP43=\"Y\",1,0)","v":0},{"$f":"IF($G43=\"Non-essential\",0,1)*IF('Assessment Framework'!AQ43=\"Y\",1,0)","v":0},{"$f":"IF($G43=\"Non-essential\",0,1)*IF('Assessment Framework'!AR43=\"Y\",1,0)","v":0},{"$f":"IF($G43=\"Non-essential\",0,1)*IF('Assessment Framework'!AS43=\"Y\",1,0)","v":0},{"$f":"IF($G43=\"Non-essential\",0,1)*IF('Assessment Framework'!AT43=\"Y\",1,0)","v":0},{"$f":"IF($G43=\"Non-essential\",0,1)*IF('Assessment Framework'!AU43=\"Y\",1,0)","v":0},{"$f":"IF($G43=\"Non-essential\",0,1)*IF('Assessment Framework'!AV43=\"Y\",1,0)","v":0},{"$f":"IF($G43=\"Non-essential\",0,1)*IF('Assessment Framework'!AW43=\"Y\",1,0)","v":0},{"$f":"IF($G43=\"Non-essential\",0,1)*IF('Assessment Framework'!AX43=\"Y\",1,0)","v":0},{"$f":"IF($G43=\"Non-essential\",0,1)*IF('Assessment Framework'!AY43=\"Y\",1,0)","v":0},{"$f":"IF($G43=\"Non-essential\",0,1)*IF('Assessment Framework'!AZ43=\"Y\",1,0)","v":0},{"$f":"IF($G43=\"Non-essential\",0,1)*IF('Assessment Framework'!BA43=\"Y\",1,0)","v":0},{"$f":"IF($G43=\"Non-essential\",0,1)*IF('Assessment Framework'!BB43=\"Y\",1,0)","v":0},{"$f":"IF($G43=\"Non-essential\",0,1)*IF('Assessment Framework'!BC43=\"Y\",1,0)","v":0},{"$f":"IF($G43=\"Non-essential\",0,1)*IF('Assessment Framework'!BD43=\"Y\",1,0)","v":0},{"$f":"IF($G43=\"Non-essential\",0,1)*IF('Assessment Framework'!BE43=\"Y\",1,0)","v":0},{"$f":"IF($G43=\"Non-essential\",0,1)*IF('Assessment Framework'!BF43=\"Y\",1,0)","v":0},{"$f":"IF($G43=\"Non-essential\",0,1)*IF('Assessment Framework'!BG43=\"Y\",1,0)","v":0},{"$f":"IF($G43=\"Non-essential\",0,1)*IF('Assessment Framework'!BH43=\"Y\",1,0)","v":0},{"$f":"IF($G43=\"Non-essential\",0,1)*IF('Assessment Framework'!BI43=\"Y\",1,0)","v":0},{"$f":"IF($G43=\"Non-essential\",0,1)*IF('Assessment Framework'!BJ43=\"Y\",1,0)","v":0},{"$f":"IF($G43=\"Non-essential\",0,1)*IF('Assessment Framework'!BK43=\"Y\",1,0)","v":0},{"$f":"IF($G43=\"Non-essential\",0,1)*IF('Assessment Framework'!BL43=\"Y\",1,0)","v":0},{"$f":"IF($G43=\"Non-essential\",0,1)*IF('Assessment Framework'!BM43=\"Y\",1,0)","v":0},{"$f":"IF($G43=\"Non-essential\",0,1)*IF('Assessment Framework'!BN43=\"Y\",1,0)","v":0},{"$f":"IF($G43=\"Non-essential\",0,1)*IF('Assessment Framework'!BO43=\"Y\",1,0)","v":0},{"$f":"IF($G43=\"Non-essential\",0,1)*IF('Assessment Framework'!BP43=\"Y\",1,0)","v":0},{"$f":"IF($G43=\"Non-essential\",0,1)*IF('Assessment Framework'!BQ43=\"Y\",1,0)","v":0},{"$f":"IF($G43=\"Non-essential\",0,1)*IF('Assessment Framework'!BR43=\"Y\",1,0)","v":0},{"$f":"IF($G43=\"Non-essential\",0,1)*IF('Assessment Framework'!BS43=\"Y\",1,0)","v":0},{"$f":"IF($G43=\"Non-essential\",0,1)*IF('Assessment Framework'!BT43=\"Y\",1,0)","v":0},{"$f":"IF($G43=\"Non-essential\",0,1)*IF('Assessment Framework'!BU43=\"Y\",1,0)","v":0},{"$f":"IF($G43=\"Non-essential\",0,1)*IF('Assessment Framework'!BV43=\"Y\",1,0)","v":0},{"$f":"IF($G43=\"Non-essential\",0,1)*IF('Assessment Framework'!BW43=\"Y\",1,0)","v":0},{"$f":"IF($G43=\"Non-essential\",0,1)*IF('Assessment Framework'!BX43=\"Y\",1,0)","v":0},{"$f":"IF($G43=\"Non-essential\",0,1)*IF('Assessment Framework'!BY43=\"Y\",1,0)","v":0},{"$f":"IF($G43=\"Non-essential\",0,1)*IF('Assessment Framework'!BZ43=\"Y\",1,0)","v":0},{"$f":"IF($G43=\"Non-essential\",0,1)*IF('Assessment Framework'!CA43=\"Y\",1,0)","v":0},{"$f":"IF($G43=\"Non-essential\",0,1)*IF('Assessment Framework'!CB43=\"Y\",1,0)","v":0},{"$f":"IF($G43=\"Non-essential\",0,1)*IF('Assessment Framework'!CC43=\"Y\",1,0)","v":0},{"$f":"IF($G43=\"Non-essential\",0,1)*IF('Assessment Framework'!CD43=\"Y\",1,0)","v":0},{"$f":"IF($G43=\"Non-essential\",0,1)*IF('Assessment Framework'!CE43=\"Y\",1,0)","v":0},{"$f":"IF($G43=\"Non-essential\",0,1)*IF('Assessment Framework'!CF43=\"Y\",1,0)","v":0},{"$f":"IF($G43=\"Non-essential\",0,1)*IF('Assessment Framework'!CG43=\"Y\",1,0)","v":0},{"$f":"IF($G43=\"Non-essential\",0,1)*IF('Assessment Framework'!CH43=\"Y\",1,0)","v":0},{"$f":"IF($G43=\"Non-essential\",0,1)*IF('Assessment Framework'!CI43=\"Y\",1,0)","v":0},{"$f":"IF($G43=\"Non-essential\",0,1)*IF('Assessment Framework'!CJ43=\"Y\",1,0)","v":0},{"$f":"IF($G43=\"Non-essential\",0,1)*IF('Assessment Framework'!CK43=\"Y\",1,0)","v":0},{"$f":"IF($G43=\"Non-essential\",0,1)*IF('Assessment Framework'!CL43=\"Y\",1,0)","v":0},{"$f":"IF($G43=\"Non-essential\",0,1)*IF('Assessment Framework'!CM43=\"Y\",1,0)","v":0}]
[null,null,null,"Sea / Ocean","Informs on the oceans or seas","Y,N",{"$f":"IF('B - Technical objectives'!C20=\"\",\"Non-essential\",'B - Technical objectives'!C20)","v":"Non-essential"},{"$f":"IF($G44=\"Non-essential\",0,1)*IF('Assessment Framework'!G44=\"Y\",1,0)","v":0},{"$f":"IF($G44=\"Non-essential\",0,1)*IF('Assessment Framework'!H44=\"Y\",1,0)","v":0},{"$f":"IF($G44=\"Non-essential\",0,1)*IF('Assessment Framework'!I44=\"Y\",1,0)","v":0},{"$f":"IF($G44=\"Non-essential\",0,1)*IF('Assessment Framework'!J44=\"Y\",1,0)","v":0},{"$f":"IF($G44=\"Non-essential\",0,1)*IF('Assessment Framework'!K44=\"Y\",1,0)","v":0},{"$f":"IF($G44=\"Non-essential\",0,1)*IF('Assessment Framework'!L44=\"Y\",1,0)","v":0},{"$f":"IF($G44=\"Non-essential\",0,1)*IF('Assessment Framework'!M44=\"Y\",1,0)","v":0},{"$f":"IF($G44=\"Non-essential\",0,1)*IF('Assessment Framework'!N44=\"Y\",1,0)","v":0},{"$f":"IF($G44=\"Non-essential\",0,1)*IF('Assessment Framework'!O44=\"Y\",1,0)","v":0},{"$f":"IF($G44=\"Non-essential\",0,1)*IF('Assessment Framework'!P44=\"Y\",1,0)","v":0},{"$f":"IF($G44=\"Non-essential\",0,1)*IF('Assessment Framework'!Q44=\"Y\",1,0)","v":0},{"$f":"IF($G44=\"Non-essential\",0,1)*IF('Assessment Framework'!R44=\"Y\",1,0)","v":0},{"$f":"IF($G44=\"Non-essential\",0,1)*IF('Assessment Framework'!S44=\"Y\",1,0)","v":0},{"$f":"IF($G44=\"Non-essential\",0,1)*IF('Assessment Framework'!T44=\"Y\",1,0)","v":0},{"$f":"IF($G44=\"Non-essential\",0,1)*IF('Assessment Framework'!U44=\"Y\",1,0)","v":0},{"$f":"IF($G44=\"Non-essential\",0,1)*IF('Assessment Framework'!V44=\"Y\",1,0)","v":0},{"$f":"IF($G44=\"Non-essential\",0,1)*IF('Assessment Framework'!W44=\"Y\",1,0)","v":0},{"$f":"IF($G44=\"Non-essential\",0,1)*IF('Assessment Framework'!X44=\"Y\",1,0)","v":0},{"$f":"IF($G44=\"Non-essential\",0,1)*IF('Assessment Framework'!Y44=\"Y\",1,0)","v":0},{"$f":"IF($G44=\"Non-essential\",0,1)*IF('Assessment Framework'!Z44=\"Y\",1,0)","v":0},{"$f":"IF($G44=\"Non-essential\",0,1)*IF('Assessment Framework'!AA44=\"Y\",1,0)","v":0},{"$f":"IF($G44=\"Non-essential\",0,1)*IF('Assessment Framework'!AB44=\"Y\",1,0)","v":0},{"$f":"IF($G44=\"Non-essential\",0,1)*IF('Assessment Framework'!AC44=\"Y\",1,0)","v":0},{"$f":"IF($G44=\"Non-essential\",0,1)*IF('Assessment Framework'!AD44=\"Y\",1,0)","v":0},{"$f":"IF($G44=\"Non-essential\",0,1)*IF('Assessment Framework'!AE44=\"Y\",1,0)","v":0},{"$f":"IF($G44=\"Non-essential\",0,1)*IF('Assessment Framework'!AF44=\"Y\",1,0)","v":0},{"$f":"IF($G44=\"Non-essential\",0,1)*IF('Assessment Framework'!AG44=\"Y\",1,0)","v":0},{"$f":"IF($G44=\"Non-essential\",0,1)*IF('Assessment Framework'!AH44=\"Y\",1,0)","v":0},{"$f":"IF($G44=\"Non-essential\",0,1)*IF('Assessment Framework'!AI44=\"Y\",1,0)","v":0},{"$f":"IF($G44=\"Non-essential\",0,1)*IF('Assessment Framework'!AJ44=\"Y\",1,0)","v":0},{"$f":"IF($G44=\"Non-essential\",0,1)*IF('Assessment Framework'!AK44=\"Y\",1,0)","v":0},{"$f":"IF($G44=\"Non-essential\",0,1)*IF('Assessment Framework'!AL44=\"Y\",1,0)","v":0},{"$f":"IF($G44=\"Non-essential\",0,1)*IF('Assessment Framework'!AM44=\"Y\",1,0)","v":0},{"$f":"IF($G44=\"Non-essential\",0,1)*IF('Assessment Framework'!AN44=\"Y\",1,0)","v":0},{"$f":"IF($G44=\"Non-essential\",0,1)*IF('Assessment Framework'!AO44=\"Y\",1,0)","v":0},{"$f":"IF($G44=\"Non-essential\",0,1)*IF('Assessment Framework'!AP44=\"Y\",1,0)","v":0},{"$f":"IF($G44=\"Non-essential\",0,1)*IF('Assessment Framework'!AQ44=\"Y\",1,0)","v":0},{"$f":"IF($G44=\"Non-essential\",0,1)*IF('Assessment Framework'!AR44=\"Y\",1,0)","v":0},{"$f":"IF($G44=\"Non-essential\",0,1)*IF('Assessment Framework'!AS44=\"Y\",1,0)","v":0},{"$f":"IF($G44=\"Non-essential\",0,1)*IF('Assessment Framework'!AT44=\"Y\",1,0)","v":0},{"$f":"IF($G44=\"Non-essential\",0,1)*IF('Assessment Framework'!AU44=\"Y\",1,0)","v":0},{"$f":"IF($G44=\"Non-essential\",0,1)*IF('Assessment Framework'!AV44=\"Y\",1,0)","v":0},{"$f":"IF($G44=\"Non-essential\",0,1)*IF('Assessment Framework'!AW44=\"Y\",1,0)","v":0},{"$f":"IF($G44=\"Non-essential\",0,1)*IF('Assessment Framework'!AX44=\"Y\",1,0)","v":0},{"$f":"IF($G44=\"Non-essential\",0,1)*IF('Assessment Framework'!AY44=\"Y\",1,0)","v":0},{"$f":"IF($G44=\"Non-essential\",0,1)*IF('Assessment Framework'!AZ44=\"Y\",1,0)","v":0},{"$f":"IF($G44=\"Non-essential\",0,1)*IF('Assessment Framework'!BA44=\"Y\",1,0)","v":0},{"$f":"IF($G44=\"Non-essential\",0,1)*IF('Assessment Framework'!BB44=\"Y\",1,0)","v":0},{"$f":"IF($G44=\"Non-essential\",0,1)*IF('Assessment Framework'!BC44=\"Y\",1,0)","v":0},{"$f":"IF($G44=\"Non-essential\",0,1)*IF('Assessment Framework'!BD44=\"Y\",1,0)","v":0},{"$f":"IF($G44=\"Non-essential\",0,1)*IF('Assessment Framework'!BE44=\"Y\",1,0)","v":0},{"$f":"IF($G44=\"Non-essential\",0,1)*IF('Assessment Framework'!BF44=\"Y\",1,0)","v":0},{"$f":"IF($G44=\"Non-essential\",0,1)*IF('Assessment Framework'!BG44=\"Y\",1,0)","v":0},{"$f":"IF($G44=\"Non-essential\",0,1)*IF('Assessment Framework'!BH44=\"Y\",1,0)","v":0},{"$f":"IF($G44=\"Non-essential\",0,1)*IF('Assessment Framework'!BI44=\"Y\",1,0)","v":0},{"$f":"IF($G44=\"Non-essential\",0,1)*IF('Assessment Framework'!BJ44=\"Y\",1,0)","v":0},{"$f":"IF($G44=\"Non-essential\",0,1)*IF('Assessment Framework'!BK44=\"Y\",1,0)","v":0},{"$f":"IF($G44=\"Non-essential\",0,1)*IF('Assessment Framework'!BL44=\"Y\",1,0)","v":0},{"$f":"IF($G44=\"Non-essential\",0,1)*IF('Assessment Framework'!BM44=\"Y\",1,0)","v":0},{"$f":"IF($G44=\"Non-essential\",0,1)*IF('Assessment Framework'!BN44=\"Y\",1,0)","v":0},{"$f":"IF($G44=\"Non-essential\",0,1)*IF('Assessment Framework'!BO44=\"Y\",1,0)","v":0},{"$f":"IF($G44=\"Non-essential\",0,1)*IF('Assessment Framework'!BP44=\"Y\",1,0)","v":0},{"$f":"IF($G44=\"Non-essential\",0,1)*IF('Assessment Framework'!BQ44=\"Y\",1,0)","v":0},{"$f":"IF($G44=\"Non-essential\",0,1)*IF('Assessment Framework'!BR44=\"Y\",1,0)","v":0},{"$f":"IF($G44=\"Non-essential\",0,1)*IF('Assessment Framework'!BS44=\"Y\",1,0)","v":0},{"$f":"IF($G44=\"Non-essential\",0,1)*IF('Assessment Framework'!BT44=\"Y\",1,0)","v":0},{"$f":"IF($G44=\"Non-essential\",0,1)*IF('Assessment Framework'!BU44=\"Y\",1,0)","v":0},{"$f":"IF($G44=\"Non-essential\",0,1)*IF('Assessment Framework'!BV44=\"Y\",1,0)","v":0},{"$f":"IF($G44=\"Non-essential\",0,1)*IF('Assessment Framework'!BW44=\"Y\",1,0)","v":0},{"$f":"IF($G44=\"Non-essential\",0,1)*IF('Assessment Framework'!BX44=\"Y\",1,0)","v":0},{"$f":"IF($G44=\"Non-essential\",0,1)*IF('Assessment Framework'!BY44=\"Y\",1,0)","v":0},{"$f":"IF($G44=\"Non-essential\",0,1)*IF('Assessment Framework'!BZ44=\"Y\",1,0)","v":0},{"$f":"IF($G44=\"Non-essential\",0,1)*IF('Assessment Framework'!CA44=\"Y\",1,0)","v":0},{"$f":"IF($G44=\"Non-essential\",0,1)*IF('Assessment Framework'!CB44=\"Y\",1,0)","v":0},{"$f":"IF($G44=\"Non-essential\",0,1)*IF('Assessment Framework'!CC44=\"Y\",1,0)","v":0},{"$f":"IF($G44=\"Non-essential\",0,1)*IF('Assessment Framework'!CD44=\"Y\",1,0)","v":0},{"$f":"IF($G44=\"Non-essential\",0,1)*IF('Assessment Framework'!CE44=\"Y\",1,0)","v":0},{"$f":"IF($G44=\"Non-essential\",0,1)*IF('Assessment Framework'!CF44=\"Y\",1,0)","v":0},{"$f":"IF($G44=\"Non-essential\",0,1)*IF('Assessment Framework'!CG44=\"Y\",1,0)","v":0},{"$f":"IF($G44=\"Non-essential\",0,1)*IF('Assessment Framework'!CH44=\"Y\",1,0)","v":0},{"$f":"IF($G44=\"Non-essential\",0,1)*IF('Assessment Framework'!CI44=\"Y\",1,0)","v":0},{"$f":"IF($G44=\"Non-essential\",0,1)*IF('Assessment Framework'!CJ44=\"Y\",1,0)","v":0},{"$f":"IF($G44=\"Non-essential\",0,1)*IF('Assessment Framework'!CK44=\"Y\",1,0)","v":0},{"$f":"IF($G44=\"Non-essential\",0,1)*IF('Assessment Framework'!CL44=\"Y\",1,0)","v":0},{"$f":"IF($G44=\"Non-essential\",0,1)*IF('Assessment Framework'!CM44=\"Y\",1,0)","v":0}]
[null,"Temporal resolution of outputs","The temporal resolution relates to the time-scales over which the plastic pollution assessment methodology informs. If a methodology informs on a daily basis for a year, then both of these timescales and all in between are informed by the methodology.","Annual","Outputs inform on a yearly timescale","Y,N",{"$f":"IF('B - Technical objectives'!C23=\"\",\"Non-essential\",'B - Technical objectives'!C23)","v":"Non-essential"},{"$f":"IF($G45=\"Non-essential\",0,1)*IF('Assessment Framework'!G45=\"Y\",1,0)","v":0},{"$f":"IF($G45=\"Non-essential\",0,1)*IF('Assessment Framework'!H45=\"Y\",1,0)","v":0},{"$f":"IF($G45=\"Non-essential\",0,1)*IF('Assessment Framework'!I45=\"Y\",1,0)","v":0},{"$f":"IF($G45=\"Non-essential\",0,1)*IF('Assessment Framework'!J45=\"Y\",1,0)","v":0},{"$f":"IF($G45=\"Non-essential\",0,1)*IF('Assessment Framework'!K45=\"Y\",1,0)","v":0},{"$f":"IF($G45=\"Non-essential\",0,1)*IF('Assessment Framework'!L45=\"Y\",1,0)","v":0},{"$f":"IF($G45=\"Non-essential\",0,1)*IF('Assessment Framework'!M45=\"Y\",1,0)","v":0},{"$f":"IF($G45=\"Non-essential\",0,1)*IF('Assessment Framework'!N45=\"Y\",1,0)","v":0},{"$f":"IF($G45=\"Non-essential\",0,1)*IF('Assessment Framework'!O45=\"Y\",1,0)","v":0},{"$f":"IF($G45=\"Non-essential\",0,1)*IF('Assessment Framework'!P45=\"Y\",1,0)","v":0},{"$f":"IF($G45=\"Non-essential\",0,1)*IF('Assessment Framework'!Q45=\"Y\",1,0)","v":0},{"$f":"IF($G45=\"Non-essential\",0,1)*IF('Assessment Framework'!R45=\"Y\",1,0)","v":0},{"$f":"IF($G45=\"Non-essential\",0,1)*IF('Assessment Framework'!S45=\"Y\",1,0)","v":0},{"$f":"IF($G45=\"Non-essential\",0,1)*IF('Assessment Framework'!T45=\"Y\",1,0)","v":0},{"$f":"IF($G45=\"Non-essential\",0,1)*IF('Assessment Framework'!U45=\"Y\",1,0)","v":0},{"$f":"IF($G45=\"Non-essential\",0,1)*IF('Assessment Framework'!V45=\"Y\",1,0)","v":0},{"$f":"IF($G45=\"Non-essential\",0,1)*IF('Assessment Framework'!W45=\"Y\",1,0)","v":0},{"$f":"IF($G45=\"Non-essential\",0,1)*IF('Assessment Framework'!X45=\"Y\",1,0)","v":0},{"$f":"IF($G45=\"Non-essential\",0,1)*IF('Assessment Framework'!Y45=\"Y\",1,0)","v":0},{"$f":"IF($G45=\"Non-essential\",0,1)*IF('Assessment Framework'!Z45=\"Y\",1,0)","v":0},{"$f":"IF($G45=\"Non-essential\",0,1)*IF('Assessment Framework'!AA45=\"Y\",1,0)","v":0},{"$f":"IF($G45=\"Non-essential\",0,1)*IF('Assessment Framework'!AB45=\"Y\",1,0)","v":0},{"$f":"IF($G45=\"Non-essential\",0,1)*IF('Assessment Framework'!AC45=\"Y\",1,0)","v":0},{"$f":"IF($G45=\"Non-essential\",0,1)*IF('Assessment Framework'!AD45=\"Y\",1,0)","v":0},{"$f":"IF($G45=\"Non-essential\",0,1)*IF('Assessment Framework'!AE45=\"Y\",1,0)","v":0},{"$f":"IF($G45=\"Non-essential\",0,1)*IF('Assessment Framework'!AF45=\"Y\",1,0)","v":0},{"$f":"IF($G45=\"Non-essential\",0,1)*IF('Assessment Framework'!AG45=\"Y\",1,0)","v":0},{"$f":"IF($G45=\"Non-essential\",0,1)*IF('Assessment Framework'!AH45=\"Y\",1,0)","v":0},{"$f":"IF($G45=\"Non-essential\",0,1)*IF('Assessment Framework'!AI45=\"Y\",1,0)","v":0},{"$f":"IF($G45=\"Non-essential\",0,1)*IF('Assessment Framework'!AJ45=\"Y\",1,0)","v":0},{"$f":"IF($G45=\"Non-essential\",0,1)*IF('Assessment Framework'!AK45=\"Y\",1,0)","v":0},{"$f":"IF($G45=\"Non-essential\",0,1)*IF('Assessment Framework'!AL45=\"Y\",1,0)","v":0},{"$f":"IF($G45=\"Non-essential\",0,1)*IF('Assessment Framework'!AM45=\"Y\",1,0)","v":0},{"$f":"IF($G45=\"Non-essential\",0,1)*IF('Assessment Framework'!AN45=\"Y\",1,0)","v":0},{"$f":"IF($G45=\"Non-essential\",0,1)*IF('Assessment Framework'!AO45=\"Y\",1,0)","v":0},{"$f":"IF($G45=\"Non-essential\",0,1)*IF('Assessment Framework'!AP45=\"Y\",1,0)","v":0},{"$f":"IF($G45=\"Non-essential\",0,1)*IF('Assessment Framework'!AQ45=\"Y\",1,0)","v":0},{"$f":"IF($G45=\"Non-essential\",0,1)*IF('Assessment Framework'!AR45=\"Y\",1,0)","v":0},{"$f":"IF($G45=\"Non-essential\",0,1)*IF('Assessment Framework'!AS45=\"Y\",1,0)","v":0},{"$f":"IF($G45=\"Non-essential\",0,1)*IF('Assessment Framework'!AT45=\"Y\",1,0)","v":0},{"$f":"IF($G45=\"Non-essential\",0,1)*IF('Assessment Framework'!AU45=\"Y\",1,0)","v":0},{"$f":"IF($G45=\"Non-essential\",0,1)*IF('Assessment Framework'!AV45=\"Y\",1,0)","v":0},{"$f":"IF($G45=\"Non-essential\",0,1)*IF('Assessment Framework'!AW45=\"Y\",1,0)","v":0},{"$f":"IF($G45=\"Non-essential\",0,1)*IF('Assessment Framework'!AX45=\"Y\",1,0)","v":0},{"$f":"IF($G45=\"Non-essential\",0,1)*IF('Assessment Framework'!AY45=\"Y\",1,0)","v":0},{"$f":"IF($G45=\"Non-essential\",0,1)*IF('Assessment Framework'!AZ45=\"Y\",1,0)","v":0},{"$f":"IF($G45=\"Non-essential\",0,1)*IF('Assessment Framework'!BA45=\"Y\",1,0)","v":0},{"$f":"IF($G45=\"Non-essential\",0,1)*IF('Assessment Framework'!BB45=\"Y\",1,0)","v":0},{"$f":"IF($G45=\"Non-essential\",0,1)*IF('Assessment Framework'!BC45=\"Y\",1,0)","v":0},{"$f":"IF($G45=\"Non-essential\",0,1)*IF('Assessment Framework'!BD45=\"Y\",1,0)","v":0},{"$f":"IF($G45=\"Non-essential\",0,1)*IF('Assessment Framework'!BE45=\"Y\",1,0)","v":0},{"$f":"IF($G45=\"Non-essential\",0,1)*IF('Assessment Framework'!BF45=\"Y\",1,0)","v":0},{"$f":"IF($G45=\"Non-essential\",0,1)*IF('Assessment Framework'!BG45=\"Y\",1,0)","v":0},{"$f":"IF($G45=\"Non-essential\",0,1)*IF('Assessment Framework'!BH45=\"Y\",1,0)","v":0},{"$f":"IF($G45=\"Non-essential\",0,1)*IF('Assessment Framework'!BI45=\"Y\",1,0)","v":0},{"$f":"IF($G45=\"Non-essential\",0,1)*IF('Assessment Framework'!BJ45=\"Y\",1,0)","v":0},{"$f":"IF($G45=\"Non-essential\",0,1)*IF('Assessment Framework'!BK45=\"Y\",1,0)","v":0},{"$f":"IF($G45=\"Non-essential\",0,1)*IF('Assessment Framework'!BL45=\"Y\",1,0)","v":0},{"$f":"IF($G45=\"Non-essential\",0,1)*IF('Assessment Framework'!BM45=\"Y\",1,0)","v":0},{"$f":"IF($G45=\"Non-essential\",0,1)*IF('Assessment Framework'!BN45=\"Y\",1,0)","v":0},{"$f":"IF($G45=\"Non-essential\",0,1)*IF('Assessment Framework'!BO45=\"Y\",1,0)","v":0},{"$f":"IF($G45=\"Non-essential\",0,1)*IF('Assessment Framework'!BP45=\"Y\",1,0)","v":0},{"$f":"IF($G45=\"Non-essential\",0,1)*IF('Assessment Framework'!BQ45=\"Y\",1,0)","v":0},{"$f":"IF($G45=\"Non-essential\",0,1)*IF('Assessment Framework'!BR45=\"Y\",1,0)","v":0},{"$f":"IF($G45=\"Non-essential\",0,1)*IF('Assessment Framework'!BS45=\"Y\",1,0)","v":0},{"$f":"IF($G45=\"Non-essential\",0,1)*IF('Assessment Framework'!BT45=\"Y\",1,0)","v":0},{"$f":"IF($G45=\"Non-essential\",0,1)*IF('Assessment Framework'!BU45=\"Y\",1,0)","v":0},{"$f":"IF($G45=\"Non-essential\",0,1)*IF('Assessment Framework'!BV45=\"Y\",1,0)","v":0},{"$f":"IF($G45=\"Non-essential\",0,1)*IF('Assessment Framework'!BW45=\"Y\",1,0)","v":0},{"$f":"IF($G45=\"Non-essential\",0,1)*IF('Assessment Framework'!BX45=\"Y\",1,0)","v":0},{"$f":"IF($G45=\"Non-essential\",0,1)*IF('Assessment Framework'!BY45=\"Y\",1,0)","v":0},{"$f":"IF($G45=\"Non-essential\",0,1)*IF('Assessment Framework'!BZ45=\"Y\",1,0)","v":0},{"$f":"IF($G45=\"Non-essential\",0,1)*IF('Assessment Framework'!CA45=\"Y\",1,0)","v":0},{"$f":"IF($G45=\"Non-essential\",0,1)*IF('Assessment Framework'!CB45=\"Y\",1,0)","v":0},{"$f":"IF($G45=\"Non-essential\",0,1)*IF('Assessment Framework'!CC45=\"Y\",1,0)","v":0},{"$f":"IF($G45=\"Non-essential\",0,1)*IF('Assessment Framework'!CD45=\"Y\",1,0)","v":0},{"$f":"IF($G45=\"Non-essential\",0,1)*IF('Assessment Framework'!CE45=\"Y\",1,0)","v":0},{"$f":"IF($G45=\"Non-essential\",0,1)*IF('Assessment Framework'!CF45=\"Y\",1,0)","v":0},{"$f":"IF($G45=\"Non-essential\",0,1)*IF('Assessment Framework'!CG45=\"Y\",1,0)","v":0},{"$f":"IF($G45=\"Non-essential\",0,1)*IF('Assessment Framework'!CH45=\"Y\",1,0)","v":0},{"$f":"IF($G45=\"Non-essential\",0,1)*IF('Assessment Framework'!CI45=\"Y\",1,0)","v":0},{"$f":"IF($G45=\"Non-essential\",0,1)*IF('Assessment Framework'!CJ45=\"Y\",1,0)","v":0},{"$f":"IF($G45=\"Non-essential\",0,1)*IF('Assessment Framework'!CK45=\"Y\",1,0)","v":0},{"$f":"IF($G45=\"Non-essential\",0,1)*IF('Assessment Framework'!CL45=\"Y\",1,0)","v":0},{"$f":"IF($G45=\"Non-essential\",0,1)*IF('Assessment Framework'!CM45=\"Y\",1,0)","v":0}]
[null,null,null,"Seasonal","Outputs inform on a seasonal timescale (e.g. spring, summer, autumn, winter; or wet season, dry season)","Y,N",{"$f":"IF('B - Technical objectives'!C24=\"\",\"Non-essential\",'B - Technical objectives'!C24)","v":"Non-essential"},{"$f":"IF($G46=\"Non-essential\",0,1)*IF('Assessment Framework'!G46=\"Y\",1,0)","v":0},{"$f":"IF($G46=\"Non-essential\",0,1)*IF('Assessment Framework'!H46=\"Y\",1,0)","v":0},{"$f":"IF($G46=\"Non-essential\",0,1)*IF('Assessment Framework'!I46=\"Y\",1,0)","v":0},{"$f":"IF($G46=\"Non-essential\",0,1)*IF('Assessment Framework'!J46=\"Y\",1,0)","v":0},{"$f":"IF($G46=\"Non-essential\",0,1)*IF('Assessment Framework'!K46=\"Y\",1,0)","v":0},{"$f":"IF($G46=\"Non-essential\",0,1)*IF('Assessment Framework'!L46=\"Y\",1,0)","v":0},{"$f":"IF($G46=\"Non-essential\",0,1)*IF('Assessment Framework'!M46=\"Y\",1,0)","v":0},{"$f":"IF($G46=\"Non-essential\",0,1)*IF('Assessment Framework'!N46=\"Y\",1,0)","v":0},{"$f":"IF($G46=\"Non-essential\",0,1)*IF('Assessment Framework'!O46=\"Y\",1,0)","v":0},{"$f":"IF($G46=\"Non-essential\",0,1)*IF('Assessment Framework'!P46=\"Y\",1,0)","v":0},{"$f":"IF($G46=\"Non-essential\",0,1)*IF('Assessment Framework'!Q46=\"Y\",1,0)","v":0},{"$f":"IF($G46=\"Non-essential\",0,1)*IF('Assessment Framework'!R46=\"Y\",1,0)","v":0},{"$f":"IF($G46=\"Non-essential\",0,1)*IF('Assessment Framework'!S46=\"Y\",1,0)","v":0},{"$f":"IF($G46=\"Non-essential\",0,1)*IF('Assessment Framework'!T46=\"Y\",1,0)","v":0},{"$f":"IF($G46=\"Non-essential\",0,1)*IF('Assessment Framework'!U46=\"Y\",1,0)","v":0},{"$f":"IF($G46=\"Non-essential\",0,1)*IF('Assessment Framework'!V46=\"Y\",1,0)","v":0},{"$f":"IF($G46=\"Non-essential\",0,1)*IF('Assessment Framework'!W46=\"Y\",1,0)","v":0},{"$f":"IF($G46=\"Non-essential\",0,1)*IF('Assessment Framework'!X46=\"Y\",1,0)","v":0},{"$f":"IF($G46=\"Non-essential\",0,1)*IF('Assessment Framework'!Y46=\"Y\",1,0)","v":0},{"$f":"IF($G46=\"Non-essential\",0,1)*IF('Assessment Framework'!Z46=\"Y\",1,0)","v":0},{"$f":"IF($G46=\"Non-essential\",0,1)*IF('Assessment Framework'!AA46=\"Y\",1,0)","v":0},{"$f":"IF($G46=\"Non-essential\",0,1)*IF('Assessment Framework'!AB46=\"Y\",1,0)","v":0},{"$f":"IF($G46=\"Non-essential\",0,1)*IF('Assessment Framework'!AC46=\"Y\",1,0)","v":0},{"$f":"IF($G46=\"Non-essential\",0,1)*IF('Assessment Framework'!AD46=\"Y\",1,0)","v":0},{"$f":"IF($G46=\"Non-essential\",0,1)*IF('Assessment Framework'!AE46=\"Y\",1,0)","v":0},{"$f":"IF($G46=\"Non-essential\",0,1)*IF('Assessment Framework'!AF46=\"Y\",1,0)","v":0},{"$f":"IF($G46=\"Non-essential\",0,1)*IF('Assessment Framework'!AG46=\"Y\",1,0)","v":0},{"$f":"IF($G46=\"Non-essential\",0,1)*IF('Assessment Framework'!AH46=\"Y\",1,0)","v":0},{"$f":"IF($G46=\"Non-essential\",0,1)*IF('Assessment Framework'!AI46=\"Y\",1,0)","v":0},{"$f":"IF($G46=\"Non-essential\",0,1)*IF('Assessment Framework'!AJ46=\"Y\",1,0)","v":0},{"$f":"IF($G46=\"Non-essential\",0,1)*IF('Assessment Framework'!AK46=\"Y\",1,0)","v":0},{"$f":"IF($G46=\"Non-essential\",0,1)*IF('Assessment Framework'!AL46=\"Y\",1,0)","v":0},{"$f":"IF($G46=\"Non-essential\",0,1)*IF('Assessment Framework'!AM46=\"Y\",1,0)","v":0},{"$f":"IF($G46=\"Non-essential\",0,1)*IF('Assessment Framework'!AN46=\"Y\",1,0)","v":0},{"$f":"IF($G46=\"Non-essential\",0,1)*IF('Assessment Framework'!AO46=\"Y\",1,0)","v":0},{"$f":"IF($G46=\"Non-essential\",0,1)*IF('Assessment Framework'!AP46=\"Y\",1,0)","v":0},{"$f":"IF($G46=\"Non-essential\",0,1)*IF('Assessment Framework'!AQ46=\"Y\",1,0)","v":0},{"$f":"IF($G46=\"Non-essential\",0,1)*IF('Assessment Framework'!AR46=\"Y\",1,0)","v":0},{"$f":"IF($G46=\"Non-essential\",0,1)*IF('Assessment Framework'!AS46=\"Y\",1,0)","v":0},{"$f":"IF($G46=\"Non-essential\",0,1)*IF('Assessment Framework'!AT46=\"Y\",1,0)","v":0},{"$f":"IF($G46=\"Non-essential\",0,1)*IF('Assessment Framework'!AU46=\"Y\",1,0)","v":0},{"$f":"IF($G46=\"Non-essential\",0,1)*IF('Assessment Framework'!AV46=\"Y\",1,0)","v":0},{"$f":"IF($G46=\"Non-essential\",0,1)*IF('Assessment Framework'!AW46=\"Y\",1,0)","v":0},{"$f":"IF($G46=\"Non-essential\",0,1)*IF('Assessment Framework'!AX46=\"Y\",1,0)","v":0},{"$f":"IF($G46=\"Non-essential\",0,1)*IF('Assessment Framework'!AY46=\"Y\",1,0)","v":0},{"$f":"IF($G46=\"Non-essential\",0,1)*IF('Assessment Framework'!AZ46=\"Y\",1,0)","v":0},{"$f":"IF($G46=\"Non-essential\",0,1)*IF('Assessment Framework'!BA46=\"Y\",1,0)","v":0},{"$f":"IF($G46=\"Non-essential\",0,1)*IF('Assessment Framework'!BB46=\"Y\",1,0)","v":0},{"$f":"IF($G46=\"Non-essential\",0,1)*IF('Assessment Framework'!BC46=\"Y\",1,0)","v":0},{"$f":"IF($G46=\"Non-essential\",0,1)*IF('Assessment Framework'!BD46=\"Y\",1,0)","v":0},{"$f":"IF($G46=\"Non-essential\",0,1)*IF('Assessment Framework'!BE46=\"Y\",1,0)","v":0},{"$f":"IF($G46=\"Non-essential\",0,1)*IF('Assessment Framework'!BF46=\"Y\",1,0)","v":0},{"$f":"IF($G46=\"Non-essential\",0,1)*IF('Assessment Framework'!BG46=\"Y\",1,0)","v":0},{"$f":"IF($G46=\"Non-essential\",0,1)*IF('Assessment Framework'!BH46=\"Y\",1,0)","v":0},{"$f":"IF($G46=\"Non-essential\",0,1)*IF('Assessment Framework'!BI46=\"Y\",1,0)","v":0},{"$f":"IF($G46=\"Non-essential\",0,1)*IF('Assessment Framework'!BJ46=\"Y\",1,0)","v":0},{"$f":"IF($G46=\"Non-essential\",0,1)*IF('Assessment Framework'!BK46=\"Y\",1,0)","v":0},{"$f":"IF($G46=\"Non-essential\",0,1)*IF('Assessment Framework'!BL46=\"Y\",1,0)","v":0},{"$f":"IF($G46=\"Non-essential\",0,1)*IF('Assessment Framework'!BM46=\"Y\",1,0)","v":0},{"$f":"IF($G46=\"Non-essential\",0,1)*IF('Assessment Framework'!BN46=\"Y\",1,0)","v":0},{"$f":"IF($G46=\"Non-essential\",0,1)*IF('Assessment Framework'!BO46=\"Y\",1,0)","v":0},{"$f":"IF($G46=\"Non-essential\",0,1)*IF('Assessment Framework'!BP46=\"Y\",1,0)","v":0},{"$f":"IF($G46=\"Non-essential\",0,1)*IF('Assessment Framework'!BQ46=\"Y\",1,0)","v":0},{"$f":"IF($G46=\"Non-essential\",0,1)*IF('Assessment Framework'!BR46=\"Y\",1,0)","v":0},{"$f":"IF($G46=\"Non-essential\",0,1)*IF('Assessment Framework'!BS46=\"Y\",1,0)","v":0},{"$f":"IF($G46=\"Non-essential\",0,1)*IF('Assessment Framework'!BT46=\"Y\",1,0)","v":0},{"$f":"IF($G46=\"Non-essential\",0,1)*IF('Assessment Framework'!BU46=\"Y\",1,0)","v":0},{"$f":"IF($G46=\"Non-essential\",0,1)*IF('Assessment Framework'!BV46=\"Y\",1,0)","v":0},{"$f":"IF($G46=\"Non-essential\",0,1)*IF('Assessment Framework'!BW46=\"Y\",1,0)","v":0},{"$f":"IF($G46=\"Non-essential\",0,1)*IF('Assessment Framework'!BX46=\"Y\",1,0)","v":0},{"$f":"IF($G46=\"Non-essential\",0,1)*IF('Assessment Framework'!BY46=\"Y\",1,0)","v":0},{"$f":"IF($G46=\"Non-essential\",0,1)*IF('Assessment Framework'!BZ46=\"Y\",1,0)","v":0},{"$f":"IF($G46=\"Non-essential\",0,1)*IF('Assessment Framework'!CA46=\"Y\",1,0)","v":0},{"$f":"IF($G46=\"Non-essential\",0,1)*IF('Assessment Framework'!CB46=\"Y\",1,0)","v":0},{"$f":"IF($G46=\"Non-essential\",0,1)*IF('Assessment Framework'!CC46=\"Y\",1,0)","v":0},{"$f":"IF($G46=\"Non-essential\",0,1)*IF('Assessment Framework'!CD46=\"Y\",1,0)","v":0},{"$f":"IF($G46=\"Non-essential\",0,1)*IF('Assessment Framework'!CE46=\"Y\",1,0)","v":0},{"$f":"IF($G46=\"Non-essential\",0,1)*IF('Assessment Framework'!CF46=\"Y\",1,0)","v":0},{"$f":"IF($G46=\"Non-essential\",0,1)*IF('Assessment Framework'!CG46=\"Y\",1,0)","v":0},{"$f":"IF($G46=\"Non-essential\",0,1)*IF('Assessment Framework'!CH46=\"Y\",1,0)","v":0},{"$f":"IF($G46=\"Non-essential\",0,1)*IF('Assessment Framework'!CI46=\"Y\",1,0)","v":0},{"$f":"IF($G46=\"Non-essential\",0,1)*IF('Assessment Framework'!CJ46=\"Y\",1,0)","v":0},{"$f":"IF($G46=\"Non-essential\",0,1)*IF('Assessment Framework'!CK46=\"Y\",1,0)","v":0},{"$f":"IF($G46=\"Non-essential\",0,1)*IF('Assessment Framework'!CL46=\"Y\",1,0)","v":0},{"$f":"IF($G46=\"Non-essential\",0,1)*IF('Assessment Framework'!CM46=\"Y\",1,0)","v":0}]
[null,null,null,"Monthly","Outputs inform on a monthly timescale","Y,N",{"$f":"IF('B - Technical objectives'!C25=\"\",\"Non-essential\",'B - Technical objectives'!C25)","v":"Non-essential"},{"$f":"IF($G47=\"Non-essential\",0,1)*IF('Assessment Framework'!G47=\"Y\",1,0)","v":0},{"$f":"IF($G47=\"Non-essential\",0,1)*IF('Assessment Framework'!H47=\"Y\",1,0)","v":0},{"$f":"IF($G47=\"Non-essential\",0,1)*IF('Assessment Framework'!I47=\"Y\",1,0)","v":0},{"$f":"IF($G47=\"Non-essential\",0,1)*IF('Assessment Framework'!J47=\"Y\",1,0)","v":0},{"$f":"IF($G47=\"Non-essential\",0,1)*IF('Assessment Framework'!K47=\"Y\",1,0)","v":0},{"$f":"IF($G47=\"Non-essential\",0,1)*IF('Assessment Framework'!L47=\"Y\",1,0)","v":0},{"$f":"IF($G47=\"Non-essential\",0,1)*IF('Assessment Framework'!M47=\"Y\",1,0)","v":0},{"$f":"IF($G47=\"Non-essential\",0,1)*IF('Assessment Framework'!N47=\"Y\",1,0)","v":0},{"$f":"IF($G47=\"Non-essential\",0,1)*IF('Assessment Framework'!O47=\"Y\",1,0)","v":0},{"$f":"IF($G47=\"Non-essential\",0,1)*IF('Assessment Framework'!P47=\"Y\",1,0)","v":0},{"$f":"IF($G47=\"Non-essential\",0,1)*IF('Assessment Framework'!Q47=\"Y\",1,0)","v":0},{"$f":"IF($G47=\"Non-essential\",0,1)*IF('Assessment Framework'!R47=\"Y\",1,0)","v":0},{"$f":"IF($G47=\"Non-essential\",0,1)*IF('Assessment Framework'!S47=\"Y\",1,0)","v":0},{"$f":"IF($G47=\"Non-essential\",0,1)*IF('Assessment Framework'!T47=\"Y\",1,0)","v":0},{"$f":"IF($G47=\"Non-essential\",0,1)*IF('Assessment Framework'!U47=\"Y\",1,0)","v":0},{"$f":"IF($G47=\"Non-essential\",0,1)*IF('Assessment Framework'!V47=\"Y\",1,0)","v":0},{"$f":"IF($G47=\"Non-essential\",0,1)*IF('Assessment Framework'!W47=\"Y\",1,0)","v":0},{"$f":"IF($G47=\"Non-essential\",0,1)*IF('Assessment Framework'!X47=\"Y\",1,0)","v":0},{"$f":"IF($G47=\"Non-essential\",0,1)*IF('Assessment Framework'!Y47=\"Y\",1,0)","v":0},{"$f":"IF($G47=\"Non-essential\",0,1)*IF('Assessment Framework'!Z47=\"Y\",1,0)","v":0},{"$f":"IF($G47=\"Non-essential\",0,1)*IF('Assessment Framework'!AA47=\"Y\",1,0)","v":0},{"$f":"IF($G47=\"Non-essential\",0,1)*IF('Assessment Framework'!AB47=\"Y\",1,0)","v":0},{"$f":"IF($G47=\"Non-essential\",0,1)*IF('Assessment Framework'!AC47=\"Y\",1,0)","v":0},{"$f":"IF($G47=\"Non-essential\",0,1)*IF('Assessment Framework'!AD47=\"Y\",1,0)","v":0},{"$f":"IF($G47=\"Non-essential\",0,1)*IF('Assessment Framework'!AE47=\"Y\",1,0)","v":0},{"$f":"IF($G47=\"Non-essential\",0,1)*IF('Assessment Framework'!AF47=\"Y\",1,0)","v":0},{"$f":"IF($G47=\"Non-essential\",0,1)*IF('Assessment Framework'!AG47=\"Y\",1,0)","v":0},{"$f":"IF($G47=\"Non-essential\",0,1)*IF('Assessment Framework'!AH47=\"Y\",1,0)","v":0},{"$f":"IF($G47=\"Non-essential\",0,1)*IF('Assessment Framework'!AI47=\"Y\",1,0)","v":0},{"$f":"IF($G47=\"Non-essential\",0,1)*IF('Assessment Framework'!AJ47=\"Y\",1,0)","v":0},{"$f":"IF($G47=\"Non-essential\",0,1)*IF('Assessment Framework'!AK47=\"Y\",1,0)","v":0},{"$f":"IF($G47=\"Non-essential\",0,1)*IF('Assessment Framework'!AL47=\"Y\",1,0)","v":0},{"$f":"IF($G47=\"Non-essential\",0,1)*IF('Assessment Framework'!AM47=\"Y\",1,0)","v":0},{"$f":"IF($G47=\"Non-essential\",0,1)*IF('Assessment Framework'!AN47=\"Y\",1,0)","v":0},{"$f":"IF($G47=\"Non-essential\",0,1)*IF('Assessment Framework'!AO47=\"Y\",1,0)","v":0},{"$f":"IF($G47=\"Non-essential\",0,1)*IF('Assessment Framework'!AP47=\"Y\",1,0)","v":0},{"$f":"IF($G47=\"Non-essential\",0,1)*IF('Assessment Framework'!AQ47=\"Y\",1,0)","v":0},{"$f":"IF($G47=\"Non-essential\",0,1)*IF('Assessment Framework'!AR47=\"Y\",1,0)","v":0},{"$f":"IF($G47=\"Non-essential\",0,1)*IF('Assessment Framework'!AS47=\"Y\",1,0)","v":0},{"$f":"IF($G47=\"Non-essential\",0,1)*IF('Assessment Framework'!AT47=\"Y\",1,0)","v":0},{"$f":"IF($G47=\"Non-essential\",0,1)*IF('Assessment Framework'!AU47=\"Y\",1,0)","v":0},{"$f":"IF($G47=\"Non-essential\",0,1)*IF('Assessment Framework'!AV47=\"Y\",1,0)","v":0},{"$f":"IF($G47=\"Non-essential\",0,1)*IF('Assessment Framework'!AW47=\"Y\",1,0)","v":0},{"$f":"IF($G47=\"Non-essential\",0,1)*IF('Assessment Framework'!AX47=\"Y\",1,0)","v":0},{"$f":"IF($G47=\"Non-essential\",0,1)*IF('Assessment Framework'!AY47=\"Y\",1,0)","v":0},{"$f":"IF($G47=\"Non-essential\",0,1)*IF('Assessment Framework'!AZ47=\"Y\",1,0)","v":0},{"$f":"IF($G47=\"Non-essential\",0,1)*IF('Assessment Framework'!BA47=\"Y\",1,0)","v":0},{"$f":"IF($G47=\"Non-essential\",0,1)*IF('Assessment Framework'!BB47=\"Y\",1,0)","v":0},{"$f":"IF($G47=\"Non-essential\",0,1)*IF('Assessment Framework'!BC47=\"Y\",1,0)","v":0},{"$f":"IF($G47=\"Non-essential\",0,1)*IF('Assessment Framework'!BD47=\"Y\",1,0)","v":0},{"$f":"IF($G47=\"Non-essential\",0,1)*IF('Assessment Framework'!BE47=\"Y\",1,0)","v":0},{"$f":"IF($G47=\"Non-essential\",0,1)*IF('Assessment Framework'!BF47=\"Y\",1,0)","v":0},{"$f":"IF($G47=\"Non-essential\",0,1)*IF('Assessment Framework'!BG47=\"Y\",1,0)","v":0},{"$f":"IF($G47=\"Non-essential\",0,1)*IF('Assessment Framework'!BH47=\"Y\",1,0)","v":0},{"$f":"IF($G47=\"Non-essential\",0,1)*IF('Assessment Framework'!BI47=\"Y\",1,0)","v":0},{"$f":"IF($G47=\"Non-essential\",0,1)*IF('Assessment Framework'!BJ47=\"Y\",1,0)","v":0},{"$f":"IF($G47=\"Non-essential\",0,1)*IF('Assessment Framework'!BK47=\"Y\",1,0)","v":0},{"$f":"IF($G47=\"Non-essential\",0,1)*IF('Assessment Framework'!BL47=\"Y\",1,0)","v":0},{"$f":"IF($G47=\"Non-essential\",0,1)*IF('Assessment Framework'!BM47=\"Y\",1,0)","v":0},{"$f":"IF($G47=\"Non-essential\",0,1)*IF('Assessment Framework'!BN47=\"Y\",1,0)","v":0},{"$f":"IF($G47=\"Non-essential\",0,1)*IF('Assessment Framework'!BO47=\"Y\",1,0)","v":0},{"$f":"IF($G47=\"Non-essential\",0,1)*IF('Assessment Framework'!BP47=\"Y\",1,0)","v":0},{"$f":"IF($G47=\"Non-essential\",0,1)*IF('Assessment Framework'!BQ47=\"Y\",1,0)","v":0},{"$f":"IF($G47=\"Non-essential\",0,1)*IF('Assessment Framework'!BR47=\"Y\",1,0)","v":0},{"$f":"IF($G47=\"Non-essential\",0,1)*IF('Assessment Framework'!BS47=\"Y\",1,0)","v":0},{"$f":"IF($G47=\"Non-essential\",0,1)*IF('Assessment Framework'!BT47=\"Y\",1,0)","v":0},{"$f":"IF($G47=\"Non-essential\",0,1)*IF('Assessment Framework'!BU47=\"Y\",1,0)","v":0},{"$f":"IF($G47=\"Non-essential\",0,1)*IF('Assessment Framework'!BV47=\"Y\",1,0)","v":0},{"$f":"IF($G47=\"Non-essential\",0,1)*IF('Assessment Framework'!BW47=\"Y\",1,0)","v":0},{"$f":"IF($G47=\"Non-essential\",0,1)*IF('Assessment Framework'!BX47=\"Y\",1,0)","v":0},{"$f":"IF($G47=\"Non-essential\",0,1)*IF('Assessment Framework'!BY47=\"Y\",1,0)","v":0},{"$f":"IF($G47=\"Non-essential\",0,1)*IF('Assessment Framework'!BZ47=\"Y\",1,0)","v":0},{"$f":"IF($G47=\"Non-essential\",0,1)*IF('Assessment Framework'!CA47=\"Y\",1,0)","v":0},{"$f":"IF($G47=\"Non-essential\",0,1)*IF('Assessment Framework'!CB47=\"Y\",1,0)","v":0},{"$f":"IF($G47=\"Non-essential\",0,1)*IF('Assessment Framework'!CC47=\"Y\",1,0)","v":0},{"$f":"IF($G47=\"Non-essential\",0,1)*IF('Assessment Framework'!CD47=\"Y\",1,0)","v":0},{"$f":"IF($G47=\"Non-essential\",0,1)*IF('Assessment Framework'!CE47=\"Y\",1,0)","v":0},{"$f":"IF($G47=\"Non-essential\",0,1)*IF('Assessment Framework'!CF47=\"Y\",1,0)","v":0},{"$f":"IF($G47=\"Non-essential\",0,1)*IF('Assessment Framework'!CG47=\"Y\",1,0)","v":0},{"$f":"IF($G47=\"Non-essential\",0,1)*IF('Assessment Framework'!CH47=\"Y\",1,0)","v":0},{"$f":"IF($G47=\"Non-essential\",0,1)*IF('Assessment Framework'!CI47=\"Y\",1,0)","v":0},{"$f":"IF($G47=\"Non-essential\",0,1)*IF('Assessment Framework'!CJ47=\"Y\",1,0)","v":0},{"$f":"IF($G47=\"Non-essential\",0,1)*IF('Assessment Framework'!CK47=\"Y\",1,0)","v":0},{"$f":"IF($G47=\"Non-essential\",0,1)*IF('Assessment Framework'!CL47=\"Y\",1,0)","v":0},{"$f":"IF($G47=\"Non-essential\",0,1)*IF('Assessment Framework'!CM47=\"Y\",1,0)","v":0}]
[null,null,null,"Daily","Outputs inform on a daily timescale","Y,N",{"$f":"IF('B - Technical objectives'!C26=\"\",\"Non-essential\",'B - Technical objectives'!C26)","v":"Non-essential"},{"$f":"IF($G48=\"Non-essential\",0,1)*IF('Assessment Framework'!G48=\"Y\",1,0)","v":0},{"$f":"IF($G48=\"Non-essential\",0,1)*IF('Assessment Framework'!H48=\"Y\",1,0)","v":0},{"$f":"IF($G48=\"Non-essential\",0,1)*IF('Assessment Framework'!I48=\"Y\",1,0)","v":0},{"$f":"IF($G48=\"Non-essential\",0,1)*IF('Assessment Framework'!J48=\"Y\",1,0)","v":0},{"$f":"IF($G48=\"Non-essential\",0,1)*IF('Assessment Framework'!K48=\"Y\",1,0)","v":0},{"$f":"IF($G48=\"Non-essential\",0,1)*IF('Assessment Framework'!L48=\"Y\",1,0)","v":0},{"$f":"IF($G48=\"Non-essential\",0,1)*IF('Assessment Framework'!M48=\"Y\",1,0)","v":0},{"$f":"IF($G48=\"Non-essential\",0,1)*IF('Assessment Framework'!N48=\"Y\",1,0)","v":0},{"$f":"IF($G48=\"Non-essential\",0,1)*IF('Assessment Framework'!O48=\"Y\",1,0)","v":0},{"$f":"IF($G48=\"Non-essential\",0,1)*IF('Assessment Framework'!P48=\"Y\",1,0)","v":0},{"$f":"IF($G48=\"Non-essential\",0,1)*IF('Assessment Framework'!Q48=\"Y\",1,0)","v":0},{"$f":"IF($G48=\"Non-essential\",0,1)*IF('Assessment Framework'!R48=\"Y\",1,0)","v":0},{"$f":"IF($G48=\"Non-essential\",0,1)*IF('Assessment Framework'!S48=\"Y\",1,0)","v":0},{"$f":"IF($G48=\"Non-essential\",0,1)*IF('Assessment Framework'!T48=\"Y\",1,0)","v":0},{"$f":"IF($G48=\"Non-essential\",0,1)*IF('Assessment Framework'!U48=\"Y\",1,0)","v":0},{"$f":"IF($G48=\"Non-essential\",0,1)*IF('Assessment Framework'!V48=\"Y\",1,0)","v":0},{"$f":"IF($G48=\"Non-essential\",0,1)*IF('Assessment Framework'!W48=\"Y\",1,0)","v":0},{"$f":"IF($G48=\"Non-essential\",0,1)*IF('Assessment Framework'!X48=\"Y\",1,0)","v":0},{"$f":"IF($G48=\"Non-essential\",0,1)*IF('Assessment Framework'!Y48=\"Y\",1,0)","v":0},{"$f":"IF($G48=\"Non-essential\",0,1)*IF('Assessment Framework'!Z48=\"Y\",1,0)","v":0},{"$f":"IF($G48=\"Non-essential\",0,1)*IF('Assessment Framework'!AA48=\"Y\",1,0)","v":0},{"$f":"IF($G48=\"Non-essential\",0,1)*IF('Assessment Framework'!AB48=\"Y\",1,0)","v":0},{"$f":"IF($G48=\"Non-essential\",0,1)*IF('Assessment Framework'!AC48=\"Y\",1,0)","v":0},{"$f":"IF($G48=\"Non-essential\",0,1)*IF('Assessment Framework'!AD48=\"Y\",1,0)","v":0},{"$f":"IF($G48=\"Non-essential\",0,1)*IF('Assessment Framework'!AE48=\"Y\",1,0)","v":0},{"$f":"IF($G48=\"Non-essential\",0,1)*IF('Assessment Framework'!AF48=\"Y\",1,0)","v":0},{"$f":"IF($G48=\"Non-essential\",0,1)*IF('Assessment Framework'!AG48=\"Y\",1,0)","v":0},{"$f":"IF($G48=\"Non-essential\",0,1)*IF('Assessment Framework'!AH48=\"Y\",1,0)","v":0},{"$f":"IF($G48=\"Non-essential\",0,1)*IF('Assessment Framework'!AI48=\"Y\",1,0)","v":0},{"$f":"IF($G48=\"Non-essential\",0,1)*IF('Assessment Framework'!AJ48=\"Y\",1,0)","v":0},{"$f":"IF($G48=\"Non-essential\",0,1)*IF('Assessment Framework'!AK48=\"Y\",1,0)","v":0},{"$f":"IF($G48=\"Non-essential\",0,1)*IF('Assessment Framework'!AL48=\"Y\",1,0)","v":0},{"$f":"IF($G48=\"Non-essential\",0,1)*IF('Assessment Framework'!AM48=\"Y\",1,0)","v":0},{"$f":"IF($G48=\"Non-essential\",0,1)*IF('Assessment Framework'!AN48=\"Y\",1,0)","v":0},{"$f":"IF($G48=\"Non-essential\",0,1)*IF('Assessment Framework'!AO48=\"Y\",1,0)","v":0},{"$f":"IF($G48=\"Non-essential\",0,1)*IF('Assessment Framework'!AP48=\"Y\",1,0)","v":0},{"$f":"IF($G48=\"Non-essential\",0,1)*IF('Assessment Framework'!AQ48=\"Y\",1,0)","v":0},{"$f":"IF($G48=\"Non-essential\",0,1)*IF('Assessment Framework'!AR48=\"Y\",1,0)","v":0},{"$f":"IF($G48=\"Non-essential\",0,1)*IF('Assessment Framework'!AS48=\"Y\",1,0)","v":0},{"$f":"IF($G48=\"Non-essential\",0,1)*IF('Assessment Framework'!AT48=\"Y\",1,0)","v":0},{"$f":"IF($G48=\"Non-essential\",0,1)*IF('Assessment Framework'!AU48=\"Y\",1,0)","v":0},{"$f":"IF($G48=\"Non-essential\",0,1)*IF('Assessment Framework'!AV48=\"Y\",1,0)","v":0},{"$f":"IF($G48=\"Non-essential\",0,1)*IF('Assessment Framework'!AW48=\"Y\",1,0)","v":0},{"$f":"IF($G48=\"Non-essential\",0,1)*IF('Assessment Framework'!AX48=\"Y\",1,0)","v":0},{"$f":"IF($G48=\"Non-essential\",0,1)*IF('Assessment Framework'!AY48=\"Y\",1,0)","v":0},{"$f":"IF($G48=\"Non-essential\",0,1)*IF('Assessment Framework'!AZ48=\"Y\",1,0)","v":0},{"$f":"IF($G48=\"Non-essential\",0,1)*IF('Assessment Framework'!BA48=\"Y\",1,0)","v":0},{"$f":"IF($G48=\"Non-essential\",0,1)*IF('Assessment Framework'!BB48=\"Y\",1,0)","v":0},{"$f":"IF($G48=\"Non-essential\",0,1)*IF('Assessment Framework'!BC48=\"Y\",1,0)","v":0},{"$f":"IF($G48=\"Non-essential\",0,1)*IF('Assessment Framework'!BD48=\"Y\",1,0)","v":0},{"$f":"IF($G48=\"Non-essential\",0,1)*IF('Assessment Framework'!BE48=\"Y\",1,0)","v":0},{"$f":"IF($G48=\"Non-essential\",0,1)*IF('Assessment Framework'!BF48=\"Y\",1,0)","v":0},{"$f":"IF($G48=\"Non-essential\",0,1)*IF('Assessment Framework'!BG48=\"Y\",1,0)","v":0},{"$f":"IF($G48=\"Non-essential\",0,1)*IF('Assessment Framework'!BH48=\"Y\",1,0)","v":0},{"$f":"IF($G48=\"Non-essential\",0,1)*IF('Assessment Framework'!BI48=\"Y\",1,0)","v":0},{"$f":"IF($G48=\"Non-essential\",0,1)*IF('Assessment Framework'!BJ48=\"Y\",1,0)","v":0},{"$f":"IF($G48=\"Non-essential\",0,1)*IF('Assessment Framework'!BK48=\"Y\",1,0)","v":0},{"$f":"IF($G48=\"Non-essential\",0,1)*IF('Assessment Framework'!BL48=\"Y\",1,0)","v":0},{"$f":"IF($G48=\"Non-essential\",0,1)*IF('Assessment Framework'!BM48=\"Y\",1,0)","v":0},{"$f":"IF($G48=\"Non-essential\",0,1)*IF('Assessment Framework'!BN48=\"Y\",1,0)","v":0},{"$f":"IF($G48=\"Non-essential\",0,1)*IF('Assessment Framework'!BO48=\"Y\",1,0)","v":0},{"$f":"IF($G48=\"Non-essential\",0,1)*IF('Assessment Framework'!BP48=\"Y\",1,0)","v":0},{"$f":"IF($G48=\"Non-essential\",0,1)*IF('Assessment Framework'!BQ48=\"Y\",1,0)","v":0},{"$f":"IF($G48=\"Non-essential\",0,1)*IF('Assessment Framework'!BR48=\"Y\",1,0)","v":0},{"$f":"IF($G48=\"Non-essential\",0,1)*IF('Assessment Framework'!BS48=\"Y\",1,0)","v":0},{"$f":"IF($G48=\"Non-essential\",0,1)*IF('Assessment Framework'!BT48=\"Y\",1,0)","v":0},{"$f":"IF($G48=\"Non-essential\",0,1)*IF('Assessment Framework'!BU48=\"Y\",1,0)","v":0},{"$f":"IF($G48=\"Non-essential\",0,1)*IF('Assessment Framework'!BV48=\"Y\",1,0)","v":0},{"$f":"IF($G48=\"Non-essential\",0,1)*IF('Assessment Framework'!BW48=\"Y\",1,0)","v":0},{"$f":"IF($G48=\"Non-essential\",0,1)*IF('Assessment Framework'!BX48=\"Y\",1,0)","v":0},{"$f":"IF($G48=\"Non-essential\",0,1)*IF('Assessment Framework'!BY48=\"Y\",1,0)","v":0},{"$f":"IF($G48=\"Non-essential\",0,1)*IF('Assessment Framework'!BZ48=\"Y\",1,0)","v":0},{"$f":"IF($G48=\"Non-essential\",0,1)*IF('Assessment Framework'!CA48=\"Y\",1,0)","v":0},{"$f":"IF($G48=\"Non-essential\",0,1)*IF('Assessment Framework'!CB48=\"Y\",1,0)","v":0},{"$f":"IF($G48=\"Non-essential\",0,1)*IF('Assessment Framework'!CC48=\"Y\",1,0)","v":0},{"$f":"IF($G48=\"Non-essential\",0,1)*IF('Assessment Framework'!CD48=\"Y\",1,0)","v":0},{"$f":"IF($G48=\"Non-essential\",0,1)*IF('Assessment Framework'!CE48=\"Y\",1,0)","v":0},{"$f":"IF($G48=\"Non-essential\",0,1)*IF('Assessment Framework'!CF48=\"Y\",1,0)","v":0},{"$f":"IF($G48=\"Non-essential\",0,1)*IF('Assessment Framework'!CG48=\"Y\",1,0)","v":0},{"$f":"IF($G48=\"Non-essential\",0,1)*IF('Assessment Framework'!CH48=\"Y\",1,0)","v":0},{"$f":"IF($G48=\"Non-essential\",0,1)*IF('Assessment Framework'!CI48=\"Y\",1,0)","v":0},{"$f":"IF($G48=\"Non-essential\",0,1)*IF('Assessment Framework'!CJ48=\"Y\",1,0)","v":0},{"$f":"IF($G48=\"Non-essential\",0,1)*IF('Assessment Framework'!CK48=\"Y\",1,0)","v":0},{"$f":"IF($G48=\"Non-essential\",0,1)*IF('Assessment Framework'!CL48=\"Y\",1,0)","v":0},{"$f":"IF($G48=\"Non-essential\",0,1)*IF('Assessment Framework'!CM48=\"Y\",1,0)","v":0}]
[null,null,null,"Sub-daily","Outputs inform on a timescale less than a day (e.g. hourly)","Y,N",{"$f":"IF('B - Technical objectives'!C27=\"\",\"Non-essential\",'B - Technical objectives'!C27)","v":"Non-essential"},{"$f":"IF($G49=\"Non-essential\",0,1)*IF('Assessment Framework'!G49=\"Y\",1,0)","v":0},{"$f":"IF($G49=\"Non-essential\",0,1)*IF('Assessment Framework'!H49=\"Y\",1,0)","v":0},{"$f":"IF($G49=\"Non-essential\",0,1)*IF('Assessment Framework'!I49=\"Y\",1,0)","v":0},{"$f":"IF($G49=\"Non-essential\",0,1)*IF('Assessment Framework'!J49=\"Y\",1,0)","v":0},{"$f":"IF($G49=\"Non-essential\",0,1)*IF('Assessment Framework'!K49=\"Y\",1,0)","v":0},{"$f":"IF($G49=\"Non-essential\",0,1)*IF('Assessment Framework'!L49=\"Y\",1,0)","v":0},{"$f":"IF($G49=\"Non-essential\",0,1)*IF('Assessment Framework'!M49=\"Y\",1,0)","v":0},{"$f":"IF($G49=\"Non-essential\",0,1)*IF('Assessment Framework'!N49=\"Y\",1,0)","v":0},{"$f":"IF($G49=\"Non-essential\",0,1)*IF('Assessment Framework'!O49=\"Y\",1,0)","v":0},{"$f":"IF($G49=\"Non-essential\",0,1)*IF('Assessment Framework'!P49=\"Y\",1,0)","v":0},{"$f":"IF($G49=\"Non-essential\",0,1)*IF('Assessment Framework'!Q49=\"Y\",1,0)","v":0},{"$f":"IF($G49=\"Non-essential\",0,1)*IF('Assessment Framework'!R49=\"Y\",1,0)","v":0},{"$f":"IF($G49=\"Non-essential\",0,1)*IF('Assessment Framework'!S49=\"Y\",1,0)","v":0},{"$f":"IF($G49=\"Non-essential\",0,1)*IF('Assessment Framework'!T49=\"Y\",1,0)","v":0},{"$f":"IF($G49=\"Non-essential\",0,1)*IF('Assessment Framework'!U49=\"Y\",1,0)","v":0},{"$f":"IF($G49=\"Non-essential\",0,1)*IF('Assessment Framework'!V49=\"Y\",1,0)","v":0},{"$f":"IF($G49=\"Non-essential\",0,1)*IF('Assessment Framework'!W49=\"Y\",1,0)","v":0},{"$f":"IF($G49=\"Non-essential\",0,1)*IF('Assessment Framework'!X49=\"Y\",1,0)","v":0},{"$f":"IF($G49=\"Non-essential\",0,1)*IF('Assessment Framework'!Y49=\"Y\",1,0)","v":0},{"$f":"IF($G49=\"Non-essential\",0,1)*IF('Assessment Framework'!Z49=\"Y\",1,0)","v":0},{"$f":"IF($G49=\"Non-essential\",0,1)*IF('Assessment Framework'!AA49=\"Y\",1,0)","v":0},{"$f":"IF($G49=\"Non-essential\",0,1)*IF('Assessment Framework'!AB49=\"Y\",1,0)","v":0},{"$f":"IF($G49=\"Non-essential\",0,1)*IF('Assessment Framework'!AC49=\"Y\",1,0)","v":0},{"$f":"IF($G49=\"Non-essential\",0,1)*IF('Assessment Framework'!AD49=\"Y\",1,0)","v":0},{"$f":"IF($G49=\"Non-essential\",0,1)*IF('Assessment Framework'!AE49=\"Y\",1,0)","v":0},{"$f":"IF($G49=\"Non-essential\",0,1)*IF('Assessment Framework'!AF49=\"Y\",1,0)","v":0},{"$f":"IF($G49=\"Non-essential\",0,1)*IF('Assessment Framework'!AG49=\"Y\",1,0)","v":0},{"$f":"IF($G49=\"Non-essential\",0,1)*IF('Assessment Framework'!AH49=\"Y\",1,0)","v":0},{"$f":"IF($G49=\"Non-essential\",0,1)*IF('Assessment Framework'!AI49=\"Y\",1,0)","v":0},{"$f":"IF($G49=\"Non-essential\",0,1)*IF('Assessment Framework'!AJ49=\"Y\",1,0)","v":0},{"$f":"IF($G49=\"Non-essential\",0,1)*IF('Assessment Framework'!AK49=\"Y\",1,0)","v":0},{"$f":"IF($G49=\"Non-essential\",0,1)*IF('Assessment Framework'!AL49=\"Y\",1,0)","v":0},{"$f":"IF($G49=\"Non-essential\",0,1)*IF('Assessment Framework'!AM49=\"Y\",1,0)","v":0},{"$f":"IF($G49=\"Non-essential\",0,1)*IF('Assessment Framework'!AN49=\"Y\",1,0)","v":0},{"$f":"IF($G49=\"Non-essential\",0,1)*IF('Assessment Framework'!AO49=\"Y\",1,0)","v":0},{"$f":"IF($G49=\"Non-essential\",0,1)*IF('Assessment Framework'!AP49=\"Y\",1,0)","v":0},{"$f":"IF($G49=\"Non-essential\",0,1)*IF('Assessment Framework'!AQ49=\"Y\",1,0)","v":0},{"$f":"IF($G49=\"Non-essential\",0,1)*IF('Assessment Framework'!AR49=\"Y\",1,0)","v":0},{"$f":"IF($G49=\"Non-essential\",0,1)*IF('Assessment Framework'!AS49=\"Y\",1,0)","v":0},{"$f":"IF($G49=\"Non-essential\",0,1)*IF('Assessment Framework'!AT49=\"Y\",1,0)","v":0},{"$f":"IF($G49=\"Non-essential\",0,1)*IF('Assessment Framework'!AU49=\"Y\",1,0)","v":0},{"$f":"IF($G49=\"Non-essential\",0,1)*IF('Assessment Framework'!AV49=\"Y\",1,0)","v":0},{"$f":"IF($G49=\"Non-essential\",0,1)*IF('Assessment Framework'!AW49=\"Y\",1,0)","v":0},{"$f":"IF($G49=\"Non-essential\",0,1)*IF('Assessment Framework'!AX49=\"Y\",1,0)","v":0},{"$f":"IF($G49=\"Non-essential\",0,1)*IF('Assessment Framework'!AY49=\"Y\",1,0)","v":0},{"$f":"IF($G49=\"Non-essential\",0,1)*IF('Assessment Framework'!AZ49=\"Y\",1,0)","v":0},{"$f":"IF($G49=\"Non-essential\",0,1)*IF('Assessment Framework'!BA49=\"Y\",1,0)","v":0},{"$f":"IF($G49=\"Non-essential\",0,1)*IF('Assessment Framework'!BB49=\"Y\",1,0)","v":0},{"$f":"IF($G49=\"Non-essential\",0,1)*IF('Assessment Framework'!BC49=\"Y\",1,0)","v":0},{"$f":"IF($G49=\"Non-essential\",0,1)*IF('Assessment Framework'!BD49=\"Y\",1,0)","v":0},{"$f":"IF($G49=\"Non-essential\",0,1)*IF('Assessment Framework'!BE49=\"Y\",1,0)","v":0},{"$f":"IF($G49=\"Non-essential\",0,1)*IF('Assessment Framework'!BF49=\"Y\",1,0)","v":0},{"$f":"IF($G49=\"Non-essential\",0,1)*IF('Assessment Framework'!BG49=\"Y\",1,0)","v":0},{"$f":"IF($G49=\"Non-essential\",0,1)*IF('Assessment Framework'!BH49=\"Y\",1,0)","v":0},{"$f":"IF($G49=\"Non-essential\",0,1)*IF('Assessment Framework'!BI49=\"Y\",1,0)","v":0},{"$f":"IF($G49=\"Non-essential\",0,1)*IF('Assessment Framework'!BJ49=\"Y\",1,0)","v":0},{"$f":"IF($G49=\"Non-essential\",0,1)*IF('Assessment Framework'!BK49=\"Y\",1,0)","v":0},{"$f":"IF($G49=\"Non-essential\",0,1)*IF('Assessment Framework'!BL49=\"Y\",1,0)","v":0},{"$f":"IF($G49=\"Non-essential\",0,1)*IF('Assessment Framework'!BM49=\"Y\",1,0)","v":0},{"$f":"IF($G49=\"Non-essential\",0,1)*IF('Assessment Framework'!BN49=\"Y\",1,0)","v":0},{"$f":"IF($G49=\"Non-essential\",0,1)*IF('Assessment Framework'!BO49=\"Y\",1,0)","v":0},{"$f":"IF($G49=\"Non-essential\",0,1)*IF('Assessment Framework'!BP49=\"Y\",1,0)","v":0},{"$f":"IF($G49=\"Non-essential\",0,1)*IF('Assessment Framework'!BQ49=\"Y\",1,0)","v":0},{"$f":"IF($G49=\"Non-essential\",0,1)*IF('Assessment Framework'!BR49=\"Y\",1,0)","v":0},{"$f":"IF($G49=\"Non-essential\",0,1)*IF('Assessment Framework'!BS49=\"Y\",1,0)","v":0},{"$f":"IF($G49=\"Non-essential\",0,1)*IF('Assessment Framework'!BT49=\"Y\",1,0)","v":0},{"$f":"IF($G49=\"Non-essential\",0,1)*IF('Assessment Framework'!BU49=\"Y\",1,0)","v":0},{"$f":"IF($G49=\"Non-essential\",0,1)*IF('Assessment Framework'!BV49=\"Y\",1,0)","v":0},{"$f":"IF($G49=\"Non-essential\",0,1)*IF('Assessment Framework'!BW49=\"Y\",1,0)","v":0},{"$f":"IF($G49=\"Non-essential\",0,1)*IF('Assessment Framework'!BX49=\"Y\",1,0)","v":0},{"$f":"IF($G49=\"Non-essential\",0,1)*IF('Assessment Framework'!BY49=\"Y\",1,0)","v":0},{"$f":"IF($G49=\"Non-essential\",0,1)*IF('Assessment Framework'!BZ49=\"Y\",1,0)","v":0},{"$f":"IF($G49=\"Non-essential\",0,1)*IF('Assessment Framework'!CA49=\"Y\",1,0)","v":0},{"$f":"IF($G49=\"Non-essential\",0,1)*IF('Assessment Framework'!CB49=\"Y\",1,0)","v":0},{"$f":"IF($G49=\"Non-essential\",0,1)*IF('Assessment Framework'!CC49=\"Y\",1,0)","v":0},{"$f":"IF($G49=\"Non-essential\",0,1)*IF('Assessment Framework'!CD49=\"Y\",1,0)","v":0},{"$f":"IF($G49=\"Non-essential\",0,1)*IF('Assessment Framework'!CE49=\"Y\",1,0)","v":0},{"$f":"IF($G49=\"Non-essential\",0,1)*IF('Assessment Framework'!CF49=\"Y\",1,0)","v":0},{"$f":"IF($G49=\"Non-essential\",0,1)*IF('Assessment Framework'!CG49=\"Y\",1,0)","v":0},{"$f":"IF($G49=\"Non-essential\",0,1)*IF('Assessment Framework'!CH49=\"Y\",1,0)","v":0},{"$f":"IF($G49=\"Non-essential\",0,1)*IF('Assessment Framework'!CI49=\"Y\",1,0)","v":0},{"$f":"IF($G49=\"Non-essential\",0,1)*IF('Assessment Framework'!CJ49=\"Y\",1,0)","v":0},{"$f":"IF($G49=\"Non-essential\",0,1)*IF('Assessment Framework'!CK49=\"Y\",1,0)","v":0},{"$f":"IF($G49=\"Non-essential\",0,1)*IF('Assessment Framework'!CL49=\"Y\",1,0)","v":0},{"$f":"IF($G49=\"Non-essential\",0,1)*IF('Assessment Framework'!CM49=\"Y\",1,0)","v":0}]
[null,"Economic / industrial sector output resolution","The economic / industrial sector resolution relates to whether outputs are reported in relation to economic sectors and companies","Economic sectors (e.g. tourism, fisheries, retail)","Outputs inform on different economic activities (e.g. fishing, retail etc.). See the International Standard Industrial Classification of All Economic Activities (ISIC), Rev. 4 for a full list of economic sectors","Y,N",{"$f":"IF('B - Technical objectives'!C30=\"\",\"Non-essential\",'B - Technical objectives'!C30)","v":"Non-essential"},{"$f":"IF($G50=\"Non-essential\",0,1)*IF('Assessment Framework'!G50=\"Y\",1,0)","v":0},{"$f":"IF($G50=\"Non-essential\",0,1)*IF('Assessment Framework'!H50=\"Y\",1,0)","v":0},{"$f":"IF($G50=\"Non-essential\",0,1)*IF('Assessment Framework'!I50=\"Y\",1,0)","v":0},{"$f":"IF($G50=\"Non-essential\",0,1)*IF('Assessment Framework'!J50=\"Y\",1,0)","v":0},{"$f":"IF($G50=\"Non-essential\",0,1)*IF('Assessment Framework'!K50=\"Y\",1,0)","v":0},{"$f":"IF($G50=\"Non-essential\",0,1)*IF('Assessment Framework'!L50=\"Y\",1,0)","v":0},{"$f":"IF($G50=\"Non-essential\",0,1)*IF('Assessment Framework'!M50=\"Y\",1,0)","v":0},{"$f":"IF($G50=\"Non-essential\",0,1)*IF('Assessment Framework'!N50=\"Y\",1,0)","v":0},{"$f":"IF($G50=\"Non-essential\",0,1)*IF('Assessment Framework'!O50=\"Y\",1,0)","v":0},{"$f":"IF($G50=\"Non-essential\",0,1)*IF('Assessment Framework'!P50=\"Y\",1,0)","v":0},{"$f":"IF($G50=\"Non-essential\",0,1)*IF('Assessment Framework'!Q50=\"Y\",1,0)","v":0},{"$f":"IF($G50=\"Non-essential\",0,1)*IF('Assessment Framework'!R50=\"Y\",1,0)","v":0},{"$f":"IF($G50=\"Non-essential\",0,1)*IF('Assessment Framework'!S50=\"Y\",1,0)","v":0},{"$f":"IF($G50=\"Non-essential\",0,1)*IF('Assessment Framework'!T50=\"Y\",1,0)","v":0},{"$f":"IF($G50=\"Non-essential\",0,1)*IF('Assessment Framework'!U50=\"Y\",1,0)","v":0},{"$f":"IF($G50=\"Non-essential\",0,1)*IF('Assessment Framework'!V50=\"Y\",1,0)","v":0},{"$f":"IF($G50=\"Non-essential\",0,1)*IF('Assessment Framework'!W50=\"Y\",1,0)","v":0},{"$f":"IF($G50=\"Non-essential\",0,1)*IF('Assessment Framework'!X50=\"Y\",1,0)","v":0},{"$f":"IF($G50=\"Non-essential\",0,1)*IF('Assessment Framework'!Y50=\"Y\",1,0)","v":0},{"$f":"IF($G50=\"Non-essential\",0,1)*IF('Assessment Framework'!Z50=\"Y\",1,0)","v":0},{"$f":"IF($G50=\"Non-essential\",0,1)*IF('Assessment Framework'!AA50=\"Y\",1,0)","v":0},{"$f":"IF($G50=\"Non-essential\",0,1)*IF('Assessment Framework'!AB50=\"Y\",1,0)","v":0},{"$f":"IF($G50=\"Non-essential\",0,1)*IF('Assessment Framework'!AC50=\"Y\",1,0)","v":0},{"$f":"IF($G50=\"Non-essential\",0,1)*IF('Assessment Framework'!AD50=\"Y\",1,0)","v":0},{"$f":"IF($G50=\"Non-essential\",0,1)*IF('Assessment Framework'!AE50=\"Y\",1,0)","v":0},{"$f":"IF($G50=\"Non-essential\",0,1)*IF('Assessment Framework'!AF50=\"Y\",1,0)","v":0},{"$f":"IF($G50=\"Non-essential\",0,1)*IF('Assessment Framework'!AG50=\"Y\",1,0)","v":0},{"$f":"IF($G50=\"Non-essential\",0,1)*IF('Assessment Framework'!AH50=\"Y\",1,0)","v":0},{"$f":"IF($G50=\"Non-essential\",0,1)*IF('Assessment Framework'!AI50=\"Y\",1,0)","v":0},{"$f":"IF($G50=\"Non-essential\",0,1)*IF('Assessment Framework'!AJ50=\"Y\",1,0)","v":0},{"$f":"IF($G50=\"Non-essential\",0,1)*IF('Assessment Framework'!AK50=\"Y\",1,0)","v":0},{"$f":"IF($G50=\"Non-essential\",0,1)*IF('Assessment Framework'!AL50=\"Y\",1,0)","v":0},{"$f":"IF($G50=\"Non-essential\",0,1)*IF('Assessment Framework'!AM50=\"Y\",1,0)","v":0},{"$f":"IF($G50=\"Non-essential\",0,1)*IF('Assessment Framework'!AN50=\"Y\",1,0)","v":0},{"$f":"IF($G50=\"Non-essential\",0,1)*IF('Assessment Framework'!AO50=\"Y\",1,0)","v":0},{"$f":"IF($G50=\"Non-essential\",0,1)*IF('Assessment Framework'!AP50=\"Y\",1,0)","v":0},{"$f":"IF($G50=\"Non-essential\",0,1)*IF('Assessment Framework'!AQ50=\"Y\",1,0)","v":0},{"$f":"IF($G50=\"Non-essential\",0,1)*IF('Assessment Framework'!AR50=\"Y\",1,0)","v":0},{"$f":"IF($G50=\"Non-essential\",0,1)*IF('Assessment Framework'!AS50=\"Y\",1,0)","v":0},{"$f":"IF($G50=\"Non-essential\",0,1)*IF('Assessment Framework'!AT50=\"Y\",1,0)","v":0},{"$f":"IF($G50=\"Non-essential\",0,1)*IF('Assessment Framework'!AU50=\"Y\",1,0)","v":0},{"$f":"IF($G50=\"Non-essential\",0,1)*IF('Assessment Framework'!AV50=\"Y\",1,0)","v":0},{"$f":"IF($G50=\"Non-essential\",0,1)*IF('Assessment Framework'!AW50=\"Y\",1,0)","v":0},{"$f":"IF($G50=\"Non-essential\",0,1)*IF('Assessment Framework'!AX50=\"Y\",1,0)","v":0},{"$f":"IF($G50=\"Non-essential\",0,1)*IF('Assessment Framework'!AY50=\"Y\",1,0)","v":0},{"$f":"IF($G50=\"Non-essential\",0,1)*IF('Assessment Framework'!AZ50=\"Y\",1,0)","v":0},{"$f":"IF($G50=\"Non-essential\",0,1)*IF('Assessment Framework'!BA50=\"Y\",1,0)","v":0},{"$f":"IF($G50=\"Non-essential\",0,1)*IF('Assessment Framework'!BB50=\"Y\",1,0)","v":0},{"$f":"IF($G50=\"Non-essential\",0,1)*IF('Assessment Framework'!BC50=\"Y\",1,0)","v":0},{"$f":"IF($G50=\"Non-essential\",0,1)*IF('Assessment Framework'!BD50=\"Y\",1,0)","v":0},{"$f":"IF($G50=\"Non-essential\",0,1)*IF('Assessment Framework'!BE50=\"Y\",1,0)","v":0},{"$f":"IF($G50=\"Non-essential\",0,1)*IF('Assessment Framework'!BF50=\"Y\",1,0)","v":0},{"$f":"IF($G50=\"Non-essential\",0,1)*IF('Assessment Framework'!BG50=\"Y\",1,0)","v":0},{"$f":"IF($G50=\"Non-essential\",0,1)*IF('Assessment Framework'!BH50=\"Y\",1,0)","v":0},{"$f":"IF($G50=\"Non-essential\",0,1)*IF('Assessment Framework'!BI50=\"Y\",1,0)","v":0},{"$f":"IF($G50=\"Non-essential\",0,1)*IF('Assessment Framework'!BJ50=\"Y\",1,0)","v":0},{"$f":"IF($G50=\"Non-essential\",0,1)*IF('Assessment Framework'!BK50=\"Y\",1,0)","v":0},{"$f":"IF($G50=\"Non-essential\",0,1)*IF('Assessment Framework'!BL50=\"Y\",1,0)","v":0},{"$f":"IF($G50=\"Non-essential\",0,1)*IF('Assessment Framework'!BM50=\"Y\",1,0)","v":0},{"$f":"IF($G50=\"Non-essential\",0,1)*IF('Assessment Framework'!BN50=\"Y\",1,0)","v":0},{"$f":"IF($G50=\"Non-essential\",0,1)*IF('Assessment Framework'!BO50=\"Y\",1,0)","v":0},{"$f":"IF($G50=\"Non-essential\",0,1)*IF('Assessment Framework'!BP50=\"Y\",1,0)","v":0},{"$f":"IF($G50=\"Non-essential\",0,1)*IF('Assessment Framework'!BQ50=\"Y\",1,0)","v":0},{"$f":"IF($G50=\"Non-essential\",0,1)*IF('Assessment Framework'!BR50=\"Y\",1,0)","v":0},{"$f":"IF($G50=\"Non-essential\",0,1)*IF('Assessment Framework'!BS50=\"Y\",1,0)","v":0},{"$f":"IF($G50=\"Non-essential\",0,1)*IF('Assessment Framework'!BT50=\"Y\",1,0)","v":0},{"$f":"IF($G50=\"Non-essential\",0,1)*IF('Assessment Framework'!BU50=\"Y\",1,0)","v":0},{"$f":"IF($G50=\"Non-essential\",0,1)*IF('Assessment Framework'!BV50=\"Y\",1,0)","v":0},{"$f":"IF($G50=\"Non-essential\",0,1)*IF('Assessment Framework'!BW50=\"Y\",1,0)","v":0},{"$f":"IF($G50=\"Non-essential\",0,1)*IF('Assessment Framework'!BX50=\"Y\",1,0)","v":0},{"$f":"IF($G50=\"Non-essential\",0,1)*IF('Assessment Framework'!BY50=\"Y\",1,0)","v":0},{"$f":"IF($G50=\"Non-essential\",0,1)*IF('Assessment Framework'!BZ50=\"Y\",1,0)","v":0},{"$f":"IF($G50=\"Non-essential\",0,1)*IF('Assessment Framework'!CA50=\"Y\",1,0)","v":0},{"$f":"IF($G50=\"Non-essential\",0,1)*IF('Assessment Framework'!CB50=\"Y\",1,0)","v":0},{"$f":"IF($G50=\"Non-essential\",0,1)*IF('Assessment Framework'!CC50=\"Y\",1,0)","v":0},{"$f":"IF($G50=\"Non-essential\",0,1)*IF('Assessment Framework'!CD50=\"Y\",1,0)","v":0},{"$f":"IF($G50=\"Non-essential\",0,1)*IF('Assessment Framework'!CE50=\"Y\",1,0)","v":0},{"$f":"IF($G50=\"Non-essential\",0,1)*IF('Assessment Framework'!CF50=\"Y\",1,0)","v":0},{"$f":"IF($G50=\"Non-essential\",0,1)*IF('Assessment Framework'!CG50=\"Y\",1,0)","v":0},{"$f":"IF($G50=\"Non-essential\",0,1)*IF('Assessment Framework'!CH50=\"Y\",1,0)","v":0},{"$f":"IF($G50=\"Non-essential\",0,1)*IF('Assessment Framework'!CI50=\"Y\",1,0)","v":0},{"$f":"IF($G50=\"Non-essential\",0,1)*IF('Assessment Framework'!CJ50=\"Y\",1,0)","v":0},{"$f":"IF($G50=\"Non-essential\",0,1)*IF('Assessment Framework'!CK50=\"Y\",1,0)","v":0},{"$f":"IF($G50=\"Non-essential\",0,1)*IF('Assessment Framework'!CL50=\"Y\",1,0)","v":0},{"$f":"IF($G50=\"Non-essential\",0,1)*IF('Assessment Framework'!CM50=\"Y\",1,0)","v":0}]
[null,null,null,"Companies","Outputs inform on a commercial business","Y,N",{"$f":"IF('B - Technical objectives'!C31=\"\",\"Non-essential\",'B - Technical objectives'!C31)","v":"Non-essential"},{"$f":"IF($G51=\"Non-essential\",0,1)*IF('Assessment Framework'!G51=\"Y\",1,0)","v":0},{"$f":"IF($G51=\"Non-essential\",0,1)*IF('Assessment Framework'!H51=\"Y\",1,0)","v":0},{"$f":"IF($G51=\"Non-essential\",0,1)*IF('Assessment Framework'!I51=\"Y\",1,0)","v":0},{"$f":"IF($G51=\"Non-essential\",0,1)*IF('Assessment Framework'!J51=\"Y\",1,0)","v":0},{"$f":"IF($G51=\"Non-essential\",0,1)*IF('Assessment Framework'!K51=\"Y\",1,0)","v":0},{"$f":"IF($G51=\"Non-essential\",0,1)*IF('Assessment Framework'!L51=\"Y\",1,0)","v":0},{"$f":"IF($G51=\"Non-essential\",0,1)*IF('Assessment Framework'!M51=\"Y\",1,0)","v":0},{"$f":"IF($G51=\"Non-essential\",0,1)*IF('Assessment Framework'!N51=\"Y\",1,0)","v":0},{"$f":"IF($G51=\"Non-essential\",0,1)*IF('Assessment Framework'!O51=\"Y\",1,0)","v":0},{"$f":"IF($G51=\"Non-essential\",0,1)*IF('Assessment Framework'!P51=\"Y\",1,0)","v":0},{"$f":"IF($G51=\"Non-essential\",0,1)*IF('Assessment Framework'!Q51=\"Y\",1,0)","v":0},{"$f":"IF($G51=\"Non-essential\",0,1)*IF('Assessment Framework'!R51=\"Y\",1,0)","v":0},{"$f":"IF($G51=\"Non-essential\",0,1)*IF('Assessment Framework'!S51=\"Y\",1,0)","v":0},{"$f":"IF($G51=\"Non-essential\",0,1)*IF('Assessment Framework'!T51=\"Y\",1,0)","v":0},{"$f":"IF($G51=\"Non-essential\",0,1)*IF('Assessment Framework'!U51=\"Y\",1,0)","v":0},{"$f":"IF($G51=\"Non-essential\",0,1)*IF('Assessment Framework'!V51=\"Y\",1,0)","v":0},{"$f":"IF($G51=\"Non-essential\",0,1)*IF('Assessment Framework'!W51=\"Y\",1,0)","v":0},{"$f":"IF($G51=\"Non-essential\",0,1)*IF('Assessment Framework'!X51=\"Y\",1,0)","v":0},{"$f":"IF($G51=\"Non-essential\",0,1)*IF('Assessment Framework'!Y51=\"Y\",1,0)","v":0},{"$f":"IF($G51=\"Non-essential\",0,1)*IF('Assessment Framework'!Z51=\"Y\",1,0)","v":0},{"$f":"IF($G51=\"Non-essential\",0,1)*IF('Assessment Framework'!AA51=\"Y\",1,0)","v":0},{"$f":"IF($G51=\"Non-essential\",0,1)*IF('Assessment Framework'!AB51=\"Y\",1,0)","v":0},{"$f":"IF($G51=\"Non-essential\",0,1)*IF('Assessment Framework'!AC51=\"Y\",1,0)","v":0},{"$f":"IF($G51=\"Non-essential\",0,1)*IF('Assessment Framework'!AD51=\"Y\",1,0)","v":0},{"$f":"IF($G51=\"Non-essential\",0,1)*IF('Assessment Framework'!AE51=\"Y\",1,0)","v":0},{"$f":"IF($G51=\"Non-essential\",0,1)*IF('Assessment Framework'!AF51=\"Y\",1,0)","v":0},{"$f":"IF($G51=\"Non-essential\",0,1)*IF('Assessment Framework'!AG51=\"Y\",1,0)","v":0},{"$f":"IF($G51=\"Non-essential\",0,1)*IF('Assessment Framework'!AH51=\"Y\",1,0)","v":0},{"$f":"IF($G51=\"Non-essential\",0,1)*IF('Assessment Framework'!AI51=\"Y\",1,0)","v":0},{"$f":"IF($G51=\"Non-essential\",0,1)*IF('Assessment Framework'!AJ51=\"Y\",1,0)","v":0},{"$f":"IF($G51=\"Non-essential\",0,1)*IF('Assessment Framework'!AK51=\"Y\",1,0)","v":0},{"$f":"IF($G51=\"Non-essential\",0,1)*IF('Assessment Framework'!AL51=\"Y\",1,0)","v":0},{"$f":"IF($G51=\"Non-essential\",0,1)*IF('Assessment Framework'!AM51=\"Y\",1,0)","v":0},{"$f":"IF($G51=\"Non-essential\",0,1)*IF('Assessment Framework'!AN51=\"Y\",1,0)","v":0},{"$f":"IF($G51=\"Non-essential\",0,1)*IF('Assessment Framework'!AO51=\"Y\",1,0)","v":0},{"$f":"IF($G51=\"Non-essential\",0,1)*IF('Assessment Framework'!AP51=\"Y\",1,0)","v":0},{"$f":"IF($G51=\"Non-essential\",0,1)*IF('Assessment Framework'!AQ51=\"Y\",1,0)","v":0},{"$f":"IF($G51=\"Non-essential\",0,1)*IF('Assessment Framework'!AR51=\"Y\",1,0)","v":0},{"$f":"IF($G51=\"Non-essential\",0,1)*IF('Assessment Framework'!AS51=\"Y\",1,0)","v":0},{"$f":"IF($G51=\"Non-essential\",0,1)*IF('Assessment Framework'!AT51=\"Y\",1,0)","v":0},{"$f":"IF($G51=\"Non-essential\",0,1)*IF('Assessment Framework'!AU51=\"Y\",1,0)","v":0},{"$f":"IF($G51=\"Non-essential\",0,1)*IF('Assessment Framework'!AV51=\"Y\",1,0)","v":0},{"$f":"IF($G51=\"Non-essential\",0,1)*IF('Assessment Framework'!AW51=\"Y\",1,0)","v":0},{"$f":"IF($G51=\"Non-essential\",0,1)*IF('Assessment Framework'!AX51=\"Y\",1,0)","v":0},{"$f":"IF($G51=\"Non-essential\",0,1)*IF('Assessment Framework'!AY51=\"Y\",1,0)","v":0},{"$f":"IF($G51=\"Non-essential\",0,1)*IF('Assessment Framework'!AZ51=\"Y\",1,0)","v":0},{"$f":"IF($G51=\"Non-essential\",0,1)*IF('Assessment Framework'!BA51=\"Y\",1,0)","v":0},{"$f":"IF($G51=\"Non-essential\",0,1)*IF('Assessment Framework'!BB51=\"Y\",1,0)","v":0},{"$f":"IF($G51=\"Non-essential\",0,1)*IF('Assessment Framework'!BC51=\"Y\",1,0)","v":0},{"$f":"IF($G51=\"Non-essential\",0,1)*IF('Assessment Framework'!BD51=\"Y\",1,0)","v":0},{"$f":"IF($G51=\"Non-essential\",0,1)*IF('Assessment Framework'!BE51=\"Y\",1,0)","v":0},{"$f":"IF($G51=\"Non-essential\",0,1)*IF('Assessment Framework'!BF51=\"Y\",1,0)","v":0},{"$f":"IF($G51=\"Non-essential\",0,1)*IF('Assessment Framework'!BG51=\"Y\",1,0)","v":0},{"$f":"IF($G51=\"Non-essential\",0,1)*IF('Assessment Framework'!BH51=\"Y\",1,0)","v":0},{"$f":"IF($G51=\"Non-essential\",0,1)*IF('Assessment Framework'!BI51=\"Y\",1,0)","v":0},{"$f":"IF($G51=\"Non-essential\",0,1)*IF('Assessment Framework'!BJ51=\"Y\",1,0)","v":0},{"$f":"IF($G51=\"Non-essential\",0,1)*IF('Assessment Framework'!BK51=\"Y\",1,0)","v":0},{"$f":"IF($G51=\"Non-essential\",0,1)*IF('Assessment Framework'!BL51=\"Y\",1,0)","v":0},{"$f":"IF($G51=\"Non-essential\",0,1)*IF('Assessment Framework'!BM51=\"Y\",1,0)","v":0},{"$f":"IF($G51=\"Non-essential\",0,1)*IF('Assessment Framework'!BN51=\"Y\",1,0)","v":0},{"$f":"IF($G51=\"Non-essential\",0,1)*IF('Assessment Framework'!BO51=\"Y\",1,0)","v":0},{"$f":"IF($G51=\"Non-essential\",0,1)*IF('Assessment Framework'!BP51=\"Y\",1,0)","v":0},{"$f":"IF($G51=\"Non-essential\",0,1)*IF('Assessment Framework'!BQ51=\"Y\",1,0)","v":0},{"$f":"IF($G51=\"Non-essential\",0,1)*IF('Assessment Framework'!BR51=\"Y\",1,0)","v":0},{"$f":"IF($G51=\"Non-essential\",0,1)*IF('Assessment Framework'!BS51=\"Y\",1,0)","v":0},{"$f":"IF($G51=\"Non-essential\",0,1)*IF('Assessment Framework'!BT51=\"Y\",1,0)","v":0},{"$f":"IF($G51=\"Non-essential\",0,1)*IF('Assessment Framework'!BU51=\"Y\",1,0)","v":0},{"$f":"IF($G51=\"Non-essential\",0,1)*IF('Assessment Framework'!BV51=\"Y\",1,0)","v":0},{"$f":"IF($G51=\"Non-essential\",0,1)*IF('Assessment Framework'!BW51=\"Y\",1,0)","v":0},{"$f":"IF($G51=\"Non-essential\",0,1)*IF('Assessment Framework'!BX51=\"Y\",1,0)","v":0},{"$f":"IF($G51=\"Non-essential\",0,1)*IF('Assessment Framework'!BY51=\"Y\",1,0)","v":0},{"$f":"IF($G51=\"Non-essential\",0,1)*IF('Assessment Framework'!BZ51=\"Y\",1,0)","v":0},{"$f":"IF($G51=\"Non-essential\",0,1)*IF('Assessment Framework'!CA51=\"Y\",1,0)","v":0},{"$f":"IF($G51=\"Non-essential\",0,1)*IF('Assessment Framework'!CB51=\"Y\",1,0)","v":0},{"$f":"IF($G51=\"Non-essential\",0,1)*IF('Assessment Framework'!CC51=\"Y\",1,0)","v":0},{"$f":"IF($G51=\"Non-essential\",0,1)*IF('Assessment Framework'!CD51=\"Y\",1,0)","v":0},{"$f":"IF($G51=\"Non-essential\",0,1)*IF('Assessment Framework'!CE51=\"Y\",1,0)","v":0},{"$f":"IF($G51=\"Non-essential\",0,1)*IF('Assessment Framework'!CF51=\"Y\",1,0)","v":0},{"$f":"IF($G51=\"Non-essential\",0,1)*IF('Assessment Framework'!CG51=\"Y\",1,0)","v":0},{"$f":"IF($G51=\"Non-essential\",0,1)*IF('Assessment Framework'!CH51=\"Y\",1,0)","v":0},{"$f":"IF($G51=\"Non-essential\",0,1)*IF('Assessment Framework'!CI51=\"Y\",1,0)","v":0},{"$f":"IF($G51=\"Non-essential\",0,1)*IF('Assessment Framework'!CJ51=\"Y\",1,0)","v":0},{"$f":"IF($G51=\"Non-essential\",0,1)*IF('Assessment Framework'!CK51=\"Y\",1,0)","v":0},{"$f":"IF($G51=\"Non-essential\",0,1)*IF('Assessment Framework'!CL51=\"Y\",1,0)","v":0},{"$f":"IF($G51=\"Non-essential\",0,1)*IF('Assessment Framework'!CM51=\"Y\",1,0)","v":0}]
[null,"Waste management activity output resolution","The waste management activity output resolution relates to the waste management activities for which outputs are reported on","Waste generation","Outputs inform on waste generation","Y,N",{"$f":"IF('B - Technical objectives'!C34=\"\",\"Non-essential\",'B - Technical objectives'!C34)","v":"Non-essential"},{"$f":"IF($G52=\"Non-essential\",0,1)*IF('Assessment Framework'!G52=\"Y\",1,0)","v":0},{"$f":"IF($G52=\"Non-essential\",0,1)*IF('Assessment Framework'!H52=\"Y\",1,0)","v":0},{"$f":"IF($G52=\"Non-essential\",0,1)*IF('Assessment Framework'!I52=\"Y\",1,0)","v":0},{"$f":"IF($G52=\"Non-essential\",0,1)*IF('Assessment Framework'!J52=\"Y\",1,0)","v":0},{"$f":"IF($G52=\"Non-essential\",0,1)*IF('Assessment Framework'!K52=\"Y\",1,0)","v":0},{"$f":"IF($G52=\"Non-essential\",0,1)*IF('Assessment Framework'!L52=\"Y\",1,0)","v":0},{"$f":"IF($G52=\"Non-essential\",0,1)*IF('Assessment Framework'!M52=\"Y\",1,0)","v":0},{"$f":"IF($G52=\"Non-essential\",0,1)*IF('Assessment Framework'!N52=\"Y\",1,0)","v":0},{"$f":"IF($G52=\"Non-essential\",0,1)*IF('Assessment Framework'!O52=\"Y\",1,0)","v":0},{"$f":"IF($G52=\"Non-essential\",0,1)*IF('Assessment Framework'!P52=\"Y\",1,0)","v":0},{"$f":"IF($G52=\"Non-essential\",0,1)*IF('Assessment Framework'!Q52=\"Y\",1,0)","v":0},{"$f":"IF($G52=\"Non-essential\",0,1)*IF('Assessment Framework'!R52=\"Y\",1,0)","v":0},{"$f":"IF($G52=\"Non-essential\",0,1)*IF('Assessment Framework'!S52=\"Y\",1,0)","v":0},{"$f":"IF($G52=\"Non-essential\",0,1)*IF('Assessment Framework'!T52=\"Y\",1,0)","v":0},{"$f":"IF($G52=\"Non-essential\",0,1)*IF('Assessment Framework'!U52=\"Y\",1,0)","v":0},{"$f":"IF($G52=\"Non-essential\",0,1)*IF('Assessment Framework'!V52=\"Y\",1,0)","v":0},{"$f":"IF($G52=\"Non-essential\",0,1)*IF('Assessment Framework'!W52=\"Y\",1,0)","v":0},{"$f":"IF($G52=\"Non-essential\",0,1)*IF('Assessment Framework'!X52=\"Y\",1,0)","v":0},{"$f":"IF($G52=\"Non-essential\",0,1)*IF('Assessment Framework'!Y52=\"Y\",1,0)","v":0},{"$f":"IF($G52=\"Non-essential\",0,1)*IF('Assessment Framework'!Z52=\"Y\",1,0)","v":0},{"$f":"IF($G52=\"Non-essential\",0,1)*IF('Assessment Framework'!AA52=\"Y\",1,0)","v":0},{"$f":"IF($G52=\"Non-essential\",0,1)*IF('Assessment Framework'!AB52=\"Y\",1,0)","v":0},{"$f":"IF($G52=\"Non-essential\",0,1)*IF('Assessment Framework'!AC52=\"Y\",1,0)","v":0},{"$f":"IF($G52=\"Non-essential\",0,1)*IF('Assessment Framework'!AD52=\"Y\",1,0)","v":0},{"$f":"IF($G52=\"Non-essential\",0,1)*IF('Assessment Framework'!AE52=\"Y\",1,0)","v":0},{"$f":"IF($G52=\"Non-essential\",0,1)*IF('Assessment Framework'!AF52=\"Y\",1,0)","v":0},{"$f":"IF($G52=\"Non-essential\",0,1)*IF('Assessment Framework'!AG52=\"Y\",1,0)","v":0},{"$f":"IF($G52=\"Non-essential\",0,1)*IF('Assessment Framework'!AH52=\"Y\",1,0)","v":0},{"$f":"IF($G52=\"Non-essential\",0,1)*IF('Assessment Framework'!AI52=\"Y\",1,0)","v":0},{"$f":"IF($G52=\"Non-essential\",0,1)*IF('Assessment Framework'!AJ52=\"Y\",1,0)","v":0},{"$f":"IF($G52=\"Non-essential\",0,1)*IF('Assessment Framework'!AK52=\"Y\",1,0)","v":0},{"$f":"IF($G52=\"Non-essential\",0,1)*IF('Assessment Framework'!AL52=\"Y\",1,0)","v":0},{"$f":"IF($G52=\"Non-essential\",0,1)*IF('Assessment Framework'!AM52=\"Y\",1,0)","v":0},{"$f":"IF($G52=\"Non-essential\",0,1)*IF('Assessment Framework'!AN52=\"Y\",1,0)","v":0},{"$f":"IF($G52=\"Non-essential\",0,1)*IF('Assessment Framework'!AO52=\"Y\",1,0)","v":0},{"$f":"IF($G52=\"Non-essential\",0,1)*IF('Assessment Framework'!AP52=\"Y\",1,0)","v":0},{"$f":"IF($G52=\"Non-essential\",0,1)*IF('Assessment Framework'!AQ52=\"Y\",1,0)","v":0},{"$f":"IF($G52=\"Non-essential\",0,1)*IF('Assessment Framework'!AR52=\"Y\",1,0)","v":0},{"$f":"IF($G52=\"Non-essential\",0,1)*IF('Assessment Framework'!AS52=\"Y\",1,0)","v":0},{"$f":"IF($G52=\"Non-essential\",0,1)*IF('Assessment Framework'!AT52=\"Y\",1,0)","v":0},{"$f":"IF($G52=\"Non-essential\",0,1)*IF('Assessment Framework'!AU52=\"Y\",1,0)","v":0},{"$f":"IF($G52=\"Non-essential\",0,1)*IF('Assessment Framework'!AV52=\"Y\",1,0)","v":0},{"$f":"IF($G52=\"Non-essential\",0,1)*IF('Assessment Framework'!AW52=\"Y\",1,0)","v":0},{"$f":"IF($G52=\"Non-essential\",0,1)*IF('Assessment Framework'!AX52=\"Y\",1,0)","v":0},{"$f":"IF($G52=\"Non-essential\",0,1)*IF('Assessment Framework'!AY52=\"Y\",1,0)","v":0},{"$f":"IF($G52=\"Non-essential\",0,1)*IF('Assessment Framework'!AZ52=\"Y\",1,0)","v":0},{"$f":"IF($G52=\"Non-essential\",0,1)*IF('Assessment Framework'!BA52=\"Y\",1,0)","v":0},{"$f":"IF($G52=\"Non-essential\",0,1)*IF('Assessment Framework'!BB52=\"Y\",1,0)","v":0},{"$f":"IF($G52=\"Non-essential\",0,1)*IF('Assessment Framework'!BC52=\"Y\",1,0)","v":0},{"$f":"IF($G52=\"Non-essential\",0,1)*IF('Assessment Framework'!BD52=\"Y\",1,0)","v":0},{"$f":"IF($G52=\"Non-essential\",0,1)*IF('Assessment Framework'!BE52=\"Y\",1,0)","v":0},{"$f":"IF($G52=\"Non-essential\",0,1)*IF('Assessment Framework'!BF52=\"Y\",1,0)","v":0},{"$f":"IF($G52=\"Non-essential\",0,1)*IF('Assessment Framework'!BG52=\"Y\",1,0)","v":0},{"$f":"IF($G52=\"Non-essential\",0,1)*IF('Assessment Framework'!BH52=\"Y\",1,0)","v":0},{"$f":"IF($G52=\"Non-essential\",0,1)*IF('Assessment Framework'!BI52=\"Y\",1,0)","v":0},{"$f":"IF($G52=\"Non-essential\",0,1)*IF('Assessment Framework'!BJ52=\"Y\",1,0)","v":0},{"$f":"IF($G52=\"Non-essential\",0,1)*IF('Assessment Framework'!BK52=\"Y\",1,0)","v":0},{"$f":"IF($G52=\"Non-essential\",0,1)*IF('Assessment Framework'!BL52=\"Y\",1,0)","v":0},{"$f":"IF($G52=\"Non-essential\",0,1)*IF('Assessment Framework'!BM52=\"Y\",1,0)","v":0},{"$f":"IF($G52=\"Non-essential\",0,1)*IF('Assessment Framework'!BN52=\"Y\",1,0)","v":0},{"$f":"IF($G52=\"Non-essential\",0,1)*IF('Assessment Framework'!BO52=\"Y\",1,0)","v":0},{"$f":"IF($G52=\"Non-essential\",0,1)*IF('Assessment Framework'!BP52=\"Y\",1,0)","v":0},{"$f":"IF($G52=\"Non-essential\",0,1)*IF('Assessment Framework'!BQ52=\"Y\",1,0)","v":0},{"$f":"IF($G52=\"Non-essential\",0,1)*IF('Assessment Framework'!BR52=\"Y\",1,0)","v":0},{"$f":"IF($G52=\"Non-essential\",0,1)*IF('Assessment Framework'!BS52=\"Y\",1,0)","v":0},{"$f":"IF($G52=\"Non-essential\",0,1)*IF('Assessment Framework'!BT52=\"Y\",1,0)","v":0},{"$f":"IF($G52=\"Non-essential\",0,1)*IF('Assessment Framework'!BU52=\"Y\",1,0)","v":0},{"$f":"IF($G52=\"Non-essential\",0,1)*IF('Assessment Framework'!BV52=\"Y\",1,0)","v":0},{"$f":"IF($G52=\"Non-essential\",0,1)*IF('Assessment Framework'!BW52=\"Y\",1,0)","v":0},{"$f":"IF($G52=\"Non-essential\",0,1)*IF('Assessment Framework'!BX52=\"Y\",1,0)","v":0},{"$f":"IF($G52=\"Non-essential\",0,1)*IF('Assessment Framework'!BY52=\"Y\",1,0)","v":0},{"$f":"IF($G52=\"Non-essential\",0,1)*IF('Assessment Framework'!BZ52=\"Y\",1,0)","v":0},{"$f":"IF($G52=\"Non-essential\",0,1)*IF('Assessment Framework'!CA52=\"Y\",1,0)","v":0},{"$f":"IF($G52=\"Non-essential\",0,1)*IF('Assessment Framework'!CB52=\"Y\",1,0)","v":0},{"$f":"IF($G52=\"Non-essential\",0,1)*IF('Assessment Framework'!CC52=\"Y\",1,0)","v":0},{"$f":"IF($G52=\"Non-essential\",0,1)*IF('Assessment Framework'!CD52=\"Y\",1,0)","v":0},{"$f":"IF($G52=\"Non-essential\",0,1)*IF('Assessment Framework'!CE52=\"Y\",1,0)","v":0},{"$f":"IF($G52=\"Non-essential\",0,1)*IF('Assessment Framework'!CF52=\"Y\",1,0)","v":0},{"$f":"IF($G52=\"Non-essential\",0,1)*IF('Assessment Framework'!CG52=\"Y\",1,0)","v":0},{"$f":"IF($G52=\"Non-essential\",0,1)*IF('Assessment Framework'!CH52=\"Y\",1,0)","v":0},{"$f":"IF($G52=\"Non-essential\",0,1)*IF('Assessment Framework'!CI52=\"Y\",1,0)","v":0},{"$f":"IF($G52=\"Non-essential\",0,1)*IF('Assessment Framework'!CJ52=\"Y\",1,0)","v":0},{"$f":"IF($G52=\"Non-essential\",0,1)*IF('Assessment Framework'!CK52=\"Y\",1,0)","v":0},{"$f":"IF($G52=\"Non-essential\",0,1)*IF('Assessment Framework'!CL52=\"Y\",1,0)","v":0},{"$f":"IF($G52=\"Non-essential\",0,1)*IF('Assessment Framework'!CM52=\"Y\",1,0)","v":0}]
[null,null,null,"Waste collection (formal)","Outputs inform on formal waste collection","Y,N",{"$f":"IF('B - Technical objectives'!C35=\"\",\"Non-essential\",'B - Technical objectives'!C35)","v":"Non-essential"},{"$f":"IF($G53=\"Non-essential\",0,1)*IF('Assessment Framework'!G53=\"Y\",1,0)","v":0},{"$f":"IF($G53=\"Non-essential\",0,1)*IF('Assessment Framework'!H53=\"Y\",1,0)","v":0},{"$f":"IF($G53=\"Non-essential\",0,1)*IF('Assessment Framework'!I53=\"Y\",1,0)","v":0},{"$f":"IF($G53=\"Non-essential\",0,1)*IF('Assessment Framework'!J53=\"Y\",1,0)","v":0},{"$f":"IF($G53=\"Non-essential\",0,1)*IF('Assessment Framework'!K53=\"Y\",1,0)","v":0},{"$f":"IF($G53=\"Non-essential\",0,1)*IF('Assessment Framework'!L53=\"Y\",1,0)","v":0},{"$f":"IF($G53=\"Non-essential\",0,1)*IF('Assessment Framework'!M53=\"Y\",1,0)","v":0},{"$f":"IF($G53=\"Non-essential\",0,1)*IF('Assessment Framework'!N53=\"Y\",1,0)","v":0},{"$f":"IF($G53=\"Non-essential\",0,1)*IF('Assessment Framework'!O53=\"Y\",1,0)","v":0},{"$f":"IF($G53=\"Non-essential\",0,1)*IF('Assessment Framework'!P53=\"Y\",1,0)","v":0},{"$f":"IF($G53=\"Non-essential\",0,1)*IF('Assessment Framework'!Q53=\"Y\",1,0)","v":0},{"$f":"IF($G53=\"Non-essential\",0,1)*IF('Assessment Framework'!R53=\"Y\",1,0)","v":0},{"$f":"IF($G53=\"Non-essential\",0,1)*IF('Assessment Framework'!S53=\"Y\",1,0)","v":0},{"$f":"IF($G53=\"Non-essential\",0,1)*IF('Assessment Framework'!T53=\"Y\",1,0)","v":0},{"$f":"IF($G53=\"Non-essential\",0,1)*IF('Assessment Framework'!U53=\"Y\",1,0)","v":0},{"$f":"IF($G53=\"Non-essential\",0,1)*IF('Assessment Framework'!V53=\"Y\",1,0)","v":0},{"$f":"IF($G53=\"Non-essential\",0,1)*IF('Assessment Framework'!W53=\"Y\",1,0)","v":0},{"$f":"IF($G53=\"Non-essential\",0,1)*IF('Assessment Framework'!X53=\"Y\",1,0)","v":0},{"$f":"IF($G53=\"Non-essential\",0,1)*IF('Assessment Framework'!Y53=\"Y\",1,0)","v":0},{"$f":"IF($G53=\"Non-essential\",0,1)*IF('Assessment Framework'!Z53=\"Y\",1,0)","v":0},{"$f":"IF($G53=\"Non-essential\",0,1)*IF('Assessment Framework'!AA53=\"Y\",1,0)","v":0},{"$f":"IF($G53=\"Non-essential\",0,1)*IF('Assessment Framework'!AB53=\"Y\",1,0)","v":0},{"$f":"IF($G53=\"Non-essential\",0,1)*IF('Assessment Framework'!AC53=\"Y\",1,0)","v":0},{"$f":"IF($G53=\"Non-essential\",0,1)*IF('Assessment Framework'!AD53=\"Y\",1,0)","v":0},{"$f":"IF($G53=\"Non-essential\",0,1)*IF('Assessment Framework'!AE53=\"Y\",1,0)","v":0},{"$f":"IF($G53=\"Non-essential\",0,1)*IF('Assessment Framework'!AF53=\"Y\",1,0)","v":0},{"$f":"IF($G53=\"Non-essential\",0,1)*IF('Assessment Framework'!AG53=\"Y\",1,0)","v":0},{"$f":"IF($G53=\"Non-essential\",0,1)*IF('Assessment Framework'!AH53=\"Y\",1,0)","v":0},{"$f":"IF($G53=\"Non-essential\",0,1)*IF('Assessment Framework'!AI53=\"Y\",1,0)","v":0},{"$f":"IF($G53=\"Non-essential\",0,1)*IF('Assessment Framework'!AJ53=\"Y\",1,0)","v":0},{"$f":"IF($G53=\"Non-essential\",0,1)*IF('Assessment Framework'!AK53=\"Y\",1,0)","v":0},{"$f":"IF($G53=\"Non-essential\",0,1)*IF('Assessment Framework'!AL53=\"Y\",1,0)","v":0},{"$f":"IF($G53=\"Non-essential\",0,1)*IF('Assessment Framework'!AM53=\"Y\",1,0)","v":0},{"$f":"IF($G53=\"Non-essential\",0,1)*IF('Assessment Framework'!AN53=\"Y\",1,0)","v":0},{"$f":"IF($G53=\"Non-essential\",0,1)*IF('Assessment Framework'!AO53=\"Y\",1,0)","v":0},{"$f":"IF($G53=\"Non-essential\",0,1)*IF('Assessment Framework'!AP53=\"Y\",1,0)","v":0},{"$f":"IF($G53=\"Non-essential\",0,1)*IF('Assessment Framework'!AQ53=\"Y\",1,0)","v":0},{"$f":"IF($G53=\"Non-essential\",0,1)*IF('Assessment Framework'!AR53=\"Y\",1,0)","v":0},{"$f":"IF($G53=\"Non-essential\",0,1)*IF('Assessment Framework'!AS53=\"Y\",1,0)","v":0},{"$f":"IF($G53=\"Non-essential\",0,1)*IF('Assessment Framework'!AT53=\"Y\",1,0)","v":0},{"$f":"IF($G53=\"Non-essential\",0,1)*IF('Assessment Framework'!AU53=\"Y\",1,0)","v":0},{"$f":"IF($G53=\"Non-essential\",0,1)*IF('Assessment Framework'!AV53=\"Y\",1,0)","v":0},{"$f":"IF($G53=\"Non-essential\",0,1)*IF('Assessment Framework'!AW53=\"Y\",1,0)","v":0},{"$f":"IF($G53=\"Non-essential\",0,1)*IF('Assessment Framework'!AX53=\"Y\",1,0)","v":0},{"$f":"IF($G53=\"Non-essential\",0,1)*IF('Assessment Framework'!AY53=\"Y\",1,0)","v":0},{"$f":"IF($G53=\"Non-essential\",0,1)*IF('Assessment Framework'!AZ53=\"Y\",1,0)","v":0},{"$f":"IF($G53=\"Non-essential\",0,1)*IF('Assessment Framework'!BA53=\"Y\",1,0)","v":0},{"$f":"IF($G53=\"Non-essential\",0,1)*IF('Assessment Framework'!BB53=\"Y\",1,0)","v":0},{"$f":"IF($G53=\"Non-essential\",0,1)*IF('Assessment Framework'!BC53=\"Y\",1,0)","v":0},{"$f":"IF($G53=\"Non-essential\",0,1)*IF('Assessment Framework'!BD53=\"Y\",1,0)","v":0},{"$f":"IF($G53=\"Non-essential\",0,1)*IF('Assessment Framework'!BE53=\"Y\",1,0)","v":0},{"$f":"IF($G53=\"Non-essential\",0,1)*IF('Assessment Framework'!BF53=\"Y\",1,0)","v":0},{"$f":"IF($G53=\"Non-essential\",0,1)*IF('Assessment Framework'!BG53=\"Y\",1,0)","v":0},{"$f":"IF($G53=\"Non-essential\",0,1)*IF('Assessment Framework'!BH53=\"Y\",1,0)","v":0},{"$f":"IF($G53=\"Non-essential\",0,1)*IF('Assessment Framework'!BI53=\"Y\",1,0)","v":0},{"$f":"IF($G53=\"Non-essential\",0,1)*IF('Assessment Framework'!BJ53=\"Y\",1,0)","v":0},{"$f":"IF($G53=\"Non-essential\",0,1)*IF('Assessment Framework'!BK53=\"Y\",1,0)","v":0},{"$f":"IF($G53=\"Non-essential\",0,1)*IF('Assessment Framework'!BL53=\"Y\",1,0)","v":0},{"$f":"IF($G53=\"Non-essential\",0,1)*IF('Assessment Framework'!BM53=\"Y\",1,0)","v":0},{"$f":"IF($G53=\"Non-essential\",0,1)*IF('Assessment Framework'!BN53=\"Y\",1,0)","v":0},{"$f":"IF($G53=\"Non-essential\",0,1)*IF('Assessment Framework'!BO53=\"Y\",1,0)","v":0},{"$f":"IF($G53=\"Non-essential\",0,1)*IF('Assessment Framework'!BP53=\"Y\",1,0)","v":0},{"$f":"IF($G53=\"Non-essential\",0,1)*IF('Assessment Framework'!BQ53=\"Y\",1,0)","v":0},{"$f":"IF($G53=\"Non-essential\",0,1)*IF('Assessment Framework'!BR53=\"Y\",1,0)","v":0},{"$f":"IF($G53=\"Non-essential\",0,1)*IF('Assessment Framework'!BS53=\"Y\",1,0)","v":0},{"$f":"IF($G53=\"Non-essential\",0,1)*IF('Assessment Framework'!BT53=\"Y\",1,0)","v":0},{"$f":"IF($G53=\"Non-essential\",0,1)*IF('Assessment Framework'!BU53=\"Y\",1,0)","v":0},{"$f":"IF($G53=\"Non-essential\",0,1)*IF('Assessment Framework'!BV53=\"Y\",1,0)","v":0},{"$f":"IF($G53=\"Non-essential\",0,1)*IF('Assessment Framework'!BW53=\"Y\",1,0)","v":0},{"$f":"IF($G53=\"Non-essential\",0,1)*IF('Assessment Framework'!BX53=\"Y\",1,0)","v":0},{"$f":"IF($G53=\"Non-essential\",0,1)*IF('Assessment Framework'!BY53=\"Y\",1,0)","v":0},{"$f":"IF($G53=\"Non-essential\",0,1)*IF('Assessment Framework'!BZ53=\"Y\",1,0)","v":0},{"$f":"IF($G53=\"Non-essential\",0,1)*IF('Assessment Framework'!CA53=\"Y\",1,0)","v":0},{"$f":"IF($G53=\"Non-essential\",0,1)*IF('Assessment Framework'!CB53=\"Y\",1,0)","v":0},{"$f":"IF($G53=\"Non-essential\",0,1)*IF('Assessment Framework'!CC53=\"Y\",1,0)","v":0},{"$f":"IF($G53=\"Non-essential\",0,1)*IF('Assessment Framework'!CD53=\"Y\",1,0)","v":0},{"$f":"IF($G53=\"Non-essential\",0,1)*IF('Assessment Framework'!CE53=\"Y\",1,0)","v":0},{"$f":"IF($G53=\"Non-essential\",0,1)*IF('Assessment Framework'!CF53=\"Y\",1,0)","v":0},{"$f":"IF($G53=\"Non-essential\",0,1)*IF('Assessment Framework'!CG53=\"Y\",1,0)","v":0},{"$f":"IF($G53=\"Non-essential\",0,1)*IF('Assessment Framework'!CH53=\"Y\",1,0)","v":0},{"$f":"IF($G53=\"Non-essential\",0,1)*IF('Assessment Framework'!CI53=\"Y\",1,0)","v":0},{"$f":"IF($G53=\"Non-essential\",0,1)*IF('Assessment Framework'!CJ53=\"Y\",1,0)","v":0},{"$f":"IF($G53=\"Non-essential\",0,1)*IF('Assessment Framework'!CK53=\"Y\",1,0)","v":0},{"$f":"IF($G53=\"Non-essential\",0,1)*IF('Assessment Framework'!CL53=\"Y\",1,0)","v":0},{"$f":"IF($G53=\"Non-essential\",0,1)*IF('Assessment Framework'!CM53=\"Y\",1,0)","v":0}]
[null,null,null,"Waste collection (informal)","Outputs inform on informal waste collection","Y,N",{"$f":"IF('B - Technical objectives'!C36=\"\",\"Non-essential\",'B - Technical objectives'!C36)","v":"Non-essential"},{"$f":"IF($G54=\"Non-essential\",0,1)*IF('Assessment Framework'!G54=\"Y\",1,0)","v":0},{"$f":"IF($G54=\"Non-essential\",0,1)*IF('Assessment Framework'!H54=\"Y\",1,0)","v":0},{"$f":"IF($G54=\"Non-essential\",0,1)*IF('Assessment Framework'!I54=\"Y\",1,0)","v":0},{"$f":"IF($G54=\"Non-essential\",0,1)*IF('Assessment Framework'!J54=\"Y\",1,0)","v":0},{"$f":"IF($G54=\"Non-essential\",0,1)*IF('Assessment Framework'!K54=\"Y\",1,0)","v":0},{"$f":"IF($G54=\"Non-essential\",0,1)*IF('Assessment Framework'!L54=\"Y\",1,0)","v":0},{"$f":"IF($G54=\"Non-essential\",0,1)*IF('Assessment Framework'!M54=\"Y\",1,0)","v":0},{"$f":"IF($G54=\"Non-essential\",0,1)*IF('Assessment Framework'!N54=\"Y\",1,0)","v":0},{"$f":"IF($G54=\"Non-essential\",0,1)*IF('Assessment Framework'!O54=\"Y\",1,0)","v":0},{"$f":"IF($G54=\"Non-essential\",0,1)*IF('Assessment Framework'!P54=\"Y\",1,0)","v":0},{"$f":"IF($G54=\"Non-essential\",0,1)*IF('Assessment Framework'!Q54=\"Y\",1,0)","v":0},{"$f":"IF($G54=\"Non-essential\",0,1)*IF('Assessment Framework'!R54=\"Y\",1,0)","v":0},{"$f":"IF($G54=\"Non-essential\",0,1)*IF('Assessment Framework'!S54=\"Y\",1,0)","v":0},{"$f":"IF($G54=\"Non-essential\",0,1)*IF('Assessment Framework'!T54=\"Y\",1,0)","v":0},{"$f":"IF($G54=\"Non-essential\",0,1)*IF('Assessment Framework'!U54=\"Y\",1,0)","v":0},{"$f":"IF($G54=\"Non-essential\",0,1)*IF('Assessment Framework'!V54=\"Y\",1,0)","v":0},{"$f":"IF($G54=\"Non-essential\",0,1)*IF('Assessment Framework'!W54=\"Y\",1,0)","v":0},{"$f":"IF($G54=\"Non-essential\",0,1)*IF('Assessment Framework'!X54=\"Y\",1,0)","v":0},{"$f":"IF($G54=\"Non-essential\",0,1)*IF('Assessment Framework'!Y54=\"Y\",1,0)","v":0},{"$f":"IF($G54=\"Non-essential\",0,1)*IF('Assessment Framework'!Z54=\"Y\",1,0)","v":0},{"$f":"IF($G54=\"Non-essential\",0,1)*IF('Assessment Framework'!AA54=\"Y\",1,0)","v":0},{"$f":"IF($G54=\"Non-essential\",0,1)*IF('Assessment Framework'!AB54=\"Y\",1,0)","v":0},{"$f":"IF($G54=\"Non-essential\",0,1)*IF('Assessment Framework'!AC54=\"Y\",1,0)","v":0},{"$f":"IF($G54=\"Non-essential\",0,1)*IF('Assessment Framework'!AD54=\"Y\",1,0)","v":0},{"$f":"IF($G54=\"Non-essential\",0,1)*IF('Assessment Framework'!AE54=\"Y\",1,0)","v":0},{"$f":"IF($G54=\"Non-essential\",0,1)*IF('Assessment Framework'!AF54=\"Y\",1,0)","v":0},{"$f":"IF($G54=\"Non-essential\",0,1)*IF('Assessment Framework'!AG54=\"Y\",1,0)","v":0},{"$f":"IF($G54=\"Non-essential\",0,1)*IF('Assessment Framework'!AH54=\"Y\",1,0)","v":0},{"$f":"IF($G54=\"Non-essential\",0,1)*IF('Assessment Framework'!AI54=\"Y\",1,0)","v":0},{"$f":"IF($G54=\"Non-essential\",0,1)*IF('Assessment Framework'!AJ54=\"Y\",1,0)","v":0},{"$f":"IF($G54=\"Non-essential\",0,1)*IF('Assessment Framework'!AK54=\"Y\",1,0)","v":0},{"$f":"IF($G54=\"Non-essential\",0,1)*IF('Assessment Framework'!AL54=\"Y\",1,0)","v":0},{"$f":"IF($G54=\"Non-essential\",0,1)*IF('Assessment Framework'!AM54=\"Y\",1,0)","v":0},{"$f":"IF($G54=\"Non-essential\",0,1)*IF('Assessment Framework'!AN54=\"Y\",1,0)","v":0},{"$f":"IF($G54=\"Non-essential\",0,1)*IF('Assessment Framework'!AO54=\"Y\",1,0)","v":0},{"$f":"IF($G54=\"Non-essential\",0,1)*IF('Assessment Framework'!AP54=\"Y\",1,0)","v":0},{"$f":"IF($G54=\"Non-essential\",0,1)*IF('Assessment Framework'!AQ54=\"Y\",1,0)","v":0},{"$f":"IF($G54=\"Non-essential\",0,1)*IF('Assessment Framework'!AR54=\"Y\",1,0)","v":0},{"$f":"IF($G54=\"Non-essential\",0,1)*IF('Assessment Framework'!AS54=\"Y\",1,0)","v":0},{"$f":"IF($G54=\"Non-essential\",0,1)*IF('Assessment Framework'!AT54=\"Y\",1,0)","v":0},{"$f":"IF($G54=\"Non-essential\",0,1)*IF('Assessment Framework'!AU54=\"Y\",1,0)","v":0},{"$f":"IF($G54=\"Non-essential\",0,1)*IF('Assessment Framework'!AV54=\"Y\",1,0)","v":0},{"$f":"IF($G54=\"Non-essential\",0,1)*IF('Assessment Framework'!AW54=\"Y\",1,0)","v":0},{"$f":"IF($G54=\"Non-essential\",0,1)*IF('Assessment Framework'!AX54=\"Y\",1,0)","v":0},{"$f":"IF($G54=\"Non-essential\",0,1)*IF('Assessment Framework'!AY54=\"Y\",1,0)","v":0},{"$f":"IF($G54=\"Non-essential\",0,1)*IF('Assessment Framework'!AZ54=\"Y\",1,0)","v":0},{"$f":"IF($G54=\"Non-essential\",0,1)*IF('Assessment Framework'!BA54=\"Y\",1,0)","v":0},{"$f":"IF($G54=\"Non-essential\",0,1)*IF('Assessment Framework'!BB54=\"Y\",1,0)","v":0},{"$f":"IF($G54=\"Non-essential\",0,1)*IF('Assessment Framework'!BC54=\"Y\",1,0)","v":0},{"$f":"IF($G54=\"Non-essential\",0,1)*IF('Assessment Framework'!BD54=\"Y\",1,0)","v":0},{"$f":"IF($G54=\"Non-essential\",0,1)*IF('Assessment Framework'!BE54=\"Y\",1,0)","v":0},{"$f":"IF($G54=\"Non-essential\",0,1)*IF('Assessment Framework'!BF54=\"Y\",1,0)","v":0},{"$f":"IF($G54=\"Non-essential\",0,1)*IF('Assessment Framework'!BG54=\"Y\",1,0)","v":0},{"$f":"IF($G54=\"Non-essential\",0,1)*IF('Assessment Framework'!BH54=\"Y\",1,0)","v":0},{"$f":"IF($G54=\"Non-essential\",0,1)*IF('Assessment Framework'!BI54=\"Y\",1,0)","v":0},{"$f":"IF($G54=\"Non-essential\",0,1)*IF('Assessment Framework'!BJ54=\"Y\",1,0)","v":0},{"$f":"IF($G54=\"Non-essential\",0,1)*IF('Assessment Framework'!BK54=\"Y\",1,0)","v":0},{"$f":"IF($G54=\"Non-essential\",0,1)*IF('Assessment Framework'!BL54=\"Y\",1,0)","v":0},{"$f":"IF($G54=\"Non-essential\",0,1)*IF('Assessment Framework'!BM54=\"Y\",1,0)","v":0},{"$f":"IF($G54=\"Non-essential\",0,1)*IF('Assessment Framework'!BN54=\"Y\",1,0)","v":0},{"$f":"IF($G54=\"Non-essential\",0,1)*IF('Assessment Framework'!BO54=\"Y\",1,0)","v":0},{"$f":"IF($G54=\"Non-essential\",0,1)*IF('Assessment Framework'!BP54=\"Y\",1,0)","v":0},{"$f":"IF($G54=\"Non-essential\",0,1)*IF('Assessment Framework'!BQ54=\"Y\",1,0)","v":0},{"$f":"IF($G54=\"Non-essential\",0,1)*IF('Assessment Framework'!BR54=\"Y\",1,0)","v":0},{"$f":"IF($G54=\"Non-essential\",0,1)*IF('Assessment Framework'!BS54=\"Y\",1,0)","v":0},{"$f":"IF($G54=\"Non-essential\",0,1)*IF('Assessment Framework'!BT54=\"Y\",1,0)","v":0},{"$f":"IF($G54=\"Non-essential\",0,1)*IF('Assessment Framework'!BU54=\"Y\",1,0)","v":0},{"$f":"IF($G54=\"Non-essential\",0,1)*IF('Assessment Framework'!BV54=\"Y\",1,0)","v":0},{"$f":"IF($G54=\"Non-essential\",0,1)*IF('Assessment Framework'!BW54=\"Y\",1,0)","v":0},{"$f":"IF($G54=\"Non-essential\",0,1)*IF('Assessment Framework'!BX54=\"Y\",1,0)","v":0},{"$f":"IF($G54=\"Non-essential\",0,1)*IF('Assessment Framework'!BY54=\"Y\",1,0)","v":0},{"$f":"IF($G54=\"Non-essential\",0,1)*IF('Assessment Framework'!BZ54=\"Y\",1,0)","v":0},{"$f":"IF($G54=\"Non-essential\",0,1)*IF('Assessment Framework'!CA54=\"Y\",1,0)","v":0},{"$f":"IF($G54=\"Non-essential\",0,1)*IF('Assessment Framework'!CB54=\"Y\",1,0)","v":0},{"$f":"IF($G54=\"Non-essential\",0,1)*IF('Assessment Framework'!CC54=\"Y\",1,0)","v":0},{"$f":"IF($G54=\"Non-essential\",0,1)*IF('Assessment Framework'!CD54=\"Y\",1,0)","v":0},{"$f":"IF($G54=\"Non-essential\",0,1)*IF('Assessment Framework'!CE54=\"Y\",1,0)","v":0},{"$f":"IF($G54=\"Non-essential\",0,1)*IF('Assessment Framework'!CF54=\"Y\",1,0)","v":0},{"$f":"IF($G54=\"Non-essential\",0,1)*IF('Assessment Framework'!CG54=\"Y\",1,0)","v":0},{"$f":"IF($G54=\"Non-essential\",0,1)*IF('Assessment Framework'!CH54=\"Y\",1,0)","v":0},{"$f":"IF($G54=\"Non-essential\",0,1)*IF('Assessment Framework'!CI54=\"Y\",1,0)","v":0},{"$f":"IF($G54=\"Non-essential\",0,1)*IF('Assessment Framework'!CJ54=\"Y\",1,0)","v":0},{"$f":"IF($G54=\"Non-essential\",0,1)*IF('Assessment Framework'!CK54=\"Y\",1,0)","v":0},{"$f":"IF($G54=\"Non-essential\",0,1)*IF('Assessment Framework'!CL54=\"Y\",1,0)","v":0},{"$f":"IF($G54=\"Non-essential\",0,1)*IF('Assessment Framework'!CM54=\"Y\",1,0)","v":0}]
[null,null,null,"Sorting","Outputs inform on waste sorting for reprocessing","Y,N",{"$f":"IF('B - Technical objectives'!C37=\"\",\"Non-essential\",'B - Technical objectives'!C37)","v":"Non-essential"},{"$f":"IF($G55=\"Non-essential\",0,1)*IF('Assessment Framework'!G55=\"Y\",1,0)","v":0},{"$f":"IF($G55=\"Non-essential\",0,1)*IF('Assessment Framework'!H55=\"Y\",1,0)","v":0},{"$f":"IF($G55=\"Non-essential\",0,1)*IF('Assessment Framework'!I55=\"Y\",1,0)","v":0},{"$f":"IF($G55=\"Non-essential\",0,1)*IF('Assessment Framework'!J55=\"Y\",1,0)","v":0},{"$f":"IF($G55=\"Non-essential\",0,1)*IF('Assessment Framework'!K55=\"Y\",1,0)","v":0},{"$f":"IF($G55=\"Non-essential\",0,1)*IF('Assessment Framework'!L55=\"Y\",1,0)","v":0},{"$f":"IF($G55=\"Non-essential\",0,1)*IF('Assessment Framework'!M55=\"Y\",1,0)","v":0},{"$f":"IF($G55=\"Non-essential\",0,1)*IF('Assessment Framework'!N55=\"Y\",1,0)","v":0},{"$f":"IF($G55=\"Non-essential\",0,1)*IF('Assessment Framework'!O55=\"Y\",1,0)","v":0},{"$f":"IF($G55=\"Non-essential\",0,1)*IF('Assessment Framework'!P55=\"Y\",1,0)","v":0},{"$f":"IF($G55=\"Non-essential\",0,1)*IF('Assessment Framework'!Q55=\"Y\",1,0)","v":0},{"$f":"IF($G55=\"Non-essential\",0,1)*IF('Assessment Framework'!R55=\"Y\",1,0)","v":0},{"$f":"IF($G55=\"Non-essential\",0,1)*IF('Assessment Framework'!S55=\"Y\",1,0)","v":0},{"$f":"IF($G55=\"Non-essential\",0,1)*IF('Assessment Framework'!T55=\"Y\",1,0)","v":0},{"$f":"IF($G55=\"Non-essential\",0,1)*IF('Assessment Framework'!U55=\"Y\",1,0)","v":0},{"$f":"IF($G55=\"Non-essential\",0,1)*IF('Assessment Framework'!V55=\"Y\",1,0)","v":0},{"$f":"IF($G55=\"Non-essential\",0,1)*IF('Assessment Framework'!W55=\"Y\",1,0)","v":0},{"$f":"IF($G55=\"Non-essential\",0,1)*IF('Assessment Framework'!X55=\"Y\",1,0)","v":0},{"$f":"IF($G55=\"Non-essential\",0,1)*IF('Assessment Framework'!Y55=\"Y\",1,0)","v":0},{"$f":"IF($G55=\"Non-essential\",0,1)*IF('Assessment Framework'!Z55=\"Y\",1,0)","v":0},{"$f":"IF($G55=\"Non-essential\",0,1)*IF('Assessment Framework'!AA55=\"Y\",1,0)","v":0},{"$f":"IF($G55=\"Non-essential\",0,1)*IF('Assessment Framework'!AB55=\"Y\",1,0)","v":0},{"$f":"IF($G55=\"Non-essential\",0,1)*IF('Assessment Framework'!AC55=\"Y\",1,0)","v":0},{"$f":"IF($G55=\"Non-essential\",0,1)*IF('Assessment Framework'!AD55=\"Y\",1,0)","v":0},{"$f":"IF($G55=\"Non-essential\",0,1)*IF('Assessment Framework'!AE55=\"Y\",1,0)","v":0},{"$f":"IF($G55=\"Non-essential\",0,1)*IF('Assessment Framework'!AF55=\"Y\",1,0)","v":0},{"$f":"IF($G55=\"Non-essential\",0,1)*IF('Assessment Framework'!AG55=\"Y\",1,0)","v":0},{"$f":"IF($G55=\"Non-essential\",0,1)*IF('Assessment Framework'!AH55=\"Y\",1,0)","v":0},{"$f":"IF($G55=\"Non-essential\",0,1)*IF('Assessment Framework'!AI55=\"Y\",1,0)","v":0},{"$f":"IF($G55=\"Non-essential\",0,1)*IF('Assessment Framework'!AJ55=\"Y\",1,0)","v":0},{"$f":"IF($G55=\"Non-essential\",0,1)*IF('Assessment Framework'!AK55=\"Y\",1,0)","v":0},{"$f":"IF($G55=\"Non-essential\",0,1)*IF('Assessment Framework'!AL55=\"Y\",1,0)","v":0},{"$f":"IF($G55=\"Non-essential\",0,1)*IF('Assessment Framework'!AM55=\"Y\",1,0)","v":0},{"$f":"IF($G55=\"Non-essential\",0,1)*IF('Assessment Framework'!AN55=\"Y\",1,0)","v":0},{"$f":"IF($G55=\"Non-essential\",0,1)*IF('Assessment Framework'!AO55=\"Y\",1,0)","v":0},{"$f":"IF($G55=\"Non-essential\",0,1)*IF('Assessment Framework'!AP55=\"Y\",1,0)","v":0},{"$f":"IF($G55=\"Non-essential\",0,1)*IF('Assessment Framework'!AQ55=\"Y\",1,0)","v":0},{"$f":"IF($G55=\"Non-essential\",0,1)*IF('Assessment Framework'!AR55=\"Y\",1,0)","v":0},{"$f":"IF($G55=\"Non-essential\",0,1)*IF('Assessment Framework'!AS55=\"Y\",1,0)","v":0},{"$f":"IF($G55=\"Non-essential\",0,1)*IF('Assessment Framework'!AT55=\"Y\",1,0)","v":0},{"$f":"IF($G55=\"Non-essential\",0,1)*IF('Assessment Framework'!AU55=\"Y\",1,0)","v":0},{"$f":"IF($G55=\"Non-essential\",0,1)*IF('Assessment Framework'!AV55=\"Y\",1,0)","v":0},{"$f":"IF($G55=\"Non-essential\",0,1)*IF('Assessment Framework'!AW55=\"Y\",1,0)","v":0},{"$f":"IF($G55=\"Non-essential\",0,1)*IF('Assessment Framework'!AX55=\"Y\",1,0)","v":0},{"$f":"IF($G55=\"Non-essential\",0,1)*IF('Assessment Framework'!AY55=\"Y\",1,0)","v":0},{"$f":"IF($G55=\"Non-essential\",0,1)*IF('Assessment Framework'!AZ55=\"Y\",1,0)","v":0},{"$f":"IF($G55=\"Non-essential\",0,1)*IF('Assessment Framework'!BA55=\"Y\",1,0)","v":0},{"$f":"IF($G55=\"Non-essential\",0,1)*IF('Assessment Framework'!BB55=\"Y\",1,0)","v":0},{"$f":"IF($G55=\"Non-essential\",0,1)*IF('Assessment Framework'!BC55=\"Y\",1,0)","v":0},{"$f":"IF($G55=\"Non-essential\",0,1)*IF('Assessment Framework'!BD55=\"Y\",1,0)","v":0},{"$f":"IF($G55=\"Non-essential\",0,1)*IF('Assessment Framework'!BE55=\"Y\",1,0)","v":0},{"$f":"IF($G55=\"Non-essential\",0,1)*IF('Assessment Framework'!BF55=\"Y\",1,0)","v":0},{"$f":"IF($G55=\"Non-essential\",0,1)*IF('Assessment Framework'!BG55=\"Y\",1,0)","v":0},{"$f":"IF($G55=\"Non-essential\",0,1)*IF('Assessment Framework'!BH55=\"Y\",1,0)","v":0},{"$f":"IF($G55=\"Non-essential\",0,1)*IF('Assessment Framework'!BI55=\"Y\",1,0)","v":0},{"$f":"IF($G55=\"Non-essential\",0,1)*IF('Assessment Framework'!BJ55=\"Y\",1,0)","v":0},{"$f":"IF($G55=\"Non-essential\",0,1)*IF('Assessment Framework'!BK55=\"Y\",1,0)","v":0},{"$f":"IF($G55=\"Non-essential\",0,1)*IF('Assessment Framework'!BL55=\"Y\",1,0)","v":0},{"$f":"IF($G55=\"Non-essential\",0,1)*IF('Assessment Framework'!BM55=\"Y\",1,0)","v":0},{"$f":"IF($G55=\"Non-essential\",0,1)*IF('Assessment Framework'!BN55=\"Y\",1,0)","v":0},{"$f":"IF($G55=\"Non-essential\",0,1)*IF('Assessment Framework'!BO55=\"Y\",1,0)","v":0},{"$f":"IF($G55=\"Non-essential\",0,1)*IF('Assessment Framework'!BP55=\"Y\",1,0)","v":0},{"$f":"IF($G55=\"Non-essential\",0,1)*IF('Assessment Framework'!BQ55=\"Y\",1,0)","v":0},{"$f":"IF($G55=\"Non-essential\",0,1)*IF('Assessment Framework'!BR55=\"Y\",1,0)","v":0},{"$f":"IF($G55=\"Non-essential\",0,1)*IF('Assessment Framework'!BS55=\"Y\",1,0)","v":0},{"$f":"IF($G55=\"Non-essential\",0,1)*IF('Assessment Framework'!BT55=\"Y\",1,0)","v":0},{"$f":"IF($G55=\"Non-essential\",0,1)*IF('Assessment Framework'!BU55=\"Y\",1,0)","v":0},{"$f":"IF($G55=\"Non-essential\",0,1)*IF('Assessment Framework'!BV55=\"Y\",1,0)","v":0},{"$f":"IF($G55=\"Non-essential\",0,1)*IF('Assessment Framework'!BW55=\"Y\",1,0)","v":0},{"$f":"IF($G55=\"Non-essential\",0,1)*IF('Assessment Framework'!BX55=\"Y\",1,0)","v":0},{"$f":"IF($G55=\"Non-essential\",0,1)*IF('Assessment Framework'!BY55=\"Y\",1,0)","v":0},{"$f":"IF($G55=\"Non-essential\",0,1)*IF('Assessment Framework'!BZ55=\"Y\",1,0)","v":0},{"$f":"IF($G55=\"Non-essential\",0,1)*IF('Assessment Framework'!CA55=\"Y\",1,0)","v":0},{"$f":"IF($G55=\"Non-essential\",0,1)*IF('Assessment Framework'!CB55=\"Y\",1,0)","v":0},{"$f":"IF($G55=\"Non-essential\",0,1)*IF('Assessment Framework'!CC55=\"Y\",1,0)","v":0},{"$f":"IF($G55=\"Non-essential\",0,1)*IF('Assessment Framework'!CD55=\"Y\",1,0)","v":0},{"$f":"IF($G55=\"Non-essential\",0,1)*IF('Assessment Framework'!CE55=\"Y\",1,0)","v":0},{"$f":"IF($G55=\"Non-essential\",0,1)*IF('Assessment Framework'!CF55=\"Y\",1,0)","v":0},{"$f":"IF($G55=\"Non-essential\",0,1)*IF('Assessment Framework'!CG55=\"Y\",1,0)","v":0},{"$f":"IF($G55=\"Non-essential\",0,1)*IF('Assessment Framework'!CH55=\"Y\",1,0)","v":0},{"$f":"IF($G55=\"Non-essential\",0,1)*IF('Assessment Framework'!CI55=\"Y\",1,0)","v":0},{"$f":"IF($G55=\"Non-essential\",0,1)*IF('Assessment Framework'!CJ55=\"Y\",1,0)","v":0},{"$f":"IF($G55=\"Non-essential\",0,1)*IF('Assessment Framework'!CK55=\"Y\",1,0)","v":0},{"$f":"IF($G55=\"Non-essential\",0,1)*IF('Assessment Framework'!CL55=\"Y\",1,0)","v":0},{"$f":"IF($G55=\"Non-essential\",0,1)*IF('Assessment Framework'!CM55=\"Y\",1,0)","v":0}]
[null,null,null,"Reprocessing","Outputs inform on waste reprocessing (recycling)","Y,N",{"$f":"IF('B - Technical objectives'!C38=\"\",\"Non-essential\",'B - Technical objectives'!C38)","v":"Non-essential"},{"$f":"IF($G56=\"Non-essential\",0,1)*IF('Assessment Framework'!G56=\"Y\",1,0)","v":0},{"$f":"IF($G56=\"Non-essential\",0,1)*IF('Assessment Framework'!H56=\"Y\",1,0)","v":0},{"$f":"IF($G56=\"Non-essential\",0,1)*IF('Assessment Framework'!I56=\"Y\",1,0)","v":0},{"$f":"IF($G56=\"Non-essential\",0,1)*IF('Assessment Framework'!J56=\"Y\",1,0)","v":0},{"$f":"IF($G56=\"Non-essential\",0,1)*IF('Assessment Framework'!K56=\"Y\",1,0)","v":0},{"$f":"IF($G56=\"Non-essential\",0,1)*IF('Assessment Framework'!L56=\"Y\",1,0)","v":0},{"$f":"IF($G56=\"Non-essential\",0,1)*IF('Assessment Framework'!M56=\"Y\",1,0)","v":0},{"$f":"IF($G56=\"Non-essential\",0,1)*IF('Assessment Framework'!N56=\"Y\",1,0)","v":0},{"$f":"IF($G56=\"Non-essential\",0,1)*IF('Assessment Framework'!O56=\"Y\",1,0)","v":0},{"$f":"IF($G56=\"Non-essential\",0,1)*IF('Assessment Framework'!P56=\"Y\",1,0)","v":0},{"$f":"IF($G56=\"Non-essential\",0,1)*IF('Assessment Framework'!Q56=\"Y\",1,0)","v":0},{"$f":"IF($G56=\"Non-essential\",0,1)*IF('Assessment Framework'!R56=\"Y\",1,0)","v":0},{"$f":"IF($G56=\"Non-essential\",0,1)*IF('Assessment Framework'!S56=\"Y\",1,0)","v":0},{"$f":"IF($G56=\"Non-essential\",0,1)*IF('Assessment Framework'!T56=\"Y\",1,0)","v":0},{"$f":"IF($G56=\"Non-essential\",0,1)*IF('Assessment Framework'!U56=\"Y\",1,0)","v":0},{"$f":"IF($G56=\"Non-essential\",0,1)*IF('Assessment Framework'!V56=\"Y\",1,0)","v":0},{"$f":"IF($G56=\"Non-essential\",0,1)*IF('Assessment Framework'!W56=\"Y\",1,0)","v":0},{"$f":"IF($G56=\"Non-essential\",0,1)*IF('Assessment Framework'!X56=\"Y\",1,0)","v":0},{"$f":"IF($G56=\"Non-essential\",0,1)*IF('Assessment Framework'!Y56=\"Y\",1,0)","v":0},{"$f":"IF($G56=\"Non-essential\",0,1)*IF('Assessment Framework'!Z56=\"Y\",1,0)","v":0},{"$f":"IF($G56=\"Non-essential\",0,1)*IF('Assessment Framework'!AA56=\"Y\",1,0)","v":0},{"$f":"IF($G56=\"Non-essential\",0,1)*IF('Assessment Framework'!AB56=\"Y\",1,0)","v":0},{"$f":"IF($G56=\"Non-essential\",0,1)*IF('Assessment Framework'!AC56=\"Y\",1,0)","v":0},{"$f":"IF($G56=\"Non-essential\",0,1)*IF('Assessment Framework'!AD56=\"Y\",1,0)","v":0},{"$f":"IF($G56=\"Non-essential\",0,1)*IF('Assessment Framework'!AE56=\"Y\",1,0)","v":0},{"$f":"IF($G56=\"Non-essential\",0,1)*IF('Assessment Framework'!AF56=\"Y\",1,0)","v":0},{"$f":"IF($G56=\"Non-essential\",0,1)*IF('Assessment Framework'!AG56=\"Y\",1,0)","v":0},{"$f":"IF($G56=\"Non-essential\",0,1)*IF('Assessment Framework'!AH56=\"Y\",1,0)","v":0},{"$f":"IF($G56=\"Non-essential\",0,1)*IF('Assessment Framework'!AI56=\"Y\",1,0)","v":0},{"$f":"IF($G56=\"Non-essential\",0,1)*IF('Assessment Framework'!AJ56=\"Y\",1,0)","v":0},{"$f":"IF($G56=\"Non-essential\",0,1)*IF('Assessment Framework'!AK56=\"Y\",1,0)","v":0},{"$f":"IF($G56=\"Non-essential\",0,1)*IF('Assessment Framework'!AL56=\"Y\",1,0)","v":0},{"$f":"IF($G56=\"Non-essential\",0,1)*IF('Assessment Framework'!AM56=\"Y\",1,0)","v":0},{"$f":"IF($G56=\"Non-essential\",0,1)*IF('Assessment Framework'!AN56=\"Y\",1,0)","v":0},{"$f":"IF($G56=\"Non-essential\",0,1)*IF('Assessment Framework'!AO56=\"Y\",1,0)","v":0},{"$f":"IF($G56=\"Non-essential\",0,1)*IF('Assessment Framework'!AP56=\"Y\",1,0)","v":0},{"$f":"IF($G56=\"Non-essential\",0,1)*IF('Assessment Framework'!AQ56=\"Y\",1,0)","v":0},{"$f":"IF($G56=\"Non-essential\",0,1)*IF('Assessment Framework'!AR56=\"Y\",1,0)","v":0},{"$f":"IF($G56=\"Non-essential\",0,1)*IF('Assessment Framework'!AS56=\"Y\",1,0)","v":0},{"$f":"IF($G56=\"Non-essential\",0,1)*IF('Assessment Framework'!AT56=\"Y\",1,0)","v":0},{"$f":"IF($G56=\"Non-essential\",0,1)*IF('Assessment Framework'!AU56=\"Y\",1,0)","v":0},{"$f":"IF($G56=\"Non-essential\",0,1)*IF('Assessment Framework'!AV56=\"Y\",1,0)","v":0},{"$f":"IF($G56=\"Non-essential\",0,1)*IF('Assessment Framework'!AW56=\"Y\",1,0)","v":0},{"$f":"IF($G56=\"Non-essential\",0,1)*IF('Assessment Framework'!AX56=\"Y\",1,0)","v":0},{"$f":"IF($G56=\"Non-essential\",0,1)*IF('Assessment Framework'!AY56=\"Y\",1,0)","v":0},{"$f":"IF($G56=\"Non-essential\",0,1)*IF('Assessment Framework'!AZ56=\"Y\",1,0)","v":0},{"$f":"IF($G56=\"Non-essential\",0,1)*IF('Assessment Framework'!BA56=\"Y\",1,0)","v":0},{"$f":"IF($G56=\"Non-essential\",0,1)*IF('Assessment Framework'!BB56=\"Y\",1,0)","v":0},{"$f":"IF($G56=\"Non-essential\",0,1)*IF('Assessment Framework'!BC56=\"Y\",1,0)","v":0},{"$f":"IF($G56=\"Non-essential\",0,1)*IF('Assessment Framework'!BD56=\"Y\",1,0)","v":0},{"$f":"IF($G56=\"Non-essential\",0,1)*IF('Assessment Framework'!BE56=\"Y\",1,0)","v":0},{"$f":"IF($G56=\"Non-essential\",0,1)*IF('Assessment Framework'!BF56=\"Y\",1,0)","v":0},{"$f":"IF($G56=\"Non-essential\",0,1)*IF('Assessment Framework'!BG56=\"Y\",1,0)","v":0},{"$f":"IF($G56=\"Non-essential\",0,1)*IF('Assessment Framework'!BH56=\"Y\",1,0)","v":0},{"$f":"IF($G56=\"Non-essential\",0,1)*IF('Assessment Framework'!BI56=\"Y\",1,0)","v":0},{"$f":"IF($G56=\"Non-essential\",0,1)*IF('Assessment Framework'!BJ56=\"Y\",1,0)","v":0},{"$f":"IF($G56=\"Non-essential\",0,1)*IF('Assessment Framework'!BK56=\"Y\",1,0)","v":0},{"$f":"IF($G56=\"Non-essential\",0,1)*IF('Assessment Framework'!BL56=\"Y\",1,0)","v":0},{"$f":"IF($G56=\"Non-essential\",0,1)*IF('Assessment Framework'!BM56=\"Y\",1,0)","v":0},{"$f":"IF($G56=\"Non-essential\",0,1)*IF('Assessment Framework'!BN56=\"Y\",1,0)","v":0},{"$f":"IF($G56=\"Non-essential\",0,1)*IF('Assessment Framework'!BO56=\"Y\",1,0)","v":0},{"$f":"IF($G56=\"Non-essential\",0,1)*IF('Assessment Framework'!BP56=\"Y\",1,0)","v":0},{"$f":"IF($G56=\"Non-essential\",0,1)*IF('Assessment Framework'!BQ56=\"Y\",1,0)","v":0},{"$f":"IF($G56=\"Non-essential\",0,1)*IF('Assessment Framework'!BR56=\"Y\",1,0)","v":0},{"$f":"IF($G56=\"Non-essential\",0,1)*IF('Assessment Framework'!BS56=\"Y\",1,0)","v":0},{"$f":"IF($G56=\"Non-essential\",0,1)*IF('Assessment Framework'!BT56=\"Y\",1,0)","v":0},{"$f":"IF($G56=\"Non-essential\",0,1)*IF('Assessment Framework'!BU56=\"Y\",1,0)","v":0},{"$f":"IF($G56=\"Non-essential\",0,1)*IF('Assessment Framework'!BV56=\"Y\",1,0)","v":0},{"$f":"IF($G56=\"Non-essential\",0,1)*IF('Assessment Framework'!BW56=\"Y\",1,0)","v":0},{"$f":"IF($G56=\"Non-essential\",0,1)*IF('Assessment Framework'!BX56=\"Y\",1,0)","v":0},{"$f":"IF($G56=\"Non-essential\",0,1)*IF('Assessment Framework'!BY56=\"Y\",1,0)","v":0},{"$f":"IF($G56=\"Non-essential\",0,1)*IF('Assessment Framework'!BZ56=\"Y\",1,0)","v":0},{"$f":"IF($G56=\"Non-essential\",0,1)*IF('Assessment Framework'!CA56=\"Y\",1,0)","v":0},{"$f":"IF($G56=\"Non-essential\",0,1)*IF('Assessment Framework'!CB56=\"Y\",1,0)","v":0},{"$f":"IF($G56=\"Non-essential\",0,1)*IF('Assessment Framework'!CC56=\"Y\",1,0)","v":0},{"$f":"IF($G56=\"Non-essential\",0,1)*IF('Assessment Framework'!CD56=\"Y\",1,0)","v":0},{"$f":"IF($G56=\"Non-essential\",0,1)*IF('Assessment Framework'!CE56=\"Y\",1,0)","v":0},{"$f":"IF($G56=\"Non-essential\",0,1)*IF('Assessment Framework'!CF56=\"Y\",1,0)","v":0},{"$f":"IF($G56=\"Non-essential\",0,1)*IF('Assessment Framework'!CG56=\"Y\",1,0)","v":0},{"$f":"IF($G56=\"Non-essential\",0,1)*IF('Assessment Framework'!CH56=\"Y\",1,0)","v":0},{"$f":"IF($G56=\"Non-essential\",0,1)*IF('Assessment Framework'!CI56=\"Y\",1,0)","v":0},{"$f":"IF($G56=\"Non-essential\",0,1)*IF('Assessment Framework'!CJ56=\"Y\",1,0)","v":0},{"$f":"IF($G56=\"Non-essential\",0,1)*IF('Assessment Framework'!CK56=\"Y\",1,0)","v":0},{"$f":"IF($G56=\"Non-essential\",0,1)*IF('Assessment Framework'!CL56=\"Y\",1,0)","v":0},{"$f":"IF($G56=\"Non-essential\",0,1)*IF('Assessment Framework'!CM56=\"Y\",1,0)","v":0}]
[null,null,null,"Disposal","Outputs inform on disposal","Y,N",{"$f":"IF('B - Technical objectives'!C39=\"\",\"Non-essential\",'B - Technical objectives'!C39)","v":"Non-essential"},{"$f":"IF($G57=\"Non-essential\",0,1)*IF('Assessment Framework'!G57=\"Y\",1,0)","v":0},{"$f":"IF($G57=\"Non-essential\",0,1)*IF('Assessment Framework'!H57=\"Y\",1,0)","v":0},{"$f":"IF($G57=\"Non-essential\",0,1)*IF('Assessment Framework'!I57=\"Y\",1,0)","v":0},{"$f":"IF($G57=\"Non-essential\",0,1)*IF('Assessment Framework'!J57=\"Y\",1,0)","v":0},{"$f":"IF($G57=\"Non-essential\",0,1)*IF('Assessment Framework'!K57=\"Y\",1,0)","v":0},{"$f":"IF($G57=\"Non-essential\",0,1)*IF('Assessment Framework'!L57=\"Y\",1,0)","v":0},{"$f":"IF($G57=\"Non-essential\",0,1)*IF('Assessment Framework'!M57=\"Y\",1,0)","v":0},{"$f":"IF($G57=\"Non-essential\",0,1)*IF('Assessment Framework'!N57=\"Y\",1,0)","v":0},{"$f":"IF($G57=\"Non-essential\",0,1)*IF('Assessment Framework'!O57=\"Y\",1,0)","v":0},{"$f":"IF($G57=\"Non-essential\",0,1)*IF('Assessment Framework'!P57=\"Y\",1,0)","v":0},{"$f":"IF($G57=\"Non-essential\",0,1)*IF('Assessment Framework'!Q57=\"Y\",1,0)","v":0},{"$f":"IF($G57=\"Non-essential\",0,1)*IF('Assessment Framework'!R57=\"Y\",1,0)","v":0},{"$f":"IF($G57=\"Non-essential\",0,1)*IF('Assessment Framework'!S57=\"Y\",1,0)","v":0},{"$f":"IF($G57=\"Non-essential\",0,1)*IF('Assessment Framework'!T57=\"Y\",1,0)","v":0},{"$f":"IF($G57=\"Non-essential\",0,1)*IF('Assessment Framework'!U57=\"Y\",1,0)","v":0},{"$f":"IF($G57=\"Non-essential\",0,1)*IF('Assessment Framework'!V57=\"Y\",1,0)","v":0},{"$f":"IF($G57=\"Non-essential\",0,1)*IF('Assessment Framework'!W57=\"Y\",1,0)","v":0},{"$f":"IF($G57=\"Non-essential\",0,1)*IF('Assessment Framework'!X57=\"Y\",1,0)","v":0},{"$f":"IF($G57=\"Non-essential\",0,1)*IF('Assessment Framework'!Y57=\"Y\",1,0)","v":0},{"$f":"IF($G57=\"Non-essential\",0,1)*IF('Assessment Framework'!Z57=\"Y\",1,0)","v":0},{"$f":"IF($G57=\"Non-essential\",0,1)*IF('Assessment Framework'!AA57=\"Y\",1,0)","v":0},{"$f":"IF($G57=\"Non-essential\",0,1)*IF('Assessment Framework'!AB57=\"Y\",1,0)","v":0},{"$f":"IF($G57=\"Non-essential\",0,1)*IF('Assessment Framework'!AC57=\"Y\",1,0)","v":0},{"$f":"IF($G57=\"Non-essential\",0,1)*IF('Assessment Framework'!AD57=\"Y\",1,0)","v":0},{"$f":"IF($G57=\"Non-essential\",0,1)*IF('Assessment Framework'!AE57=\"Y\",1,0)","v":0},{"$f":"IF($G57=\"Non-essential\",0,1)*IF('Assessment Framework'!AF57=\"Y\",1,0)","v":0},{"$f":"IF($G57=\"Non-essential\",0,1)*IF('Assessment Framework'!AG57=\"Y\",1,0)","v":0},{"$f":"IF($G57=\"Non-essential\",0,1)*IF('Assessment Framework'!AH57=\"Y\",1,0)","v":0},{"$f":"IF($G57=\"Non-essential\",0,1)*IF('Assessment Framework'!AI57=\"Y\",1,0)","v":0},{"$f":"IF($G57=\"Non-essential\",0,1)*IF('Assessment Framework'!AJ57=\"Y\",1,0)","v":0},{"$f":"IF($G57=\"Non-essential\",0,1)*IF('Assessment Framework'!AK57=\"Y\",1,0)","v":0},{"$f":"IF($G57=\"Non-essential\",0,1)*IF('Assessment Framework'!AL57=\"Y\",1,0)","v":0},{"$f":"IF($G57=\"Non-essential\",0,1)*IF('Assessment Framework'!AM57=\"Y\",1,0)","v":0},{"$f":"IF($G57=\"Non-essential\",0,1)*IF('Assessment Framework'!AN57=\"Y\",1,0)","v":0},{"$f":"IF($G57=\"Non-essential\",0,1)*IF('Assessment Framework'!AO57=\"Y\",1,0)","v":0},{"$f":"IF($G57=\"Non-essential\",0,1)*IF('Assessment Framework'!AP57=\"Y\",1,0)","v":0},{"$f":"IF($G57=\"Non-essential\",0,1)*IF('Assessment Framework'!AQ57=\"Y\",1,0)","v":0},{"$f":"IF($G57=\"Non-essential\",0,1)*IF('Assessment Framework'!AR57=\"Y\",1,0)","v":0},{"$f":"IF($G57=\"Non-essential\",0,1)*IF('Assessment Framework'!AS57=\"Y\",1,0)","v":0},{"$f":"IF($G57=\"Non-essential\",0,1)*IF('Assessment Framework'!AT57=\"Y\",1,0)","v":0},{"$f":"IF($G57=\"Non-essential\",0,1)*IF('Assessment Framework'!AU57=\"Y\",1,0)","v":0},{"$f":"IF($G57=\"Non-essential\",0,1)*IF('Assessment Framework'!AV57=\"Y\",1,0)","v":0},{"$f":"IF($G57=\"Non-essential\",0,1)*IF('Assessment Framework'!AW57=\"Y\",1,0)","v":0},{"$f":"IF($G57=\"Non-essential\",0,1)*IF('Assessment Framework'!AX57=\"Y\",1,0)","v":0},{"$f":"IF($G57=\"Non-essential\",0,1)*IF('Assessment Framework'!AY57=\"Y\",1,0)","v":0},{"$f":"IF($G57=\"Non-essential\",0,1)*IF('Assessment Framework'!AZ57=\"Y\",1,0)","v":0},{"$f":"IF($G57=\"Non-essential\",0,1)*IF('Assessment Framework'!BA57=\"Y\",1,0)","v":0},{"$f":"IF($G57=\"Non-essential\",0,1)*IF('Assessment Framework'!BB57=\"Y\",1,0)","v":0},{"$f":"IF($G57=\"Non-essential\",0,1)*IF('Assessment Framework'!BC57=\"Y\",1,0)","v":0},{"$f":"IF($G57=\"Non-essential\",0,1)*IF('Assessment Framework'!BD57=\"Y\",1,0)","v":0},{"$f":"IF($G57=\"Non-essential\",0,1)*IF('Assessment Framework'!BE57=\"Y\",1,0)","v":0},{"$f":"IF($G57=\"Non-essential\",0,1)*IF('Assessment Framework'!BF57=\"Y\",1,0)","v":0},{"$f":"IF($G57=\"Non-essential\",0,1)*IF('Assessment Framework'!BG57=\"Y\",1,0)","v":0},{"$f":"IF($G57=\"Non-essential\",0,1)*IF('Assessment Framework'!BH57=\"Y\",1,0)","v":0},{"$f":"IF($G57=\"Non-essential\",0,1)*IF('Assessment Framework'!BI57=\"Y\",1,0)","v":0},{"$f":"IF($G57=\"Non-essential\",0,1)*IF('Assessment Framework'!BJ57=\"Y\",1,0)","v":0},{"$f":"IF($G57=\"Non-essential\",0,1)*IF('Assessment Framework'!BK57=\"Y\",1,0)","v":0},{"$f":"IF($G57=\"Non-essential\",0,1)*IF('Assessment Framework'!BL57=\"Y\",1,0)","v":0},{"$f":"IF($G57=\"Non-essential\",0,1)*IF('Assessment Framework'!BM57=\"Y\",1,0)","v":0},{"$f":"IF($G57=\"Non-essential\",0,1)*IF('Assessment Framework'!BN57=\"Y\",1,0)","v":0},{"$f":"IF($G57=\"Non-essential\",0,1)*IF('Assessment Framework'!BO57=\"Y\",1,0)","v":0},{"$f":"IF($G57=\"Non-essential\",0,1)*IF('Assessment Framework'!BP57=\"Y\",1,0)","v":0},{"$f":"IF($G57=\"Non-essential\",0,1)*IF('Assessment Framework'!BQ57=\"Y\",1,0)","v":0},{"$f":"IF($G57=\"Non-essential\",0,1)*IF('Assessment Framework'!BR57=\"Y\",1,0)","v":0},{"$f":"IF($G57=\"Non-essential\",0,1)*IF('Assessment Framework'!BS57=\"Y\",1,0)","v":0},{"$f":"IF($G57=\"Non-essential\",0,1)*IF('Assessment Framework'!BT57=\"Y\",1,0)","v":0},{"$f":"IF($G57=\"Non-essential\",0,1)*IF('Assessment Framework'!BU57=\"Y\",1,0)","v":0},{"$f":"IF($G57=\"Non-essential\",0,1)*IF('Assessment Framework'!BV57=\"Y\",1,0)","v":0},{"$f":"IF($G57=\"Non-essential\",0,1)*IF('Assessment Framework'!BW57=\"Y\",1,0)","v":0},{"$f":"IF($G57=\"Non-essential\",0,1)*IF('Assessment Framework'!BX57=\"Y\",1,0)","v":0},{"$f":"IF($G57=\"Non-essential\",0,1)*IF('Assessment Framework'!BY57=\"Y\",1,0)","v":0},{"$f":"IF($G57=\"Non-essential\",0,1)*IF('Assessment Framework'!BZ57=\"Y\",1,0)","v":0},{"$f":"IF($G57=\"Non-essential\",0,1)*IF('Assessment Framework'!CA57=\"Y\",1,0)","v":0},{"$f":"IF($G57=\"Non-essential\",0,1)*IF('Assessment Framework'!CB57=\"Y\",1,0)","v":0},{"$f":"IF($G57=\"Non-essential\",0,1)*IF('Assessment Framework'!CC57=\"Y\",1,0)","v":0},{"$f":"IF($G57=\"Non-essential\",0,1)*IF('Assessment Framework'!CD57=\"Y\",1,0)","v":0},{"$f":"IF($G57=\"Non-essential\",0,1)*IF('Assessment Framework'!CE57=\"Y\",1,0)","v":0},{"$f":"IF($G57=\"Non-essential\",0,1)*IF('Assessment Framework'!CF57=\"Y\",1,0)","v":0},{"$f":"IF($G57=\"Non-essential\",0,1)*IF('Assessment Framework'!CG57=\"Y\",1,0)","v":0},{"$f":"IF($G57=\"Non-essential\",0,1)*IF('Assessment Framework'!CH57=\"Y\",1,0)","v":0},{"$f":"IF($G57=\"Non-essential\",0,1)*IF('Assessment Framework'!CI57=\"Y\",1,0)","v":0},{"$f":"IF($G57=\"Non-essential\",0,1)*IF('Assessment Framework'!CJ57=\"Y\",1,0)","v":0},{"$f":"IF($G57=\"Non-essential\",0,1)*IF('Assessment Framework'!CK57=\"Y\",1,0)","v":0},{"$f":"IF($G57=\"Non-essential\",0,1)*IF('Assessment Framework'!CL57=\"Y\",1,0)","v":0},{"$f":"IF($G57=\"Non-essential\",0,1)*IF('Assessment Framework'!CM57=\"Y\",1,0)","v":0}]
[null,null,null,"Littering / illegal dumping","Outputs inform on littering or illegal dumping","Y,N",{"$f":"IF('B - Technical objectives'!C40=\"\",\"Non-essential\",'B - Technical objectives'!C40)","v":"Non-essential"},{"$f":"IF($G58=\"Non-essential\",0,1)*IF('Assessment Framework'!G58=\"Y\",1,0)","v":0},{"$f":"IF($G58=\"Non-essential\",0,1)*IF('Assessment Framework'!H58=\"Y\",1,0)","v":0},{"$f":"IF($G58=\"Non-essential\",0,1)*IF('Assessment Framework'!I58=\"Y\",1,0)","v":0},{"$f":"IF($G58=\"Non-essential\",0,1)*IF('Assessment Framework'!J58=\"Y\",1,0)","v":0},{"$f":"IF($G58=\"Non-essential\",0,1)*IF('Assessment Framework'!K58=\"Y\",1,0)","v":0},{"$f":"IF($G58=\"Non-essential\",0,1)*IF('Assessment Framework'!L58=\"Y\",1,0)","v":0},{"$f":"IF($G58=\"Non-essential\",0,1)*IF('Assessment Framework'!M58=\"Y\",1,0)","v":0},{"$f":"IF($G58=\"Non-essential\",0,1)*IF('Assessment Framework'!N58=\"Y\",1,0)","v":0},{"$f":"IF($G58=\"Non-essential\",0,1)*IF('Assessment Framework'!O58=\"Y\",1,0)","v":0},{"$f":"IF($G58=\"Non-essential\",0,1)*IF('Assessment Framework'!P58=\"Y\",1,0)","v":0},{"$f":"IF($G58=\"Non-essential\",0,1)*IF('Assessment Framework'!Q58=\"Y\",1,0)","v":0},{"$f":"IF($G58=\"Non-essential\",0,1)*IF('Assessment Framework'!R58=\"Y\",1,0)","v":0},{"$f":"IF($G58=\"Non-essential\",0,1)*IF('Assessment Framework'!S58=\"Y\",1,0)","v":0},{"$f":"IF($G58=\"Non-essential\",0,1)*IF('Assessment Framework'!T58=\"Y\",1,0)","v":0},{"$f":"IF($G58=\"Non-essential\",0,1)*IF('Assessment Framework'!U58=\"Y\",1,0)","v":0},{"$f":"IF($G58=\"Non-essential\",0,1)*IF('Assessment Framework'!V58=\"Y\",1,0)","v":0},{"$f":"IF($G58=\"Non-essential\",0,1)*IF('Assessment Framework'!W58=\"Y\",1,0)","v":0},{"$f":"IF($G58=\"Non-essential\",0,1)*IF('Assessment Framework'!X58=\"Y\",1,0)","v":0},{"$f":"IF($G58=\"Non-essential\",0,1)*IF('Assessment Framework'!Y58=\"Y\",1,0)","v":0},{"$f":"IF($G58=\"Non-essential\",0,1)*IF('Assessment Framework'!Z58=\"Y\",1,0)","v":0},{"$f":"IF($G58=\"Non-essential\",0,1)*IF('Assessment Framework'!AA58=\"Y\",1,0)","v":0},{"$f":"IF($G58=\"Non-essential\",0,1)*IF('Assessment Framework'!AB58=\"Y\",1,0)","v":0},{"$f":"IF($G58=\"Non-essential\",0,1)*IF('Assessment Framework'!AC58=\"Y\",1,0)","v":0},{"$f":"IF($G58=\"Non-essential\",0,1)*IF('Assessment Framework'!AD58=\"Y\",1,0)","v":0},{"$f":"IF($G58=\"Non-essential\",0,1)*IF('Assessment Framework'!AE58=\"Y\",1,0)","v":0},{"$f":"IF($G58=\"Non-essential\",0,1)*IF('Assessment Framework'!AF58=\"Y\",1,0)","v":0},{"$f":"IF($G58=\"Non-essential\",0,1)*IF('Assessment Framework'!AG58=\"Y\",1,0)","v":0},{"$f":"IF($G58=\"Non-essential\",0,1)*IF('Assessment Framework'!AH58=\"Y\",1,0)","v":0},{"$f":"IF($G58=\"Non-essential\",0,1)*IF('Assessment Framework'!AI58=\"Y\",1,0)","v":0},{"$f":"IF($G58=\"Non-essential\",0,1)*IF('Assessment Framework'!AJ58=\"Y\",1,0)","v":0},{"$f":"IF($G58=\"Non-essential\",0,1)*IF('Assessment Framework'!AK58=\"Y\",1,0)","v":0},{"$f":"IF($G58=\"Non-essential\",0,1)*IF('Assessment Framework'!AL58=\"Y\",1,0)","v":0},{"$f":"IF($G58=\"Non-essential\",0,1)*IF('Assessment Framework'!AM58=\"Y\",1,0)","v":0},{"$f":"IF($G58=\"Non-essential\",0,1)*IF('Assessment Framework'!AN58=\"Y\",1,0)","v":0},{"$f":"IF($G58=\"Non-essential\",0,1)*IF('Assessment Framework'!AO58=\"Y\",1,0)","v":0},{"$f":"IF($G58=\"Non-essential\",0,1)*IF('Assessment Framework'!AP58=\"Y\",1,0)","v":0},{"$f":"IF($G58=\"Non-essential\",0,1)*IF('Assessment Framework'!AQ58=\"Y\",1,0)","v":0},{"$f":"IF($G58=\"Non-essential\",0,1)*IF('Assessment Framework'!AR58=\"Y\",1,0)","v":0},{"$f":"IF($G58=\"Non-essential\",0,1)*IF('Assessment Framework'!AS58=\"Y\",1,0)","v":0},{"$f":"IF($G58=\"Non-essential\",0,1)*IF('Assessment Framework'!AT58=\"Y\",1,0)","v":0},{"$f":"IF($G58=\"Non-essential\",0,1)*IF('Assessment Framework'!AU58=\"Y\",1,0)","v":0},{"$f":"IF($G58=\"Non-essential\",0,1)*IF('Assessment Framework'!AV58=\"Y\",1,0)","v":0},{"$f":"IF($G58=\"Non-essential\",0,1)*IF('Assessment Framework'!AW58=\"Y\",1,0)","v":0},{"$f":"IF($G58=\"Non-essential\",0,1)*IF('Assessment Framework'!AX58=\"Y\",1,0)","v":0},{"$f":"IF($G58=\"Non-essential\",0,1)*IF('Assessment Framework'!AY58=\"Y\",1,0)","v":0},{"$f":"IF($G58=\"Non-essential\",0,1)*IF('Assessment Framework'!AZ58=\"Y\",1,0)","v":0},{"$f":"IF($G58=\"Non-essential\",0,1)*IF('Assessment Framework'!BA58=\"Y\",1,0)","v":0},{"$f":"IF($G58=\"Non-essential\",0,1)*IF('Assessment Framework'!BB58=\"Y\",1,0)","v":0},{"$f":"IF($G58=\"Non-essential\",0,1)*IF('Assessment Framework'!BC58=\"Y\",1,0)","v":0},{"$f":"IF($G58=\"Non-essential\",0,1)*IF('Assessment Framework'!BD58=\"Y\",1,0)","v":0},{"$f":"IF($G58=\"Non-essential\",0,1)*IF('Assessment Framework'!BE58=\"Y\",1,0)","v":0},{"$f":"IF($G58=\"Non-essential\",0,1)*IF('Assessment Framework'!BF58=\"Y\",1,0)","v":0},{"$f":"IF($G58=\"Non-essential\",0,1)*IF('Assessment Framework'!BG58=\"Y\",1,0)","v":0},{"$f":"IF($G58=\"Non-essential\",0,1)*IF('Assessment Framework'!BH58=\"Y\",1,0)","v":0},{"$f":"IF($G58=\"Non-essential\",0,1)*IF('Assessment Framework'!BI58=\"Y\",1,0)","v":0},{"$f":"IF($G58=\"Non-essential\",0,1)*IF('Assessment Framework'!BJ58=\"Y\",1,0)","v":0},{"$f":"IF($G58=\"Non-essential\",0,1)*IF('Assessment Framework'!BK58=\"Y\",1,0)","v":0},{"$f":"IF($G58=\"Non-essential\",0,1)*IF('Assessment Framework'!BL58=\"Y\",1,0)","v":0},{"$f":"IF($G58=\"Non-essential\",0,1)*IF('Assessment Framework'!BM58=\"Y\",1,0)","v":0},{"$f":"IF($G58=\"Non-essential\",0,1)*IF('Assessment Framework'!BN58=\"Y\",1,0)","v":0},{"$f":"IF($G58=\"Non-essential\",0,1)*IF('Assessment Framework'!BO58=\"Y\",1,0)","v":0},{"$f":"IF($G58=\"Non-essential\",0,1)*IF('Assessment Framework'!BP58=\"Y\",1,0)","v":0},{"$f":"IF($G58=\"Non-essential\",0,1)*IF('Assessment Framework'!BQ58=\"Y\",1,0)","v":0},{"$f":"IF($G58=\"Non-essential\",0,1)*IF('Assessment Framework'!BR58=\"Y\",1,0)","v":0},{"$f":"IF($G58=\"Non-essential\",0,1)*IF('Assessment Framework'!BS58=\"Y\",1,0)","v":0},{"$f":"IF($G58=\"Non-essential\",0,1)*IF('Assessment Framework'!BT58=\"Y\",1,0)","v":0},{"$f":"IF($G58=\"Non-essential\",0,1)*IF('Assessment Framework'!BU58=\"Y\",1,0)","v":0},{"$f":"IF($G58=\"Non-essential\",0,1)*IF('Assessment Framework'!BV58=\"Y\",1,0)","v":0},{"$f":"IF($G58=\"Non-essential\",0,1)*IF('Assessment Framework'!BW58=\"Y\",1,0)","v":0},{"$f":"IF($G58=\"Non-essential\",0,1)*IF('Assessment Framework'!BX58=\"Y\",1,0)","v":0},{"$f":"IF($G58=\"Non-essential\",0,1)*IF('Assessment Framework'!BY58=\"Y\",1,0)","v":0},{"$f":"IF($G58=\"Non-essential\",0,1)*IF('Assessment Framework'!BZ58=\"Y\",1,0)","v":0},{"$f":"IF($G58=\"Non-essential\",0,1)*IF('Assessment Framework'!CA58=\"Y\",1,0)","v":0},{"$f":"IF($G58=\"Non-essential\",0,1)*IF('Assessment Framework'!CB58=\"Y\",1,0)","v":0},{"$f":"IF($G58=\"Non-essential\",0,1)*IF('Assessment Framework'!CC58=\"Y\",1,0)","v":0},{"$f":"IF($G58=\"Non-essential\",0,1)*IF('Assessment Framework'!CD58=\"Y\",1,0)","v":0},{"$f":"IF($G58=\"Non-essential\",0,1)*IF('Assessment Framework'!CE58=\"Y\",1,0)","v":0},{"$f":"IF($G58=\"Non-essential\",0,1)*IF('Assessment Framework'!CF58=\"Y\",1,0)","v":0},{"$f":"IF($G58=\"Non-essential\",0,1)*IF('Assessment Framework'!CG58=\"Y\",1,0)","v":0},{"$f":"IF($G58=\"Non-essential\",0,1)*IF('Assessment Framework'!CH58=\"Y\",1,0)","v":0},{"$f":"IF($G58=\"Non-essential\",0,1)*IF('Assessment Framework'!CI58=\"Y\",1,0)","v":0},{"$f":"IF($G58=\"Non-essential\",0,1)*IF('Assessment Framework'!CJ58=\"Y\",1,0)","v":0},{"$f":"IF($G58=\"Non-essential\",0,1)*IF('Assessment Framework'!CK58=\"Y\",1,0)","v":0},{"$f":"IF($G58=\"Non-essential\",0,1)*IF('Assessment Framework'!CL58=\"Y\",1,0)","v":0},{"$f":"IF($G58=\"Non-essential\",0,1)*IF('Assessment Framework'!CM58=\"Y\",1,0)","v":0}]
[null,null,null,"Open Burning","Outputs inform on open burning of waste","Y,N",{"$f":"IF('B - Technical objectives'!C41=\"\",\"Non-essential\",'B - Technical objectives'!C41)","v":"Non-essential"},{"$f":"IF($G59=\"Non-essential\",0,1)*IF('Assessment Framework'!G59=\"Y\",1,0)","v":0},{"$f":"IF($G59=\"Non-essential\",0,1)*IF('Assessment Framework'!H59=\"Y\",1,0)","v":0},{"$f":"IF($G59=\"Non-essential\",0,1)*IF('Assessment Framework'!I59=\"Y\",1,0)","v":0},{"$f":"IF($G59=\"Non-essential\",0,1)*IF('Assessment Framework'!J59=\"Y\",1,0)","v":0},{"$f":"IF($G59=\"Non-essential\",0,1)*IF('Assessment Framework'!K59=\"Y\",1,0)","v":0},{"$f":"IF($G59=\"Non-essential\",0,1)*IF('Assessment Framework'!L59=\"Y\",1,0)","v":0},{"$f":"IF($G59=\"Non-essential\",0,1)*IF('Assessment Framework'!M59=\"Y\",1,0)","v":0},{"$f":"IF($G59=\"Non-essential\",0,1)*IF('Assessment Framework'!N59=\"Y\",1,0)","v":0},{"$f":"IF($G59=\"Non-essential\",0,1)*IF('Assessment Framework'!O59=\"Y\",1,0)","v":0},{"$f":"IF($G59=\"Non-essential\",0,1)*IF('Assessment Framework'!P59=\"Y\",1,0)","v":0},{"$f":"IF($G59=\"Non-essential\",0,1)*IF('Assessment Framework'!Q59=\"Y\",1,0)","v":0},{"$f":"IF($G59=\"Non-essential\",0,1)*IF('Assessment Framework'!R59=\"Y\",1,0)","v":0},{"$f":"IF($G59=\"Non-essential\",0,1)*IF('Assessment Framework'!S59=\"Y\",1,0)","v":0},{"$f":"IF($G59=\"Non-essential\",0,1)*IF('Assessment Framework'!T59=\"Y\",1,0)","v":0},{"$f":"IF($G59=\"Non-essential\",0,1)*IF('Assessment Framework'!U59=\"Y\",1,0)","v":0},{"$f":"IF($G59=\"Non-essential\",0,1)*IF('Assessment Framework'!V59=\"Y\",1,0)","v":0},{"$f":"IF($G59=\"Non-essential\",0,1)*IF('Assessment Framework'!W59=\"Y\",1,0)","v":0},{"$f":"IF($G59=\"Non-essential\",0,1)*IF('Assessment Framework'!X59=\"Y\",1,0)","v":0},{"$f":"IF($G59=\"Non-essential\",0,1)*IF('Assessment Framework'!Y59=\"Y\",1,0)","v":0},{"$f":"IF($G59=\"Non-essential\",0,1)*IF('Assessment Framework'!Z59=\"Y\",1,0)","v":0},{"$f":"IF($G59=\"Non-essential\",0,1)*IF('Assessment Framework'!AA59=\"Y\",1,0)","v":0},{"$f":"IF($G59=\"Non-essential\",0,1)*IF('Assessment Framework'!AB59=\"Y\",1,0)","v":0},{"$f":"IF($G59=\"Non-essential\",0,1)*IF('Assessment Framework'!AC59=\"Y\",1,0)","v":0},{"$f":"IF($G59=\"Non-essential\",0,1)*IF('Assessment Framework'!AD59=\"Y\",1,0)","v":0},{"$f":"IF($G59=\"Non-essential\",0,1)*IF('Assessment Framework'!AE59=\"Y\",1,0)","v":0},{"$f":"IF($G59=\"Non-essential\",0,1)*IF('Assessment Framework'!AF59=\"Y\",1,0)","v":0},{"$f":"IF($G59=\"Non-essential\",0,1)*IF('Assessment Framework'!AG59=\"Y\",1,0)","v":0},{"$f":"IF($G59=\"Non-essential\",0,1)*IF('Assessment Framework'!AH59=\"Y\",1,0)","v":0},{"$f":"IF($G59=\"Non-essential\",0,1)*IF('Assessment Framework'!AI59=\"Y\",1,0)","v":0},{"$f":"IF($G59=\"Non-essential\",0,1)*IF('Assessment Framework'!AJ59=\"Y\",1,0)","v":0},{"$f":"IF($G59=\"Non-essential\",0,1)*IF('Assessment Framework'!AK59=\"Y\",1,0)","v":0},{"$f":"IF($G59=\"Non-essential\",0,1)*IF('Assessment Framework'!AL59=\"Y\",1,0)","v":0},{"$f":"IF($G59=\"Non-essential\",0,1)*IF('Assessment Framework'!AM59=\"Y\",1,0)","v":0},{"$f":"IF($G59=\"Non-essential\",0,1)*IF('Assessment Framework'!AN59=\"Y\",1,0)","v":0},{"$f":"IF($G59=\"Non-essential\",0,1)*IF('Assessment Framework'!AO59=\"Y\",1,0)","v":0},{"$f":"IF($G59=\"Non-essential\",0,1)*IF('Assessment Framework'!AP59=\"Y\",1,0)","v":0},{"$f":"IF($G59=\"Non-essential\",0,1)*IF('Assessment Framework'!AQ59=\"Y\",1,0)","v":0},{"$f":"IF($G59=\"Non-essential\",0,1)*IF('Assessment Framework'!AR59=\"Y\",1,0)","v":0},{"$f":"IF($G59=\"Non-essential\",0,1)*IF('Assessment Framework'!AS59=\"Y\",1,0)","v":0},{"$f":"IF($G59=\"Non-essential\",0,1)*IF('Assessment Framework'!AT59=\"Y\",1,0)","v":0},{"$f":"IF($G59=\"Non-essential\",0,1)*IF('Assessment Framework'!AU59=\"Y\",1,0)","v":0},{"$f":"IF($G59=\"Non-essential\",0,1)*IF('Assessment Framework'!AV59=\"Y\",1,0)","v":0},{"$f":"IF($G59=\"Non-essential\",0,1)*IF('Assessment Framework'!AW59=\"Y\",1,0)","v":0},{"$f":"IF($G59=\"Non-essential\",0,1)*IF('Assessment Framework'!AX59=\"Y\",1,0)","v":0},{"$f":"IF($G59=\"Non-essential\",0,1)*IF('Assessment Framework'!AY59=\"Y\",1,0)","v":0},{"$f":"IF($G59=\"Non-essential\",0,1)*IF('Assessment Framework'!AZ59=\"Y\",1,0)","v":0},{"$f":"IF($G59=\"Non-essential\",0,1)*IF('Assessment Framework'!BA59=\"Y\",1,0)","v":0},{"$f":"IF($G59=\"Non-essential\",0,1)*IF('Assessment Framework'!BB59=\"Y\",1,0)","v":0},{"$f":"IF($G59=\"Non-essential\",0,1)*IF('Assessment Framework'!BC59=\"Y\",1,0)","v":0},{"$f":"IF($G59=\"Non-essential\",0,1)*IF('Assessment Framework'!BD59=\"Y\",1,0)","v":0},{"$f":"IF($G59=\"Non-essential\",0,1)*IF('Assessment Framework'!BE59=\"Y\",1,0)","v":0},{"$f":"IF($G59=\"Non-essential\",0,1)*IF('Assessment Framework'!BF59=\"Y\",1,0)","v":0},{"$f":"IF($G59=\"Non-essential\",0,1)*IF('Assessment Framework'!BG59=\"Y\",1,0)","v":0},{"$f":"IF($G59=\"Non-essential\",0,1)*IF('Assessment Framework'!BH59=\"Y\",1,0)","v":0},{"$f":"IF($G59=\"Non-essential\",0,1)*IF('Assessment Framework'!BI59=\"Y\",1,0)","v":0},{"$f":"IF($G59=\"Non-essential\",0,1)*IF('Assessment Framework'!BJ59=\"Y\",1,0)","v":0},{"$f":"IF($G59=\"Non-essential\",0,1)*IF('Assessment Framework'!BK59=\"Y\",1,0)","v":0},{"$f":"IF($G59=\"Non-essential\",0,1)*IF('Assessment Framework'!BL59=\"Y\",1,0)","v":0},{"$f":"IF($G59=\"Non-essential\",0,1)*IF('Assessment Framework'!BM59=\"Y\",1,0)","v":0},{"$f":"IF($G59=\"Non-essential\",0,1)*IF('Assessment Framework'!BN59=\"Y\",1,0)","v":0},{"$f":"IF($G59=\"Non-essential\",0,1)*IF('Assessment Framework'!BO59=\"Y\",1,0)","v":0},{"$f":"IF($G59=\"Non-essential\",0,1)*IF('Assessment Framework'!BP59=\"Y\",1,0)","v":0},{"$f":"IF($G59=\"Non-essential\",0,1)*IF('Assessment Framework'!BQ59=\"Y\",1,0)","v":0},{"$f":"IF($G59=\"Non-essential\",0,1)*IF('Assessment Framework'!BR59=\"Y\",1,0)","v":0},{"$f":"IF($G59=\"Non-essential\",0,1)*IF('Assessment Framework'!BS59=\"Y\",1,0)","v":0},{"$f":"IF($G59=\"Non-essential\",0,1)*IF('Assessment Framework'!BT59=\"Y\",1,0)","v":0},{"$f":"IF($G59=\"Non-essential\",0,1)*IF('Assessment Framework'!BU59=\"Y\",1,0)","v":0},{"$f":"IF($G59=\"Non-essential\",0,1)*IF('Assessment Framework'!BV59=\"Y\",1,0)","v":0},{"$f":"IF($G59=\"Non-essential\",0,1)*IF('Assessment Framework'!BW59=\"Y\",1,0)","v":0},{"$f":"IF($G59=\"Non-essential\",0,1)*IF('Assessment Framework'!BX59=\"Y\",1,0)","v":0},{"$f":"IF($G59=\"Non-essential\",0,1)*IF('Assessment Framework'!BY59=\"Y\",1,0)","v":0},{"$f":"IF($G59=\"Non-essential\",0,1)*IF('Assessment Framework'!BZ59=\"Y\",1,0)","v":0},{"$f":"IF($G59=\"Non-essential\",0,1)*IF('Assessment Framework'!CA59=\"Y\",1,0)","v":0},{"$f":"IF($G59=\"Non-essential\",0,1)*IF('Assessment Framework'!CB59=\"Y\",1,0)","v":0},{"$f":"IF($G59=\"Non-essential\",0,1)*IF('Assessment Framework'!CC59=\"Y\",1,0)","v":0},{"$f":"IF($G59=\"Non-essential\",0,1)*IF('Assessment Framework'!CD59=\"Y\",1,0)","v":0},{"$f":"IF($G59=\"Non-essential\",0,1)*IF('Assessment Framework'!CE59=\"Y\",1,0)","v":0},{"$f":"IF($G59=\"Non-essential\",0,1)*IF('Assessment Framework'!CF59=\"Y\",1,0)","v":0},{"$f":"IF($G59=\"Non-essential\",0,1)*IF('Assessment Framework'!CG59=\"Y\",1,0)","v":0},{"$f":"IF($G59=\"Non-essential\",0,1)*IF('Assessment Framework'!CH59=\"Y\",1,0)","v":0},{"$f":"IF($G59=\"Non-essential\",0,1)*IF('Assessment Framework'!CI59=\"Y\",1,0)","v":0},{"$f":"IF($G59=\"Non-essential\",0,1)*IF('Assessment Framework'!CJ59=\"Y\",1,0)","v":0},{"$f":"IF($G59=\"Non-essential\",0,1)*IF('Assessment Framework'!CK59=\"Y\",1,0)","v":0},{"$f":"IF($G59=\"Non-essential\",0,1)*IF('Assessment Framework'!CL59=\"Y\",1,0)","v":0},{"$f":"IF($G59=\"Non-essential\",0,1)*IF('Assessment Framework'!CM59=\"Y\",1,0)","v":0}]
[null,"Material  resolution of outputs","The material / item resolution relates to the granularity at which plastic is assessed. This may be at overall plastic level, by polymers, items, or brands","Plastic material-level","Outputs are related to all plastic materials (e.g. plastic)","Y,N",{"$f":"IF('B - Technical objectives'!C44=\"\",\"Non-essential\",'B - Technical objectives'!C44)","v":"Non-essential"},{"$f":"IF($G60=\"Non-essential\",0,1)*IF('Assessment Framework'!G60=\"Y\",1,0)","v":0},{"$f":"IF($G60=\"Non-essential\",0,1)*IF('Assessment Framework'!H60=\"Y\",1,0)","v":0},{"$f":"IF($G60=\"Non-essential\",0,1)*IF('Assessment Framework'!I60=\"Y\",1,0)","v":0},{"$f":"IF($G60=\"Non-essential\",0,1)*IF('Assessment Framework'!J60=\"Y\",1,0)","v":0},{"$f":"IF($G60=\"Non-essential\",0,1)*IF('Assessment Framework'!K60=\"Y\",1,0)","v":0},{"$f":"IF($G60=\"Non-essential\",0,1)*IF('Assessment Framework'!L60=\"Y\",1,0)","v":0},{"$f":"IF($G60=\"Non-essential\",0,1)*IF('Assessment Framework'!M60=\"Y\",1,0)","v":0},{"$f":"IF($G60=\"Non-essential\",0,1)*IF('Assessment Framework'!N60=\"Y\",1,0)","v":0},{"$f":"IF($G60=\"Non-essential\",0,1)*IF('Assessment Framework'!O60=\"Y\",1,0)","v":0},{"$f":"IF($G60=\"Non-essential\",0,1)*IF('Assessment Framework'!P60=\"Y\",1,0)","v":0},{"$f":"IF($G60=\"Non-essential\",0,1)*IF('Assessment Framework'!Q60=\"Y\",1,0)","v":0},{"$f":"IF($G60=\"Non-essential\",0,1)*IF('Assessment Framework'!R60=\"Y\",1,0)","v":0},{"$f":"IF($G60=\"Non-essential\",0,1)*IF('Assessment Framework'!S60=\"Y\",1,0)","v":0},{"$f":"IF($G60=\"Non-essential\",0,1)*IF('Assessment Framework'!T60=\"Y\",1,0)","v":0},{"$f":"IF($G60=\"Non-essential\",0,1)*IF('Assessment Framework'!U60=\"Y\",1,0)","v":0},{"$f":"IF($G60=\"Non-essential\",0,1)*IF('Assessment Framework'!V60=\"Y\",1,0)","v":0},{"$f":"IF($G60=\"Non-essential\",0,1)*IF('Assessment Framework'!W60=\"Y\",1,0)","v":0},{"$f":"IF($G60=\"Non-essential\",0,1)*IF('Assessment Framework'!X60=\"Y\",1,0)","v":0},{"$f":"IF($G60=\"Non-essential\",0,1)*IF('Assessment Framework'!Y60=\"Y\",1,0)","v":0},{"$f":"IF($G60=\"Non-essential\",0,1)*IF('Assessment Framework'!Z60=\"Y\",1,0)","v":0},{"$f":"IF($G60=\"Non-essential\",0,1)*IF('Assessment Framework'!AA60=\"Y\",1,0)","v":0},{"$f":"IF($G60=\"Non-essential\",0,1)*IF('Assessment Framework'!AB60=\"Y\",1,0)","v":0},{"$f":"IF($G60=\"Non-essential\",0,1)*IF('Assessment Framework'!AC60=\"Y\",1,0)","v":0},{"$f":"IF($G60=\"Non-essential\",0,1)*IF('Assessment Framework'!AD60=\"Y\",1,0)","v":0},{"$f":"IF($G60=\"Non-essential\",0,1)*IF('Assessment Framework'!AE60=\"Y\",1,0)","v":0},{"$f":"IF($G60=\"Non-essential\",0,1)*IF('Assessment Framework'!AF60=\"Y\",1,0)","v":0},{"$f":"IF($G60=\"Non-essential\",0,1)*IF('Assessment Framework'!AG60=\"Y\",1,0)","v":0},{"$f":"IF($G60=\"Non-essential\",0,1)*IF('Assessment Framework'!AH60=\"Y\",1,0)","v":0},{"$f":"IF($G60=\"Non-essential\",0,1)*IF('Assessment Framework'!AI60=\"Y\",1,0)","v":0},{"$f":"IF($G60=\"Non-essential\",0,1)*IF('Assessment Framework'!AJ60=\"Y\",1,0)","v":0},{"$f":"IF($G60=\"Non-essential\",0,1)*IF('Assessment Framework'!AK60=\"Y\",1,0)","v":0},{"$f":"IF($G60=\"Non-essential\",0,1)*IF('Assessment Framework'!AL60=\"Y\",1,0)","v":0},{"$f":"IF($G60=\"Non-essential\",0,1)*IF('Assessment Framework'!AM60=\"Y\",1,0)","v":0},{"$f":"IF($G60=\"Non-essential\",0,1)*IF('Assessment Framework'!AN60=\"Y\",1,0)","v":0},{"$f":"IF($G60=\"Non-essential\",0,1)*IF('Assessment Framework'!AO60=\"Y\",1,0)","v":0},{"$f":"IF($G60=\"Non-essential\",0,1)*IF('Assessment Framework'!AP60=\"Y\",1,0)","v":0},{"$f":"IF($G60=\"Non-essential\",0,1)*IF('Assessment Framework'!AQ60=\"Y\",1,0)","v":0},{"$f":"IF($G60=\"Non-essential\",0,1)*IF('Assessment Framework'!AR60=\"Y\",1,0)","v":0},{"$f":"IF($G60=\"Non-essential\",0,1)*IF('Assessment Framework'!AS60=\"Y\",1,0)","v":0},{"$f":"IF($G60=\"Non-essential\",0,1)*IF('Assessment Framework'!AT60=\"Y\",1,0)","v":0},{"$f":"IF($G60=\"Non-essential\",0,1)*IF('Assessment Framework'!AU60=\"Y\",1,0)","v":0},{"$f":"IF($G60=\"Non-essential\",0,1)*IF('Assessment Framework'!AV60=\"Y\",1,0)","v":0},{"$f":"IF($G60=\"Non-essential\",0,1)*IF('Assessment Framework'!AW60=\"Y\",1,0)","v":0},{"$f":"IF($G60=\"Non-essential\",0,1)*IF('Assessment Framework'!AX60=\"Y\",1,0)","v":0},{"$f":"IF($G60=\"Non-essential\",0,1)*IF('Assessment Framework'!AY60=\"Y\",1,0)","v":0},{"$f":"IF($G60=\"Non-essential\",0,1)*IF('Assessment Framework'!AZ60=\"Y\",1,0)","v":0},{"$f":"IF($G60=\"Non-essential\",0,1)*IF('Assessment Framework'!BA60=\"Y\",1,0)","v":0},{"$f":"IF($G60=\"Non-essential\",0,1)*IF('Assessment Framework'!BB60=\"Y\",1,0)","v":0},{"$f":"IF($G60=\"Non-essential\",0,1)*IF('Assessment Framework'!BC60=\"Y\",1,0)","v":0},{"$f":"IF($G60=\"Non-essential\",0,1)*IF('Assessment Framework'!BD60=\"Y\",1,0)","v":0},{"$f":"IF($G60=\"Non-essential\",0,1)*IF('Assessment Framework'!BE60=\"Y\",1,0)","v":0},{"$f":"IF($G60=\"Non-essential\",0,1)*IF('Assessment Framework'!BF60=\"Y\",1,0)","v":0},{"$f":"IF($G60=\"Non-essential\",0,1)*IF('Assessment Framework'!BG60=\"Y\",1,0)","v":0},{"$f":"IF($G60=\"Non-essential\",0,1)*IF('Assessment Framework'!BH60=\"Y\",1,0)","v":0},{"$f":"IF($G60=\"Non-essential\",0,1)*IF('Assessment Framework'!BI60=\"Y\",1,0)","v":0},{"$f":"IF($G60=\"Non-essential\",0,1)*IF('Assessment Framework'!BJ60=\"Y\",1,0)","v":0},{"$f":"IF($G60=\"Non-essential\",0,1)*IF('Assessment Framework'!BK60=\"Y\",1,0)","v":0},{"$f":"IF($G60=\"Non-essential\",0,1)*IF('Assessment Framework'!BL60=\"Y\",1,0)","v":0},{"$f":"IF($G60=\"Non-essential\",0,1)*IF('Assessment Framework'!BM60=\"Y\",1,0)","v":0},{"$f":"IF($G60=\"Non-essential\",0,1)*IF('Assessment Framework'!BN60=\"Y\",1,0)","v":0},{"$f":"IF($G60=\"Non-essential\",0,1)*IF('Assessment Framework'!BO60=\"Y\",1,0)","v":0},{"$f":"IF($G60=\"Non-essential\",0,1)*IF('Assessment Framework'!BP60=\"Y\",1,0)","v":0},{"$f":"IF($G60=\"Non-essential\",0,1)*IF('Assessment Framework'!BQ60=\"Y\",1,0)","v":0},{"$f":"IF($G60=\"Non-essential\",0,1)*IF('Assessment Framework'!BR60=\"Y\",1,0)","v":0},{"$f":"IF($G60=\"Non-essential\",0,1)*IF('Assessment Framework'!BS60=\"Y\",1,0)","v":0},{"$f":"IF($G60=\"Non-essential\",0,1)*IF('Assessment Framework'!BT60=\"Y\",1,0)","v":0},{"$f":"IF($G60=\"Non-essential\",0,1)*IF('Assessment Framework'!BU60=\"Y\",1,0)","v":0},{"$f":"IF($G60=\"Non-essential\",0,1)*IF('Assessment Framework'!BV60=\"Y\",1,0)","v":0},{"$f":"IF($G60=\"Non-essential\",0,1)*IF('Assessment Framework'!BW60=\"Y\",1,0)","v":0},{"$f":"IF($G60=\"Non-essential\",0,1)*IF('Assessment Framework'!BX60=\"Y\",1,0)","v":0},{"$f":"IF($G60=\"Non-essential\",0,1)*IF('Assessment Framework'!BY60=\"Y\",1,0)","v":0},{"$f":"IF($G60=\"Non-essential\",0,1)*IF('Assessment Framework'!BZ60=\"Y\",1,0)","v":0},{"$f":"IF($G60=\"Non-essential\",0,1)*IF('Assessment Framework'!CA60=\"Y\",1,0)","v":0},{"$f":"IF($G60=\"Non-essential\",0,1)*IF('Assessment Framework'!CB60=\"Y\",1,0)","v":0},{"$f":"IF($G60=\"Non-essential\",0,1)*IF('Assessment Framework'!CC60=\"Y\",1,0)","v":0},{"$f":"IF($G60=\"Non-essential\",0,1)*IF('Assessment Framework'!CD60=\"Y\",1,0)","v":0},{"$f":"IF($G60=\"Non-essential\",0,1)*IF('Assessment Framework'!CE60=\"Y\",1,0)","v":0},{"$f":"IF($G60=\"Non-essential\",0,1)*IF('Assessment Framework'!CF60=\"Y\",1,0)","v":0},{"$f":"IF($G60=\"Non-essential\",0,1)*IF('Assessment Framework'!CG60=\"Y\",1,0)","v":0},{"$f":"IF($G60=\"Non-essential\",0,1)*IF('Assessment Framework'!CH60=\"Y\",1,0)","v":0},{"$f":"IF($G60=\"Non-essential\",0,1)*IF('Assessment Framework'!CI60=\"Y\",1,0)","v":0},{"$f":"IF($G60=\"Non-essential\",0,1)*IF('Assessment Framework'!CJ60=\"Y\",1,0)","v":0},{"$f":"IF($G60=\"Non-essential\",0,1)*IF('Assessment Framework'!CK60=\"Y\",1,0)","v":0},{"$f":"IF($G60=\"Non-essential\",0,1)*IF('Assessment Framework'!CL60=\"Y\",1,0)","v":0},{"$f":"IF($G60=\"Non-essential\",0,1)*IF('Assessment Framework'!CM60=\"Y\",1,0)","v":0}]
[null,null,null,"Polymer-level","Outputs are related to plastic polymers (e.g. PET, PP)","Y,N",{"$f":"IF('B - Technical objectives'!C51=\"\",\"Non-essential\",'B - Technical objectives'!C51)","v":"Non-essential"},{"$f":"IF($G61=\"Non-essential\",0,1)*IF('Assessment Framework'!G61=\"Y\",1,0)","v":0},{"$f":"IF($G61=\"Non-essential\",0,1)*IF('Assessment Framework'!H61=\"Y\",1,0)","v":0},{"$f":"IF($G61=\"Non-essential\",0,1)*IF('Assessment Framework'!I61=\"Y\",1,0)","v":0},{"$f":"IF($G61=\"Non-essential\",0,1)*IF('Assessment Framework'!J61=\"Y\",1,0)","v":0},{"$f":"IF($G61=\"Non-essential\",0,1)*IF('Assessment Framework'!K61=\"Y\",1,0)","v":0},{"$f":"IF($G61=\"Non-essential\",0,1)*IF('Assessment Framework'!L61=\"Y\",1,0)","v":0},{"$f":"IF($G61=\"Non-essential\",0,1)*IF('Assessment Framework'!M61=\"Y\",1,0)","v":0},{"$f":"IF($G61=\"Non-essential\",0,1)*IF('Assessment Framework'!N61=\"Y\",1,0)","v":0},{"$f":"IF($G61=\"Non-essential\",0,1)*IF('Assessment Framework'!O61=\"Y\",1,0)","v":0},{"$f":"IF($G61=\"Non-essential\",0,1)*IF('Assessment Framework'!P61=\"Y\",1,0)","v":0},{"$f":"IF($G61=\"Non-essential\",0,1)*IF('Assessment Framework'!Q61=\"Y\",1,0)","v":0},{"$f":"IF($G61=\"Non-essential\",0,1)*IF('Assessment Framework'!R61=\"Y\",1,0)","v":0},{"$f":"IF($G61=\"Non-essential\",0,1)*IF('Assessment Framework'!S61=\"Y\",1,0)","v":0},{"$f":"IF($G61=\"Non-essential\",0,1)*IF('Assessment Framework'!T61=\"Y\",1,0)","v":0},{"$f":"IF($G61=\"Non-essential\",0,1)*IF('Assessment Framework'!U61=\"Y\",1,0)","v":0},{"$f":"IF($G61=\"Non-essential\",0,1)*IF('Assessment Framework'!V61=\"Y\",1,0)","v":0},{"$f":"IF($G61=\"Non-essential\",0,1)*IF('Assessment Framework'!W61=\"Y\",1,0)","v":0},{"$f":"IF($G61=\"Non-essential\",0,1)*IF('Assessment Framework'!X61=\"Y\",1,0)","v":0},{"$f":"IF($G61=\"Non-essential\",0,1)*IF('Assessment Framework'!Y61=\"Y\",1,0)","v":0},{"$f":"IF($G61=\"Non-essential\",0,1)*IF('Assessment Framework'!Z61=\"Y\",1,0)","v":0},{"$f":"IF($G61=\"Non-essential\",0,1)*IF('Assessment Framework'!AA61=\"Y\",1,0)","v":0},{"$f":"IF($G61=\"Non-essential\",0,1)*IF('Assessment Framework'!AB61=\"Y\",1,0)","v":0},{"$f":"IF($G61=\"Non-essential\",0,1)*IF('Assessment Framework'!AC61=\"Y\",1,0)","v":0},{"$f":"IF($G61=\"Non-essential\",0,1)*IF('Assessment Framework'!AD61=\"Y\",1,0)","v":0},{"$f":"IF($G61=\"Non-essential\",0,1)*IF('Assessment Framework'!AE61=\"Y\",1,0)","v":0},{"$f":"IF($G61=\"Non-essential\",0,1)*IF('Assessment Framework'!AF61=\"Y\",1,0)","v":0},{"$f":"IF($G61=\"Non-essential\",0,1)*IF('Assessment Framework'!AG61=\"Y\",1,0)","v":0},{"$f":"IF($G61=\"Non-essential\",0,1)*IF('Assessment Framework'!AH61=\"Y\",1,0)","v":0},{"$f":"IF($G61=\"Non-essential\",0,1)*IF('Assessment Framework'!AI61=\"Y\",1,0)","v":0},{"$f":"IF($G61=\"Non-essential\",0,1)*IF('Assessment Framework'!AJ61=\"Y\",1,0)","v":0},{"$f":"IF($G61=\"Non-essential\",0,1)*IF('Assessment Framework'!AK61=\"Y\",1,0)","v":0},{"$f":"IF($G61=\"Non-essential\",0,1)*IF('Assessment Framework'!AL61=\"Y\",1,0)","v":0},{"$f":"IF($G61=\"Non-essential\",0,1)*IF('Assessment Framework'!AM61=\"Y\",1,0)","v":0},{"$f":"IF($G61=\"Non-essential\",0,1)*IF('Assessment Framework'!AN61=\"Y\",1,0)","v":0},{"$f":"IF($G61=\"Non-essential\",0,1)*IF('Assessment Framework'!AO61=\"Y\",1,0)","v":0},{"$f":"IF($G61=\"Non-essential\",0,1)*IF('Assessment Framework'!AP61=\"Y\",1,0)","v":0},{"$f":"IF($G61=\"Non-essential\",0,1)*IF('Assessment Framework'!AQ61=\"Y\",1,0)","v":0},{"$f":"IF($G61=\"Non-essential\",0,1)*IF('Assessment Framework'!AR61=\"Y\",1,0)","v":0},{"$f":"IF($G61=\"Non-essential\",0,1)*IF('Assessment Framework'!AS61=\"Y\",1,0)","v":0},{"$f":"IF($G61=\"Non-essential\",0,1)*IF('Assessment Framework'!AT61=\"Y\",1,0)","v":0},{"$f":"IF($G61=\"Non-essential\",0,1)*IF('Assessment Framework'!AU61=\"Y\",1,0)","v":0},{"$f":"IF($G61=\"Non-essential\",0,1)*IF('Assessment Framework'!AV61=\"Y\",1,0)","v":0},{"$f":"IF($G61=\"Non-essential\",0,1)*IF('Assessment Framework'!AW61=\"Y\",1,0)","v":0},{"$f":"IF($G61=\"Non-essential\",0,1)*IF('Assessment Framework'!AX61=\"Y\",1,0)","v":0},{"$f":"IF($G61=\"Non-essential\",0,1)*IF('Assessment Framework'!AY61=\"Y\",1,0)","v":0},{"$f":"IF($G61=\"Non-essential\",0,1)*IF('Assessment Framework'!AZ61=\"Y\",1,0)","v":0},{"$f":"IF($G61=\"Non-essential\",0,1)*IF('Assessment Framework'!BA61=\"Y\",1,0)","v":0},{"$f":"IF($G61=\"Non-essential\",0,1)*IF('Assessment Framework'!BB61=\"Y\",1,0)","v":0},{"$f":"IF($G61=\"Non-essential\",0,1)*IF('Assessment Framework'!BC61=\"Y\",1,0)","v":0},{"$f":"IF($G61=\"Non-essential\",0,1)*IF('Assessment Framework'!BD61=\"Y\",1,0)","v":0},{"$f":"IF($G61=\"Non-essential\",0,1)*IF('Assessment Framework'!BE61=\"Y\",1,0)","v":0},{"$f":"IF($G61=\"Non-essential\",0,1)*IF('Assessment Framework'!BF61=\"Y\",1,0)","v":0},{"$f":"IF($G61=\"Non-essential\",0,1)*IF('Assessment Framework'!BG61=\"Y\",1,0)","v":0},{"$f":"IF($G61=\"Non-essential\",0,1)*IF('Assessment Framework'!BH61=\"Y\",1,0)","v":0},{"$f":"IF($G61=\"Non-essential\",0,1)*IF('Assessment Framework'!BI61=\"Y\",1,0)","v":0},{"$f":"IF($G61=\"Non-essential\",0,1)*IF('Assessment Framework'!BJ61=\"Y\",1,0)","v":0},{"$f":"IF($G61=\"Non-essential\",0,1)*IF('Assessment Framework'!BK61=\"Y\",1,0)","v":0},{"$f":"IF($G61=\"Non-essential\",0,1)*IF('Assessment Framework'!BL61=\"Y\",1,0)","v":0},{"$f":"IF($G61=\"Non-essential\",0,1)*IF('Assessment Framework'!BM61=\"Y\",1,0)","v":0},{"$f":"IF($G61=\"Non-essential\",0,1)*IF('Assessment Framework'!BN61=\"Y\",1,0)","v":0},{"$f":"IF($G61=\"Non-essential\",0,1)*IF('Assessment Framework'!BO61=\"Y\",1,0)","v":0},{"$f":"IF($G61=\"Non-essential\",0,1)*IF('Assessment Framework'!BP61=\"Y\",1,0)","v":0},{"$f":"IF($G61=\"Non-essential\",0,1)*IF('Assessment Framework'!BQ61=\"Y\",1,0)","v":0},{"$f":"IF($G61=\"Non-essential\",0,1)*IF('Assessment Framework'!BR61=\"Y\",1,0)","v":0},{"$f":"IF($G61=\"Non-essential\",0,1)*IF('Assessment Framework'!BS61=\"Y\",1,0)","v":0},{"$f":"IF($G61=\"Non-essential\",0,1)*IF('Assessment Framework'!BT61=\"Y\",1,0)","v":0},{"$f":"IF($G61=\"Non-essential\",0,1)*IF('Assessment Framework'!BU61=\"Y\",1,0)","v":0},{"$f":"IF($G61=\"Non-essential\",0,1)*IF('Assessment Framework'!BV61=\"Y\",1,0)","v":0},{"$f":"IF($G61=\"Non-essential\",0,1)*IF('Assessment Framework'!BW61=\"Y\",1,0)","v":0},{"$f":"IF($G61=\"Non-essential\",0,1)*IF('Assessment Framework'!BX61=\"Y\",1,0)","v":0},{"$f":"IF($G61=\"Non-essential\",0,1)*IF('Assessment Framework'!BY61=\"Y\",1,0)","v":0},{"$f":"IF($G61=\"Non-essential\",0,1)*IF('Assessment Framework'!BZ61=\"Y\",1,0)","v":0},{"$f":"IF($G61=\"Non-essential\",0,1)*IF('Assessment Framework'!CA61=\"Y\",1,0)","v":0},{"$f":"IF($G61=\"Non-essential\",0,1)*IF('Assessment Framework'!CB61=\"Y\",1,0)","v":0},{"$f":"IF($G61=\"Non-essential\",0,1)*IF('Assessment Framework'!CC61=\"Y\",1,0)","v":0},{"$f":"IF($G61=\"Non-essential\",0,1)*IF('Assessment Framework'!CD61=\"Y\",1,0)","v":0},{"$f":"IF($G61=\"Non-essential\",0,1)*IF('Assessment Framework'!CE61=\"Y\",1,0)","v":0},{"$f":"IF($G61=\"Non-essential\",0,1)*IF('Assessment Framework'!CF61=\"Y\",1,0)","v":0},{"$f":"IF($G61=\"Non-essential\",0,1)*IF('Assessment Framework'!CG61=\"Y\",1,0)","v":0},{"$f":"IF($G61=\"Non-essential\",0,1)*IF('Assessment Framework'!CH61=\"Y\",1,0)","v":0},{"$f":"IF($G61=\"Non-essential\",0,1)*IF('Assessment Framework'!CI61=\"Y\",1,0)","v":0},{"$f":"IF($G61=\"Non-essential\",0,1)*IF('Assessment Framework'!CJ61=\"Y\",1,0)","v":0},{"$f":"IF($G61=\"Non-essential\",0,1)*IF('Assessment Framework'!CK61=\"Y\",1,0)","v":0},{"$f":"IF($G61=\"Non-essential\",0,1)*IF('Assessment Framework'!CL61=\"Y\",1,0)","v":0},{"$f":"IF($G61=\"Non-essential\",0,1)*IF('Assessment Framework'!CM61=\"Y\",1,0)","v":0}]
[null,null,null,"Item-level","Outputs related to specific plastic objects (e.g. drink bottle, plastic bag). This differs from a plastic product as it does specify the brand / company.","Y,N",{"$f":"IF('B - Technical objectives'!C52=\"\",\"Non-essential\",'B - Technical objectives'!C52)","v":"Non-essential"},{"$f":"IF($G62=\"Non-essential\",0,1)*IF('Assessment Framework'!G62=\"Y\",1,0)","v":0},{"$f":"IF($G62=\"Non-essential\",0,1)*IF('Assessment Framework'!H62=\"Y\",1,0)","v":0},{"$f":"IF($G62=\"Non-essential\",0,1)*IF('Assessment Framework'!I62=\"Y\",1,0)","v":0},{"$f":"IF($G62=\"Non-essential\",0,1)*IF('Assessment Framework'!J62=\"Y\",1,0)","v":0},{"$f":"IF($G62=\"Non-essential\",0,1)*IF('Assessment Framework'!K62=\"Y\",1,0)","v":0},{"$f":"IF($G62=\"Non-essential\",0,1)*IF('Assessment Framework'!L62=\"Y\",1,0)","v":0},{"$f":"IF($G62=\"Non-essential\",0,1)*IF('Assessment Framework'!M62=\"Y\",1,0)","v":0},{"$f":"IF($G62=\"Non-essential\",0,1)*IF('Assessment Framework'!N62=\"Y\",1,0)","v":0},{"$f":"IF($G62=\"Non-essential\",0,1)*IF('Assessment Framework'!O62=\"Y\",1,0)","v":0},{"$f":"IF($G62=\"Non-essential\",0,1)*IF('Assessment Framework'!P62=\"Y\",1,0)","v":0},{"$f":"IF($G62=\"Non-essential\",0,1)*IF('Assessment Framework'!Q62=\"Y\",1,0)","v":0},{"$f":"IF($G62=\"Non-essential\",0,1)*IF('Assessment Framework'!R62=\"Y\",1,0)","v":0},{"$f":"IF($G62=\"Non-essential\",0,1)*IF('Assessment Framework'!S62=\"Y\",1,0)","v":0},{"$f":"IF($G62=\"Non-essential\",0,1)*IF('Assessment Framework'!T62=\"Y\",1,0)","v":0},{"$f":"IF($G62=\"Non-essential\",0,1)*IF('Assessment Framework'!U62=\"Y\",1,0)","v":0},{"$f":"IF($G62=\"Non-essential\",0,1)*IF('Assessment Framework'!V62=\"Y\",1,0)","v":0},{"$f":"IF($G62=\"Non-essential\",0,1)*IF('Assessment Framework'!W62=\"Y\",1,0)","v":0},{"$f":"IF($G62=\"Non-essential\",0,1)*IF('Assessment Framework'!X62=\"Y\",1,0)","v":0},{"$f":"IF($G62=\"Non-essential\",0,1)*IF('Assessment Framework'!Y62=\"Y\",1,0)","v":0},{"$f":"IF($G62=\"Non-essential\",0,1)*IF('Assessment Framework'!Z62=\"Y\",1,0)","v":0},{"$f":"IF($G62=\"Non-essential\",0,1)*IF('Assessment Framework'!AA62=\"Y\",1,0)","v":0},{"$f":"IF($G62=\"Non-essential\",0,1)*IF('Assessment Framework'!AB62=\"Y\",1,0)","v":0},{"$f":"IF($G62=\"Non-essential\",0,1)*IF('Assessment Framework'!AC62=\"Y\",1,0)","v":0},{"$f":"IF($G62=\"Non-essential\",0,1)*IF('Assessment Framework'!AD62=\"Y\",1,0)","v":0},{"$f":"IF($G62=\"Non-essential\",0,1)*IF('Assessment Framework'!AE62=\"Y\",1,0)","v":0},{"$f":"IF($G62=\"Non-essential\",0,1)*IF('Assessment Framework'!AF62=\"Y\",1,0)","v":0},{"$f":"IF($G62=\"Non-essential\",0,1)*IF('Assessment Framework'!AG62=\"Y\",1,0)","v":0},{"$f":"IF($G62=\"Non-essential\",0,1)*IF('Assessment Framework'!AH62=\"Y\",1,0)","v":0},{"$f":"IF($G62=\"Non-essential\",0,1)*IF('Assessment Framework'!AI62=\"Y\",1,0)","v":0},{"$f":"IF($G62=\"Non-essential\",0,1)*IF('Assessment Framework'!AJ62=\"Y\",1,0)","v":0},{"$f":"IF($G62=\"Non-essential\",0,1)*IF('Assessment Framework'!AK62=\"Y\",1,0)","v":0},{"$f":"IF($G62=\"Non-essential\",0,1)*IF('Assessment Framework'!AL62=\"Y\",1,0)","v":0},{"$f":"IF($G62=\"Non-essential\",0,1)*IF('Assessment Framework'!AM62=\"Y\",1,0)","v":0},{"$f":"IF($G62=\"Non-essential\",0,1)*IF('Assessment Framework'!AN62=\"Y\",1,0)","v":0},{"$f":"IF($G62=\"Non-essential\",0,1)*IF('Assessment Framework'!AO62=\"Y\",1,0)","v":0},{"$f":"IF($G62=\"Non-essential\",0,1)*IF('Assessment Framework'!AP62=\"Y\",1,0)","v":0},{"$f":"IF($G62=\"Non-essential\",0,1)*IF('Assessment Framework'!AQ62=\"Y\",1,0)","v":0},{"$f":"IF($G62=\"Non-essential\",0,1)*IF('Assessment Framework'!AR62=\"Y\",1,0)","v":0},{"$f":"IF($G62=\"Non-essential\",0,1)*IF('Assessment Framework'!AS62=\"Y\",1,0)","v":0},{"$f":"IF($G62=\"Non-essential\",0,1)*IF('Assessment Framework'!AT62=\"Y\",1,0)","v":0},{"$f":"IF($G62=\"Non-essential\",0,1)*IF('Assessment Framework'!AU62=\"Y\",1,0)","v":0},{"$f":"IF($G62=\"Non-essential\",0,1)*IF('Assessment Framework'!AV62=\"Y\",1,0)","v":0},{"$f":"IF($G62=\"Non-essential\",0,1)*IF('Assessment Framework'!AW62=\"Y\",1,0)","v":0},{"$f":"IF($G62=\"Non-essential\",0,1)*IF('Assessment Framework'!AX62=\"Y\",1,0)","v":0},{"$f":"IF($G62=\"Non-essential\",0,1)*IF('Assessment Framework'!AY62=\"Y\",1,0)","v":0},{"$f":"IF($G62=\"Non-essential\",0,1)*IF('Assessment Framework'!AZ62=\"Y\",1,0)","v":0},{"$f":"IF($G62=\"Non-essential\",0,1)*IF('Assessment Framework'!BA62=\"Y\",1,0)","v":0},{"$f":"IF($G62=\"Non-essential\",0,1)*IF('Assessment Framework'!BB62=\"Y\",1,0)","v":0},{"$f":"IF($G62=\"Non-essential\",0,1)*IF('Assessment Framework'!BC62=\"Y\",1,0)","v":0},{"$f":"IF($G62=\"Non-essential\",0,1)*IF('Assessment Framework'!BD62=\"Y\",1,0)","v":0},{"$f":"IF($G62=\"Non-essential\",0,1)*IF('Assessment Framework'!BE62=\"Y\",1,0)","v":0},{"$f":"IF($G62=\"Non-essential\",0,1)*IF('Assessment Framework'!BF62=\"Y\",1,0)","v":0},{"$f":"IF($G62=\"Non-essential\",0,1)*IF('Assessment Framework'!BG62=\"Y\",1,0)","v":0},{"$f":"IF($G62=\"Non-essential\",0,1)*IF('Assessment Framework'!BH62=\"Y\",1,0)","v":0},{"$f":"IF($G62=\"Non-essential\",0,1)*IF('Assessment Framework'!BI62=\"Y\",1,0)","v":0},{"$f":"IF($G62=\"Non-essential\",0,1)*IF('Assessment Framework'!BJ62=\"Y\",1,0)","v":0},{"$f":"IF($G62=\"Non-essential\",0,1)*IF('Assessment Framework'!BK62=\"Y\",1,0)","v":0},{"$f":"IF($G62=\"Non-essential\",0,1)*IF('Assessment Framework'!BL62=\"Y\",1,0)","v":0},{"$f":"IF($G62=\"Non-essential\",0,1)*IF('Assessment Framework'!BM62=\"Y\",1,0)","v":0},{"$f":"IF($G62=\"Non-essential\",0,1)*IF('Assessment Framework'!BN62=\"Y\",1,0)","v":0},{"$f":"IF($G62=\"Non-essential\",0,1)*IF('Assessment Framework'!BO62=\"Y\",1,0)","v":0},{"$f":"IF($G62=\"Non-essential\",0,1)*IF('Assessment Framework'!BP62=\"Y\",1,0)","v":0},{"$f":"IF($G62=\"Non-essential\",0,1)*IF('Assessment Framework'!BQ62=\"Y\",1,0)","v":0},{"$f":"IF($G62=\"Non-essential\",0,1)*IF('Assessment Framework'!BR62=\"Y\",1,0)","v":0},{"$f":"IF($G62=\"Non-essential\",0,1)*IF('Assessment Framework'!BS62=\"Y\",1,0)","v":0},{"$f":"IF($G62=\"Non-essential\",0,1)*IF('Assessment Framework'!BT62=\"Y\",1,0)","v":0},{"$f":"IF($G62=\"Non-essential\",0,1)*IF('Assessment Framework'!BU62=\"Y\",1,0)","v":0},{"$f":"IF($G62=\"Non-essential\",0,1)*IF('Assessment Framework'!BV62=\"Y\",1,0)","v":0},{"$f":"IF($G62=\"Non-essential\",0,1)*IF('Assessment Framework'!BW62=\"Y\",1,0)","v":0},{"$f":"IF($G62=\"Non-essential\",0,1)*IF('Assessment Framework'!BX62=\"Y\",1,0)","v":0},{"$f":"IF($G62=\"Non-essential\",0,1)*IF('Assessment Framework'!BY62=\"Y\",1,0)","v":0},{"$f":"IF($G62=\"Non-essential\",0,1)*IF('Assessment Framework'!BZ62=\"Y\",1,0)","v":0},{"$f":"IF($G62=\"Non-essential\",0,1)*IF('Assessment Framework'!CA62=\"Y\",1,0)","v":0},{"$f":"IF($G62=\"Non-essential\",0,1)*IF('Assessment Framework'!CB62=\"Y\",1,0)","v":0},{"$f":"IF($G62=\"Non-essential\",0,1)*IF('Assessment Framework'!CC62=\"Y\",1,0)","v":0},{"$f":"IF($G62=\"Non-essential\",0,1)*IF('Assessment Framework'!CD62=\"Y\",1,0)","v":0},{"$f":"IF($G62=\"Non-essential\",0,1)*IF('Assessment Framework'!CE62=\"Y\",1,0)","v":0},{"$f":"IF($G62=\"Non-essential\",0,1)*IF('Assessment Framework'!CF62=\"Y\",1,0)","v":0},{"$f":"IF($G62=\"Non-essential\",0,1)*IF('Assessment Framework'!CG62=\"Y\",1,0)","v":0},{"$f":"IF($G62=\"Non-essential\",0,1)*IF('Assessment Framework'!CH62=\"Y\",1,0)","v":0},{"$f":"IF($G62=\"Non-essential\",0,1)*IF('Assessment Framework'!CI62=\"Y\",1,0)","v":0},{"$f":"IF($G62=\"Non-essential\",0,1)*IF('Assessment Framework'!CJ62=\"Y\",1,0)","v":0},{"$f":"IF($G62=\"Non-essential\",0,1)*IF('Assessment Framework'!CK62=\"Y\",1,0)","v":0},{"$f":"IF($G62=\"Non-essential\",0,1)*IF('Assessment Framework'!CL62=\"Y\",1,0)","v":0},{"$f":"IF($G62=\"Non-essential\",0,1)*IF('Assessment Framework'!CM62=\"Y\",1,0)","v":0}]
[null,null,null,"Product/brand-level","Outputs related to specific company brands of plastic items","Y,N",{"$f":"IF('B - Technical objectives'!C53=\"\",\"Non-essential\",'B - Technical objectives'!C53)","v":"Non-essential"},{"$f":"IF($G63=\"Non-essential\",0,1)*IF('Assessment Framework'!G63=\"Y\",1,0)","v":0},{"$f":"IF($G63=\"Non-essential\",0,1)*IF('Assessment Framework'!H63=\"Y\",1,0)","v":0},{"$f":"IF($G63=\"Non-essential\",0,1)*IF('Assessment Framework'!I63=\"Y\",1,0)","v":0},{"$f":"IF($G63=\"Non-essential\",0,1)*IF('Assessment Framework'!J63=\"Y\",1,0)","v":0},{"$f":"IF($G63=\"Non-essential\",0,1)*IF('Assessment Framework'!K63=\"Y\",1,0)","v":0},{"$f":"IF($G63=\"Non-essential\",0,1)*IF('Assessment Framework'!L63=\"Y\",1,0)","v":0},{"$f":"IF($G63=\"Non-essential\",0,1)*IF('Assessment Framework'!M63=\"Y\",1,0)","v":0},{"$f":"IF($G63=\"Non-essential\",0,1)*IF('Assessment Framework'!N63=\"Y\",1,0)","v":0},{"$f":"IF($G63=\"Non-essential\",0,1)*IF('Assessment Framework'!O63=\"Y\",1,0)","v":0},{"$f":"IF($G63=\"Non-essential\",0,1)*IF('Assessment Framework'!P63=\"Y\",1,0)","v":0},{"$f":"IF($G63=\"Non-essential\",0,1)*IF('Assessment Framework'!Q63=\"Y\",1,0)","v":0},{"$f":"IF($G63=\"Non-essential\",0,1)*IF('Assessment Framework'!R63=\"Y\",1,0)","v":0},{"$f":"IF($G63=\"Non-essential\",0,1)*IF('Assessment Framework'!S63=\"Y\",1,0)","v":0},{"$f":"IF($G63=\"Non-essential\",0,1)*IF('Assessment Framework'!T63=\"Y\",1,0)","v":0},{"$f":"IF($G63=\"Non-essential\",0,1)*IF('Assessment Framework'!U63=\"Y\",1,0)","v":0},{"$f":"IF($G63=\"Non-essential\",0,1)*IF('Assessment Framework'!V63=\"Y\",1,0)","v":0},{"$f":"IF($G63=\"Non-essential\",0,1)*IF('Assessment Framework'!W63=\"Y\",1,0)","v":0},{"$f":"IF($G63=\"Non-essential\",0,1)*IF('Assessment Framework'!X63=\"Y\",1,0)","v":0},{"$f":"IF($G63=\"Non-essential\",0,1)*IF('Assessment Framework'!Y63=\"Y\",1,0)","v":0},{"$f":"IF($G63=\"Non-essential\",0,1)*IF('Assessment Framework'!Z63=\"Y\",1,0)","v":0},{"$f":"IF($G63=\"Non-essential\",0,1)*IF('Assessment Framework'!AA63=\"Y\",1,0)","v":0},{"$f":"IF($G63=\"Non-essential\",0,1)*IF('Assessment Framework'!AB63=\"Y\",1,0)","v":0},{"$f":"IF($G63=\"Non-essential\",0,1)*IF('Assessment Framework'!AC63=\"Y\",1,0)","v":0},{"$f":"IF($G63=\"Non-essential\",0,1)*IF('Assessment Framework'!AD63=\"Y\",1,0)","v":0},{"$f":"IF($G63=\"Non-essential\",0,1)*IF('Assessment Framework'!AE63=\"Y\",1,0)","v":0},{"$f":"IF($G63=\"Non-essential\",0,1)*IF('Assessment Framework'!AF63=\"Y\",1,0)","v":0},{"$f":"IF($G63=\"Non-essential\",0,1)*IF('Assessment Framework'!AG63=\"Y\",1,0)","v":0},{"$f":"IF($G63=\"Non-essential\",0,1)*IF('Assessment Framework'!AH63=\"Y\",1,0)","v":0},{"$f":"IF($G63=\"Non-essential\",0,1)*IF('Assessment Framework'!AI63=\"Y\",1,0)","v":0},{"$f":"IF($G63=\"Non-essential\",0,1)*IF('Assessment Framework'!AJ63=\"Y\",1,0)","v":0},{"$f":"IF($G63=\"Non-essential\",0,1)*IF('Assessment Framework'!AK63=\"Y\",1,0)","v":0},{"$f":"IF($G63=\"Non-essential\",0,1)*IF('Assessment Framework'!AL63=\"Y\",1,0)","v":0},{"$f":"IF($G63=\"Non-essential\",0,1)*IF('Assessment Framework'!AM63=\"Y\",1,0)","v":0},{"$f":"IF($G63=\"Non-essential\",0,1)*IF('Assessment Framework'!AN63=\"Y\",1,0)","v":0},{"$f":"IF($G63=\"Non-essential\",0,1)*IF('Assessment Framework'!AO63=\"Y\",1,0)","v":0},{"$f":"IF($G63=\"Non-essential\",0,1)*IF('Assessment Framework'!AP63=\"Y\",1,0)","v":0},{"$f":"IF($G63=\"Non-essential\",0,1)*IF('Assessment Framework'!AQ63=\"Y\",1,0)","v":0},{"$f":"IF($G63=\"Non-essential\",0,1)*IF('Assessment Framework'!AR63=\"Y\",1,0)","v":0},{"$f":"IF($G63=\"Non-essential\",0,1)*IF('Assessment Framework'!AS63=\"Y\",1,0)","v":0},{"$f":"IF($G63=\"Non-essential\",0,1)*IF('Assessment Framework'!AT63=\"Y\",1,0)","v":0},{"$f":"IF($G63=\"Non-essential\",0,1)*IF('Assessment Framework'!AU63=\"Y\",1,0)","v":0},{"$f":"IF($G63=\"Non-essential\",0,1)*IF('Assessment Framework'!AV63=\"Y\",1,0)","v":0},{"$f":"IF($G63=\"Non-essential\",0,1)*IF('Assessment Framework'!AW63=\"Y\",1,0)","v":0},{"$f":"IF($G63=\"Non-essential\",0,1)*IF('Assessment Framework'!AX63=\"Y\",1,0)","v":0},{"$f":"IF($G63=\"Non-essential\",0,1)*IF('Assessment Framework'!AY63=\"Y\",1,0)","v":0},{"$f":"IF($G63=\"Non-essential\",0,1)*IF('Assessment Framework'!AZ63=\"Y\",1,0)","v":0},{"$f":"IF($G63=\"Non-essential\",0,1)*IF('Assessment Framework'!BA63=\"Y\",1,0)","v":0},{"$f":"IF($G63=\"Non-essential\",0,1)*IF('Assessment Framework'!BB63=\"Y\",1,0)","v":0},{"$f":"IF($G63=\"Non-essential\",0,1)*IF('Assessment Framework'!BC63=\"Y\",1,0)","v":0},{"$f":"IF($G63=\"Non-essential\",0,1)*IF('Assessment Framework'!BD63=\"Y\",1,0)","v":0},{"$f":"IF($G63=\"Non-essential\",0,1)*IF('Assessment Framework'!BE63=\"Y\",1,0)","v":0},{"$f":"IF($G63=\"Non-essential\",0,1)*IF('Assessment Framework'!BF63=\"Y\",1,0)","v":0},{"$f":"IF($G63=\"Non-essential\",0,1)*IF('Assessment Framework'!BG63=\"Y\",1,0)","v":0},{"$f":"IF($G63=\"Non-essential\",0,1)*IF('Assessment Framework'!BH63=\"Y\",1,0)","v":0},{"$f":"IF($G63=\"Non-essential\",0,1)*IF('Assessment Framework'!BI63=\"Y\",1,0)","v":0},{"$f":"IF($G63=\"Non-essential\",0,1)*IF('Assessment Framework'!BJ63=\"Y\",1,0)","v":0},{"$f":"IF($G63=\"Non-essential\",0,1)*IF('Assessment Framework'!BK63=\"Y\",1,0)","v":0},{"$f":"IF($G63=\"Non-essential\",0,1)*IF('Assessment Framework'!BL63=\"Y\",1,0)","v":0},{"$f":"IF($G63=\"Non-essential\",0,1)*IF('Assessment Framework'!BM63=\"Y\",1,0)","v":0},{"$f":"IF($G63=\"Non-essential\",0,1)*IF('Assessment Framework'!BN63=\"Y\",1,0)","v":0},{"$f":"IF($G63=\"Non-essential\",0,1)*IF('Assessment Framework'!BO63=\"Y\",1,0)","v":0},{"$f":"IF($G63=\"Non-essential\",0,1)*IF('Assessment Framework'!BP63=\"Y\",1,0)","v":0},{"$f":"IF($G63=\"Non-essential\",0,1)*IF('Assessment Framework'!BQ63=\"Y\",1,0)","v":0},{"$f":"IF($G63=\"Non-essential\",0,1)*IF('Assessment Framework'!BR63=\"Y\",1,0)","v":0},{"$f":"IF($G63=\"Non-essential\",0,1)*IF('Assessment Framework'!BS63=\"Y\",1,0)","v":0},{"$f":"IF($G63=\"Non-essential\",0,1)*IF('Assessment Framework'!BT63=\"Y\",1,0)","v":0},{"$f":"IF($G63=\"Non-essential\",0,1)*IF('Assessment Framework'!BU63=\"Y\",1,0)","v":0},{"$f":"IF($G63=\"Non-essential\",0,1)*IF('Assessment Framework'!BV63=\"Y\",1,0)","v":0},{"$f":"IF($G63=\"Non-essential\",0,1)*IF('Assessment Framework'!BW63=\"Y\",1,0)","v":0},{"$f":"IF($G63=\"Non-essential\",0,1)*IF('Assessment Framework'!BX63=\"Y\",1,0)","v":0},{"$f":"IF($G63=\"Non-essential\",0,1)*IF('Assessment Framework'!BY63=\"Y\",1,0)","v":0},{"$f":"IF($G63=\"Non-essential\",0,1)*IF('Assessment Framework'!BZ63=\"Y\",1,0)","v":0},{"$f":"IF($G63=\"Non-essential\",0,1)*IF('Assessment Framework'!CA63=\"Y\",1,0)","v":0},{"$f":"IF($G63=\"Non-essential\",0,1)*IF('Assessment Framework'!CB63=\"Y\",1,0)","v":0},{"$f":"IF($G63=\"Non-essential\",0,1)*IF('Assessment Framework'!CC63=\"Y\",1,0)","v":0},{"$f":"IF($G63=\"Non-essential\",0,1)*IF('Assessment Framework'!CD63=\"Y\",1,0)","v":0},{"$f":"IF($G63=\"Non-essential\",0,1)*IF('Assessment Framework'!CE63=\"Y\",1,0)","v":0},{"$f":"IF($G63=\"Non-essential\",0,1)*IF('Assessment Framework'!CF63=\"Y\",1,0)","v":0},{"$f":"IF($G63=\"Non-essential\",0,1)*IF('Assessment Framework'!CG63=\"Y\",1,0)","v":0},{"$f":"IF($G63=\"Non-essential\",0,1)*IF('Assessment Framework'!CH63=\"Y\",1,0)","v":0},{"$f":"IF($G63=\"Non-essential\",0,1)*IF('Assessment Framework'!CI63=\"Y\",1,0)","v":0},{"$f":"IF($G63=\"Non-essential\",0,1)*IF('Assessment Framework'!CJ63=\"Y\",1,0)","v":0},{"$f":"IF($G63=\"Non-essential\",0,1)*IF('Assessment Framework'!CK63=\"Y\",1,0)","v":0},{"$f":"IF($G63=\"Non-essential\",0,1)*IF('Assessment Framework'!CL63=\"Y\",1,0)","v":0},{"$f":"IF($G63=\"Non-essential\",0,1)*IF('Assessment Framework'!CM63=\"Y\",1,0)","v":0}]
[null,null,null,"Microplastics","Outputs are related to microplastics as well as macroplastics","Y,N",{"$f":"IF('B - Technical objectives'!C54=\"\",\"Non-essential\",'B - Technical objectives'!C54)","v":"Non-essential"},{"$f":"IF($G64=\"Non-essential\",0,1)*IF('Assessment Framework'!G64=\"Y\",1,0)","v":0},{"$f":"IF($G64=\"Non-essential\",0,1)*IF('Assessment Framework'!H64=\"Y\",1,0)","v":0},{"$f":"IF($G64=\"Non-essential\",0,1)*IF('Assessment Framework'!I64=\"Y\",1,0)","v":0},{"$f":"IF($G64=\"Non-essential\",0,1)*IF('Assessment Framework'!J64=\"Y\",1,0)","v":0},{"$f":"IF($G64=\"Non-essential\",0,1)*IF('Assessment Framework'!K64=\"Y\",1,0)","v":0},{"$f":"IF($G64=\"Non-essential\",0,1)*IF('Assessment Framework'!L64=\"Y\",1,0)","v":0},{"$f":"IF($G64=\"Non-essential\",0,1)*IF('Assessment Framework'!M64=\"Y\",1,0)","v":0},{"$f":"IF($G64=\"Non-essential\",0,1)*IF('Assessment Framework'!N64=\"Y\",1,0)","v":0},{"$f":"IF($G64=\"Non-essential\",0,1)*IF('Assessment Framework'!O64=\"Y\",1,0)","v":0},{"$f":"IF($G64=\"Non-essential\",0,1)*IF('Assessment Framework'!P64=\"Y\",1,0)","v":0},{"$f":"IF($G64=\"Non-essential\",0,1)*IF('Assessment Framework'!Q64=\"Y\",1,0)","v":0},{"$f":"IF($G64=\"Non-essential\",0,1)*IF('Assessment Framework'!R64=\"Y\",1,0)","v":0},{"$f":"IF($G64=\"Non-essential\",0,1)*IF('Assessment Framework'!S64=\"Y\",1,0)","v":0},{"$f":"IF($G64=\"Non-essential\",0,1)*IF('Assessment Framework'!T64=\"Y\",1,0)","v":0},{"$f":"IF($G64=\"Non-essential\",0,1)*IF('Assessment Framework'!U64=\"Y\",1,0)","v":0},{"$f":"IF($G64=\"Non-essential\",0,1)*IF('Assessment Framework'!V64=\"Y\",1,0)","v":0},{"$f":"IF($G64=\"Non-essential\",0,1)*IF('Assessment Framework'!W64=\"Y\",1,0)","v":0},{"$f":"IF($G64=\"Non-essential\",0,1)*IF('Assessment Framework'!X64=\"Y\",1,0)","v":0},{"$f":"IF($G64=\"Non-essential\",0,1)*IF('Assessment Framework'!Y64=\"Y\",1,0)","v":0},{"$f":"IF($G64=\"Non-essential\",0,1)*IF('Assessment Framework'!Z64=\"Y\",1,0)","v":0},{"$f":"IF($G64=\"Non-essential\",0,1)*IF('Assessment Framework'!AA64=\"Y\",1,0)","v":0},{"$f":"IF($G64=\"Non-essential\",0,1)*IF('Assessment Framework'!AB64=\"Y\",1,0)","v":0},{"$f":"IF($G64=\"Non-essential\",0,1)*IF('Assessment Framework'!AC64=\"Y\",1,0)","v":0},{"$f":"IF($G64=\"Non-essential\",0,1)*IF('Assessment Framework'!AD64=\"Y\",1,0)","v":0},{"$f":"IF($G64=\"Non-essential\",0,1)*IF('Assessment Framework'!AE64=\"Y\",1,0)","v":0},{"$f":"IF($G64=\"Non-essential\",0,1)*IF('Assessment Framework'!AF64=\"Y\",1,0)","v":0},{"$f":"IF($G64=\"Non-essential\",0,1)*IF('Assessment Framework'!AG64=\"Y\",1,0)","v":0},{"$f":"IF($G64=\"Non-essential\",0,1)*IF('Assessment Framework'!AH64=\"Y\",1,0)","v":0},{"$f":"IF($G64=\"Non-essential\",0,1)*IF('Assessment Framework'!AI64=\"Y\",1,0)","v":0},{"$f":"IF($G64=\"Non-essential\",0,1)*IF('Assessment Framework'!AJ64=\"Y\",1,0)","v":0},{"$f":"IF($G64=\"Non-essential\",0,1)*IF('Assessment Framework'!AK64=\"Y\",1,0)","v":0},{"$f":"IF($G64=\"Non-essential\",0,1)*IF('Assessment Framework'!AL64=\"Y\",1,0)","v":0},{"$f":"IF($G64=\"Non-essential\",0,1)*IF('Assessment Framework'!AM64=\"Y\",1,0)","v":0},{"$f":"IF($G64=\"Non-essential\",0,1)*IF('Assessment Framework'!AN64=\"Y\",1,0)","v":0},{"$f":"IF($G64=\"Non-essential\",0,1)*IF('Assessment Framework'!AO64=\"Y\",1,0)","v":0},{"$f":"IF($G64=\"Non-essential\",0,1)*IF('Assessment Framework'!AP64=\"Y\",1,0)","v":0},{"$f":"IF($G64=\"Non-essential\",0,1)*IF('Assessment Framework'!AQ64=\"Y\",1,0)","v":0},{"$f":"IF($G64=\"Non-essential\",0,1)*IF('Assessment Framework'!AR64=\"Y\",1,0)","v":0},{"$f":"IF($G64=\"Non-essential\",0,1)*IF('Assessment Framework'!AS64=\"Y\",1,0)","v":0},{"$f":"IF($G64=\"Non-essential\",0,1)*IF('Assessment Framework'!AT64=\"Y\",1,0)","v":0},{"$f":"IF($G64=\"Non-essential\",0,1)*IF('Assessment Framework'!AU64=\"Y\",1,0)","v":0},{"$f":"IF($G64=\"Non-essential\",0,1)*IF('Assessment Framework'!AV64=\"Y\",1,0)","v":0},{"$f":"IF($G64=\"Non-essential\",0,1)*IF('Assessment Framework'!AW64=\"Y\",1,0)","v":0},{"$f":"IF($G64=\"Non-essential\",0,1)*IF('Assessment Framework'!AX64=\"Y\",1,0)","v":0},{"$f":"IF($G64=\"Non-essential\",0,1)*IF('Assessment Framework'!AY64=\"Y\",1,0)","v":0},{"$f":"IF($G64=\"Non-essential\",0,1)*IF('Assessment Framework'!AZ64=\"Y\",1,0)","v":0},{"$f":"IF($G64=\"Non-essential\",0,1)*IF('Assessment Framework'!BA64=\"Y\",1,0)","v":0},{"$f":"IF($G64=\"Non-essential\",0,1)*IF('Assessment Framework'!BB64=\"Y\",1,0)","v":0},{"$f":"IF($G64=\"Non-essential\",0,1)*IF('Assessment Framework'!BC64=\"Y\",1,0)","v":0},{"$f":"IF($G64=\"Non-essential\",0,1)*IF('Assessment Framework'!BD64=\"Y\",1,0)","v":0},{"$f":"IF($G64=\"Non-essential\",0,1)*IF('Assessment Framework'!BE64=\"Y\",1,0)","v":0},{"$f":"IF($G64=\"Non-essential\",0,1)*IF('Assessment Framework'!BF64=\"Y\",1,0)","v":0},{"$f":"IF($G64=\"Non-essential\",0,1)*IF('Assessment Framework'!BG64=\"Y\",1,0)","v":0},{"$f":"IF($G64=\"Non-essential\",0,1)*IF('Assessment Framework'!BH64=\"Y\",1,0)","v":0},{"$f":"IF($G64=\"Non-essential\",0,1)*IF('Assessment Framework'!BI64=\"Y\",1,0)","v":0},{"$f":"IF($G64=\"Non-essential\",0,1)*IF('Assessment Framework'!BJ64=\"Y\",1,0)","v":0},{"$f":"IF($G64=\"Non-essential\",0,1)*IF('Assessment Framework'!BK64=\"Y\",1,0)","v":0},{"$f":"IF($G64=\"Non-essential\",0,1)*IF('Assessment Framework'!BL64=\"Y\",1,0)","v":0},{"$f":"IF($G64=\"Non-essential\",0,1)*IF('Assessment Framework'!BM64=\"Y\",1,0)","v":0},{"$f":"IF($G64=\"Non-essential\",0,1)*IF('Assessment Framework'!BN64=\"Y\",1,0)","v":0},{"$f":"IF($G64=\"Non-essential\",0,1)*IF('Assessment Framework'!BO64=\"Y\",1,0)","v":0},{"$f":"IF($G64=\"Non-essential\",0,1)*IF('Assessment Framework'!BP64=\"Y\",1,0)","v":0},{"$f":"IF($G64=\"Non-essential\",0,1)*IF('Assessment Framework'!BQ64=\"Y\",1,0)","v":0},{"$f":"IF($G64=\"Non-essential\",0,1)*IF('Assessment Framework'!BR64=\"Y\",1,0)","v":0},{"$f":"IF($G64=\"Non-essential\",0,1)*IF('Assessment Framework'!BS64=\"Y\",1,0)","v":0},{"$f":"IF($G64=\"Non-essential\",0,1)*IF('Assessment Framework'!BT64=\"Y\",1,0)","v":0},{"$f":"IF($G64=\"Non-essential\",0,1)*IF('Assessment Framework'!BU64=\"Y\",1,0)","v":0},{"$f":"IF($G64=\"Non-essential\",0,1)*IF('Assessment Framework'!BV64=\"Y\",1,0)","v":0},{"$f":"IF($G64=\"Non-essential\",0,1)*IF('Assessment Framework'!BW64=\"Y\",1,0)","v":0},{"$f":"IF($G64=\"Non-essential\",0,1)*IF('Assessment Framework'!BX64=\"Y\",1,0)","v":0},{"$f":"IF($G64=\"Non-essential\",0,1)*IF('Assessment Framework'!BY64=\"Y\",1,0)","v":0},{"$f":"IF($G64=\"Non-essential\",0,1)*IF('Assessment Framework'!BZ64=\"Y\",1,0)","v":0},{"$f":"IF($G64=\"Non-essential\",0,1)*IF('Assessment Framework'!CA64=\"Y\",1,0)","v":0},{"$f":"IF($G64=\"Non-essential\",0,1)*IF('Assessment Framework'!CB64=\"Y\",1,0)","v":0},{"$f":"IF($G64=\"Non-essential\",0,1)*IF('Assessment Framework'!CC64=\"Y\",1,0)","v":0},{"$f":"IF($G64=\"Non-essential\",0,1)*IF('Assessment Framework'!CD64=\"Y\",1,0)","v":0},{"$f":"IF($G64=\"Non-essential\",0,1)*IF('Assessment Framework'!CE64=\"Y\",1,0)","v":0},{"$f":"IF($G64=\"Non-essential\",0,1)*IF('Assessment Framework'!CF64=\"Y\",1,0)","v":0},{"$f":"IF($G64=\"Non-essential\",0,1)*IF('Assessment Framework'!CG64=\"Y\",1,0)","v":0},{"$f":"IF($G64=\"Non-essential\",0,1)*IF('Assessment Framework'!CH64=\"Y\",1,0)","v":0},{"$f":"IF($G64=\"Non-essential\",0,1)*IF('Assessment Framework'!CI64=\"Y\",1,0)","v":0},{"$f":"IF($G64=\"Non-essential\",0,1)*IF('Assessment Framework'!CJ64=\"Y\",1,0)","v":0},{"$f":"IF($G64=\"Non-essential\",0,1)*IF('Assessment Framework'!CK64=\"Y\",1,0)","v":0},{"$f":"IF($G64=\"Non-essential\",0,1)*IF('Assessment Framework'!CL64=\"Y\",1,0)","v":0},{"$f":"IF($G64=\"Non-essential\",0,1)*IF('Assessment Framework'!CM64=\"Y\",1,0)","v":0}]
[null,"Unit of quantification","The quantification unit relates to whether the assessment methodology has outputs by count or by mass.","Quantifies by mass","Outputs are given by mass (e.g. kg, tonnes)","Y,N",{"$f":"IF('B - Technical objectives'!C57=\"\",\"Non-essential\",'B - Technical objectives'!C57)","v":"Non-essential"},{"$f":"IF($G65=\"Non-essential\",0,1)*IF('Assessment Framework'!G65=\"Y\",1,0)","v":0},{"$f":"IF($G65=\"Non-essential\",0,1)*IF('Assessment Framework'!H65=\"Y\",1,0)","v":0},{"$f":"IF($G65=\"Non-essential\",0,1)*IF('Assessment Framework'!I65=\"Y\",1,0)","v":0},{"$f":"IF($G65=\"Non-essential\",0,1)*IF('Assessment Framework'!J65=\"Y\",1,0)","v":0},{"$f":"IF($G65=\"Non-essential\",0,1)*IF('Assessment Framework'!K65=\"Y\",1,0)","v":0},{"$f":"IF($G65=\"Non-essential\",0,1)*IF('Assessment Framework'!L65=\"Y\",1,0)","v":0},{"$f":"IF($G65=\"Non-essential\",0,1)*IF('Assessment Framework'!M65=\"Y\",1,0)","v":0},{"$f":"IF($G65=\"Non-essential\",0,1)*IF('Assessment Framework'!N65=\"Y\",1,0)","v":0},{"$f":"IF($G65=\"Non-essential\",0,1)*IF('Assessment Framework'!O65=\"Y\",1,0)","v":0},{"$f":"IF($G65=\"Non-essential\",0,1)*IF('Assessment Framework'!P65=\"Y\",1,0)","v":0},{"$f":"IF($G65=\"Non-essential\",0,1)*IF('Assessment Framework'!Q65=\"Y\",1,0)","v":0},{"$f":"IF($G65=\"Non-essential\",0,1)*IF('Assessment Framework'!R65=\"Y\",1,0)","v":0},{"$f":"IF($G65=\"Non-essential\",0,1)*IF('Assessment Framework'!S65=\"Y\",1,0)","v":0},{"$f":"IF($G65=\"Non-essential\",0,1)*IF('Assessment Framework'!T65=\"Y\",1,0)","v":0},{"$f":"IF($G65=\"Non-essential\",0,1)*IF('Assessment Framework'!U65=\"Y\",1,0)","v":0},{"$f":"IF($G65=\"Non-essential\",0,1)*IF('Assessment Framework'!V65=\"Y\",1,0)","v":0},{"$f":"IF($G65=\"Non-essential\",0,1)*IF('Assessment Framework'!W65=\"Y\",1,0)","v":0},{"$f":"IF($G65=\"Non-essential\",0,1)*IF('Assessment Framework'!X65=\"Y\",1,0)","v":0},{"$f":"IF($G65=\"Non-essential\",0,1)*IF('Assessment Framework'!Y65=\"Y\",1,0)","v":0},{"$f":"IF($G65=\"Non-essential\",0,1)*IF('Assessment Framework'!Z65=\"Y\",1,0)","v":0},{"$f":"IF($G65=\"Non-essential\",0,1)*IF('Assessment Framework'!AA65=\"Y\",1,0)","v":0},{"$f":"IF($G65=\"Non-essential\",0,1)*IF('Assessment Framework'!AB65=\"Y\",1,0)","v":0},{"$f":"IF($G65=\"Non-essential\",0,1)*IF('Assessment Framework'!AC65=\"Y\",1,0)","v":0},{"$f":"IF($G65=\"Non-essential\",0,1)*IF('Assessment Framework'!AD65=\"Y\",1,0)","v":0},{"$f":"IF($G65=\"Non-essential\",0,1)*IF('Assessment Framework'!AE65=\"Y\",1,0)","v":0},{"$f":"IF($G65=\"Non-essential\",0,1)*IF('Assessment Framework'!AF65=\"Y\",1,0)","v":0},{"$f":"IF($G65=\"Non-essential\",0,1)*IF('Assessment Framework'!AG65=\"Y\",1,0)","v":0},{"$f":"IF($G65=\"Non-essential\",0,1)*IF('Assessment Framework'!AH65=\"Y\",1,0)","v":0},{"$f":"IF($G65=\"Non-essential\",0,1)*IF('Assessment Framework'!AI65=\"Y\",1,0)","v":0},{"$f":"IF($G65=\"Non-essential\",0,1)*IF('Assessment Framework'!AJ65=\"Y\",1,0)","v":0},{"$f":"IF($G65=\"Non-essential\",0,1)*IF('Assessment Framework'!AK65=\"Y\",1,0)","v":0},{"$f":"IF($G65=\"Non-essential\",0,1)*IF('Assessment Framework'!AL65=\"Y\",1,0)","v":0},{"$f":"IF($G65=\"Non-essential\",0,1)*IF('Assessment Framework'!AM65=\"Y\",1,0)","v":0},{"$f":"IF($G65=\"Non-essential\",0,1)*IF('Assessment Framework'!AN65=\"Y\",1,0)","v":0},{"$f":"IF($G65=\"Non-essential\",0,1)*IF('Assessment Framework'!AO65=\"Y\",1,0)","v":0},{"$f":"IF($G65=\"Non-essential\",0,1)*IF('Assessment Framework'!AP65=\"Y\",1,0)","v":0},{"$f":"IF($G65=\"Non-essential\",0,1)*IF('Assessment Framework'!AQ65=\"Y\",1,0)","v":0},{"$f":"IF($G65=\"Non-essential\",0,1)*IF('Assessment Framework'!AR65=\"Y\",1,0)","v":0},{"$f":"IF($G65=\"Non-essential\",0,1)*IF('Assessment Framework'!AS65=\"Y\",1,0)","v":0},{"$f":"IF($G65=\"Non-essential\",0,1)*IF('Assessment Framework'!AT65=\"Y\",1,0)","v":0},{"$f":"IF($G65=\"Non-essential\",0,1)*IF('Assessment Framework'!AU65=\"Y\",1,0)","v":0},{"$f":"IF($G65=\"Non-essential\",0,1)*IF('Assessment Framework'!AV65=\"Y\",1,0)","v":0},{"$f":"IF($G65=\"Non-essential\",0,1)*IF('Assessment Framework'!AW65=\"Y\",1,0)","v":0},{"$f":"IF($G65=\"Non-essential\",0,1)*IF('Assessment Framework'!AX65=\"Y\",1,0)","v":0},{"$f":"IF($G65=\"Non-essential\",0,1)*IF('Assessment Framework'!AY65=\"Y\",1,0)","v":0},{"$f":"IF($G65=\"Non-essential\",0,1)*IF('Assessment Framework'!AZ65=\"Y\",1,0)","v":0},{"$f":"IF($G65=\"Non-essential\",0,1)*IF('Assessment Framework'!BA65=\"Y\",1,0)","v":0},{"$f":"IF($G65=\"Non-essential\",0,1)*IF('Assessment Framework'!BB65=\"Y\",1,0)","v":0},{"$f":"IF($G65=\"Non-essential\",0,1)*IF('Assessment Framework'!BC65=\"Y\",1,0)","v":0},{"$f":"IF($G65=\"Non-essential\",0,1)*IF('Assessment Framework'!BD65=\"Y\",1,0)","v":0},{"$f":"IF($G65=\"Non-essential\",0,1)*IF('Assessment Framework'!BE65=\"Y\",1,0)","v":0},{"$f":"IF($G65=\"Non-essential\",0,1)*IF('Assessment Framework'!BF65=\"Y\",1,0)","v":0},{"$f":"IF($G65=\"Non-essential\",0,1)*IF('Assessment Framework'!BG65=\"Y\",1,0)","v":0},{"$f":"IF($G65=\"Non-essential\",0,1)*IF('Assessment Framework'!BH65=\"Y\",1,0)","v":0},{"$f":"IF($G65=\"Non-essential\",0,1)*IF('Assessment Framework'!BI65=\"Y\",1,0)","v":0},{"$f":"IF($G65=\"Non-essential\",0,1)*IF('Assessment Framework'!BJ65=\"Y\",1,0)","v":0},{"$f":"IF($G65=\"Non-essential\",0,1)*IF('Assessment Framework'!BK65=\"Y\",1,0)","v":0},{"$f":"IF($G65=\"Non-essential\",0,1)*IF('Assessment Framework'!BL65=\"Y\",1,0)","v":0},{"$f":"IF($G65=\"Non-essential\",0,1)*IF('Assessment Framework'!BM65=\"Y\",1,0)","v":0},{"$f":"IF($G65=\"Non-essential\",0,1)*IF('Assessment Framework'!BN65=\"Y\",1,0)","v":0},{"$f":"IF($G65=\"Non-essential\",0,1)*IF('Assessment Framework'!BO65=\"Y\",1,0)","v":0},{"$f":"IF($G65=\"Non-essential\",0,1)*IF('Assessment Framework'!BP65=\"Y\",1,0)","v":0},{"$f":"IF($G65=\"Non-essential\",0,1)*IF('Assessment Framework'!BQ65=\"Y\",1,0)","v":0},{"$f":"IF($G65=\"Non-essential\",0,1)*IF('Assessment Framework'!BR65=\"Y\",1,0)","v":0},{"$f":"IF($G65=\"Non-essential\",0,1)*IF('Assessment Framework'!BS65=\"Y\",1,0)","v":0},{"$f":"IF($G65=\"Non-essential\",0,1)*IF('Assessment Framework'!BT65=\"Y\",1,0)","v":0},{"$f":"IF($G65=\"Non-essential\",0,1)*IF('Assessment Framework'!BU65=\"Y\",1,0)","v":0},{"$f":"IF($G65=\"Non-essential\",0,1)*IF('Assessment Framework'!BV65=\"Y\",1,0)","v":0},{"$f":"IF($G65=\"Non-essential\",0,1)*IF('Assessment Framework'!BW65=\"Y\",1,0)","v":0},{"$f":"IF($G65=\"Non-essential\",0,1)*IF('Assessment Framework'!BX65=\"Y\",1,0)","v":0},{"$f":"IF($G65=\"Non-essential\",0,1)*IF('Assessment Framework'!BY65=\"Y\",1,0)","v":0},{"$f":"IF($G65=\"Non-essential\",0,1)*IF('Assessment Framework'!BZ65=\"Y\",1,0)","v":0},{"$f":"IF($G65=\"Non-essential\",0,1)*IF('Assessment Framework'!CA65=\"Y\",1,0)","v":0},{"$f":"IF($G65=\"Non-essential\",0,1)*IF('Assessment Framework'!CB65=\"Y\",1,0)","v":0},{"$f":"IF($G65=\"Non-essential\",0,1)*IF('Assessment Framework'!CC65=\"Y\",1,0)","v":0},{"$f":"IF($G65=\"Non-essential\",0,1)*IF('Assessment Framework'!CD65=\"Y\",1,0)","v":0},{"$f":"IF($G65=\"Non-essential\",0,1)*IF('Assessment Framework'!CE65=\"Y\",1,0)","v":0},{"$f":"IF($G65=\"Non-essential\",0,1)*IF('Assessment Framework'!CF65=\"Y\",1,0)","v":0},{"$f":"IF($G65=\"Non-essential\",0,1)*IF('Assessment Framework'!CG65=\"Y\",1,0)","v":0},{"$f":"IF($G65=\"Non-essential\",0,1)*IF('Assessment Framework'!CH65=\"Y\",1,0)","v":0},{"$f":"IF($G65=\"Non-essential\",0,1)*IF('Assessment Framework'!CI65=\"Y\",1,0)","v":0},{"$f":"IF($G65=\"Non-essential\",0,1)*IF('Assessment Framework'!CJ65=\"Y\",1,0)","v":0},{"$f":"IF($G65=\"Non-essential\",0,1)*IF('Assessment Framework'!CK65=\"Y\",1,0)","v":0},{"$f":"IF($G65=\"Non-essential\",0,1)*IF('Assessment Framework'!CL65=\"Y\",1,0)","v":0},{"$f":"IF($G65=\"Non-essential\",0,1)*IF('Assessment Framework'!CM65=\"Y\",1,0)","v":0}]
[null,null,null,"Quantifies by count","Outputs are given by count (e.g. number of items)","Y,N",{"$f":"IF('B - Technical objectives'!C58=\"\",\"Non-essential\",'B - Technical objectives'!C58)","v":"Non-essential"},{"$f":"IF($G66=\"Non-essential\",0,1)*IF('Assessment Framework'!G66=\"Y\",1,0)","v":0},{"$f":"IF($G66=\"Non-essential\",0,1)*IF('Assessment Framework'!H66=\"Y\",1,0)","v":0},{"$f":"IF($G66=\"Non-essential\",0,1)*IF('Assessment Framework'!I66=\"Y\",1,0)","v":0},{"$f":"IF($G66=\"Non-essential\",0,1)*IF('Assessment Framework'!J66=\"Y\",1,0)","v":0},{"$f":"IF($G66=\"Non-essential\",0,1)*IF('Assessment Framework'!K66=\"Y\",1,0)","v":0},{"$f":"IF($G66=\"Non-essential\",0,1)*IF('Assessment Framework'!L66=\"Y\",1,0)","v":0},{"$f":"IF($G66=\"Non-essential\",0,1)*IF('Assessment Framework'!M66=\"Y\",1,0)","v":0},{"$f":"IF($G66=\"Non-essential\",0,1)*IF('Assessment Framework'!N66=\"Y\",1,0)","v":0},{"$f":"IF($G66=\"Non-essential\",0,1)*IF('Assessment Framework'!O66=\"Y\",1,0)","v":0},{"$f":"IF($G66=\"Non-essential\",0,1)*IF('Assessment Framework'!P66=\"Y\",1,0)","v":0},{"$f":"IF($G66=\"Non-essential\",0,1)*IF('Assessment Framework'!Q66=\"Y\",1,0)","v":0},{"$f":"IF($G66=\"Non-essential\",0,1)*IF('Assessment Framework'!R66=\"Y\",1,0)","v":0},{"$f":"IF($G66=\"Non-essential\",0,1)*IF('Assessment Framework'!S66=\"Y\",1,0)","v":0},{"$f":"IF($G66=\"Non-essential\",0,1)*IF('Assessment Framework'!T66=\"Y\",1,0)","v":0},{"$f":"IF($G66=\"Non-essential\",0,1)*IF('Assessment Framework'!U66=\"Y\",1,0)","v":0},{"$f":"IF($G66=\"Non-essential\",0,1)*IF('Assessment Framework'!V66=\"Y\",1,0)","v":0},{"$f":"IF($G66=\"Non-essential\",0,1)*IF('Assessment Framework'!W66=\"Y\",1,0)","v":0},{"$f":"IF($G66=\"Non-essential\",0,1)*IF('Assessment Framework'!X66=\"Y\",1,0)","v":0},{"$f":"IF($G66=\"Non-essential\",0,1)*IF('Assessment Framework'!Y66=\"Y\",1,0)","v":0},{"$f":"IF($G66=\"Non-essential\",0,1)*IF('Assessment Framework'!Z66=\"Y\",1,0)","v":0},{"$f":"IF($G66=\"Non-essential\",0,1)*IF('Assessment Framework'!AA66=\"Y\",1,0)","v":0},{"$f":"IF($G66=\"Non-essential\",0,1)*IF('Assessment Framework'!AB66=\"Y\",1,0)","v":0},{"$f":"IF($G66=\"Non-essential\",0,1)*IF('Assessment Framework'!AC66=\"Y\",1,0)","v":0},{"$f":"IF($G66=\"Non-essential\",0,1)*IF('Assessment Framework'!AD66=\"Y\",1,0)","v":0},{"$f":"IF($G66=\"Non-essential\",0,1)*IF('Assessment Framework'!AE66=\"Y\",1,0)","v":0},{"$f":"IF($G66=\"Non-essential\",0,1)*IF('Assessment Framework'!AF66=\"Y\",1,0)","v":0},{"$f":"IF($G66=\"Non-essential\",0,1)*IF('Assessment Framework'!AG66=\"Y\",1,0)","v":0},{"$f":"IF($G66=\"Non-essential\",0,1)*IF('Assessment Framework'!AH66=\"Y\",1,0)","v":0},{"$f":"IF($G66=\"Non-essential\",0,1)*IF('Assessment Framework'!AI66=\"Y\",1,0)","v":0},{"$f":"IF($G66=\"Non-essential\",0,1)*IF('Assessment Framework'!AJ66=\"Y\",1,0)","v":0},{"$f":"IF($G66=\"Non-essential\",0,1)*IF('Assessment Framework'!AK66=\"Y\",1,0)","v":0},{"$f":"IF($G66=\"Non-essential\",0,1)*IF('Assessment Framework'!AL66=\"Y\",1,0)","v":0},{"$f":"IF($G66=\"Non-essential\",0,1)*IF('Assessment Framework'!AM66=\"Y\",1,0)","v":0},{"$f":"IF($G66=\"Non-essential\",0,1)*IF('Assessment Framework'!AN66=\"Y\",1,0)","v":0},{"$f":"IF($G66=\"Non-essential\",0,1)*IF('Assessment Framework'!AO66=\"Y\",1,0)","v":0},{"$f":"IF($G66=\"Non-essential\",0,1)*IF('Assessment Framework'!AP66=\"Y\",1,0)","v":0},{"$f":"IF($G66=\"Non-essential\",0,1)*IF('Assessment Framework'!AQ66=\"Y\",1,0)","v":0},{"$f":"IF($G66=\"Non-essential\",0,1)*IF('Assessment Framework'!AR66=\"Y\",1,0)","v":0},{"$f":"IF($G66=\"Non-essential\",0,1)*IF('Assessment Framework'!AS66=\"Y\",1,0)","v":0},{"$f":"IF($G66=\"Non-essential\",0,1)*IF('Assessment Framework'!AT66=\"Y\",1,0)","v":0},{"$f":"IF($G66=\"Non-essential\",0,1)*IF('Assessment Framework'!AU66=\"Y\",1,0)","v":0},{"$f":"IF($G66=\"Non-essential\",0,1)*IF('Assessment Framework'!AV66=\"Y\",1,0)","v":0},{"$f":"IF($G66=\"Non-essential\",0,1)*IF('Assessment Framework'!AW66=\"Y\",1,0)","v":0},{"$f":"IF($G66=\"Non-essential\",0,1)*IF('Assessment Framework'!AX66=\"Y\",1,0)","v":0},{"$f":"IF($G66=\"Non-essential\",0,1)*IF('Assessment Framework'!AY66=\"Y\",1,0)","v":0},{"$f":"IF($G66=\"Non-essential\",0,1)*IF('Assessment Framework'!AZ66=\"Y\",1,0)","v":0},{"$f":"IF($G66=\"Non-essential\",0,1)*IF('Assessment Framework'!BA66=\"Y\",1,0)","v":0},{"$f":"IF($G66=\"Non-essential\",0,1)*IF('Assessment Framework'!BB66=\"Y\",1,0)","v":0},{"$f":"IF($G66=\"Non-essential\",0,1)*IF('Assessment Framework'!BC66=\"Y\",1,0)","v":0},{"$f":"IF($G66=\"Non-essential\",0,1)*IF('Assessment Framework'!BD66=\"Y\",1,0)","v":0},{"$f":"IF($G66=\"Non-essential\",0,1)*IF('Assessment Framework'!BE66=\"Y\",1,0)","v":0},{"$f":"IF($G66=\"Non-essential\",0,1)*IF('Assessment Framework'!BF66=\"Y\",1,0)","v":0},{"$f":"IF($G66=\"Non-essential\",0,1)*IF('Assessment Framework'!BG66=\"Y\",1,0)","v":0},{"$f":"IF($G66=\"Non-essential\",0,1)*IF('Assessment Framework'!BH66=\"Y\",1,0)","v":0},{"$f":"IF($G66=\"Non-essential\",0,1)*IF('Assessment Framework'!BI66=\"Y\",1,0)","v":0},{"$f":"IF($G66=\"Non-essential\",0,1)*IF('Assessment Framework'!BJ66=\"Y\",1,0)","v":0},{"$f":"IF($G66=\"Non-essential\",0,1)*IF('Assessment Framework'!BK66=\"Y\",1,0)","v":0},{"$f":"IF($G66=\"Non-essential\",0,1)*IF('Assessment Framework'!BL66=\"Y\",1,0)","v":0},{"$f":"IF($G66=\"Non-essential\",0,1)*IF('Assessment Framework'!BM66=\"Y\",1,0)","v":0},{"$f":"IF($G66=\"Non-essential\",0,1)*IF('Assessment Framework'!BN66=\"Y\",1,0)","v":0},{"$f":"IF($G66=\"Non-essential\",0,1)*IF('Assessment Framework'!BO66=\"Y\",1,0)","v":0},{"$f":"IF($G66=\"Non-essential\",0,1)*IF('Assessment Framework'!BP66=\"Y\",1,0)","v":0},{"$f":"IF($G66=\"Non-essential\",0,1)*IF('Assessment Framework'!BQ66=\"Y\",1,0)","v":0},{"$f":"IF($G66=\"Non-essential\",0,1)*IF('Assessment Framework'!BR66=\"Y\",1,0)","v":0},{"$f":"IF($G66=\"Non-essential\",0,1)*IF('Assessment Framework'!BS66=\"Y\",1,0)","v":0},{"$f":"IF($G66=\"Non-essential\",0,1)*IF('Assessment Framework'!BT66=\"Y\",1,0)","v":0},{"$f":"IF($G66=\"Non-essential\",0,1)*IF('Assessment Framework'!BU66=\"Y\",1,0)","v":0},{"$f":"IF($G66=\"Non-essential\",0,1)*IF('Assessment Framework'!BV66=\"Y\",1,0)","v":0},{"$f":"IF($G66=\"Non-essential\",0,1)*IF('Assessment Framework'!BW66=\"Y\",1,0)","v":0},{"$f":"IF($G66=\"Non-essential\",0,1)*IF('Assessment Framework'!BX66=\"Y\",1,0)","v":0},{"$f":"IF($G66=\"Non-essential\",0,1)*IF('Assessment Framework'!BY66=\"Y\",1,0)","v":0},{"$f":"IF($G66=\"Non-essential\",0,1)*IF('Assessment Framework'!BZ66=\"Y\",1,0)","v":0},{"$f":"IF($G66=\"Non-essential\",0,1)*IF('Assessment Framework'!CA66=\"Y\",1,0)","v":0},{"$f":"IF($G66=\"Non-essential\",0,1)*IF('Assessment Framework'!CB66=\"Y\",1,0)","v":0},{"$f":"IF($G66=\"Non-essential\",0,1)*IF('Assessment Framework'!CC66=\"Y\",1,0)","v":0},{"$f":"IF($G66=\"Non-essential\",0,1)*IF('Assessment Framework'!CD66=\"Y\",1,0)","v":0},{"$f":"IF($G66=\"Non-essential\",0,1)*IF('Assessment Framework'!CE66=\"Y\",1,0)","v":0},{"$f":"IF($G66=\"Non-essential\",0,1)*IF('Assessment Framework'!CF66=\"Y\",1,0)","v":0},{"$f":"IF($G66=\"Non-essential\",0,1)*IF('Assessment Framework'!CG66=\"Y\",1,0)","v":0},{"$f":"IF($G66=\"Non-essential\",0,1)*IF('Assessment Framework'!CH66=\"Y\",1,0)","v":0},{"$f":"IF($G66=\"Non-essential\",0,1)*IF('Assessment Framework'!CI66=\"Y\",1,0)","v":0},{"$f":"IF($G66=\"Non-essential\",0,1)*IF('Assessment Framework'!CJ66=\"Y\",1,0)","v":0},{"$f":"IF($G66=\"Non-essential\",0,1)*IF('Assessment Framework'!CK66=\"Y\",1,0)","v":0},{"$f":"IF($G66=\"Non-essential\",0,1)*IF('Assessment Framework'!CL66=\"Y\",1,0)","v":0},{"$f":"IF($G66=\"Non-essential\",0,1)*IF('Assessment Framework'!CM66=\"Y\",1,0)","v":0}]
[null,"Format of outputs and model functionality","The format and functionality of outputs relates to the manner in which the outputs are presented or what functions they can perform","Includes uncertainty","Outputs are presented with a degree of certainty","Y,N",{"$f":"IF('B - Technical objectives'!C67=\"\",\"Non-essential\",'B - Technical objectives'!C67)","v":"Non-essential"},{"$f":"IF($G67=\"Non-essential\",0,1)*IF('Assessment Framework'!G67=\"Y\",1,0)","v":0},{"$f":"IF($G67=\"Non-essential\",0,1)*IF('Assessment Framework'!H67=\"Y\",1,0)","v":0},{"$f":"IF($G67=\"Non-essential\",0,1)*IF('Assessment Framework'!I67=\"Y\",1,0)","v":0},{"$f":"IF($G67=\"Non-essential\",0,1)*IF('Assessment Framework'!J67=\"Y\",1,0)","v":0},{"$f":"IF($G67=\"Non-essential\",0,1)*IF('Assessment Framework'!K67=\"Y\",1,0)","v":0},{"$f":"IF($G67=\"Non-essential\",0,1)*IF('Assessment Framework'!L67=\"Y\",1,0)","v":0},{"$f":"IF($G67=\"Non-essential\",0,1)*IF('Assessment Framework'!M67=\"Y\",1,0)","v":0},{"$f":"IF($G67=\"Non-essential\",0,1)*IF('Assessment Framework'!N67=\"Y\",1,0)","v":0},{"$f":"IF($G67=\"Non-essential\",0,1)*IF('Assessment Framework'!O67=\"Y\",1,0)","v":0},{"$f":"IF($G67=\"Non-essential\",0,1)*IF('Assessment Framework'!P67=\"Y\",1,0)","v":0},{"$f":"IF($G67=\"Non-essential\",0,1)*IF('Assessment Framework'!Q67=\"Y\",1,0)","v":0},{"$f":"IF($G67=\"Non-essential\",0,1)*IF('Assessment Framework'!R67=\"Y\",1,0)","v":0},{"$f":"IF($G67=\"Non-essential\",0,1)*IF('Assessment Framework'!S67=\"Y\",1,0)","v":0},{"$f":"IF($G67=\"Non-essential\",0,1)*IF('Assessment Framework'!T67=\"Y\",1,0)","v":0},{"$f":"IF($G67=\"Non-essential\",0,1)*IF('Assessment Framework'!U67=\"Y\",1,0)","v":0},{"$f":"IF($G67=\"Non-essential\",0,1)*IF('Assessment Framework'!V67=\"Y\",1,0)","v":0},{"$f":"IF($G67=\"Non-essential\",0,1)*IF('Assessment Framework'!W67=\"Y\",1,0)","v":0},{"$f":"IF($G67=\"Non-essential\",0,1)*IF('Assessment Framework'!X67=\"Y\",1,0)","v":0},{"$f":"IF($G67=\"Non-essential\",0,1)*IF('Assessment Framework'!Y67=\"Y\",1,0)","v":0},{"$f":"IF($G67=\"Non-essential\",0,1)*IF('Assessment Framework'!Z67=\"Y\",1,0)","v":0},{"$f":"IF($G67=\"Non-essential\",0,1)*IF('Assessment Framework'!AA67=\"Y\",1,0)","v":0},{"$f":"IF($G67=\"Non-essential\",0,1)*IF('Assessment Framework'!AB67=\"Y\",1,0)","v":0},{"$f":"IF($G67=\"Non-essential\",0,1)*IF('Assessment Framework'!AC67=\"Y\",1,0)","v":0},{"$f":"IF($G67=\"Non-essential\",0,1)*IF('Assessment Framework'!AD67=\"Y\",1,0)","v":0},{"$f":"IF($G67=\"Non-essential\",0,1)*IF('Assessment Framework'!AE67=\"Y\",1,0)","v":0},{"$f":"IF($G67=\"Non-essential\",0,1)*IF('Assessment Framework'!AF67=\"Y\",1,0)","v":0},{"$f":"IF($G67=\"Non-essential\",0,1)*IF('Assessment Framework'!AG67=\"Y\",1,0)","v":0},{"$f":"IF($G67=\"Non-essential\",0,1)*IF('Assessment Framework'!AH67=\"Y\",1,0)","v":0},{"$f":"IF($G67=\"Non-essential\",0,1)*IF('Assessment Framework'!AI67=\"Y\",1,0)","v":0},{"$f":"IF($G67=\"Non-essential\",0,1)*IF('Assessment Framework'!AJ67=\"Y\",1,0)","v":0},{"$f":"IF($G67=\"Non-essential\",0,1)*IF('Assessment Framework'!AK67=\"Y\",1,0)","v":0},{"$f":"IF($G67=\"Non-essential\",0,1)*IF('Assessment Framework'!AL67=\"Y\",1,0)","v":0},{"$f":"IF($G67=\"Non-essential\",0,1)*IF('Assessment Framework'!AM67=\"Y\",1,0)","v":0},{"$f":"IF($G67=\"Non-essential\",0,1)*IF('Assessment Framework'!AN67=\"Y\",1,0)","v":0},{"$f":"IF($G67=\"Non-essential\",0,1)*IF('Assessment Framework'!AO67=\"Y\",1,0)","v":0},{"$f":"IF($G67=\"Non-essential\",0,1)*IF('Assessment Framework'!AP67=\"Y\",1,0)","v":0},{"$f":"IF($G67=\"Non-essential\",0,1)*IF('Assessment Framework'!AQ67=\"Y\",1,0)","v":0},{"$f":"IF($G67=\"Non-essential\",0,1)*IF('Assessment Framework'!AR67=\"Y\",1,0)","v":0},{"$f":"IF($G67=\"Non-essential\",0,1)*IF('Assessment Framework'!AS67=\"Y\",1,0)","v":0},{"$f":"IF($G67=\"Non-essential\",0,1)*IF('Assessment Framework'!AT67=\"Y\",1,0)","v":0},{"$f":"IF($G67=\"Non-essential\",0,1)*IF('Assessment Framework'!AU67=\"Y\",1,0)","v":0},{"$f":"IF($G67=\"Non-essential\",0,1)*IF('Assessment Framework'!AV67=\"Y\",1,0)","v":0},{"$f":"IF($G67=\"Non-essential\",0,1)*IF('Assessment Framework'!AW67=\"Y\",1,0)","v":0},{"$f":"IF($G67=\"Non-essential\",0,1)*IF('Assessment Framework'!AX67=\"Y\",1,0)","v":0},{"$f":"IF($G67=\"Non-essential\",0,1)*IF('Assessment Framework'!AY67=\"Y\",1,0)","v":0},{"$f":"IF($G67=\"Non-essential\",0,1)*IF('Assessment Framework'!AZ67=\"Y\",1,0)","v":0},{"$f":"IF($G67=\"Non-essential\",0,1)*IF('Assessment Framework'!BA67=\"Y\",1,0)","v":0},{"$f":"IF($G67=\"Non-essential\",0,1)*IF('Assessment Framework'!BB67=\"Y\",1,0)","v":0},{"$f":"IF($G67=\"Non-essential\",0,1)*IF('Assessment Framework'!BC67=\"Y\",1,0)","v":0},{"$f":"IF($G67=\"Non-essential\",0,1)*IF('Assessment Framework'!BD67=\"Y\",1,0)","v":0},{"$f":"IF($G67=\"Non-essential\",0,1)*IF('Assessment Framework'!BE67=\"Y\",1,0)","v":0},{"$f":"IF($G67=\"Non-essential\",0,1)*IF('Assessment Framework'!BF67=\"Y\",1,0)","v":0},{"$f":"IF($G67=\"Non-essential\",0,1)*IF('Assessment Framework'!BG67=\"Y\",1,0)","v":0},{"$f":"IF($G67=\"Non-essential\",0,1)*IF('Assessment Framework'!BH67=\"Y\",1,0)","v":0},{"$f":"IF($G67=\"Non-essential\",0,1)*IF('Assessment Framework'!BI67=\"Y\",1,0)","v":0},{"$f":"IF($G67=\"Non-essential\",0,1)*IF('Assessment Framework'!BJ67=\"Y\",1,0)","v":0},{"$f":"IF($G67=\"Non-essential\",0,1)*IF('Assessment Framework'!BK67=\"Y\",1,0)","v":0},{"$f":"IF($G67=\"Non-essential\",0,1)*IF('Assessment Framework'!BL67=\"Y\",1,0)","v":0},{"$f":"IF($G67=\"Non-essential\",0,1)*IF('Assessment Framework'!BM67=\"Y\",1,0)","v":0},{"$f":"IF($G67=\"Non-essential\",0,1)*IF('Assessment Framework'!BN67=\"Y\",1,0)","v":0},{"$f":"IF($G67=\"Non-essential\",0,1)*IF('Assessment Framework'!BO67=\"Y\",1,0)","v":0},{"$f":"IF($G67=\"Non-essential\",0,1)*IF('Assessment Framework'!BP67=\"Y\",1,0)","v":0},{"$f":"IF($G67=\"Non-essential\",0,1)*IF('Assessment Framework'!BQ67=\"Y\",1,0)","v":0},{"$f":"IF($G67=\"Non-essential\",0,1)*IF('Assessment Framework'!BR67=\"Y\",1,0)","v":0},{"$f":"IF($G67=\"Non-essential\",0,1)*IF('Assessment Framework'!BS67=\"Y\",1,0)","v":0},{"$f":"IF($G67=\"Non-essential\",0,1)*IF('Assessment Framework'!BT67=\"Y\",1,0)","v":0},{"$f":"IF($G67=\"Non-essential\",0,1)*IF('Assessment Framework'!BU67=\"Y\",1,0)","v":0},{"$f":"IF($G67=\"Non-essential\",0,1)*IF('Assessment Framework'!BV67=\"Y\",1,0)","v":0},{"$f":"IF($G67=\"Non-essential\",0,1)*IF('Assessment Framework'!BW67=\"Y\",1,0)","v":0},{"$f":"IF($G67=\"Non-essential\",0,1)*IF('Assessment Framework'!BX67=\"Y\",1,0)","v":0},{"$f":"IF($G67=\"Non-essential\",0,1)*IF('Assessment Framework'!BY67=\"Y\",1,0)","v":0},{"$f":"IF($G67=\"Non-essential\",0,1)*IF('Assessment Framework'!BZ67=\"Y\",1,0)","v":0},{"$f":"IF($G67=\"Non-essential\",0,1)*IF('Assessment Framework'!CA67=\"Y\",1,0)","v":0},{"$f":"IF($G67=\"Non-essential\",0,1)*IF('Assessment Framework'!CB67=\"Y\",1,0)","v":0},{"$f":"IF($G67=\"Non-essential\",0,1)*IF('Assessment Framework'!CC67=\"Y\",1,0)","v":0},{"$f":"IF($G67=\"Non-essential\",0,1)*IF('Assessment Framework'!CD67=\"Y\",1,0)","v":0},{"$f":"IF($G67=\"Non-essential\",0,1)*IF('Assessment Framework'!CE67=\"Y\",1,0)","v":0},{"$f":"IF($G67=\"Non-essential\",0,1)*IF('Assessment Framework'!CF67=\"Y\",1,0)","v":0},{"$f":"IF($G67=\"Non-essential\",0,1)*IF('Assessment Framework'!CG67=\"Y\",1,0)","v":0},{"$f":"IF($G67=\"Non-essential\",0,1)*IF('Assessment Framework'!CH67=\"Y\",1,0)","v":0},{"$f":"IF($G67=\"Non-essential\",0,1)*IF('Assessment Framework'!CI67=\"Y\",1,0)","v":0},{"$f":"IF($G67=\"Non-essential\",0,1)*IF('Assessment Framework'!CJ67=\"Y\",1,0)","v":0},{"$f":"IF($G67=\"Non-essential\",0,1)*IF('Assessment Framework'!CK67=\"Y\",1,0)","v":0},{"$f":"IF($G67=\"Non-essential\",0,1)*IF('Assessment Framework'!CL67=\"Y\",1,0)","v":0},{"$f":"IF($G67=\"Non-essential\",0,1)*IF('Assessment Framework'!CM67=\"Y\",1,0)","v":0}]
[null,null,null,"GIS / maps","Outputs can be shown in GIS interfaces or as maps","Y,N",{"$f":"IF('B - Technical objectives'!C68=\"\",\"Non-essential\",'B - Technical objectives'!C68)","v":"Non-essential"},{"$f":"IF($G68=\"Non-essential\",0,1)*IF('Assessment Framework'!G68=\"Y\",1,0)","v":0},{"$f":"IF($G68=\"Non-essential\",0,1)*IF('Assessment Framework'!H68=\"Y\",1,0)","v":0},{"$f":"IF($G68=\"Non-essential\",0,1)*IF('Assessment Framework'!I68=\"Y\",1,0)","v":0},{"$f":"IF($G68=\"Non-essential\",0,1)*IF('Assessment Framework'!J68=\"Y\",1,0)","v":0},{"$f":"IF($G68=\"Non-essential\",0,1)*IF('Assessment Framework'!K68=\"Y\",1,0)","v":0},{"$f":"IF($G68=\"Non-essential\",0,1)*IF('Assessment Framework'!L68=\"Y\",1,0)","v":0},{"$f":"IF($G68=\"Non-essential\",0,1)*IF('Assessment Framework'!M68=\"Y\",1,0)","v":0},{"$f":"IF($G68=\"Non-essential\",0,1)*IF('Assessment Framework'!N68=\"Y\",1,0)","v":0},{"$f":"IF($G68=\"Non-essential\",0,1)*IF('Assessment Framework'!O68=\"Y\",1,0)","v":0},{"$f":"IF($G68=\"Non-essential\",0,1)*IF('Assessment Framework'!P68=\"Y\",1,0)","v":0},{"$f":"IF($G68=\"Non-essential\",0,1)*IF('Assessment Framework'!Q68=\"Y\",1,0)","v":0},{"$f":"IF($G68=\"Non-essential\",0,1)*IF('Assessment Framework'!R68=\"Y\",1,0)","v":0},{"$f":"IF($G68=\"Non-essential\",0,1)*IF('Assessment Framework'!S68=\"Y\",1,0)","v":0},{"$f":"IF($G68=\"Non-essential\",0,1)*IF('Assessment Framework'!T68=\"Y\",1,0)","v":0},{"$f":"IF($G68=\"Non-essential\",0,1)*IF('Assessment Framework'!U68=\"Y\",1,0)","v":0},{"$f":"IF($G68=\"Non-essential\",0,1)*IF('Assessment Framework'!V68=\"Y\",1,0)","v":0},{"$f":"IF($G68=\"Non-essential\",0,1)*IF('Assessment Framework'!W68=\"Y\",1,0)","v":0},{"$f":"IF($G68=\"Non-essential\",0,1)*IF('Assessment Framework'!X68=\"Y\",1,0)","v":0},{"$f":"IF($G68=\"Non-essential\",0,1)*IF('Assessment Framework'!Y68=\"Y\",1,0)","v":0},{"$f":"IF($G68=\"Non-essential\",0,1)*IF('Assessment Framework'!Z68=\"Y\",1,0)","v":0},{"$f":"IF($G68=\"Non-essential\",0,1)*IF('Assessment Framework'!AA68=\"Y\",1,0)","v":0},{"$f":"IF($G68=\"Non-essential\",0,1)*IF('Assessment Framework'!AB68=\"Y\",1,0)","v":0},{"$f":"IF($G68=\"Non-essential\",0,1)*IF('Assessment Framework'!AC68=\"Y\",1,0)","v":0},{"$f":"IF($G68=\"Non-essential\",0,1)*IF('Assessment Framework'!AD68=\"Y\",1,0)","v":0},{"$f":"IF($G68=\"Non-essential\",0,1)*IF('Assessment Framework'!AE68=\"Y\",1,0)","v":0},{"$f":"IF($G68=\"Non-essential\",0,1)*IF('Assessment Framework'!AF68=\"Y\",1,0)","v":0},{"$f":"IF($G68=\"Non-essential\",0,1)*IF('Assessment Framework'!AG68=\"Y\",1,0)","v":0},{"$f":"IF($G68=\"Non-essential\",0,1)*IF('Assessment Framework'!AH68=\"Y\",1,0)","v":0},{"$f":"IF($G68=\"Non-essential\",0,1)*IF('Assessment Framework'!AI68=\"Y\",1,0)","v":0},{"$f":"IF($G68=\"Non-essential\",0,1)*IF('Assessment Framework'!AJ68=\"Y\",1,0)","v":0},{"$f":"IF($G68=\"Non-essential\",0,1)*IF('Assessment Framework'!AK68=\"Y\",1,0)","v":0},{"$f":"IF($G68=\"Non-essential\",0,1)*IF('Assessment Framework'!AL68=\"Y\",1,0)","v":0},{"$f":"IF($G68=\"Non-essential\",0,1)*IF('Assessment Framework'!AM68=\"Y\",1,0)","v":0},{"$f":"IF($G68=\"Non-essential\",0,1)*IF('Assessment Framework'!AN68=\"Y\",1,0)","v":0},{"$f":"IF($G68=\"Non-essential\",0,1)*IF('Assessment Framework'!AO68=\"Y\",1,0)","v":0},{"$f":"IF($G68=\"Non-essential\",0,1)*IF('Assessment Framework'!AP68=\"Y\",1,0)","v":0},{"$f":"IF($G68=\"Non-essential\",0,1)*IF('Assessment Framework'!AQ68=\"Y\",1,0)","v":0},{"$f":"IF($G68=\"Non-essential\",0,1)*IF('Assessment Framework'!AR68=\"Y\",1,0)","v":0},{"$f":"IF($G68=\"Non-essential\",0,1)*IF('Assessment Framework'!AS68=\"Y\",1,0)","v":0},{"$f":"IF($G68=\"Non-essential\",0,1)*IF('Assessment Framework'!AT68=\"Y\",1,0)","v":0},{"$f":"IF($G68=\"Non-essential\",0,1)*IF('Assessment Framework'!AU68=\"Y\",1,0)","v":0},{"$f":"IF($G68=\"Non-essential\",0,1)*IF('Assessment Framework'!AV68=\"Y\",1,0)","v":0},{"$f":"IF($G68=\"Non-essential\",0,1)*IF('Assessment Framework'!AW68=\"Y\",1,0)","v":0},{"$f":"IF($G68=\"Non-essential\",0,1)*IF('Assessment Framework'!AX68=\"Y\",1,0)","v":0},{"$f":"IF($G68=\"Non-essential\",0,1)*IF('Assessment Framework'!AY68=\"Y\",1,0)","v":0},{"$f":"IF($G68=\"Non-essential\",0,1)*IF('Assessment Framework'!AZ68=\"Y\",1,0)","v":0},{"$f":"IF($G68=\"Non-essential\",0,1)*IF('Assessment Framework'!BA68=\"Y\",1,0)","v":0},{"$f":"IF($G68=\"Non-essential\",0,1)*IF('Assessment Framework'!BB68=\"Y\",1,0)","v":0},{"$f":"IF($G68=\"Non-essential\",0,1)*IF('Assessment Framework'!BC68=\"Y\",1,0)","v":0},{"$f":"IF($G68=\"Non-essential\",0,1)*IF('Assessment Framework'!BD68=\"Y\",1,0)","v":0},{"$f":"IF($G68=\"Non-essential\",0,1)*IF('Assessment Framework'!BE68=\"Y\",1,0)","v":0},{"$f":"IF($G68=\"Non-essential\",0,1)*IF('Assessment Framework'!BF68=\"Y\",1,0)","v":0},{"$f":"IF($G68=\"Non-essential\",0,1)*IF('Assessment Framework'!BG68=\"Y\",1,0)","v":0},{"$f":"IF($G68=\"Non-essential\",0,1)*IF('Assessment Framework'!BH68=\"Y\",1,0)","v":0},{"$f":"IF($G68=\"Non-essential\",0,1)*IF('Assessment Framework'!BI68=\"Y\",1,0)","v":0},{"$f":"IF($G68=\"Non-essential\",0,1)*IF('Assessment Framework'!BJ68=\"Y\",1,0)","v":0},{"$f":"IF($G68=\"Non-essential\",0,1)*IF('Assessment Framework'!BK68=\"Y\",1,0)","v":0},{"$f":"IF($G68=\"Non-essential\",0,1)*IF('Assessment Framework'!BL68=\"Y\",1,0)","v":0},{"$f":"IF($G68=\"Non-essential\",0,1)*IF('Assessment Framework'!BM68=\"Y\",1,0)","v":0},{"$f":"IF($G68=\"Non-essential\",0,1)*IF('Assessment Framework'!BN68=\"Y\",1,0)","v":0},{"$f":"IF($G68=\"Non-essential\",0,1)*IF('Assessment Framework'!BO68=\"Y\",1,0)","v":0},{"$f":"IF($G68=\"Non-essential\",0,1)*IF('Assessment Framework'!BP68=\"Y\",1,0)","v":0},{"$f":"IF($G68=\"Non-essential\",0,1)*IF('Assessment Framework'!BQ68=\"Y\",1,0)","v":0},{"$f":"IF($G68=\"Non-essential\",0,1)*IF('Assessment Framework'!BR68=\"Y\",1,0)","v":0},{"$f":"IF($G68=\"Non-essential\",0,1)*IF('Assessment Framework'!BS68=\"Y\",1,0)","v":0},{"$f":"IF($G68=\"Non-essential\",0,1)*IF('Assessment Framework'!BT68=\"Y\",1,0)","v":0},{"$f":"IF($G68=\"Non-essential\",0,1)*IF('Assessment Framework'!BU68=\"Y\",1,0)","v":0},{"$f":"IF($G68=\"Non-essential\",0,1)*IF('Assessment Framework'!BV68=\"Y\",1,0)","v":0},{"$f":"IF($G68=\"Non-essential\",0,1)*IF('Assessment Framework'!BW68=\"Y\",1,0)","v":0},{"$f":"IF($G68=\"Non-essential\",0,1)*IF('Assessment Framework'!BX68=\"Y\",1,0)","v":0},{"$f":"IF($G68=\"Non-essential\",0,1)*IF('Assessment Framework'!BY68=\"Y\",1,0)","v":0},{"$f":"IF($G68=\"Non-essential\",0,1)*IF('Assessment Framework'!BZ68=\"Y\",1,0)","v":0},{"$f":"IF($G68=\"Non-essential\",0,1)*IF('Assessment Framework'!CA68=\"Y\",1,0)","v":0},{"$f":"IF($G68=\"Non-essential\",0,1)*IF('Assessment Framework'!CB68=\"Y\",1,0)","v":0},{"$f":"IF($G68=\"Non-essential\",0,1)*IF('Assessment Framework'!CC68=\"Y\",1,0)","v":0},{"$f":"IF($G68=\"Non-essential\",0,1)*IF('Assessment Framework'!CD68=\"Y\",1,0)","v":0},{"$f":"IF($G68=\"Non-essential\",0,1)*IF('Assessment Framework'!CE68=\"Y\",1,0)","v":0},{"$f":"IF($G68=\"Non-essential\",0,1)*IF('Assessment Framework'!CF68=\"Y\",1,0)","v":0},{"$f":"IF($G68=\"Non-essential\",0,1)*IF('Assessment Framework'!CG68=\"Y\",1,0)","v":0},{"$f":"IF($G68=\"Non-essential\",0,1)*IF('Assessment Framework'!CH68=\"Y\",1,0)","v":0},{"$f":"IF($G68=\"Non-essential\",0,1)*IF('Assessment Framework'!CI68=\"Y\",1,0)","v":0},{"$f":"IF($G68=\"Non-essential\",0,1)*IF('Assessment Framework'!CJ68=\"Y\",1,0)","v":0},{"$f":"IF($G68=\"Non-essential\",0,1)*IF('Assessment Framework'!CK68=\"Y\",1,0)","v":0},{"$f":"IF($G68=\"Non-essential\",0,1)*IF('Assessment Framework'!CL68=\"Y\",1,0)","v":0},{"$f":"IF($G68=\"Non-essential\",0,1)*IF('Assessment Framework'!CM68=\"Y\",1,0)","v":0}]
[null,null,null,"Outputs aligned with SDG sub-indicators","Outputs are aligned to report on the Sustainable Development Goal (SDG) sub-indicators.","Y,N",{"$f":"IF('B - Technical objectives'!C69=\"\",\"Non-essential\",'B - Technical objectives'!C69)","v":"Non-essential"},{"$f":"IF($G69=\"Non-essential\",0,1)*IF('Assessment Framework'!G69=\"Y\",1,0)","v":0},{"$f":"IF($G69=\"Non-essential\",0,1)*IF('Assessment Framework'!H69=\"Y\",1,0)","v":0},{"$f":"IF($G69=\"Non-essential\",0,1)*IF('Assessment Framework'!I69=\"Y\",1,0)","v":0},{"$f":"IF($G69=\"Non-essential\",0,1)*IF('Assessment Framework'!J69=\"Y\",1,0)","v":0},{"$f":"IF($G69=\"Non-essential\",0,1)*IF('Assessment Framework'!K69=\"Y\",1,0)","v":0},{"$f":"IF($G69=\"Non-essential\",0,1)*IF('Assessment Framework'!L69=\"Y\",1,0)","v":0},{"$f":"IF($G69=\"Non-essential\",0,1)*IF('Assessment Framework'!M69=\"Y\",1,0)","v":0},{"$f":"IF($G69=\"Non-essential\",0,1)*IF('Assessment Framework'!N69=\"Y\",1,0)","v":0},{"$f":"IF($G69=\"Non-essential\",0,1)*IF('Assessment Framework'!O69=\"Y\",1,0)","v":0},{"$f":"IF($G69=\"Non-essential\",0,1)*IF('Assessment Framework'!P69=\"Y\",1,0)","v":0},{"$f":"IF($G69=\"Non-essential\",0,1)*IF('Assessment Framework'!Q69=\"Y\",1,0)","v":0},{"$f":"IF($G69=\"Non-essential\",0,1)*IF('Assessment Framework'!R69=\"Y\",1,0)","v":0},{"$f":"IF($G69=\"Non-essential\",0,1)*IF('Assessment Framework'!S69=\"Y\",1,0)","v":0},{"$f":"IF($G69=\"Non-essential\",0,1)*IF('Assessment Framework'!T69=\"Y\",1,0)","v":0},{"$f":"IF($G69=\"Non-essential\",0,1)*IF('Assessment Framework'!U69=\"Y\",1,0)","v":0},{"$f":"IF($G69=\"Non-essential\",0,1)*IF('Assessment Framework'!V69=\"Y\",1,0)","v":0},{"$f":"IF($G69=\"Non-essential\",0,1)*IF('Assessment Framework'!W69=\"Y\",1,0)","v":0},{"$f":"IF($G69=\"Non-essential\",0,1)*IF('Assessment Framework'!X69=\"Y\",1,0)","v":0},{"$f":"IF($G69=\"Non-essential\",0,1)*IF('Assessment Framework'!Y69=\"Y\",1,0)","v":0},{"$f":"IF($G69=\"Non-essential\",0,1)*IF('Assessment Framework'!Z69=\"Y\",1,0)","v":0},{"$f":"IF($G69=\"Non-essential\",0,1)*IF('Assessment Framework'!AA69=\"Y\",1,0)","v":0},{"$f":"IF($G69=\"Non-essential\",0,1)*IF('Assessment Framework'!AB69=\"Y\",1,0)","v":0},{"$f":"IF($G69=\"Non-essential\",0,1)*IF('Assessment Framework'!AC69=\"Y\",1,0)","v":0},{"$f":"IF($G69=\"Non-essential\",0,1)*IF('Assessment Framework'!AD69=\"Y\",1,0)","v":0},{"$f":"IF($G69=\"Non-essential\",0,1)*IF('Assessment Framework'!AE69=\"Y\",1,0)","v":0},{"$f":"IF($G69=\"Non-essential\",0,1)*IF('Assessment Framework'!AF69=\"Y\",1,0)","v":0},{"$f":"IF($G69=\"Non-essential\",0,1)*IF('Assessment Framework'!AG69=\"Y\",1,0)","v":0},{"$f":"IF($G69=\"Non-essential\",0,1)*IF('Assessment Framework'!AH69=\"Y\",1,0)","v":0},{"$f":"IF($G69=\"Non-essential\",0,1)*IF('Assessment Framework'!AI69=\"Y\",1,0)","v":0},{"$f":"IF($G69=\"Non-essential\",0,1)*IF('Assessment Framework'!AJ69=\"Y\",1,0)","v":0},{"$f":"IF($G69=\"Non-essential\",0,1)*IF('Assessment Framework'!AK69=\"Y\",1,0)","v":0},{"$f":"IF($G69=\"Non-essential\",0,1)*IF('Assessment Framework'!AL69=\"Y\",1,0)","v":0},{"$f":"IF($G69=\"Non-essential\",0,1)*IF('Assessment Framework'!AM69=\"Y\",1,0)","v":0},{"$f":"IF($G69=\"Non-essential\",0,1)*IF('Assessment Framework'!AN69=\"Y\",1,0)","v":0},{"$f":"IF($G69=\"Non-essential\",0,1)*IF('Assessment Framework'!AO69=\"Y\",1,0)","v":0},{"$f":"IF($G69=\"Non-essential\",0,1)*IF('Assessment Framework'!AP69=\"Y\",1,0)","v":0},{"$f":"IF($G69=\"Non-essential\",0,1)*IF('Assessment Framework'!AQ69=\"Y\",1,0)","v":0},{"$f":"IF($G69=\"Non-essential\",0,1)*IF('Assessment Framework'!AR69=\"Y\",1,0)","v":0},{"$f":"IF($G69=\"Non-essential\",0,1)*IF('Assessment Framework'!AS69=\"Y\",1,0)","v":0},{"$f":"IF($G69=\"Non-essential\",0,1)*IF('Assessment Framework'!AT69=\"Y\",1,0)","v":0},{"$f":"IF($G69=\"Non-essential\",0,1)*IF('Assessment Framework'!AU69=\"Y\",1,0)","v":0},{"$f":"IF($G69=\"Non-essential\",0,1)*IF('Assessment Framework'!AV69=\"Y\",1,0)","v":0},{"$f":"IF($G69=\"Non-essential\",0,1)*IF('Assessment Framework'!AW69=\"Y\",1,0)","v":0},{"$f":"IF($G69=\"Non-essential\",0,1)*IF('Assessment Framework'!AX69=\"Y\",1,0)","v":0},{"$f":"IF($G69=\"Non-essential\",0,1)*IF('Assessment Framework'!AY69=\"Y\",1,0)","v":0},{"$f":"IF($G69=\"Non-essential\",0,1)*IF('Assessment Framework'!AZ69=\"Y\",1,0)","v":0},{"$f":"IF($G69=\"Non-essential\",0,1)*IF('Assessment Framework'!BA69=\"Y\",1,0)","v":0},{"$f":"IF($G69=\"Non-essential\",0,1)*IF('Assessment Framework'!BB69=\"Y\",1,0)","v":0},{"$f":"IF($G69=\"Non-essential\",0,1)*IF('Assessment Framework'!BC69=\"Y\",1,0)","v":0},{"$f":"IF($G69=\"Non-essential\",0,1)*IF('Assessment Framework'!BD69=\"Y\",1,0)","v":0},{"$f":"IF($G69=\"Non-essential\",0,1)*IF('Assessment Framework'!BE69=\"Y\",1,0)","v":0},{"$f":"IF($G69=\"Non-essential\",0,1)*IF('Assessment Framework'!BF69=\"Y\",1,0)","v":0},{"$f":"IF($G69=\"Non-essential\",0,1)*IF('Assessment Framework'!BG69=\"Y\",1,0)","v":0},{"$f":"IF($G69=\"Non-essential\",0,1)*IF('Assessment Framework'!BH69=\"Y\",1,0)","v":0},{"$f":"IF($G69=\"Non-essential\",0,1)*IF('Assessment Framework'!BI69=\"Y\",1,0)","v":0},{"$f":"IF($G69=\"Non-essential\",0,1)*IF('Assessment Framework'!BJ69=\"Y\",1,0)","v":0},{"$f":"IF($G69=\"Non-essential\",0,1)*IF('Assessment Framework'!BK69=\"Y\",1,0)","v":0},{"$f":"IF($G69=\"Non-essential\",0,1)*IF('Assessment Framework'!BL69=\"Y\",1,0)","v":0},{"$f":"IF($G69=\"Non-essential\",0,1)*IF('Assessment Framework'!BM69=\"Y\",1,0)","v":0},{"$f":"IF($G69=\"Non-essential\",0,1)*IF('Assessment Framework'!BN69=\"Y\",1,0)","v":0},{"$f":"IF($G69=\"Non-essential\",0,1)*IF('Assessment Framework'!BO69=\"Y\",1,0)","v":0},{"$f":"IF($G69=\"Non-essential\",0,1)*IF('Assessment Framework'!BP69=\"Y\",1,0)","v":0},{"$f":"IF($G69=\"Non-essential\",0,1)*IF('Assessment Framework'!BQ69=\"Y\",1,0)","v":0},{"$f":"IF($G69=\"Non-essential\",0,1)*IF('Assessment Framework'!BR69=\"Y\",1,0)","v":0},{"$f":"IF($G69=\"Non-essential\",0,1)*IF('Assessment Framework'!BS69=\"Y\",1,0)","v":0},{"$f":"IF($G69=\"Non-essential\",0,1)*IF('Assessment Framework'!BT69=\"Y\",1,0)","v":0},{"$f":"IF($G69=\"Non-essential\",0,1)*IF('Assessment Framework'!BU69=\"Y\",1,0)","v":0},{"$f":"IF($G69=\"Non-essential\",0,1)*IF('Assessment Framework'!BV69=\"Y\",1,0)","v":0},{"$f":"IF($G69=\"Non-essential\",0,1)*IF('Assessment Framework'!BW69=\"Y\",1,0)","v":0},{"$f":"IF($G69=\"Non-essential\",0,1)*IF('Assessment Framework'!BX69=\"Y\",1,0)","v":0},{"$f":"IF($G69=\"Non-essential\",0,1)*IF('Assessment Framework'!BY69=\"Y\",1,0)","v":0},{"$f":"IF($G69=\"Non-essential\",0,1)*IF('Assessment Framework'!BZ69=\"Y\",1,0)","v":0},{"$f":"IF($G69=\"Non-essential\",0,1)*IF('Assessment Framework'!CA69=\"Y\",1,0)","v":0},{"$f":"IF($G69=\"Non-essential\",0,1)*IF('Assessment Framework'!CB69=\"Y\",1,0)","v":0},{"$f":"IF($G69=\"Non-essential\",0,1)*IF('Assessment Framework'!CC69=\"Y\",1,0)","v":0},{"$f":"IF($G69=\"Non-essential\",0,1)*IF('Assessment Framework'!CD69=\"Y\",1,0)","v":0},{"$f":"IF($G69=\"Non-essential\",0,1)*IF('Assessment Framework'!CE69=\"Y\",1,0)","v":0},{"$f":"IF($G69=\"Non-essential\",0,1)*IF('Assessment Framework'!CF69=\"Y\",1,0)","v":0},{"$f":"IF($G69=\"Non-essential\",0,1)*IF('Assessment Framework'!CG69=\"Y\",1,0)","v":0},{"$f":"IF($G69=\"Non-essential\",0,1)*IF('Assessment Framework'!CH69=\"Y\",1,0)","v":0},{"$f":"IF($G69=\"Non-essential\",0,1)*IF('Assessment Framework'!CI69=\"Y\",1,0)","v":0},{"$f":"IF($G69=\"Non-essential\",0,1)*IF('Assessment Framework'!CJ69=\"Y\",1,0)","v":0},{"$f":"IF($G69=\"Non-essential\",0,1)*IF('Assessment Framework'!CK69=\"Y\",1,0)","v":0},{"$f":"IF($G69=\"Non-essential\",0,1)*IF('Assessment Framework'!CL69=\"Y\",1,0)","v":0},{"$f":"IF($G69=\"Non-essential\",0,1)*IF('Assessment Framework'!CM69=\"Y\",1,0)","v":0}]
[null,null,null,"Scenarios / forecasts","Ability to run scenarios to predict how interventions may impact plastic pollution or project outputs into the future","Y,N",{"$f":"IF('B - Technical objectives'!C70=\"\",\"Non-essential\",'B - Technical objectives'!C70)","v":"Non-essential"},{"$f":"IF($G70=\"Non-essential\",0,1)*IF('Assessment Framework'!G70=\"Y\",1,0)","v":0},{"$f":"IF($G70=\"Non-essential\",0,1)*IF('Assessment Framework'!H70=\"Y\",1,0)","v":0},{"$f":"IF($G70=\"Non-essential\",0,1)*IF('Assessment Framework'!I70=\"Y\",1,0)","v":0},{"$f":"IF($G70=\"Non-essential\",0,1)*IF('Assessment Framework'!J70=\"Y\",1,0)","v":0},{"$f":"IF($G70=\"Non-essential\",0,1)*IF('Assessment Framework'!K70=\"Y\",1,0)","v":0},{"$f":"IF($G70=\"Non-essential\",0,1)*IF('Assessment Framework'!L70=\"Y\",1,0)","v":0},{"$f":"IF($G70=\"Non-essential\",0,1)*IF('Assessment Framework'!M70=\"Y\",1,0)","v":0},{"$f":"IF($G70=\"Non-essential\",0,1)*IF('Assessment Framework'!N70=\"Y\",1,0)","v":0},{"$f":"IF($G70=\"Non-essential\",0,1)*IF('Assessment Framework'!O70=\"Y\",1,0)","v":0},{"$f":"IF($G70=\"Non-essential\",0,1)*IF('Assessment Framework'!P70=\"Y\",1,0)","v":0},{"$f":"IF($G70=\"Non-essential\",0,1)*IF('Assessment Framework'!Q70=\"Y\",1,0)","v":0},{"$f":"IF($G70=\"Non-essential\",0,1)*IF('Assessment Framework'!R70=\"Y\",1,0)","v":0},{"$f":"IF($G70=\"Non-essential\",0,1)*IF('Assessment Framework'!S70=\"Y\",1,0)","v":0},{"$f":"IF($G70=\"Non-essential\",0,1)*IF('Assessment Framework'!T70=\"Y\",1,0)","v":0},{"$f":"IF($G70=\"Non-essential\",0,1)*IF('Assessment Framework'!U70=\"Y\",1,0)","v":0},{"$f":"IF($G70=\"Non-essential\",0,1)*IF('Assessment Framework'!V70=\"Y\",1,0)","v":0},{"$f":"IF($G70=\"Non-essential\",0,1)*IF('Assessment Framework'!W70=\"Y\",1,0)","v":0},{"$f":"IF($G70=\"Non-essential\",0,1)*IF('Assessment Framework'!X70=\"Y\",1,0)","v":0},{"$f":"IF($G70=\"Non-essential\",0,1)*IF('Assessment Framework'!Y70=\"Y\",1,0)","v":0},{"$f":"IF($G70=\"Non-essential\",0,1)*IF('Assessment Framework'!Z70=\"Y\",1,0)","v":0},{"$f":"IF($G70=\"Non-essential\",0,1)*IF('Assessment Framework'!AA70=\"Y\",1,0)","v":0},{"$f":"IF($G70=\"Non-essential\",0,1)*IF('Assessment Framework'!AB70=\"Y\",1,0)","v":0},{"$f":"IF($G70=\"Non-essential\",0,1)*IF('Assessment Framework'!AC70=\"Y\",1,0)","v":0},{"$f":"IF($G70=\"Non-essential\",0,1)*IF('Assessment Framework'!AD70=\"Y\",1,0)","v":0},{"$f":"IF($G70=\"Non-essential\",0,1)*IF('Assessment Framework'!AE70=\"Y\",1,0)","v":0},{"$f":"IF($G70=\"Non-essential\",0,1)*IF('Assessment Framework'!AF70=\"Y\",1,0)","v":0},{"$f":"IF($G70=\"Non-essential\",0,1)*IF('Assessment Framework'!AG70=\"Y\",1,0)","v":0},{"$f":"IF($G70=\"Non-essential\",0,1)*IF('Assessment Framework'!AH70=\"Y\",1,0)","v":0},{"$f":"IF($G70=\"Non-essential\",0,1)*IF('Assessment Framework'!AI70=\"Y\",1,0)","v":0},{"$f":"IF($G70=\"Non-essential\",0,1)*IF('Assessment Framework'!AJ70=\"Y\",1,0)","v":0},{"$f":"IF($G70=\"Non-essential\",0,1)*IF('Assessment Framework'!AK70=\"Y\",1,0)","v":0},{"$f":"IF($G70=\"Non-essential\",0,1)*IF('Assessment Framework'!AL70=\"Y\",1,0)","v":0},{"$f":"IF($G70=\"Non-essential\",0,1)*IF('Assessment Framework'!AM70=\"Y\",1,0)","v":0},{"$f":"IF($G70=\"Non-essential\",0,1)*IF('Assessment Framework'!AN70=\"Y\",1,0)","v":0},{"$f":"IF($G70=\"Non-essential\",0,1)*IF('Assessment Framework'!AO70=\"Y\",1,0)","v":0},{"$f":"IF($G70=\"Non-essential\",0,1)*IF('Assessment Framework'!AP70=\"Y\",1,0)","v":0},{"$f":"IF($G70=\"Non-essential\",0,1)*IF('Assessment Framework'!AQ70=\"Y\",1,0)","v":0},{"$f":"IF($G70=\"Non-essential\",0,1)*IF('Assessment Framework'!AR70=\"Y\",1,0)","v":0},{"$f":"IF($G70=\"Non-essential\",0,1)*IF('Assessment Framework'!AS70=\"Y\",1,0)","v":0},{"$f":"IF($G70=\"Non-essential\",0,1)*IF('Assessment Framework'!AT70=\"Y\",1,0)","v":0},{"$f":"IF($G70=\"Non-essential\",0,1)*IF('Assessment Framework'!AU70=\"Y\",1,0)","v":0},{"$f":"IF($G70=\"Non-essential\",0,1)*IF('Assessment Framework'!AV70=\"Y\",1,0)","v":0},{"$f":"IF($G70=\"Non-essential\",0,1)*IF('Assessment Framework'!AW70=\"Y\",1,0)","v":0},{"$f":"IF($G70=\"Non-essential\",0,1)*IF('Assessment Framework'!AX70=\"Y\",1,0)","v":0},{"$f":"IF($G70=\"Non-essential\",0,1)*IF('Assessment Framework'!AY70=\"Y\",1,0)","v":0},{"$f":"IF($G70=\"Non-essential\",0,1)*IF('Assessment Framework'!AZ70=\"Y\",1,0)","v":0},{"$f":"IF($G70=\"Non-essential\",0,1)*IF('Assessment Framework'!BA70=\"Y\",1,0)","v":0},{"$f":"IF($G70=\"Non-essential\",0,1)*IF('Assessment Framework'!BB70=\"Y\",1,0)","v":0},{"$f":"IF($G70=\"Non-essential\",0,1)*IF('Assessment Framework'!BC70=\"Y\",1,0)","v":0},{"$f":"IF($G70=\"Non-essential\",0,1)*IF('Assessment Framework'!BD70=\"Y\",1,0)","v":0},{"$f":"IF($G70=\"Non-essential\",0,1)*IF('Assessment Framework'!BE70=\"Y\",1,0)","v":0},{"$f":"IF($G70=\"Non-essential\",0,1)*IF('Assessment Framework'!BF70=\"Y\",1,0)","v":0},{"$f":"IF($G70=\"Non-essential\",0,1)*IF('Assessment Framework'!BG70=\"Y\",1,0)","v":0},{"$f":"IF($G70=\"Non-essential\",0,1)*IF('Assessment Framework'!BH70=\"Y\",1,0)","v":0},{"$f":"IF($G70=\"Non-essential\",0,1)*IF('Assessment Framework'!BI70=\"Y\",1,0)","v":0},{"$f":"IF($G70=\"Non-essential\",0,1)*IF('Assessment Framework'!BJ70=\"Y\",1,0)","v":0},{"$f":"IF($G70=\"Non-essential\",0,1)*IF('Assessment Framework'!BK70=\"Y\",1,0)","v":0},{"$f":"IF($G70=\"Non-essential\",0,1)*IF('Assessment Framework'!BL70=\"Y\",1,0)","v":0},{"$f":"IF($G70=\"Non-essential\",0,1)*IF('Assessment Framework'!BM70=\"Y\",1,0)","v":0},{"$f":"IF($G70=\"Non-essential\",0,1)*IF('Assessment Framework'!BN70=\"Y\",1,0)","v":0},{"$f":"IF($G70=\"Non-essential\",0,1)*IF('Assessment Framework'!BO70=\"Y\",1,0)","v":0},{"$f":"IF($G70=\"Non-essential\",0,1)*IF('Assessment Framework'!BP70=\"Y\",1,0)","v":0},{"$f":"IF($G70=\"Non-essential\",0,1)*IF('Assessment Framework'!BQ70=\"Y\",1,0)","v":0},{"$f":"IF($G70=\"Non-essential\",0,1)*IF('Assessment Framework'!BR70=\"Y\",1,0)","v":0},{"$f":"IF($G70=\"Non-essential\",0,1)*IF('Assessment Framework'!BS70=\"Y\",1,0)","v":0},{"$f":"IF($G70=\"Non-essential\",0,1)*IF('Assessment Framework'!BT70=\"Y\",1,0)","v":0},{"$f":"IF($G70=\"Non-essential\",0,1)*IF('Assessment Framework'!BU70=\"Y\",1,0)","v":0},{"$f":"IF($G70=\"Non-essential\",0,1)*IF('Assessment Framework'!BV70=\"Y\",1,0)","v":0},{"$f":"IF($G70=\"Non-essential\",0,1)*IF('Assessment Framework'!BW70=\"Y\",1,0)","v":0},{"$f":"IF($G70=\"Non-essential\",0,1)*IF('Assessment Framework'!BX70=\"Y\",1,0)","v":0},{"$f":"IF($G70=\"Non-essential\",0,1)*IF('Assessment Framework'!BY70=\"Y\",1,0)","v":0},{"$f":"IF($G70=\"Non-essential\",0,1)*IF('Assessment Framework'!BZ70=\"Y\",1,0)","v":0},{"$f":"IF($G70=\"Non-essential\",0,1)*IF('Assessment Framework'!CA70=\"Y\",1,0)","v":0},{"$f":"IF($G70=\"Non-essential\",0,1)*IF('Assessment Framework'!CB70=\"Y\",1,0)","v":0},{"$f":"IF($G70=\"Non-essential\",0,1)*IF('Assessment Framework'!CC70=\"Y\",1,0)","v":0},{"$f":"IF($G70=\"Non-essential\",0,1)*IF('Assessment Framework'!CD70=\"Y\",1,0)","v":0},{"$f":"IF($G70=\"Non-essential\",0,1)*IF('Assessment Framework'!CE70=\"Y\",1,0)","v":0},{"$f":"IF($G70=\"Non-essential\",0,1)*IF('Assessment Framework'!CF70=\"Y\",1,0)","v":0},{"$f":"IF($G70=\"Non-essential\",0,1)*IF('Assessment Framework'!CG70=\"Y\",1,0)","v":0},{"$f":"IF($G70=\"Non-essential\",0,1)*IF('Assessment Framework'!CH70=\"Y\",1,0)","v":0},{"$f":"IF($G70=\"Non-essential\",0,1)*IF('Assessment Framework'!CI70=\"Y\",1,0)","v":0},{"$f":"IF($G70=\"Non-essential\",0,1)*IF('Assessment Framework'!CJ70=\"Y\",1,0)","v":0},{"$f":"IF($G70=\"Non-essential\",0,1)*IF('Assessment Framework'!CK70=\"Y\",1,0)","v":0},{"$f":"IF($G70=\"Non-essential\",0,1)*IF('Assessment Framework'!CL70=\"Y\",1,0)","v":0},{"$f":"IF($G70=\"Non-essential\",0,1)*IF('Assessment Framework'!CM70=\"Y\",1,0)","v":0}]
[null,null,null,"Wedges approach","Illustrates how interventions can be combined to meet targets","Y,N",{"$f":"IF('B - Technical objectives'!C71=\"\",\"Non-essential\",'B - Technical objectives'!C71)","v":"Non-essential"},{"$f":"IF($G71=\"Non-essential\",0,1)*IF('Assessment Framework'!G71=\"Y\",1,0)","v":0},{"$f":"IF($G71=\"Non-essential\",0,1)*IF('Assessment Framework'!H71=\"Y\",1,0)","v":0},{"$f":"IF($G71=\"Non-essential\",0,1)*IF('Assessment Framework'!I71=\"Y\",1,0)","v":0},{"$f":"IF($G71=\"Non-essential\",0,1)*IF('Assessment Framework'!J71=\"Y\",1,0)","v":0},{"$f":"IF($G71=\"Non-essential\",0,1)*IF('Assessment Framework'!K71=\"Y\",1,0)","v":0},{"$f":"IF($G71=\"Non-essential\",0,1)*IF('Assessment Framework'!L71=\"Y\",1,0)","v":0},{"$f":"IF($G71=\"Non-essential\",0,1)*IF('Assessment Framework'!M71=\"Y\",1,0)","v":0},{"$f":"IF($G71=\"Non-essential\",0,1)*IF('Assessment Framework'!N71=\"Y\",1,0)","v":0},{"$f":"IF($G71=\"Non-essential\",0,1)*IF('Assessment Framework'!O71=\"Y\",1,0)","v":0},{"$f":"IF($G71=\"Non-essential\",0,1)*IF('Assessment Framework'!P71=\"Y\",1,0)","v":0},{"$f":"IF($G71=\"Non-essential\",0,1)*IF('Assessment Framework'!Q71=\"Y\",1,0)","v":0},{"$f":"IF($G71=\"Non-essential\",0,1)*IF('Assessment Framework'!R71=\"Y\",1,0)","v":0},{"$f":"IF($G71=\"Non-essential\",0,1)*IF('Assessment Framework'!S71=\"Y\",1,0)","v":0},{"$f":"IF($G71=\"Non-essential\",0,1)*IF('Assessment Framework'!T71=\"Y\",1,0)","v":0},{"$f":"IF($G71=\"Non-essential\",0,1)*IF('Assessment Framework'!U71=\"Y\",1,0)","v":0},{"$f":"IF($G71=\"Non-essential\",0,1)*IF('Assessment Framework'!V71=\"Y\",1,0)","v":0},{"$f":"IF($G71=\"Non-essential\",0,1)*IF('Assessment Framework'!W71=\"Y\",1,0)","v":0},{"$f":"IF($G71=\"Non-essential\",0,1)*IF('Assessment Framework'!X71=\"Y\",1,0)","v":0},{"$f":"IF($G71=\"Non-essential\",0,1)*IF('Assessment Framework'!Y71=\"Y\",1,0)","v":0},{"$f":"IF($G71=\"Non-essential\",0,1)*IF('Assessment Framework'!Z71=\"Y\",1,0)","v":0},{"$f":"IF($G71=\"Non-essential\",0,1)*IF('Assessment Framework'!AA71=\"Y\",1,0)","v":0},{"$f":"IF($G71=\"Non-essential\",0,1)*IF('Assessment Framework'!AB71=\"Y\",1,0)","v":0},{"$f":"IF($G71=\"Non-essential\",0,1)*IF('Assessment Framework'!AC71=\"Y\",1,0)","v":0},{"$f":"IF($G71=\"Non-essential\",0,1)*IF('Assessment Framework'!AD71=\"Y\",1,0)","v":0},{"$f":"IF($G71=\"Non-essential\",0,1)*IF('Assessment Framework'!AE71=\"Y\",1,0)","v":0},{"$f":"IF($G71=\"Non-essential\",0,1)*IF('Assessment Framework'!AF71=\"Y\",1,0)","v":0},{"$f":"IF($G71=\"Non-essential\",0,1)*IF('Assessment Framework'!AG71=\"Y\",1,0)","v":0},{"$f":"IF($G71=\"Non-essential\",0,1)*IF('Assessment Framework'!AH71=\"Y\",1,0)","v":0},{"$f":"IF($G71=\"Non-essential\",0,1)*IF('Assessment Framework'!AI71=\"Y\",1,0)","v":0},{"$f":"IF($G71=\"Non-essential\",0,1)*IF('Assessment Framework'!AJ71=\"Y\",1,0)","v":0},{"$f":"IF($G71=\"Non-essential\",0,1)*IF('Assessment Framework'!AK71=\"Y\",1,0)","v":0},{"$f":"IF($G71=\"Non-essential\",0,1)*IF('Assessment Framework'!AL71=\"Y\",1,0)","v":0},{"$f":"IF($G71=\"Non-essential\",0,1)*IF('Assessment Framework'!AM71=\"Y\",1,0)","v":0},{"$f":"IF($G71=\"Non-essential\",0,1)*IF('Assessment Framework'!AN71=\"Y\",1,0)","v":0},{"$f":"IF($G71=\"Non-essential\",0,1)*IF('Assessment Framework'!AO71=\"Y\",1,0)","v":0},{"$f":"IF($G71=\"Non-essential\",0,1)*IF('Assessment Framework'!AP71=\"Y\",1,0)","v":0},{"$f":"IF($G71=\"Non-essential\",0,1)*IF('Assessment Framework'!AQ71=\"Y\",1,0)","v":0},{"$f":"IF($G71=\"Non-essential\",0,1)*IF('Assessment Framework'!AR71=\"Y\",1,0)","v":0},{"$f":"IF($G71=\"Non-essential\",0,1)*IF('Assessment Framework'!AS71=\"Y\",1,0)","v":0},{"$f":"IF($G71=\"Non-essential\",0,1)*IF('Assessment Framework'!AT71=\"Y\",1,0)","v":0},{"$f":"IF($G71=\"Non-essential\",0,1)*IF('Assessment Framework'!AU71=\"Y\",1,0)","v":0},{"$f":"IF($G71=\"Non-essential\",0,1)*IF('Assessment Framework'!AV71=\"Y\",1,0)","v":0},{"$f":"IF($G71=\"Non-essential\",0,1)*IF('Assessment Framework'!AW71=\"Y\",1,0)","v":0},{"$f":"IF($G71=\"Non-essential\",0,1)*IF('Assessment Framework'!AX71=\"Y\",1,0)","v":0},{"$f":"IF($G71=\"Non-essential\",0,1)*IF('Assessment Framework'!AY71=\"Y\",1,0)","v":0},{"$f":"IF($G71=\"Non-essential\",0,1)*IF('Assessment Framework'!AZ71=\"Y\",1,0)","v":0},{"$f":"IF($G71=\"Non-essential\",0,1)*IF('Assessment Framework'!BA71=\"Y\",1,0)","v":0},{"$f":"IF($G71=\"Non-essential\",0,1)*IF('Assessment Framework'!BB71=\"Y\",1,0)","v":0},{"$f":"IF($G71=\"Non-essential\",0,1)*IF('Assessment Framework'!BC71=\"Y\",1,0)","v":0},{"$f":"IF($G71=\"Non-essential\",0,1)*IF('Assessment Framework'!BD71=\"Y\",1,0)","v":0},{"$f":"IF($G71=\"Non-essential\",0,1)*IF('Assessment Framework'!BE71=\"Y\",1,0)","v":0},{"$f":"IF($G71=\"Non-essential\",0,1)*IF('Assessment Framework'!BF71=\"Y\",1,0)","v":0},{"$f":"IF($G71=\"Non-essential\",0,1)*IF('Assessment Framework'!BG71=\"Y\",1,0)","v":0},{"$f":"IF($G71=\"Non-essential\",0,1)*IF('Assessment Framework'!BH71=\"Y\",1,0)","v":0},{"$f":"IF($G71=\"Non-essential\",0,1)*IF('Assessment Framework'!BI71=\"Y\",1,0)","v":0},{"$f":"IF($G71=\"Non-essential\",0,1)*IF('Assessment Framework'!BJ71=\"Y\",1,0)","v":0},{"$f":"IF($G71=\"Non-essential\",0,1)*IF('Assessment Framework'!BK71=\"Y\",1,0)","v":0},{"$f":"IF($G71=\"Non-essential\",0,1)*IF('Assessment Framework'!BL71=\"Y\",1,0)","v":0},{"$f":"IF($G71=\"Non-essential\",0,1)*IF('Assessment Framework'!BM71=\"Y\",1,0)","v":0},{"$f":"IF($G71=\"Non-essential\",0,1)*IF('Assessment Framework'!BN71=\"Y\",1,0)","v":0},{"$f":"IF($G71=\"Non-essential\",0,1)*IF('Assessment Framework'!BO71=\"Y\",1,0)","v":0},{"$f":"IF($G71=\"Non-essential\",0,1)*IF('Assessment Framework'!BP71=\"Y\",1,0)","v":0},{"$f":"IF($G71=\"Non-essential\",0,1)*IF('Assessment Framework'!BQ71=\"Y\",1,0)","v":0},{"$f":"IF($G71=\"Non-essential\",0,1)*IF('Assessment Framework'!BR71=\"Y\",1,0)","v":0},{"$f":"IF($G71=\"Non-essential\",0,1)*IF('Assessment Framework'!BS71=\"Y\",1,0)","v":0},{"$f":"IF($G71=\"Non-essential\",0,1)*IF('Assessment Framework'!BT71=\"Y\",1,0)","v":0},{"$f":"IF($G71=\"Non-essential\",0,1)*IF('Assessment Framework'!BU71=\"Y\",1,0)","v":0},{"$f":"IF($G71=\"Non-essential\",0,1)*IF('Assessment Framework'!BV71=\"Y\",1,0)","v":0},{"$f":"IF($G71=\"Non-essential\",0,1)*IF('Assessment Framework'!BW71=\"Y\",1,0)","v":0},{"$f":"IF($G71=\"Non-essential\",0,1)*IF('Assessment Framework'!BX71=\"Y\",1,0)","v":0},{"$f":"IF($G71=\"Non-essential\",0,1)*IF('Assessment Framework'!BY71=\"Y\",1,0)","v":0},{"$f":"IF($G71=\"Non-essential\",0,1)*IF('Assessment Framework'!BZ71=\"Y\",1,0)","v":0},{"$f":"IF($G71=\"Non-essential\",0,1)*IF('Assessment Framework'!CA71=\"Y\",1,0)","v":0},{"$f":"IF($G71=\"Non-essential\",0,1)*IF('Assessment Framework'!CB71=\"Y\",1,0)","v":0},{"$f":"IF($G71=\"Non-essential\",0,1)*IF('Assessment Framework'!CC71=\"Y\",1,0)","v":0},{"$f":"IF($G71=\"Non-essential\",0,1)*IF('Assessment Framework'!CD71=\"Y\",1,0)","v":0},{"$f":"IF($G71=\"Non-essential\",0,1)*IF('Assessment Framework'!CE71=\"Y\",1,0)","v":0},{"$f":"IF($G71=\"Non-essential\",0,1)*IF('Assessment Framework'!CF71=\"Y\",1,0)","v":0},{"$f":"IF($G71=\"Non-essential\",0,1)*IF('Assessment Framework'!CG71=\"Y\",1,0)","v":0},{"$f":"IF($G71=\"Non-essential\",0,1)*IF('Assessment Framework'!CH71=\"Y\",1,0)","v":0},{"$f":"IF($G71=\"Non-essential\",0,1)*IF('Assessment Framework'!CI71=\"Y\",1,0)","v":0},{"$f":"IF($G71=\"Non-essential\",0,1)*IF('Assessment Framework'!CJ71=\"Y\",1,0)","v":0},{"$f":"IF($G71=\"Non-essential\",0,1)*IF('Assessment Framework'!CK71=\"Y\",1,0)","v":0},{"$f":"IF($G71=\"Non-essential\",0,1)*IF('Assessment Framework'!CL71=\"Y\",1,0)","v":0},{"$f":"IF($G71=\"Non-essential\",0,1)*IF('Assessment Framework'!CM71=\"Y\",1,0)","v":0}]
[null,"Outputs prioritise interventions","Interventions to mitigate plastic pollution are prioritised in order of importance based on their cost or expected impact.","Prioritizes interventions based on estimated cost","Interventions are prioritized based on their estimated cost to achieve a desired impact","Y,N",{"$f":"IF('B - Technical objectives'!C74=\"\",\"Non-essential\",'B - Technical objectives'!C74)","v":"Non-essential"},{"$f":"IF($G72=\"Non-essential\",0,1)*IF('Assessment Framework'!G72=\"Y\",1,0)","v":0},{"$f":"IF($G72=\"Non-essential\",0,1)*IF('Assessment Framework'!H72=\"Y\",1,0)","v":0},{"$f":"IF($G72=\"Non-essential\",0,1)*IF('Assessment Framework'!I72=\"Y\",1,0)","v":0},{"$f":"IF($G72=\"Non-essential\",0,1)*IF('Assessment Framework'!J72=\"Y\",1,0)","v":0},{"$f":"IF($G72=\"Non-essential\",0,1)*IF('Assessment Framework'!K72=\"Y\",1,0)","v":0},{"$f":"IF($G72=\"Non-essential\",0,1)*IF('Assessment Framework'!L72=\"Y\",1,0)","v":0},{"$f":"IF($G72=\"Non-essential\",0,1)*IF('Assessment Framework'!M72=\"Y\",1,0)","v":0},{"$f":"IF($G72=\"Non-essential\",0,1)*IF('Assessment Framework'!N72=\"Y\",1,0)","v":0},{"$f":"IF($G72=\"Non-essential\",0,1)*IF('Assessment Framework'!O72=\"Y\",1,0)","v":0},{"$f":"IF($G72=\"Non-essential\",0,1)*IF('Assessment Framework'!P72=\"Y\",1,0)","v":0},{"$f":"IF($G72=\"Non-essential\",0,1)*IF('Assessment Framework'!Q72=\"Y\",1,0)","v":0},{"$f":"IF($G72=\"Non-essential\",0,1)*IF('Assessment Framework'!R72=\"Y\",1,0)","v":0},{"$f":"IF($G72=\"Non-essential\",0,1)*IF('Assessment Framework'!S72=\"Y\",1,0)","v":0},{"$f":"IF($G72=\"Non-essential\",0,1)*IF('Assessment Framework'!T72=\"Y\",1,0)","v":0},{"$f":"IF($G72=\"Non-essential\",0,1)*IF('Assessment Framework'!U72=\"Y\",1,0)","v":0},{"$f":"IF($G72=\"Non-essential\",0,1)*IF('Assessment Framework'!V72=\"Y\",1,0)","v":0},{"$f":"IF($G72=\"Non-essential\",0,1)*IF('Assessment Framework'!W72=\"Y\",1,0)","v":0},{"$f":"IF($G72=\"Non-essential\",0,1)*IF('Assessment Framework'!X72=\"Y\",1,0)","v":0},{"$f":"IF($G72=\"Non-essential\",0,1)*IF('Assessment Framework'!Y72=\"Y\",1,0)","v":0},{"$f":"IF($G72=\"Non-essential\",0,1)*IF('Assessment Framework'!Z72=\"Y\",1,0)","v":0},{"$f":"IF($G72=\"Non-essential\",0,1)*IF('Assessment Framework'!AA72=\"Y\",1,0)","v":0},{"$f":"IF($G72=\"Non-essential\",0,1)*IF('Assessment Framework'!AB72=\"Y\",1,0)","v":0},{"$f":"IF($G72=\"Non-essential\",0,1)*IF('Assessment Framework'!AC72=\"Y\",1,0)","v":0},{"$f":"IF($G72=\"Non-essential\",0,1)*IF('Assessment Framework'!AD72=\"Y\",1,0)","v":0},{"$f":"IF($G72=\"Non-essential\",0,1)*IF('Assessment Framework'!AE72=\"Y\",1,0)","v":0},{"$f":"IF($G72=\"Non-essential\",0,1)*IF('Assessment Framework'!AF72=\"Y\",1,0)","v":0},{"$f":"IF($G72=\"Non-essential\",0,1)*IF('Assessment Framework'!AG72=\"Y\",1,0)","v":0},{"$f":"IF($G72=\"Non-essential\",0,1)*IF('Assessment Framework'!AH72=\"Y\",1,0)","v":0},{"$f":"IF($G72=\"Non-essential\",0,1)*IF('Assessment Framework'!AI72=\"Y\",1,0)","v":0},{"$f":"IF($G72=\"Non-essential\",0,1)*IF('Assessment Framework'!AJ72=\"Y\",1,0)","v":0},{"$f":"IF($G72=\"Non-essential\",0,1)*IF('Assessment Framework'!AK72=\"Y\",1,0)","v":0},{"$f":"IF($G72=\"Non-essential\",0,1)*IF('Assessment Framework'!AL72=\"Y\",1,0)","v":0},{"$f":"IF($G72=\"Non-essential\",0,1)*IF('Assessment Framework'!AM72=\"Y\",1,0)","v":0},{"$f":"IF($G72=\"Non-essential\",0,1)*IF('Assessment Framework'!AN72=\"Y\",1,0)","v":0},{"$f":"IF($G72=\"Non-essential\",0,1)*IF('Assessment Framework'!AO72=\"Y\",1,0)","v":0},{"$f":"IF($G72=\"Non-essential\",0,1)*IF('Assessment Framework'!AP72=\"Y\",1,0)","v":0},{"$f":"IF($G72=\"Non-essential\",0,1)*IF('Assessment Framework'!AQ72=\"Y\",1,0)","v":0},{"$f":"IF($G72=\"Non-essential\",0,1)*IF('Assessment Framework'!AR72=\"Y\",1,0)","v":0},{"$f":"IF($G72=\"Non-essential\",0,1)*IF('Assessment Framework'!AS72=\"Y\",1,0)","v":0},{"$f":"IF($G72=\"Non-essential\",0,1)*IF('Assessment Framework'!AT72=\"Y\",1,0)","v":0},{"$f":"IF($G72=\"Non-essential\",0,1)*IF('Assessment Framework'!AU72=\"Y\",1,0)","v":0},{"$f":"IF($G72=\"Non-essential\",0,1)*IF('Assessment Framework'!AV72=\"Y\",1,0)","v":0},{"$f":"IF($G72=\"Non-essential\",0,1)*IF('Assessment Framework'!AW72=\"Y\",1,0)","v":0},{"$f":"IF($G72=\"Non-essential\",0,1)*IF('Assessment Framework'!AX72=\"Y\",1,0)","v":0},{"$f":"IF($G72=\"Non-essential\",0,1)*IF('Assessment Framework'!AY72=\"Y\",1,0)","v":0},{"$f":"IF($G72=\"Non-essential\",0,1)*IF('Assessment Framework'!AZ72=\"Y\",1,0)","v":0},{"$f":"IF($G72=\"Non-essential\",0,1)*IF('Assessment Framework'!BA72=\"Y\",1,0)","v":0},{"$f":"IF($G72=\"Non-essential\",0,1)*IF('Assessment Framework'!BB72=\"Y\",1,0)","v":0},{"$f":"IF($G72=\"Non-essential\",0,1)*IF('Assessment Framework'!BC72=\"Y\",1,0)","v":0},{"$f":"IF($G72=\"Non-essential\",0,1)*IF('Assessment Framework'!BD72=\"Y\",1,0)","v":0},{"$f":"IF($G72=\"Non-essential\",0,1)*IF('Assessment Framework'!BE72=\"Y\",1,0)","v":0},{"$f":"IF($G72=\"Non-essential\",0,1)*IF('Assessment Framework'!BF72=\"Y\",1,0)","v":0},{"$f":"IF($G72=\"Non-essential\",0,1)*IF('Assessment Framework'!BG72=\"Y\",1,0)","v":0},{"$f":"IF($G72=\"Non-essential\",0,1)*IF('Assessment Framework'!BH72=\"Y\",1,0)","v":0},{"$f":"IF($G72=\"Non-essential\",0,1)*IF('Assessment Framework'!BI72=\"Y\",1,0)","v":0},{"$f":"IF($G72=\"Non-essential\",0,1)*IF('Assessment Framework'!BJ72=\"Y\",1,0)","v":0},{"$f":"IF($G72=\"Non-essential\",0,1)*IF('Assessment Framework'!BK72=\"Y\",1,0)","v":0},{"$f":"IF($G72=\"Non-essential\",0,1)*IF('Assessment Framework'!BL72=\"Y\",1,0)","v":0},{"$f":"IF($G72=\"Non-essential\",0,1)*IF('Assessment Framework'!BM72=\"Y\",1,0)","v":0},{"$f":"IF($G72=\"Non-essential\",0,1)*IF('Assessment Framework'!BN72=\"Y\",1,0)","v":0},{"$f":"IF($G72=\"Non-essential\",0,1)*IF('Assessment Framework'!BO72=\"Y\",1,0)","v":0},{"$f":"IF($G72=\"Non-essential\",0,1)*IF('Assessment Framework'!BP72=\"Y\",1,0)","v":0},{"$f":"IF($G72=\"Non-essential\",0,1)*IF('Assessment Framework'!BQ72=\"Y\",1,0)","v":0},{"$f":"IF($G72=\"Non-essential\",0,1)*IF('Assessment Framework'!BR72=\"Y\",1,0)","v":0},{"$f":"IF($G72=\"Non-essential\",0,1)*IF('Assessment Framework'!BS72=\"Y\",1,0)","v":0},{"$f":"IF($G72=\"Non-essential\",0,1)*IF('Assessment Framework'!BT72=\"Y\",1,0)","v":0},{"$f":"IF($G72=\"Non-essential\",0,1)*IF('Assessment Framework'!BU72=\"Y\",1,0)","v":0},{"$f":"IF($G72=\"Non-essential\",0,1)*IF('Assessment Framework'!BV72=\"Y\",1,0)","v":0},{"$f":"IF($G72=\"Non-essential\",0,1)*IF('Assessment Framework'!BW72=\"Y\",1,0)","v":0},{"$f":"IF($G72=\"Non-essential\",0,1)*IF('Assessment Framework'!BX72=\"Y\",1,0)","v":0},{"$f":"IF($G72=\"Non-essential\",0,1)*IF('Assessment Framework'!BY72=\"Y\",1,0)","v":0},{"$f":"IF($G72=\"Non-essential\",0,1)*IF('Assessment Framework'!BZ72=\"Y\",1,0)","v":0},{"$f":"IF($G72=\"Non-essential\",0,1)*IF('Assessment Framework'!CA72=\"Y\",1,0)","v":0},{"$f":"IF($G72=\"Non-essential\",0,1)*IF('Assessment Framework'!CB72=\"Y\",1,0)","v":0},{"$f":"IF($G72=\"Non-essential\",0,1)*IF('Assessment Framework'!CC72=\"Y\",1,0)","v":0},{"$f":"IF($G72=\"Non-essential\",0,1)*IF('Assessment Framework'!CD72=\"Y\",1,0)","v":0},{"$f":"IF($G72=\"Non-essential\",0,1)*IF('Assessment Framework'!CE72=\"Y\",1,0)","v":0},{"$f":"IF($G72=\"Non-essential\",0,1)*IF('Assessment Framework'!CF72=\"Y\",1,0)","v":0},{"$f":"IF($G72=\"Non-essential\",0,1)*IF('Assessment Framework'!CG72=\"Y\",1,0)","v":0},{"$f":"IF($G72=\"Non-essential\",0,1)*IF('Assessment Framework'!CH72=\"Y\",1,0)","v":0},{"$f":"IF($G72=\"Non-essential\",0,1)*IF('Assessment Framework'!CI72=\"Y\",1,0)","v":0},{"$f":"IF($G72=\"Non-essential\",0,1)*IF('Assessment Framework'!CJ72=\"Y\",1,0)","v":0},{"$f":"IF($G72=\"Non-essential\",0,1)*IF('Assessment Framework'!CK72=\"Y\",1,0)","v":0},{"$f":"IF($G72=\"Non-essential\",0,1)*IF('Assessment Framework'!CL72=\"Y\",1,0)","v":0},{"$f":"IF($G72=\"Non-essential\",0,1)*IF('Assessment Framework'!CM72=\"Y\",1,0)","v":0}]
[null,null,null,"Prioritizes policy interventions by impact","Policy interventions (e.g. bans) are prioritized based on their estimated impact","Y,N",{"$f":"IF('B - Technical objectives'!C82=\"\",\"Non-essential\",'B - Technical objectives'!C82)","v":"Non-essential"},{"$f":"IF($G73=\"Non-essential\",0,1)*IF('Assessment Framework'!G73=\"Y\",1,0)","v":0},{"$f":"IF($G73=\"Non-essential\",0,1)*IF('Assessment Framework'!H73=\"Y\",1,0)","v":0},{"$f":"IF($G73=\"Non-essential\",0,1)*IF('Assessment Framework'!I73=\"Y\",1,0)","v":0},{"$f":"IF($G73=\"Non-essential\",0,1)*IF('Assessment Framework'!J73=\"Y\",1,0)","v":0},{"$f":"IF($G73=\"Non-essential\",0,1)*IF('Assessment Framework'!K73=\"Y\",1,0)","v":0},{"$f":"IF($G73=\"Non-essential\",0,1)*IF('Assessment Framework'!L73=\"Y\",1,0)","v":0},{"$f":"IF($G73=\"Non-essential\",0,1)*IF('Assessment Framework'!M73=\"Y\",1,0)","v":0},{"$f":"IF($G73=\"Non-essential\",0,1)*IF('Assessment Framework'!N73=\"Y\",1,0)","v":0},{"$f":"IF($G73=\"Non-essential\",0,1)*IF('Assessment Framework'!O73=\"Y\",1,0)","v":0},{"$f":"IF($G73=\"Non-essential\",0,1)*IF('Assessment Framework'!P73=\"Y\",1,0)","v":0},{"$f":"IF($G73=\"Non-essential\",0,1)*IF('Assessment Framework'!Q73=\"Y\",1,0)","v":0},{"$f":"IF($G73=\"Non-essential\",0,1)*IF('Assessment Framework'!R73=\"Y\",1,0)","v":0},{"$f":"IF($G73=\"Non-essential\",0,1)*IF('Assessment Framework'!S73=\"Y\",1,0)","v":0},{"$f":"IF($G73=\"Non-essential\",0,1)*IF('Assessment Framework'!T73=\"Y\",1,0)","v":0},{"$f":"IF($G73=\"Non-essential\",0,1)*IF('Assessment Framework'!U73=\"Y\",1,0)","v":0},{"$f":"IF($G73=\"Non-essential\",0,1)*IF('Assessment Framework'!V73=\"Y\",1,0)","v":0},{"$f":"IF($G73=\"Non-essential\",0,1)*IF('Assessment Framework'!W73=\"Y\",1,0)","v":0},{"$f":"IF($G73=\"Non-essential\",0,1)*IF('Assessment Framework'!X73=\"Y\",1,0)","v":0},{"$f":"IF($G73=\"Non-essential\",0,1)*IF('Assessment Framework'!Y73=\"Y\",1,0)","v":0},{"$f":"IF($G73=\"Non-essential\",0,1)*IF('Assessment Framework'!Z73=\"Y\",1,0)","v":0},{"$f":"IF($G73=\"Non-essential\",0,1)*IF('Assessment Framework'!AA73=\"Y\",1,0)","v":0},{"$f":"IF($G73=\"Non-essential\",0,1)*IF('Assessment Framework'!AB73=\"Y\",1,0)","v":0},{"$f":"IF($G73=\"Non-essential\",0,1)*IF('Assessment Framework'!AC73=\"Y\",1,0)","v":0},{"$f":"IF($G73=\"Non-essential\",0,1)*IF('Assessment Framework'!AD73=\"Y\",1,0)","v":0},{"$f":"IF($G73=\"Non-essential\",0,1)*IF('Assessment Framework'!AE73=\"Y\",1,0)","v":0},{"$f":"IF($G73=\"Non-essential\",0,1)*IF('Assessment Framework'!AF73=\"Y\",1,0)","v":0},{"$f":"IF($G73=\"Non-essential\",0,1)*IF('Assessment Framework'!AG73=\"Y\",1,0)","v":0},{"$f":"IF($G73=\"Non-essential\",0,1)*IF('Assessment Framework'!AH73=\"Y\",1,0)","v":0},{"$f":"IF($G73=\"Non-essential\",0,1)*IF('Assessment Framework'!AI73=\"Y\",1,0)","v":0},{"$f":"IF($G73=\"Non-essential\",0,1)*IF('Assessment Framework'!AJ73=\"Y\",1,0)","v":0},{"$f":"IF($G73=\"Non-essential\",0,1)*IF('Assessment Framework'!AK73=\"Y\",1,0)","v":0},{"$f":"IF($G73=\"Non-essential\",0,1)*IF('Assessment Framework'!AL73=\"Y\",1,0)","v":0},{"$f":"IF($G73=\"Non-essential\",0,1)*IF('Assessment Framework'!AM73=\"Y\",1,0)","v":0},{"$f":"IF($G73=\"Non-essential\",0,1)*IF('Assessment Framework'!AN73=\"Y\",1,0)","v":0},{"$f":"IF($G73=\"Non-essential\",0,1)*IF('Assessment Framework'!AO73=\"Y\",1,0)","v":0},{"$f":"IF($G73=\"Non-essential\",0,1)*IF('Assessment Framework'!AP73=\"Y\",1,0)","v":0},{"$f":"IF($G73=\"Non-essential\",0,1)*IF('Assessment Framework'!AQ73=\"Y\",1,0)","v":0},{"$f":"IF($G73=\"Non-essential\",0,1)*IF('Assessment Framework'!AR73=\"Y\",1,0)","v":0},{"$f":"IF($G73=\"Non-essential\",0,1)*IF('Assessment Framework'!AS73=\"Y\",1,0)","v":0},{"$f":"IF($G73=\"Non-essential\",0,1)*IF('Assessment Framework'!AT73=\"Y\",1,0)","v":0},{"$f":"IF($G73=\"Non-essential\",0,1)*IF('Assessment Framework'!AU73=\"Y\",1,0)","v":0},{"$f":"IF($G73=\"Non-essential\",0,1)*IF('Assessment Framework'!AV73=\"Y\",1,0)","v":0},{"$f":"IF($G73=\"Non-essential\",0,1)*IF('Assessment Framework'!AW73=\"Y\",1,0)","v":0},{"$f":"IF($G73=\"Non-essential\",0,1)*IF('Assessment Framework'!AX73=\"Y\",1,0)","v":0},{"$f":"IF($G73=\"Non-essential\",0,1)*IF('Assessment Framework'!AY73=\"Y\",1,0)","v":0},{"$f":"IF($G73=\"Non-essential\",0,1)*IF('Assessment Framework'!AZ73=\"Y\",1,0)","v":0},{"$f":"IF($G73=\"Non-essential\",0,1)*IF('Assessment Framework'!BA73=\"Y\",1,0)","v":0},{"$f":"IF($G73=\"Non-essential\",0,1)*IF('Assessment Framework'!BB73=\"Y\",1,0)","v":0},{"$f":"IF($G73=\"Non-essential\",0,1)*IF('Assessment Framework'!BC73=\"Y\",1,0)","v":0},{"$f":"IF($G73=\"Non-essential\",0,1)*IF('Assessment Framework'!BD73=\"Y\",1,0)","v":0},{"$f":"IF($G73=\"Non-essential\",0,1)*IF('Assessment Framework'!BE73=\"Y\",1,0)","v":0},{"$f":"IF($G73=\"Non-essential\",0,1)*IF('Assessment Framework'!BF73=\"Y\",1,0)","v":0},{"$f":"IF($G73=\"Non-essential\",0,1)*IF('Assessment Framework'!BG73=\"Y\",1,0)","v":0},{"$f":"IF($G73=\"Non-essential\",0,1)*IF('Assessment Framework'!BH73=\"Y\",1,0)","v":0},{"$f":"IF($G73=\"Non-essential\",0,1)*IF('Assessment Framework'!BI73=\"Y\",1,0)","v":0},{"$f":"IF($G73=\"Non-essential\",0,1)*IF('Assessment Framework'!BJ73=\"Y\",1,0)","v":0},{"$f":"IF($G73=\"Non-essential\",0,1)*IF('Assessment Framework'!BK73=\"Y\",1,0)","v":0},{"$f":"IF($G73=\"Non-essential\",0,1)*IF('Assessment Framework'!BL73=\"Y\",1,0)","v":0},{"$f":"IF($G73=\"Non-essential\",0,1)*IF('Assessment Framework'!BM73=\"Y\",1,0)","v":0},{"$f":"IF($G73=\"Non-essential\",0,1)*IF('Assessment Framework'!BN73=\"Y\",1,0)","v":0},{"$f":"IF($G73=\"Non-essential\",0,1)*IF('Assessment Framework'!BO73=\"Y\",1,0)","v":0},{"$f":"IF($G73=\"Non-essential\",0,1)*IF('Assessment Framework'!BP73=\"Y\",1,0)","v":0},{"$f":"IF($G73=\"Non-essential\",0,1)*IF('Assessment Framework'!BQ73=\"Y\",1,0)","v":0},{"$f":"IF($G73=\"Non-essential\",0,1)*IF('Assessment Framework'!BR73=\"Y\",1,0)","v":0},{"$f":"IF($G73=\"Non-essential\",0,1)*IF('Assessment Framework'!BS73=\"Y\",1,0)","v":0},{"$f":"IF($G73=\"Non-essential\",0,1)*IF('Assessment Framework'!BT73=\"Y\",1,0)","v":0},{"$f":"IF($G73=\"Non-essential\",0,1)*IF('Assessment Framework'!BU73=\"Y\",1,0)","v":0},{"$f":"IF($G73=\"Non-essential\",0,1)*IF('Assessment Framework'!BV73=\"Y\",1,0)","v":0},{"$f":"IF($G73=\"Non-essential\",0,1)*IF('Assessment Framework'!BW73=\"Y\",1,0)","v":0},{"$f":"IF($G73=\"Non-essential\",0,1)*IF('Assessment Framework'!BX73=\"Y\",1,0)","v":0},{"$f":"IF($G73=\"Non-essential\",0,1)*IF('Assessment Framework'!BY73=\"Y\",1,0)","v":0},{"$f":"IF($G73=\"Non-essential\",0,1)*IF('Assessment Framework'!BZ73=\"Y\",1,0)","v":0},{"$f":"IF($G73=\"Non-essential\",0,1)*IF('Assessment Framework'!CA73=\"Y\",1,0)","v":0},{"$f":"IF($G73=\"Non-essential\",0,1)*IF('Assessment Framework'!CB73=\"Y\",1,0)","v":0},{"$f":"IF($G73=\"Non-essential\",0,1)*IF('Assessment Framework'!CC73=\"Y\",1,0)","v":0},{"$f":"IF($G73=\"Non-essential\",0,1)*IF('Assessment Framework'!CD73=\"Y\",1,0)","v":0},{"$f":"IF($G73=\"Non-essential\",0,1)*IF('Assessment Framework'!CE73=\"Y\",1,0)","v":0},{"$f":"IF($G73=\"Non-essential\",0,1)*IF('Assessment Framework'!CF73=\"Y\",1,0)","v":0},{"$f":"IF($G73=\"Non-essential\",0,1)*IF('Assessment Framework'!CG73=\"Y\",1,0)","v":0},{"$f":"IF($G73=\"Non-essential\",0,1)*IF('Assessment Framework'!CH73=\"Y\",1,0)","v":0},{"$f":"IF($G73=\"Non-essential\",0,1)*IF('Assessment Framework'!CI73=\"Y\",1,0)","v":0},{"$f":"IF($G73=\"Non-essential\",0,1)*IF('Assessment Framework'!CJ73=\"Y\",1,0)","v":0},{"$f":"IF($G73=\"Non-essential\",0,1)*IF('Assessment Framework'!CK73=\"Y\",1,0)","v":0},{"$f":"IF($G73=\"Non-essential\",0,1)*IF('Assessment Framework'!CL73=\"Y\",1,0)","v":0},{"$f":"IF($G73=\"Non-essential\",0,1)*IF('Assessment Framework'!CM73=\"Y\",1,0)","v":0}]
[null,null,null,"Prioritizes engineering / service interventions by impact","Engineering and service interventions (e.g. improving infrastructure) are prioritized based on their estimated impact","Y,N",{"$f":"IF('B - Technical objectives'!C81=\"\",\"Non-essential\",'B - Technical objectives'!C81)","v":"Non-essential"},{"$f":"IF($G74=\"Non-essential\",0,1)*IF('Assessment Framework'!G74=\"Y\",1,0)","v":0},{"$f":"IF($G74=\"Non-essential\",0,1)*IF('Assessment Framework'!H74=\"Y\",1,0)","v":0},{"$f":"IF($G74=\"Non-essential\",0,1)*IF('Assessment Framework'!I74=\"Y\",1,0)","v":0},{"$f":"IF($G74=\"Non-essential\",0,1)*IF('Assessment Framework'!J74=\"Y\",1,0)","v":0},{"$f":"IF($G74=\"Non-essential\",0,1)*IF('Assessment Framework'!K74=\"Y\",1,0)","v":0},{"$f":"IF($G74=\"Non-essential\",0,1)*IF('Assessment Framework'!L74=\"Y\",1,0)","v":0},{"$f":"IF($G74=\"Non-essential\",0,1)*IF('Assessment Framework'!M74=\"Y\",1,0)","v":0},{"$f":"IF($G74=\"Non-essential\",0,1)*IF('Assessment Framework'!N74=\"Y\",1,0)","v":0},{"$f":"IF($G74=\"Non-essential\",0,1)*IF('Assessment Framework'!O74=\"Y\",1,0)","v":0},{"$f":"IF($G74=\"Non-essential\",0,1)*IF('Assessment Framework'!P74=\"Y\",1,0)","v":0},{"$f":"IF($G74=\"Non-essential\",0,1)*IF('Assessment Framework'!Q74=\"Y\",1,0)","v":0},{"$f":"IF($G74=\"Non-essential\",0,1)*IF('Assessment Framework'!R74=\"Y\",1,0)","v":0},{"$f":"IF($G74=\"Non-essential\",0,1)*IF('Assessment Framework'!S74=\"Y\",1,0)","v":0},{"$f":"IF($G74=\"Non-essential\",0,1)*IF('Assessment Framework'!T74=\"Y\",1,0)","v":0},{"$f":"IF($G74=\"Non-essential\",0,1)*IF('Assessment Framework'!U74=\"Y\",1,0)","v":0},{"$f":"IF($G74=\"Non-essential\",0,1)*IF('Assessment Framework'!V74=\"Y\",1,0)","v":0},{"$f":"IF($G74=\"Non-essential\",0,1)*IF('Assessment Framework'!W74=\"Y\",1,0)","v":0},{"$f":"IF($G74=\"Non-essential\",0,1)*IF('Assessment Framework'!X74=\"Y\",1,0)","v":0},{"$f":"IF($G74=\"Non-essential\",0,1)*IF('Assessment Framework'!Y74=\"Y\",1,0)","v":0},{"$f":"IF($G74=\"Non-essential\",0,1)*IF('Assessment Framework'!Z74=\"Y\",1,0)","v":0},{"$f":"IF($G74=\"Non-essential\",0,1)*IF('Assessment Framework'!AA74=\"Y\",1,0)","v":0},{"$f":"IF($G74=\"Non-essential\",0,1)*IF('Assessment Framework'!AB74=\"Y\",1,0)","v":0},{"$f":"IF($G74=\"Non-essential\",0,1)*IF('Assessment Framework'!AC74=\"Y\",1,0)","v":0},{"$f":"IF($G74=\"Non-essential\",0,1)*IF('Assessment Framework'!AD74=\"Y\",1,0)","v":0},{"$f":"IF($G74=\"Non-essential\",0,1)*IF('Assessment Framework'!AE74=\"Y\",1,0)","v":0},{"$f":"IF($G74=\"Non-essential\",0,1)*IF('Assessment Framework'!AF74=\"Y\",1,0)","v":0},{"$f":"IF($G74=\"Non-essential\",0,1)*IF('Assessment Framework'!AG74=\"Y\",1,0)","v":0},{"$f":"IF($G74=\"Non-essential\",0,1)*IF('Assessment Framework'!AH74=\"Y\",1,0)","v":0},{"$f":"IF($G74=\"Non-essential\",0,1)*IF('Assessment Framework'!AI74=\"Y\",1,0)","v":0},{"$f":"IF($G74=\"Non-essential\",0,1)*IF('Assessment Framework'!AJ74=\"Y\",1,0)","v":0},{"$f":"IF($G74=\"Non-essential\",0,1)*IF('Assessment Framework'!AK74=\"Y\",1,0)","v":0},{"$f":"IF($G74=\"Non-essential\",0,1)*IF('Assessment Framework'!AL74=\"Y\",1,0)","v":0},{"$f":"IF($G74=\"Non-essential\",0,1)*IF('Assessment Framework'!AM74=\"Y\",1,0)","v":0},{"$f":"IF($G74=\"Non-essential\",0,1)*IF('Assessment Framework'!AN74=\"Y\",1,0)","v":0},{"$f":"IF($G74=\"Non-essential\",0,1)*IF('Assessment Framework'!AO74=\"Y\",1,0)","v":0},{"$f":"IF($G74=\"Non-essential\",0,1)*IF('Assessment Framework'!AP74=\"Y\",1,0)","v":0},{"$f":"IF($G74=\"Non-essential\",0,1)*IF('Assessment Framework'!AQ74=\"Y\",1,0)","v":0},{"$f":"IF($G74=\"Non-essential\",0,1)*IF('Assessment Framework'!AR74=\"Y\",1,0)","v":0},{"$f":"IF($G74=\"Non-essential\",0,1)*IF('Assessment Framework'!AS74=\"Y\",1,0)","v":0},{"$f":"IF($G74=\"Non-essential\",0,1)*IF('Assessment Framework'!AT74=\"Y\",1,0)","v":0},{"$f":"IF($G74=\"Non-essential\",0,1)*IF('Assessment Framework'!AU74=\"Y\",1,0)","v":0},{"$f":"IF($G74=\"Non-essential\",0,1)*IF('Assessment Framework'!AV74=\"Y\",1,0)","v":0},{"$f":"IF($G74=\"Non-essential\",0,1)*IF('Assessment Framework'!AW74=\"Y\",1,0)","v":0},{"$f":"IF($G74=\"Non-essential\",0,1)*IF('Assessment Framework'!AX74=\"Y\",1,0)","v":0},{"$f":"IF($G74=\"Non-essential\",0,1)*IF('Assessment Framework'!AY74=\"Y\",1,0)","v":0},{"$f":"IF($G74=\"Non-essential\",0,1)*IF('Assessment Framework'!AZ74=\"Y\",1,0)","v":0},{"$f":"IF($G74=\"Non-essential\",0,1)*IF('Assessment Framework'!BA74=\"Y\",1,0)","v":0},{"$f":"IF($G74=\"Non-essential\",0,1)*IF('Assessment Framework'!BB74=\"Y\",1,0)","v":0},{"$f":"IF($G74=\"Non-essential\",0,1)*IF('Assessment Framework'!BC74=\"Y\",1,0)","v":0},{"$f":"IF($G74=\"Non-essential\",0,1)*IF('Assessment Framework'!BD74=\"Y\",1,0)","v":0},{"$f":"IF($G74=\"Non-essential\",0,1)*IF('Assessment Framework'!BE74=\"Y\",1,0)","v":0},{"$f":"IF($G74=\"Non-essential\",0,1)*IF('Assessment Framework'!BF74=\"Y\",1,0)","v":0},{"$f":"IF($G74=\"Non-essential\",0,1)*IF('Assessment Framework'!BG74=\"Y\",1,0)","v":0},{"$f":"IF($G74=\"Non-essential\",0,1)*IF('Assessment Framework'!BH74=\"Y\",1,0)","v":0},{"$f":"IF($G74=\"Non-essential\",0,1)*IF('Assessment Framework'!BI74=\"Y\",1,0)","v":0},{"$f":"IF($G74=\"Non-essential\",0,1)*IF('Assessment Framework'!BJ74=\"Y\",1,0)","v":0},{"$f":"IF($G74=\"Non-essential\",0,1)*IF('Assessment Framework'!BK74=\"Y\",1,0)","v":0},{"$f":"IF($G74=\"Non-essential\",0,1)*IF('Assessment Framework'!BL74=\"Y\",1,0)","v":0},{"$f":"IF($G74=\"Non-essential\",0,1)*IF('Assessment Framework'!BM74=\"Y\",1,0)","v":0},{"$f":"IF($G74=\"Non-essential\",0,1)*IF('Assessment Framework'!BN74=\"Y\",1,0)","v":0},{"$f":"IF($G74=\"Non-essential\",0,1)*IF('Assessment Framework'!BO74=\"Y\",1,0)","v":0},{"$f":"IF($G74=\"Non-essential\",0,1)*IF('Assessment Framework'!BP74=\"Y\",1,0)","v":0},{"$f":"IF($G74=\"Non-essential\",0,1)*IF('Assessment Framework'!BQ74=\"Y\",1,0)","v":0},{"$f":"IF($G74=\"Non-essential\",0,1)*IF('Assessment Framework'!BR74=\"Y\",1,0)","v":0},{"$f":"IF($G74=\"Non-essential\",0,1)*IF('Assessment Framework'!BS74=\"Y\",1,0)","v":0},{"$f":"IF($G74=\"Non-essential\",0,1)*IF('Assessment Framework'!BT74=\"Y\",1,0)","v":0},{"$f":"IF($G74=\"Non-essential\",0,1)*IF('Assessment Framework'!BU74=\"Y\",1,0)","v":0},{"$f":"IF($G74=\"Non-essential\",0,1)*IF('Assessment Framework'!BV74=\"Y\",1,0)","v":0},{"$f":"IF($G74=\"Non-essential\",0,1)*IF('Assessment Framework'!BW74=\"Y\",1,0)","v":0},{"$f":"IF($G74=\"Non-essential\",0,1)*IF('Assessment Framework'!BX74=\"Y\",1,0)","v":0},{"$f":"IF($G74=\"Non-essential\",0,1)*IF('Assessment Framework'!BY74=\"Y\",1,0)","v":0},{"$f":"IF($G74=\"Non-essential\",0,1)*IF('Assessment Framework'!BZ74=\"Y\",1,0)","v":0},{"$f":"IF($G74=\"Non-essential\",0,1)*IF('Assessment Framework'!CA74=\"Y\",1,0)","v":0},{"$f":"IF($G74=\"Non-essential\",0,1)*IF('Assessment Framework'!CB74=\"Y\",1,0)","v":0},{"$f":"IF($G74=\"Non-essential\",0,1)*IF('Assessment Framework'!CC74=\"Y\",1,0)","v":0},{"$f":"IF($G74=\"Non-essential\",0,1)*IF('Assessment Framework'!CD74=\"Y\",1,0)","v":0},{"$f":"IF($G74=\"Non-essential\",0,1)*IF('Assessment Framework'!CE74=\"Y\",1,0)","v":0},{"$f":"IF($G74=\"Non-essential\",0,1)*IF('Assessment Framework'!CF74=\"Y\",1,0)","v":0},{"$f":"IF($G74=\"Non-essential\",0,1)*IF('Assessment Framework'!CG74=\"Y\",1,0)","v":0},{"$f":"IF($G74=\"Non-essential\",0,1)*IF('Assessment Framework'!CH74=\"Y\",1,0)","v":0},{"$f":"IF($G74=\"Non-essential\",0,1)*IF('Assessment Framework'!CI74=\"Y\",1,0)","v":0},{"$f":"IF($G74=\"Non-essential\",0,1)*IF('Assessment Framework'!CJ74=\"Y\",1,0)","v":0},{"$f":"IF($G74=\"Non-essential\",0,1)*IF('Assessment Framework'!CK74=\"Y\",1,0)","v":0},{"$f":"IF($G74=\"Non-essential\",0,1)*IF('Assessment Framework'!CL74=\"Y\",1,0)","v":0},{"$f":"IF($G74=\"Non-essential\",0,1)*IF('Assessment Framework'!CM74=\"Y\",1,0)","v":0}]
["Available resources","Data requirements","The data availability relates to the general data that may be available to feed into plastic pollution assessment methodologies, broken down by common categories.","Plastic production / consumption data","Data on the amounts of plastic produced or sold","Y,N",{"$f":"IF('C - Data availability'!C7=\"\",\"\",'C - Data availability'!C7)","v":""},{"$f":"IF($G75=\"Yes\",1,0)*IF('Assessment Framework'!G75=\"Y\",1,0)","v":0},{"$f":"IF($G75=\"Yes\",1,0)*IF('Assessment Framework'!H75=\"Y\",1,0)","v":0},{"$f":"IF($G75=\"Yes\",1,0)*IF('Assessment Framework'!I75=\"Y\",1,0)","v":0},{"$f":"IF($G75=\"Yes\",1,0)*IF('Assessment Framework'!J75=\"Y\",1,0)","v":0},{"$f":"IF($G75=\"Yes\",1,0)*IF('Assessment Framework'!K75=\"Y\",1,0)","v":0},{"$f":"IF($G75=\"Yes\",1,0)*IF('Assessment Framework'!L75=\"Y\",1,0)","v":0},{"$f":"IF($G75=\"Yes\",1,0)*IF('Assessment Framework'!M75=\"Y\",1,0)","v":0},{"$f":"IF($G75=\"Yes\",1,0)*IF('Assessment Framework'!N75=\"Y\",1,0)","v":0},{"$f":"IF($G75=\"Yes\",1,0)*IF('Assessment Framework'!O75=\"Y\",1,0)","v":0},{"$f":"IF($G75=\"Yes\",1,0)*IF('Assessment Framework'!P75=\"Y\",1,0)","v":0},{"$f":"IF($G75=\"Yes\",1,0)*IF('Assessment Framework'!Q75=\"Y\",1,0)","v":0},{"$f":"IF($G75=\"Yes\",1,0)*IF('Assessment Framework'!R75=\"Y\",1,0)","v":0},{"$f":"IF($G75=\"Yes\",1,0)*IF('Assessment Framework'!S75=\"Y\",1,0)","v":0},{"$f":"IF($G75=\"Yes\",1,0)*IF('Assessment Framework'!T75=\"Y\",1,0)","v":0},{"$f":"IF($G75=\"Yes\",1,0)*IF('Assessment Framework'!U75=\"Y\",1,0)","v":0},{"$f":"IF($G75=\"Yes\",1,0)*IF('Assessment Framework'!V75=\"Y\",1,0)","v":0},{"$f":"IF($G75=\"Yes\",1,0)*IF('Assessment Framework'!W75=\"Y\",1,0)","v":0},{"$f":"IF($G75=\"Yes\",1,0)*IF('Assessment Framework'!X75=\"Y\",1,0)","v":0},{"$f":"IF($G75=\"Yes\",1,0)*IF('Assessment Framework'!Y75=\"Y\",1,0)","v":0},{"$f":"IF($G75=\"Yes\",1,0)*IF('Assessment Framework'!Z75=\"Y\",1,0)","v":0},{"$f":"IF($G75=\"Yes\",1,0)*IF('Assessment Framework'!AA75=\"Y\",1,0)","v":0},{"$f":"IF($G75=\"Yes\",1,0)*IF('Assessment Framework'!AB75=\"Y\",1,0)","v":0},{"$f":"IF($G75=\"Yes\",1,0)*IF('Assessment Framework'!AC75=\"Y\",1,0)","v":0},{"$f":"IF($G75=\"Yes\",1,0)*IF('Assessment Framework'!AD75=\"Y\",1,0)","v":0},{"$f":"IF($G75=\"Yes\",1,0)*IF('Assessment Framework'!AE75=\"Y\",1,0)","v":0},{"$f":"IF($G75=\"Yes\",1,0)*IF('Assessment Framework'!AF75=\"Y\",1,0)","v":0},{"$f":"IF($G75=\"Yes\",1,0)*IF('Assessment Framework'!AG75=\"Y\",1,0)","v":0},{"$f":"IF($G75=\"Yes\",1,0)*IF('Assessment Framework'!AH75=\"Y\",1,0)","v":0},{"$f":"IF($G75=\"Yes\",1,0)*IF('Assessment Framework'!AI75=\"Y\",1,0)","v":0},{"$f":"IF($G75=\"Yes\",1,0)*IF('Assessment Framework'!AJ75=\"Y\",1,0)","v":0},{"$f":"IF($G75=\"Yes\",1,0)*IF('Assessment Framework'!AK75=\"Y\",1,0)","v":0},{"$f":"IF($G75=\"Yes\",1,0)*IF('Assessment Framework'!AL75=\"Y\",1,0)","v":0},{"$f":"IF($G75=\"Yes\",1,0)*IF('Assessment Framework'!AM75=\"Y\",1,0)","v":0},{"$f":"IF($G75=\"Yes\",1,0)*IF('Assessment Framework'!AN75=\"Y\",1,0)","v":0},{"$f":"IF($G75=\"Yes\",1,0)*IF('Assessment Framework'!AO75=\"Y\",1,0)","v":0},{"$f":"IF($G75=\"Yes\",1,0)*IF('Assessment Framework'!AP75=\"Y\",1,0)","v":0},{"$f":"IF($G75=\"Yes\",1,0)*IF('Assessment Framework'!AQ75=\"Y\",1,0)","v":0},{"$f":"IF($G75=\"Yes\",1,0)*IF('Assessment Framework'!AR75=\"Y\",1,0)","v":0},{"$f":"IF($G75=\"Yes\",1,0)*IF('Assessment Framework'!AS75=\"Y\",1,0)","v":0},{"$f":"IF($G75=\"Yes\",1,0)*IF('Assessment Framework'!AT75=\"Y\",1,0)","v":0},{"$f":"IF($G75=\"Yes\",1,0)*IF('Assessment Framework'!AU75=\"Y\",1,0)","v":0},{"$f":"IF($G75=\"Yes\",1,0)*IF('Assessment Framework'!AV75=\"Y\",1,0)","v":0},{"$f":"IF($G75=\"Yes\",1,0)*IF('Assessment Framework'!AW75=\"Y\",1,0)","v":0},{"$f":"IF($G75=\"Yes\",1,0)*IF('Assessment Framework'!AX75=\"Y\",1,0)","v":0},{"$f":"IF($G75=\"Yes\",1,0)*IF('Assessment Framework'!AY75=\"Y\",1,0)","v":0},{"$f":"IF($G75=\"Yes\",1,0)*IF('Assessment Framework'!AZ75=\"Y\",1,0)","v":0},{"$f":"IF($G75=\"Yes\",1,0)*IF('Assessment Framework'!BA75=\"Y\",1,0)","v":0},{"$f":"IF($G75=\"Yes\",1,0)*IF('Assessment Framework'!BB75=\"Y\",1,0)","v":0},{"$f":"IF($G75=\"Yes\",1,0)*IF('Assessment Framework'!BC75=\"Y\",1,0)","v":0},{"$f":"IF($G75=\"Yes\",1,0)*IF('Assessment Framework'!BD75=\"Y\",1,0)","v":0},{"$f":"IF($G75=\"Yes\",1,0)*IF('Assessment Framework'!BE75=\"Y\",1,0)","v":0},{"$f":"IF($G75=\"Yes\",1,0)*IF('Assessment Framework'!BF75=\"Y\",1,0)","v":0},{"$f":"IF($G75=\"Yes\",1,0)*IF('Assessment Framework'!BG75=\"Y\",1,0)","v":0},{"$f":"IF($G75=\"Yes\",1,0)*IF('Assessment Framework'!BH75=\"Y\",1,0)","v":0},{"$f":"IF($G75=\"Yes\",1,0)*IF('Assessment Framework'!BI75=\"Y\",1,0)","v":0},{"$f":"IF($G75=\"Yes\",1,0)*IF('Assessment Framework'!BJ75=\"Y\",1,0)","v":0},{"$f":"IF($G75=\"Yes\",1,0)*IF('Assessment Framework'!BK75=\"Y\",1,0)","v":0},{"$f":"IF($G75=\"Yes\",1,0)*IF('Assessment Framework'!BL75=\"Y\",1,0)","v":0},{"$f":"IF($G75=\"Yes\",1,0)*IF('Assessment Framework'!BM75=\"Y\",1,0)","v":0},{"$f":"IF($G75=\"Yes\",1,0)*IF('Assessment Framework'!BN75=\"Y\",1,0)","v":0},{"$f":"IF($G75=\"Yes\",1,0)*IF('Assessment Framework'!BO75=\"Y\",1,0)","v":0},{"$f":"IF($G75=\"Yes\",1,0)*IF('Assessment Framework'!BP75=\"Y\",1,0)","v":0},{"$f":"IF($G75=\"Yes\",1,0)*IF('Assessment Framework'!BQ75=\"Y\",1,0)","v":0},{"$f":"IF($G75=\"Yes\",1,0)*IF('Assessment Framework'!BR75=\"Y\",1,0)","v":0},{"$f":"IF($G75=\"Yes\",1,0)*IF('Assessment Framework'!BS75=\"Y\",1,0)","v":0},{"$f":"IF($G75=\"Yes\",1,0)*IF('Assessment Framework'!BT75=\"Y\",1,0)","v":0},{"$f":"IF($G75=\"Yes\",1,0)*IF('Assessment Framework'!BU75=\"Y\",1,0)","v":0},{"$f":"IF($G75=\"Yes\",1,0)*IF('Assessment Framework'!BV75=\"Y\",1,0)","v":0},{"$f":"IF($G75=\"Yes\",1,0)*IF('Assessment Framework'!BW75=\"Y\",1,0)","v":0},{"$f":"IF($G75=\"Yes\",1,0)*IF('Assessment Framework'!BX75=\"Y\",1,0)","v":0},{"$f":"IF($G75=\"Yes\",1,0)*IF('Assessment Framework'!BY75=\"Y\",1,0)","v":0},{"$f":"IF($G75=\"Yes\",1,0)*IF('Assessment Framework'!BZ75=\"Y\",1,0)","v":0},{"$f":"IF($G75=\"Yes\",1,0)*IF('Assessment Framework'!CA75=\"Y\",1,0)","v":0},{"$f":"IF($G75=\"Yes\",1,0)*IF('Assessment Framework'!CB75=\"Y\",1,0)","v":0},{"$f":"IF($G75=\"Yes\",1,0)*IF('Assessment Framework'!CC75=\"Y\",1,0)","v":0},{"$f":"IF($G75=\"Yes\",1,0)*IF('Assessment Framework'!CD75=\"Y\",1,0)","v":0},{"$f":"IF($G75=\"Yes\",1,0)*IF('Assessment Framework'!CE75=\"Y\",1,0)","v":0},{"$f":"IF($G75=\"Yes\",1,0)*IF('Assessment Framework'!CF75=\"Y\",1,0)","v":0},{"$f":"IF($G75=\"Yes\",1,0)*IF('Assessment Framework'!CG75=\"Y\",1,0)","v":0},{"$f":"IF($G75=\"Yes\",1,0)*IF('Assessment Framework'!CH75=\"Y\",1,0)","v":0},{"$f":"IF($G75=\"Yes\",1,0)*IF('Assessment Framework'!CI75=\"Y\",1,0)","v":0},{"$f":"IF($G75=\"Yes\",1,0)*IF('Assessment Framework'!CJ75=\"Y\",1,0)","v":0},{"$f":"IF($G75=\"Yes\",1,0)*IF('Assessment Framework'!CK75=\"Y\",1,0)","v":0},{"$f":"IF($G75=\"Yes\",1,0)*IF('Assessment Framework'!CL75=\"Y\",1,0)","v":0},{"$f":"IF($G75=\"Yes\",1,0)*IF('Assessment Framework'!CM75=\"Y\",1,0)","v":0}]
[null,null,null,"Waste generation data","Data on the amounts of plastic which becomes waste","Y,N",{"$f":"IF('C - Data availability'!C8=\"\",\"\",'C - Data availability'!C8)","v":""},{"$f":"IF($G76=\"Yes\",1,0)*IF('Assessment Framework'!G76=\"Y\",1,0)","v":0},{"$f":"IF($G76=\"Yes\",1,0)*IF('Assessment Framework'!H76=\"Y\",1,0)","v":0},{"$f":"IF($G76=\"Yes\",1,0)*IF('Assessment Framework'!I76=\"Y\",1,0)","v":0},{"$f":"IF($G76=\"Yes\",1,0)*IF('Assessment Framework'!J76=\"Y\",1,0)","v":0},{"$f":"IF($G76=\"Yes\",1,0)*IF('Assessment Framework'!K76=\"Y\",1,0)","v":0},{"$f":"IF($G76=\"Yes\",1,0)*IF('Assessment Framework'!L76=\"Y\",1,0)","v":0},{"$f":"IF($G76=\"Yes\",1,0)*IF('Assessment Framework'!M76=\"Y\",1,0)","v":0},{"$f":"IF($G76=\"Yes\",1,0)*IF('Assessment Framework'!N76=\"Y\",1,0)","v":0},{"$f":"IF($G76=\"Yes\",1,0)*IF('Assessment Framework'!O76=\"Y\",1,0)","v":0},{"$f":"IF($G76=\"Yes\",1,0)*IF('Assessment Framework'!P76=\"Y\",1,0)","v":0},{"$f":"IF($G76=\"Yes\",1,0)*IF('Assessment Framework'!Q76=\"Y\",1,0)","v":0},{"$f":"IF($G76=\"Yes\",1,0)*IF('Assessment Framework'!R76=\"Y\",1,0)","v":0},{"$f":"IF($G76=\"Yes\",1,0)*IF('Assessment Framework'!S76=\"Y\",1,0)","v":0},{"$f":"IF($G76=\"Yes\",1,0)*IF('Assessment Framework'!T76=\"Y\",1,0)","v":0},{"$f":"IF($G76=\"Yes\",1,0)*IF('Assessment Framework'!U76=\"Y\",1,0)","v":0},{"$f":"IF($G76=\"Yes\",1,0)*IF('Assessment Framework'!V76=\"Y\",1,0)","v":0},{"$f":"IF($G76=\"Yes\",1,0)*IF('Assessment Framework'!W76=\"Y\",1,0)","v":0},{"$f":"IF($G76=\"Yes\",1,0)*IF('Assessment Framework'!X76=\"Y\",1,0)","v":0},{"$f":"IF($G76=\"Yes\",1,0)*IF('Assessment Framework'!Y76=\"Y\",1,0)","v":0},{"$f":"IF($G76=\"Yes\",1,0)*IF('Assessment Framework'!Z76=\"Y\",1,0)","v":0},{"$f":"IF($G76=\"Yes\",1,0)*IF('Assessment Framework'!AA76=\"Y\",1,0)","v":0},{"$f":"IF($G76=\"Yes\",1,0)*IF('Assessment Framework'!AB76=\"Y\",1,0)","v":0},{"$f":"IF($G76=\"Yes\",1,0)*IF('Assessment Framework'!AC76=\"Y\",1,0)","v":0},{"$f":"IF($G76=\"Yes\",1,0)*IF('Assessment Framework'!AD76=\"Y\",1,0)","v":0},{"$f":"IF($G76=\"Yes\",1,0)*IF('Assessment Framework'!AE76=\"Y\",1,0)","v":0},{"$f":"IF($G76=\"Yes\",1,0)*IF('Assessment Framework'!AF76=\"Y\",1,0)","v":0},{"$f":"IF($G76=\"Yes\",1,0)*IF('Assessment Framework'!AG76=\"Y\",1,0)","v":0},{"$f":"IF($G76=\"Yes\",1,0)*IF('Assessment Framework'!AH76=\"Y\",1,0)","v":0},{"$f":"IF($G76=\"Yes\",1,0)*IF('Assessment Framework'!AI76=\"Y\",1,0)","v":0},{"$f":"IF($G76=\"Yes\",1,0)*IF('Assessment Framework'!AJ76=\"Y\",1,0)","v":0},{"$f":"IF($G76=\"Yes\",1,0)*IF('Assessment Framework'!AK76=\"Y\",1,0)","v":0},{"$f":"IF($G76=\"Yes\",1,0)*IF('Assessment Framework'!AL76=\"Y\",1,0)","v":0},{"$f":"IF($G76=\"Yes\",1,0)*IF('Assessment Framework'!AM76=\"Y\",1,0)","v":0},{"$f":"IF($G76=\"Yes\",1,0)*IF('Assessment Framework'!AN76=\"Y\",1,0)","v":0},{"$f":"IF($G76=\"Yes\",1,0)*IF('Assessment Framework'!AO76=\"Y\",1,0)","v":0},{"$f":"IF($G76=\"Yes\",1,0)*IF('Assessment Framework'!AP76=\"Y\",1,0)","v":0},{"$f":"IF($G76=\"Yes\",1,0)*IF('Assessment Framework'!AQ76=\"Y\",1,0)","v":0},{"$f":"IF($G76=\"Yes\",1,0)*IF('Assessment Framework'!AR76=\"Y\",1,0)","v":0},{"$f":"IF($G76=\"Yes\",1,0)*IF('Assessment Framework'!AS76=\"Y\",1,0)","v":0},{"$f":"IF($G76=\"Yes\",1,0)*IF('Assessment Framework'!AT76=\"Y\",1,0)","v":0},{"$f":"IF($G76=\"Yes\",1,0)*IF('Assessment Framework'!AU76=\"Y\",1,0)","v":0},{"$f":"IF($G76=\"Yes\",1,0)*IF('Assessment Framework'!AV76=\"Y\",1,0)","v":0},{"$f":"IF($G76=\"Yes\",1,0)*IF('Assessment Framework'!AW76=\"Y\",1,0)","v":0},{"$f":"IF($G76=\"Yes\",1,0)*IF('Assessment Framework'!AX76=\"Y\",1,0)","v":0},{"$f":"IF($G76=\"Yes\",1,0)*IF('Assessment Framework'!AY76=\"Y\",1,0)","v":0},{"$f":"IF($G76=\"Yes\",1,0)*IF('Assessment Framework'!AZ76=\"Y\",1,0)","v":0},{"$f":"IF($G76=\"Yes\",1,0)*IF('Assessment Framework'!BA76=\"Y\",1,0)","v":0},{"$f":"IF($G76=\"Yes\",1,0)*IF('Assessment Framework'!BB76=\"Y\",1,0)","v":0},{"$f":"IF($G76=\"Yes\",1,0)*IF('Assessment Framework'!BC76=\"Y\",1,0)","v":0},{"$f":"IF($G76=\"Yes\",1,0)*IF('Assessment Framework'!BD76=\"Y\",1,0)","v":0},{"$f":"IF($G76=\"Yes\",1,0)*IF('Assessment Framework'!BE76=\"Y\",1,0)","v":0},{"$f":"IF($G76=\"Yes\",1,0)*IF('Assessment Framework'!BF76=\"Y\",1,0)","v":0},{"$f":"IF($G76=\"Yes\",1,0)*IF('Assessment Framework'!BG76=\"Y\",1,0)","v":0},{"$f":"IF($G76=\"Yes\",1,0)*IF('Assessment Framework'!BH76=\"Y\",1,0)","v":0},{"$f":"IF($G76=\"Yes\",1,0)*IF('Assessment Framework'!BI76=\"Y\",1,0)","v":0},{"$f":"IF($G76=\"Yes\",1,0)*IF('Assessment Framework'!BJ76=\"Y\",1,0)","v":0},{"$f":"IF($G76=\"Yes\",1,0)*IF('Assessment Framework'!BK76=\"Y\",1,0)","v":0},{"$f":"IF($G76=\"Yes\",1,0)*IF('Assessment Framework'!BL76=\"Y\",1,0)","v":0},{"$f":"IF($G76=\"Yes\",1,0)*IF('Assessment Framework'!BM76=\"Y\",1,0)","v":0},{"$f":"IF($G76=\"Yes\",1,0)*IF('Assessment Framework'!BN76=\"Y\",1,0)","v":0},{"$f":"IF($G76=\"Yes\",1,0)*IF('Assessment Framework'!BO76=\"Y\",1,0)","v":0},{"$f":"IF($G76=\"Yes\",1,0)*IF('Assessment Framework'!BP76=\"Y\",1,0)","v":0},{"$f":"IF($G76=\"Yes\",1,0)*IF('Assessment Framework'!BQ76=\"Y\",1,0)","v":0},{"$f":"IF($G76=\"Yes\",1,0)*IF('Assessment Framework'!BR76=\"Y\",1,0)","v":0},{"$f":"IF($G76=\"Yes\",1,0)*IF('Assessment Framework'!BS76=\"Y\",1,0)","v":0},{"$f":"IF($G76=\"Yes\",1,0)*IF('Assessment Framework'!BT76=\"Y\",1,0)","v":0},{"$f":"IF($G76=\"Yes\",1,0)*IF('Assessment Framework'!BU76=\"Y\",1,0)","v":0},{"$f":"IF($G76=\"Yes\",1,0)*IF('Assessment Framework'!BV76=\"Y\",1,0)","v":0},{"$f":"IF($G76=\"Yes\",1,0)*IF('Assessment Framework'!BW76=\"Y\",1,0)","v":0},{"$f":"IF($G76=\"Yes\",1,0)*IF('Assessment Framework'!BX76=\"Y\",1,0)","v":0},{"$f":"IF($G76=\"Yes\",1,0)*IF('Assessment Framework'!BY76=\"Y\",1,0)","v":0},{"$f":"IF($G76=\"Yes\",1,0)*IF('Assessment Framework'!BZ76=\"Y\",1,0)","v":0},{"$f":"IF($G76=\"Yes\",1,0)*IF('Assessment Framework'!CA76=\"Y\",1,0)","v":0},{"$f":"IF($G76=\"Yes\",1,0)*IF('Assessment Framework'!CB76=\"Y\",1,0)","v":0},{"$f":"IF($G76=\"Yes\",1,0)*IF('Assessment Framework'!CC76=\"Y\",1,0)","v":0},{"$f":"IF($G76=\"Yes\",1,0)*IF('Assessment Framework'!CD76=\"Y\",1,0)","v":0},{"$f":"IF($G76=\"Yes\",1,0)*IF('Assessment Framework'!CE76=\"Y\",1,0)","v":0},{"$f":"IF($G76=\"Yes\",1,0)*IF('Assessment Framework'!CF76=\"Y\",1,0)","v":0},{"$f":"IF($G76=\"Yes\",1,0)*IF('Assessment Framework'!CG76=\"Y\",1,0)","v":0},{"$f":"IF($G76=\"Yes\",1,0)*IF('Assessment Framework'!CH76=\"Y\",1,0)","v":0},{"$f":"IF($G76=\"Yes\",1,0)*IF('Assessment Framework'!CI76=\"Y\",1,0)","v":0},{"$f":"IF($G76=\"Yes\",1,0)*IF('Assessment Framework'!CJ76=\"Y\",1,0)","v":0},{"$f":"IF($G76=\"Yes\",1,0)*IF('Assessment Framework'!CK76=\"Y\",1,0)","v":0},{"$f":"IF($G76=\"Yes\",1,0)*IF('Assessment Framework'!CL76=\"Y\",1,0)","v":0},{"$f":"IF($G76=\"Yes\",1,0)*IF('Assessment Framework'!CM76=\"Y\",1,0)","v":0}]
[null,null,null,"Waste composition","Data on what material fractions make up the waste","Y,N",{"$f":"IF('C - Data availability'!C9=\"\",\"\",'C - Data availability'!C9)","v":""},{"$f":"IF($G77=\"Yes\",1,0)*IF('Assessment Framework'!G77=\"Y\",1,0)","v":0},{"$f":"IF($G77=\"Yes\",1,0)*IF('Assessment Framework'!H77=\"Y\",1,0)","v":0},{"$f":"IF($G77=\"Yes\",1,0)*IF('Assessment Framework'!I77=\"Y\",1,0)","v":0},{"$f":"IF($G77=\"Yes\",1,0)*IF('Assessment Framework'!J77=\"Y\",1,0)","v":0},{"$f":"IF($G77=\"Yes\",1,0)*IF('Assessment Framework'!K77=\"Y\",1,0)","v":0},{"$f":"IF($G77=\"Yes\",1,0)*IF('Assessment Framework'!L77=\"Y\",1,0)","v":0},{"$f":"IF($G77=\"Yes\",1,0)*IF('Assessment Framework'!M77=\"Y\",1,0)","v":0},{"$f":"IF($G77=\"Yes\",1,0)*IF('Assessment Framework'!N77=\"Y\",1,0)","v":0},{"$f":"IF($G77=\"Yes\",1,0)*IF('Assessment Framework'!O77=\"Y\",1,0)","v":0},{"$f":"IF($G77=\"Yes\",1,0)*IF('Assessment Framework'!P77=\"Y\",1,0)","v":0},{"$f":"IF($G77=\"Yes\",1,0)*IF('Assessment Framework'!Q77=\"Y\",1,0)","v":0},{"$f":"IF($G77=\"Yes\",1,0)*IF('Assessment Framework'!R77=\"Y\",1,0)","v":0},{"$f":"IF($G77=\"Yes\",1,0)*IF('Assessment Framework'!S77=\"Y\",1,0)","v":0},{"$f":"IF($G77=\"Yes\",1,0)*IF('Assessment Framework'!T77=\"Y\",1,0)","v":0},{"$f":"IF($G77=\"Yes\",1,0)*IF('Assessment Framework'!U77=\"Y\",1,0)","v":0},{"$f":"IF($G77=\"Yes\",1,0)*IF('Assessment Framework'!V77=\"Y\",1,0)","v":0},{"$f":"IF($G77=\"Yes\",1,0)*IF('Assessment Framework'!W77=\"Y\",1,0)","v":0},{"$f":"IF($G77=\"Yes\",1,0)*IF('Assessment Framework'!X77=\"Y\",1,0)","v":0},{"$f":"IF($G77=\"Yes\",1,0)*IF('Assessment Framework'!Y77=\"Y\",1,0)","v":0},{"$f":"IF($G77=\"Yes\",1,0)*IF('Assessment Framework'!Z77=\"Y\",1,0)","v":0},{"$f":"IF($G77=\"Yes\",1,0)*IF('Assessment Framework'!AA77=\"Y\",1,0)","v":0},{"$f":"IF($G77=\"Yes\",1,0)*IF('Assessment Framework'!AB77=\"Y\",1,0)","v":0},{"$f":"IF($G77=\"Yes\",1,0)*IF('Assessment Framework'!AC77=\"Y\",1,0)","v":0},{"$f":"IF($G77=\"Yes\",1,0)*IF('Assessment Framework'!AD77=\"Y\",1,0)","v":0},{"$f":"IF($G77=\"Yes\",1,0)*IF('Assessment Framework'!AE77=\"Y\",1,0)","v":0},{"$f":"IF($G77=\"Yes\",1,0)*IF('Assessment Framework'!AF77=\"Y\",1,0)","v":0},{"$f":"IF($G77=\"Yes\",1,0)*IF('Assessment Framework'!AG77=\"Y\",1,0)","v":0},{"$f":"IF($G77=\"Yes\",1,0)*IF('Assessment Framework'!AH77=\"Y\",1,0)","v":0},{"$f":"IF($G77=\"Yes\",1,0)*IF('Assessment Framework'!AI77=\"Y\",1,0)","v":0},{"$f":"IF($G77=\"Yes\",1,0)*IF('Assessment Framework'!AJ77=\"Y\",1,0)","v":0},{"$f":"IF($G77=\"Yes\",1,0)*IF('Assessment Framework'!AK77=\"Y\",1,0)","v":0},{"$f":"IF($G77=\"Yes\",1,0)*IF('Assessment Framework'!AL77=\"Y\",1,0)","v":0},{"$f":"IF($G77=\"Yes\",1,0)*IF('Assessment Framework'!AM77=\"Y\",1,0)","v":0},{"$f":"IF($G77=\"Yes\",1,0)*IF('Assessment Framework'!AN77=\"Y\",1,0)","v":0},{"$f":"IF($G77=\"Yes\",1,0)*IF('Assessment Framework'!AO77=\"Y\",1,0)","v":0},{"$f":"IF($G77=\"Yes\",1,0)*IF('Assessment Framework'!AP77=\"Y\",1,0)","v":0},{"$f":"IF($G77=\"Yes\",1,0)*IF('Assessment Framework'!AQ77=\"Y\",1,0)","v":0},{"$f":"IF($G77=\"Yes\",1,0)*IF('Assessment Framework'!AR77=\"Y\",1,0)","v":0},{"$f":"IF($G77=\"Yes\",1,0)*IF('Assessment Framework'!AS77=\"Y\",1,0)","v":0},{"$f":"IF($G77=\"Yes\",1,0)*IF('Assessment Framework'!AT77=\"Y\",1,0)","v":0},{"$f":"IF($G77=\"Yes\",1,0)*IF('Assessment Framework'!AU77=\"Y\",1,0)","v":0},{"$f":"IF($G77=\"Yes\",1,0)*IF('Assessment Framework'!AV77=\"Y\",1,0)","v":0},{"$f":"IF($G77=\"Yes\",1,0)*IF('Assessment Framework'!AW77=\"Y\",1,0)","v":0},{"$f":"IF($G77=\"Yes\",1,0)*IF('Assessment Framework'!AX77=\"Y\",1,0)","v":0},{"$f":"IF($G77=\"Yes\",1,0)*IF('Assessment Framework'!AY77=\"Y\",1,0)","v":0},{"$f":"IF($G77=\"Yes\",1,0)*IF('Assessment Framework'!AZ77=\"Y\",1,0)","v":0},{"$f":"IF($G77=\"Yes\",1,0)*IF('Assessment Framework'!BA77=\"Y\",1,0)","v":0},{"$f":"IF($G77=\"Yes\",1,0)*IF('Assessment Framework'!BB77=\"Y\",1,0)","v":0},{"$f":"IF($G77=\"Yes\",1,0)*IF('Assessment Framework'!BC77=\"Y\",1,0)","v":0},{"$f":"IF($G77=\"Yes\",1,0)*IF('Assessment Framework'!BD77=\"Y\",1,0)","v":0},{"$f":"IF($G77=\"Yes\",1,0)*IF('Assessment Framework'!BE77=\"Y\",1,0)","v":0},{"$f":"IF($G77=\"Yes\",1,0)*IF('Assessment Framework'!BF77=\"Y\",1,0)","v":0},{"$f":"IF($G77=\"Yes\",1,0)*IF('Assessment Framework'!BG77=\"Y\",1,0)","v":0},{"$f":"IF($G77=\"Yes\",1,0)*IF('Assessment Framework'!BH77=\"Y\",1,0)","v":0},{"$f":"IF($G77=\"Yes\",1,0)*IF('Assessment Framework'!BI77=\"Y\",1,0)","v":0},{"$f":"IF($G77=\"Yes\",1,0)*IF('Assessment Framework'!BJ77=\"Y\",1,0)","v":0},{"$f":"IF($G77=\"Yes\",1,0)*IF('Assessment Framework'!BK77=\"Y\",1,0)","v":0},{"$f":"IF($G77=\"Yes\",1,0)*IF('Assessment Framework'!BL77=\"Y\",1,0)","v":0},{"$f":"IF($G77=\"Yes\",1,0)*IF('Assessment Framework'!BM77=\"Y\",1,0)","v":0},{"$f":"IF($G77=\"Yes\",1,0)*IF('Assessment Framework'!BN77=\"Y\",1,0)","v":0},{"$f":"IF($G77=\"Yes\",1,0)*IF('Assessment Framework'!BO77=\"Y\",1,0)","v":0},{"$f":"IF($G77=\"Yes\",1,0)*IF('Assessment Framework'!BP77=\"Y\",1,0)","v":0},{"$f":"IF($G77=\"Yes\",1,0)*IF('Assessment Framework'!BQ77=\"Y\",1,0)","v":0},{"$f":"IF($G77=\"Yes\",1,0)*IF('Assessment Framework'!BR77=\"Y\",1,0)","v":0},{"$f":"IF($G77=\"Yes\",1,0)*IF('Assessment Framework'!BS77=\"Y\",1,0)","v":0},{"$f":"IF($G77=\"Yes\",1,0)*IF('Assessment Framework'!BT77=\"Y\",1,0)","v":0},{"$f":"IF($G77=\"Yes\",1,0)*IF('Assessment Framework'!BU77=\"Y\",1,0)","v":0},{"$f":"IF($G77=\"Yes\",1,0)*IF('Assessment Framework'!BV77=\"Y\",1,0)","v":0},{"$f":"IF($G77=\"Yes\",1,0)*IF('Assessment Framework'!BW77=\"Y\",1,0)","v":0},{"$f":"IF($G77=\"Yes\",1,0)*IF('Assessment Framework'!BX77=\"Y\",1,0)","v":0},{"$f":"IF($G77=\"Yes\",1,0)*IF('Assessment Framework'!BY77=\"Y\",1,0)","v":0},{"$f":"IF($G77=\"Yes\",1,0)*IF('Assessment Framework'!BZ77=\"Y\",1,0)","v":0},{"$f":"IF($G77=\"Yes\",1,0)*IF('Assessment Framework'!CA77=\"Y\",1,0)","v":0},{"$f":"IF($G77=\"Yes\",1,0)*IF('Assessment Framework'!CB77=\"Y\",1,0)","v":0},{"$f":"IF($G77=\"Yes\",1,0)*IF('Assessment Framework'!CC77=\"Y\",1,0)","v":0},{"$f":"IF($G77=\"Yes\",1,0)*IF('Assessment Framework'!CD77=\"Y\",1,0)","v":0},{"$f":"IF($G77=\"Yes\",1,0)*IF('Assessment Framework'!CE77=\"Y\",1,0)","v":0},{"$f":"IF($G77=\"Yes\",1,0)*IF('Assessment Framework'!CF77=\"Y\",1,0)","v":0},{"$f":"IF($G77=\"Yes\",1,0)*IF('Assessment Framework'!CG77=\"Y\",1,0)","v":0},{"$f":"IF($G77=\"Yes\",1,0)*IF('Assessment Framework'!CH77=\"Y\",1,0)","v":0},{"$f":"IF($G77=\"Yes\",1,0)*IF('Assessment Framework'!CI77=\"Y\",1,0)","v":0},{"$f":"IF($G77=\"Yes\",1,0)*IF('Assessment Framework'!CJ77=\"Y\",1,0)","v":0},{"$f":"IF($G77=\"Yes\",1,0)*IF('Assessment Framework'!CK77=\"Y\",1,0)","v":0},{"$f":"IF($G77=\"Yes\",1,0)*IF('Assessment Framework'!CL77=\"Y\",1,0)","v":0},{"$f":"IF($G77=\"Yes\",1,0)*IF('Assessment Framework'!CM77=\"Y\",1,0)","v":0}]
[null,null,null,"Plastic waste composition (polymers)","Data on what polymers make up the plastic waste","Y,N",{"$f":"IF('C - Data availability'!C10=\"\",\"\",'C - Data availability'!C10)","v":""},{"$f":"IF($G78=\"Yes\",1,0)*IF('Assessment Framework'!G78=\"Y\",1,0)","v":0},{"$f":"IF($G78=\"Yes\",1,0)*IF('Assessment Framework'!H78=\"Y\",1,0)","v":0},{"$f":"IF($G78=\"Yes\",1,0)*IF('Assessment Framework'!I78=\"Y\",1,0)","v":0},{"$f":"IF($G78=\"Yes\",1,0)*IF('Assessment Framework'!J78=\"Y\",1,0)","v":0},{"$f":"IF($G78=\"Yes\",1,0)*IF('Assessment Framework'!K78=\"Y\",1,0)","v":0},{"$f":"IF($G78=\"Yes\",1,0)*IF('Assessment Framework'!L78=\"Y\",1,0)","v":0},{"$f":"IF($G78=\"Yes\",1,0)*IF('Assessment Framework'!M78=\"Y\",1,0)","v":0},{"$f":"IF($G78=\"Yes\",1,0)*IF('Assessment Framework'!N78=\"Y\",1,0)","v":0},{"$f":"IF($G78=\"Yes\",1,0)*IF('Assessment Framework'!O78=\"Y\",1,0)","v":0},{"$f":"IF($G78=\"Yes\",1,0)*IF('Assessment Framework'!P78=\"Y\",1,0)","v":0},{"$f":"IF($G78=\"Yes\",1,0)*IF('Assessment Framework'!Q78=\"Y\",1,0)","v":0},{"$f":"IF($G78=\"Yes\",1,0)*IF('Assessment Framework'!R78=\"Y\",1,0)","v":0},{"$f":"IF($G78=\"Yes\",1,0)*IF('Assessment Framework'!S78=\"Y\",1,0)","v":0},{"$f":"IF($G78=\"Yes\",1,0)*IF('Assessment Framework'!T78=\"Y\",1,0)","v":0},{"$f":"IF($G78=\"Yes\",1,0)*IF('Assessment Framework'!U78=\"Y\",1,0)","v":0},{"$f":"IF($G78=\"Yes\",1,0)*IF('Assessment Framework'!V78=\"Y\",1,0)","v":0},{"$f":"IF($G78=\"Yes\",1,0)*IF('Assessment Framework'!W78=\"Y\",1,0)","v":0},{"$f":"IF($G78=\"Yes\",1,0)*IF('Assessment Framework'!X78=\"Y\",1,0)","v":0},{"$f":"IF($G78=\"Yes\",1,0)*IF('Assessment Framework'!Y78=\"Y\",1,0)","v":0},{"$f":"IF($G78=\"Yes\",1,0)*IF('Assessment Framework'!Z78=\"Y\",1,0)","v":0},{"$f":"IF($G78=\"Yes\",1,0)*IF('Assessment Framework'!AA78=\"Y\",1,0)","v":0},{"$f":"IF($G78=\"Yes\",1,0)*IF('Assessment Framework'!AB78=\"Y\",1,0)","v":0},{"$f":"IF($G78=\"Yes\",1,0)*IF('Assessment Framework'!AC78=\"Y\",1,0)","v":0},{"$f":"IF($G78=\"Yes\",1,0)*IF('Assessment Framework'!AD78=\"Y\",1,0)","v":0},{"$f":"IF($G78=\"Yes\",1,0)*IF('Assessment Framework'!AE78=\"Y\",1,0)","v":0},{"$f":"IF($G78=\"Yes\",1,0)*IF('Assessment Framework'!AF78=\"Y\",1,0)","v":0},{"$f":"IF($G78=\"Yes\",1,0)*IF('Assessment Framework'!AG78=\"Y\",1,0)","v":0},{"$f":"IF($G78=\"Yes\",1,0)*IF('Assessment Framework'!AH78=\"Y\",1,0)","v":0},{"$f":"IF($G78=\"Yes\",1,0)*IF('Assessment Framework'!AI78=\"Y\",1,0)","v":0},{"$f":"IF($G78=\"Yes\",1,0)*IF('Assessment Framework'!AJ78=\"Y\",1,0)","v":0},{"$f":"IF($G78=\"Yes\",1,0)*IF('Assessment Framework'!AK78=\"Y\",1,0)","v":0},{"$f":"IF($G78=\"Yes\",1,0)*IF('Assessment Framework'!AL78=\"Y\",1,0)","v":0},{"$f":"IF($G78=\"Yes\",1,0)*IF('Assessment Framework'!AM78=\"Y\",1,0)","v":0},{"$f":"IF($G78=\"Yes\",1,0)*IF('Assessment Framework'!AN78=\"Y\",1,0)","v":0},{"$f":"IF($G78=\"Yes\",1,0)*IF('Assessment Framework'!AO78=\"Y\",1,0)","v":0},{"$f":"IF($G78=\"Yes\",1,0)*IF('Assessment Framework'!AP78=\"Y\",1,0)","v":0},{"$f":"IF($G78=\"Yes\",1,0)*IF('Assessment Framework'!AQ78=\"Y\",1,0)","v":0},{"$f":"IF($G78=\"Yes\",1,0)*IF('Assessment Framework'!AR78=\"Y\",1,0)","v":0},{"$f":"IF($G78=\"Yes\",1,0)*IF('Assessment Framework'!AS78=\"Y\",1,0)","v":0},{"$f":"IF($G78=\"Yes\",1,0)*IF('Assessment Framework'!AT78=\"Y\",1,0)","v":0},{"$f":"IF($G78=\"Yes\",1,0)*IF('Assessment Framework'!AU78=\"Y\",1,0)","v":0},{"$f":"IF($G78=\"Yes\",1,0)*IF('Assessment Framework'!AV78=\"Y\",1,0)","v":0},{"$f":"IF($G78=\"Yes\",1,0)*IF('Assessment Framework'!AW78=\"Y\",1,0)","v":0},{"$f":"IF($G78=\"Yes\",1,0)*IF('Assessment Framework'!AX78=\"Y\",1,0)","v":0},{"$f":"IF($G78=\"Yes\",1,0)*IF('Assessment Framework'!AY78=\"Y\",1,0)","v":0},{"$f":"IF($G78=\"Yes\",1,0)*IF('Assessment Framework'!AZ78=\"Y\",1,0)","v":0},{"$f":"IF($G78=\"Yes\",1,0)*IF('Assessment Framework'!BA78=\"Y\",1,0)","v":0},{"$f":"IF($G78=\"Yes\",1,0)*IF('Assessment Framework'!BB78=\"Y\",1,0)","v":0},{"$f":"IF($G78=\"Yes\",1,0)*IF('Assessment Framework'!BC78=\"Y\",1,0)","v":0},{"$f":"IF($G78=\"Yes\",1,0)*IF('Assessment Framework'!BD78=\"Y\",1,0)","v":0},{"$f":"IF($G78=\"Yes\",1,0)*IF('Assessment Framework'!BE78=\"Y\",1,0)","v":0},{"$f":"IF($G78=\"Yes\",1,0)*IF('Assessment Framework'!BF78=\"Y\",1,0)","v":0},{"$f":"IF($G78=\"Yes\",1,0)*IF('Assessment Framework'!BG78=\"Y\",1,0)","v":0},{"$f":"IF($G78=\"Yes\",1,0)*IF('Assessment Framework'!BH78=\"Y\",1,0)","v":0},{"$f":"IF($G78=\"Yes\",1,0)*IF('Assessment Framework'!BI78=\"Y\",1,0)","v":0},{"$f":"IF($G78=\"Yes\",1,0)*IF('Assessment Framework'!BJ78=\"Y\",1,0)","v":0},{"$f":"IF($G78=\"Yes\",1,0)*IF('Assessment Framework'!BK78=\"Y\",1,0)","v":0},{"$f":"IF($G78=\"Yes\",1,0)*IF('Assessment Framework'!BL78=\"Y\",1,0)","v":0},{"$f":"IF($G78=\"Yes\",1,0)*IF('Assessment Framework'!BM78=\"Y\",1,0)","v":0},{"$f":"IF($G78=\"Yes\",1,0)*IF('Assessment Framework'!BN78=\"Y\",1,0)","v":0},{"$f":"IF($G78=\"Yes\",1,0)*IF('Assessment Framework'!BO78=\"Y\",1,0)","v":0},{"$f":"IF($G78=\"Yes\",1,0)*IF('Assessment Framework'!BP78=\"Y\",1,0)","v":0},{"$f":"IF($G78=\"Yes\",1,0)*IF('Assessment Framework'!BQ78=\"Y\",1,0)","v":0},{"$f":"IF($G78=\"Yes\",1,0)*IF('Assessment Framework'!BR78=\"Y\",1,0)","v":0},{"$f":"IF($G78=\"Yes\",1,0)*IF('Assessment Framework'!BS78=\"Y\",1,0)","v":0},{"$f":"IF($G78=\"Yes\",1,0)*IF('Assessment Framework'!BT78=\"Y\",1,0)","v":0},{"$f":"IF($G78=\"Yes\",1,0)*IF('Assessment Framework'!BU78=\"Y\",1,0)","v":0},{"$f":"IF($G78=\"Yes\",1,0)*IF('Assessment Framework'!BV78=\"Y\",1,0)","v":0},{"$f":"IF($G78=\"Yes\",1,0)*IF('Assessment Framework'!BW78=\"Y\",1,0)","v":0},{"$f":"IF($G78=\"Yes\",1,0)*IF('Assessment Framework'!BX78=\"Y\",1,0)","v":0},{"$f":"IF($G78=\"Yes\",1,0)*IF('Assessment Framework'!BY78=\"Y\",1,0)","v":0},{"$f":"IF($G78=\"Yes\",1,0)*IF('Assessment Framework'!BZ78=\"Y\",1,0)","v":0},{"$f":"IF($G78=\"Yes\",1,0)*IF('Assessment Framework'!CA78=\"Y\",1,0)","v":0},{"$f":"IF($G78=\"Yes\",1,0)*IF('Assessment Framework'!CB78=\"Y\",1,0)","v":0},{"$f":"IF($G78=\"Yes\",1,0)*IF('Assessment Framework'!CC78=\"Y\",1,0)","v":0},{"$f":"IF($G78=\"Yes\",1,0)*IF('Assessment Framework'!CD78=\"Y\",1,0)","v":0},{"$f":"IF($G78=\"Yes\",1,0)*IF('Assessment Framework'!CE78=\"Y\",1,0)","v":0},{"$f":"IF($G78=\"Yes\",1,0)*IF('Assessment Framework'!CF78=\"Y\",1,0)","v":0},{"$f":"IF($G78=\"Yes\",1,0)*IF('Assessment Framework'!CG78=\"Y\",1,0)","v":0},{"$f":"IF($G78=\"Yes\",1,0)*IF('Assessment Framework'!CH78=\"Y\",1,0)","v":0},{"$f":"IF($G78=\"Yes\",1,0)*IF('Assessment Framework'!CI78=\"Y\",1,0)","v":0},{"$f":"IF($G78=\"Yes\",1,0)*IF('Assessment Framework'!CJ78=\"Y\",1,0)","v":0},{"$f":"IF($G78=\"Yes\",1,0)*IF('Assessment Framework'!CK78=\"Y\",1,0)","v":0},{"$f":"IF($G78=\"Yes\",1,0)*IF('Assessment Framework'!CL78=\"Y\",1,0)","v":0},{"$f":"IF($G78=\"Yes\",1,0)*IF('Assessment Framework'!CM78=\"Y\",1,0)","v":0}]
[null,null,null,"Plastic waste composition (items)","Data on what items make up the plastic waste (e.g. bags, bottles etc.)","Y,N",{"$f":"IF('C - Data availability'!C11=\"\",\"\",'C - Data availability'!C11)","v":""},{"$f":"IF($G79=\"Yes\",1,0)*IF('Assessment Framework'!G79=\"Y\",1,0)","v":0},{"$f":"IF($G79=\"Yes\",1,0)*IF('Assessment Framework'!H79=\"Y\",1,0)","v":0},{"$f":"IF($G79=\"Yes\",1,0)*IF('Assessment Framework'!I79=\"Y\",1,0)","v":0},{"$f":"IF($G79=\"Yes\",1,0)*IF('Assessment Framework'!J79=\"Y\",1,0)","v":0},{"$f":"IF($G79=\"Yes\",1,0)*IF('Assessment Framework'!K79=\"Y\",1,0)","v":0},{"$f":"IF($G79=\"Yes\",1,0)*IF('Assessment Framework'!L79=\"Y\",1,0)","v":0},{"$f":"IF($G79=\"Yes\",1,0)*IF('Assessment Framework'!M79=\"Y\",1,0)","v":0},{"$f":"IF($G79=\"Yes\",1,0)*IF('Assessment Framework'!N79=\"Y\",1,0)","v":0},{"$f":"IF($G79=\"Yes\",1,0)*IF('Assessment Framework'!O79=\"Y\",1,0)","v":0},{"$f":"IF($G79=\"Yes\",1,0)*IF('Assessment Framework'!P79=\"Y\",1,0)","v":0},{"$f":"IF($G79=\"Yes\",1,0)*IF('Assessment Framework'!Q79=\"Y\",1,0)","v":0},{"$f":"IF($G79=\"Yes\",1,0)*IF('Assessment Framework'!R79=\"Y\",1,0)","v":0},{"$f":"IF($G79=\"Yes\",1,0)*IF('Assessment Framework'!S79=\"Y\",1,0)","v":0},{"$f":"IF($G79=\"Yes\",1,0)*IF('Assessment Framework'!T79=\"Y\",1,0)","v":0},{"$f":"IF($G79=\"Yes\",1,0)*IF('Assessment Framework'!U79=\"Y\",1,0)","v":0},{"$f":"IF($G79=\"Yes\",1,0)*IF('Assessment Framework'!V79=\"Y\",1,0)","v":0},{"$f":"IF($G79=\"Yes\",1,0)*IF('Assessment Framework'!W79=\"Y\",1,0)","v":0},{"$f":"IF($G79=\"Yes\",1,0)*IF('Assessment Framework'!X79=\"Y\",1,0)","v":0},{"$f":"IF($G79=\"Yes\",1,0)*IF('Assessment Framework'!Y79=\"Y\",1,0)","v":0},{"$f":"IF($G79=\"Yes\",1,0)*IF('Assessment Framework'!Z79=\"Y\",1,0)","v":0},{"$f":"IF($G79=\"Yes\",1,0)*IF('Assessment Framework'!AA79=\"Y\",1,0)","v":0},{"$f":"IF($G79=\"Yes\",1,0)*IF('Assessment Framework'!AB79=\"Y\",1,0)","v":0},{"$f":"IF($G79=\"Yes\",1,0)*IF('Assessment Framework'!AC79=\"Y\",1,0)","v":0},{"$f":"IF($G79=\"Yes\",1,0)*IF('Assessment Framework'!AD79=\"Y\",1,0)","v":0},{"$f":"IF($G79=\"Yes\",1,0)*IF('Assessment Framework'!AE79=\"Y\",1,0)","v":0},{"$f":"IF($G79=\"Yes\",1,0)*IF('Assessment Framework'!AF79=\"Y\",1,0)","v":0},{"$f":"IF($G79=\"Yes\",1,0)*IF('Assessment Framework'!AG79=\"Y\",1,0)","v":0},{"$f":"IF($G79=\"Yes\",1,0)*IF('Assessment Framework'!AH79=\"Y\",1,0)","v":0},{"$f":"IF($G79=\"Yes\",1,0)*IF('Assessment Framework'!AI79=\"Y\",1,0)","v":0},{"$f":"IF($G79=\"Yes\",1,0)*IF('Assessment Framework'!AJ79=\"Y\",1,0)","v":0},{"$f":"IF($G79=\"Yes\",1,0)*IF('Assessment Framework'!AK79=\"Y\",1,0)","v":0},{"$f":"IF($G79=\"Yes\",1,0)*IF('Assessment Framework'!AL79=\"Y\",1,0)","v":0},{"$f":"IF($G79=\"Yes\",1,0)*IF('Assessment Framework'!AM79=\"Y\",1,0)","v":0},{"$f":"IF($G79=\"Yes\",1,0)*IF('Assessment Framework'!AN79=\"Y\",1,0)","v":0},{"$f":"IF($G79=\"Yes\",1,0)*IF('Assessment Framework'!AO79=\"Y\",1,0)","v":0},{"$f":"IF($G79=\"Yes\",1,0)*IF('Assessment Framework'!AP79=\"Y\",1,0)","v":0},{"$f":"IF($G79=\"Yes\",1,0)*IF('Assessment Framework'!AQ79=\"Y\",1,0)","v":0},{"$f":"IF($G79=\"Yes\",1,0)*IF('Assessment Framework'!AR79=\"Y\",1,0)","v":0},{"$f":"IF($G79=\"Yes\",1,0)*IF('Assessment Framework'!AS79=\"Y\",1,0)","v":0},{"$f":"IF($G79=\"Yes\",1,0)*IF('Assessment Framework'!AT79=\"Y\",1,0)","v":0},{"$f":"IF($G79=\"Yes\",1,0)*IF('Assessment Framework'!AU79=\"Y\",1,0)","v":0},{"$f":"IF($G79=\"Yes\",1,0)*IF('Assessment Framework'!AV79=\"Y\",1,0)","v":0},{"$f":"IF($G79=\"Yes\",1,0)*IF('Assessment Framework'!AW79=\"Y\",1,0)","v":0},{"$f":"IF($G79=\"Yes\",1,0)*IF('Assessment Framework'!AX79=\"Y\",1,0)","v":0},{"$f":"IF($G79=\"Yes\",1,0)*IF('Assessment Framework'!AY79=\"Y\",1,0)","v":0},{"$f":"IF($G79=\"Yes\",1,0)*IF('Assessment Framework'!AZ79=\"Y\",1,0)","v":0},{"$f":"IF($G79=\"Yes\",1,0)*IF('Assessment Framework'!BA79=\"Y\",1,0)","v":0},{"$f":"IF($G79=\"Yes\",1,0)*IF('Assessment Framework'!BB79=\"Y\",1,0)","v":0},{"$f":"IF($G79=\"Yes\",1,0)*IF('Assessment Framework'!BC79=\"Y\",1,0)","v":0},{"$f":"IF($G79=\"Yes\",1,0)*IF('Assessment Framework'!BD79=\"Y\",1,0)","v":0},{"$f":"IF($G79=\"Yes\",1,0)*IF('Assessment Framework'!BE79=\"Y\",1,0)","v":0},{"$f":"IF($G79=\"Yes\",1,0)*IF('Assessment Framework'!BF79=\"Y\",1,0)","v":0},{"$f":"IF($G79=\"Yes\",1,0)*IF('Assessment Framework'!BG79=\"Y\",1,0)","v":0},{"$f":"IF($G79=\"Yes\",1,0)*IF('Assessment Framework'!BH79=\"Y\",1,0)","v":0},{"$f":"IF($G79=\"Yes\",1,0)*IF('Assessment Framework'!BI79=\"Y\",1,0)","v":0},{"$f":"IF($G79=\"Yes\",1,0)*IF('Assessment Framework'!BJ79=\"Y\",1,0)","v":0},{"$f":"IF($G79=\"Yes\",1,0)*IF('Assessment Framework'!BK79=\"Y\",1,0)","v":0},{"$f":"IF($G79=\"Yes\",1,0)*IF('Assessment Framework'!BL79=\"Y\",1,0)","v":0},{"$f":"IF($G79=\"Yes\",1,0)*IF('Assessment Framework'!BM79=\"Y\",1,0)","v":0},{"$f":"IF($G79=\"Yes\",1,0)*IF('Assessment Framework'!BN79=\"Y\",1,0)","v":0},{"$f":"IF($G79=\"Yes\",1,0)*IF('Assessment Framework'!BO79=\"Y\",1,0)","v":0},{"$f":"IF($G79=\"Yes\",1,0)*IF('Assessment Framework'!BP79=\"Y\",1,0)","v":0},{"$f":"IF($G79=\"Yes\",1,0)*IF('Assessment Framework'!BQ79=\"Y\",1,0)","v":0},{"$f":"IF($G79=\"Yes\",1,0)*IF('Assessment Framework'!BR79=\"Y\",1,0)","v":0},{"$f":"IF($G79=\"Yes\",1,0)*IF('Assessment Framework'!BS79=\"Y\",1,0)","v":0},{"$f":"IF($G79=\"Yes\",1,0)*IF('Assessment Framework'!BT79=\"Y\",1,0)","v":0},{"$f":"IF($G79=\"Yes\",1,0)*IF('Assessment Framework'!BU79=\"Y\",1,0)","v":0},{"$f":"IF($G79=\"Yes\",1,0)*IF('Assessment Framework'!BV79=\"Y\",1,0)","v":0},{"$f":"IF($G79=\"Yes\",1,0)*IF('Assessment Framework'!BW79=\"Y\",1,0)","v":0},{"$f":"IF($G79=\"Yes\",1,0)*IF('Assessment Framework'!BX79=\"Y\",1,0)","v":0},{"$f":"IF($G79=\"Yes\",1,0)*IF('Assessment Framework'!BY79=\"Y\",1,0)","v":0},{"$f":"IF($G79=\"Yes\",1,0)*IF('Assessment Framework'!BZ79=\"Y\",1,0)","v":0},{"$f":"IF($G79=\"Yes\",1,0)*IF('Assessment Framework'!CA79=\"Y\",1,0)","v":0},{"$f":"IF($G79=\"Yes\",1,0)*IF('Assessment Framework'!CB79=\"Y\",1,0)","v":0},{"$f":"IF($G79=\"Yes\",1,0)*IF('Assessment Framework'!CC79=\"Y\",1,0)","v":0},{"$f":"IF($G79=\"Yes\",1,0)*IF('Assessment Framework'!CD79=\"Y\",1,0)","v":0},{"$f":"IF($G79=\"Yes\",1,0)*IF('Assessment Framework'!CE79=\"Y\",1,0)","v":0},{"$f":"IF($G79=\"Yes\",1,0)*IF('Assessment Framework'!CF79=\"Y\",1,0)","v":0},{"$f":"IF($G79=\"Yes\",1,0)*IF('Assessment Framework'!CG79=\"Y\",1,0)","v":0},{"$f":"IF($G79=\"Yes\",1,0)*IF('Assessment Framework'!CH79=\"Y\",1,0)","v":0},{"$f":"IF($G79=\"Yes\",1,0)*IF('Assessment Framework'!CI79=\"Y\",1,0)","v":0},{"$f":"IF($G79=\"Yes\",1,0)*IF('Assessment Framework'!CJ79=\"Y\",1,0)","v":0},{"$f":"IF($G79=\"Yes\",1,0)*IF('Assessment Framework'!CK79=\"Y\",1,0)","v":0},{"$f":"IF($G79=\"Yes\",1,0)*IF('Assessment Framework'!CL79=\"Y\",1,0)","v":0},{"$f":"IF($G79=\"Yes\",1,0)*IF('Assessment Framework'!CM79=\"Y\",1,0)","v":0}]
[null,null,null,"Plastic waste composition (brands)","Data on what company branded items make up the plastic waste","Y,N",{"$f":"IF('C - Data availability'!C12=\"\",\"\",'C - Data availability'!C12)","v":""},{"$f":"IF($G80=\"Yes\",1,0)*IF('Assessment Framework'!G80=\"Y\",1,0)","v":0},{"$f":"IF($G80=\"Yes\",1,0)*IF('Assessment Framework'!H80=\"Y\",1,0)","v":0},{"$f":"IF($G80=\"Yes\",1,0)*IF('Assessment Framework'!I80=\"Y\",1,0)","v":0},{"$f":"IF($G80=\"Yes\",1,0)*IF('Assessment Framework'!J80=\"Y\",1,0)","v":0},{"$f":"IF($G80=\"Yes\",1,0)*IF('Assessment Framework'!K80=\"Y\",1,0)","v":0},{"$f":"IF($G80=\"Yes\",1,0)*IF('Assessment Framework'!L80=\"Y\",1,0)","v":0},{"$f":"IF($G80=\"Yes\",1,0)*IF('Assessment Framework'!M80=\"Y\",1,0)","v":0},{"$f":"IF($G80=\"Yes\",1,0)*IF('Assessment Framework'!N80=\"Y\",1,0)","v":0},{"$f":"IF($G80=\"Yes\",1,0)*IF('Assessment Framework'!O80=\"Y\",1,0)","v":0},{"$f":"IF($G80=\"Yes\",1,0)*IF('Assessment Framework'!P80=\"Y\",1,0)","v":0},{"$f":"IF($G80=\"Yes\",1,0)*IF('Assessment Framework'!Q80=\"Y\",1,0)","v":0},{"$f":"IF($G80=\"Yes\",1,0)*IF('Assessment Framework'!R80=\"Y\",1,0)","v":0},{"$f":"IF($G80=\"Yes\",1,0)*IF('Assessment Framework'!S80=\"Y\",1,0)","v":0},{"$f":"IF($G80=\"Yes\",1,0)*IF('Assessment Framework'!T80=\"Y\",1,0)","v":0},{"$f":"IF($G80=\"Yes\",1,0)*IF('Assessment Framework'!U80=\"Y\",1,0)","v":0},{"$f":"IF($G80=\"Yes\",1,0)*IF('Assessment Framework'!V80=\"Y\",1,0)","v":0},{"$f":"IF($G80=\"Yes\",1,0)*IF('Assessment Framework'!W80=\"Y\",1,0)","v":0},{"$f":"IF($G80=\"Yes\",1,0)*IF('Assessment Framework'!X80=\"Y\",1,0)","v":0},{"$f":"IF($G80=\"Yes\",1,0)*IF('Assessment Framework'!Y80=\"Y\",1,0)","v":0},{"$f":"IF($G80=\"Yes\",1,0)*IF('Assessment Framework'!Z80=\"Y\",1,0)","v":0},{"$f":"IF($G80=\"Yes\",1,0)*IF('Assessment Framework'!AA80=\"Y\",1,0)","v":0},{"$f":"IF($G80=\"Yes\",1,0)*IF('Assessment Framework'!AB80=\"Y\",1,0)","v":0},{"$f":"IF($G80=\"Yes\",1,0)*IF('Assessment Framework'!AC80=\"Y\",1,0)","v":0},{"$f":"IF($G80=\"Yes\",1,0)*IF('Assessment Framework'!AD80=\"Y\",1,0)","v":0},{"$f":"IF($G80=\"Yes\",1,0)*IF('Assessment Framework'!AE80=\"Y\",1,0)","v":0},{"$f":"IF($G80=\"Yes\",1,0)*IF('Assessment Framework'!AF80=\"Y\",1,0)","v":0},{"$f":"IF($G80=\"Yes\",1,0)*IF('Assessment Framework'!AG80=\"Y\",1,0)","v":0},{"$f":"IF($G80=\"Yes\",1,0)*IF('Assessment Framework'!AH80=\"Y\",1,0)","v":0},{"$f":"IF($G80=\"Yes\",1,0)*IF('Assessment Framework'!AI80=\"Y\",1,0)","v":0},{"$f":"IF($G80=\"Yes\",1,0)*IF('Assessment Framework'!AJ80=\"Y\",1,0)","v":0},{"$f":"IF($G80=\"Yes\",1,0)*IF('Assessment Framework'!AK80=\"Y\",1,0)","v":0},{"$f":"IF($G80=\"Yes\",1,0)*IF('Assessment Framework'!AL80=\"Y\",1,0)","v":0},{"$f":"IF($G80=\"Yes\",1,0)*IF('Assessment Framework'!AM80=\"Y\",1,0)","v":0},{"$f":"IF($G80=\"Yes\",1,0)*IF('Assessment Framework'!AN80=\"Y\",1,0)","v":0},{"$f":"IF($G80=\"Yes\",1,0)*IF('Assessment Framework'!AO80=\"Y\",1,0)","v":0},{"$f":"IF($G80=\"Yes\",1,0)*IF('Assessment Framework'!AP80=\"Y\",1,0)","v":0},{"$f":"IF($G80=\"Yes\",1,0)*IF('Assessment Framework'!AQ80=\"Y\",1,0)","v":0},{"$f":"IF($G80=\"Yes\",1,0)*IF('Assessment Framework'!AR80=\"Y\",1,0)","v":0},{"$f":"IF($G80=\"Yes\",1,0)*IF('Assessment Framework'!AS80=\"Y\",1,0)","v":0},{"$f":"IF($G80=\"Yes\",1,0)*IF('Assessment Framework'!AT80=\"Y\",1,0)","v":0},{"$f":"IF($G80=\"Yes\",1,0)*IF('Assessment Framework'!AU80=\"Y\",1,0)","v":0},{"$f":"IF($G80=\"Yes\",1,0)*IF('Assessment Framework'!AV80=\"Y\",1,0)","v":0},{"$f":"IF($G80=\"Yes\",1,0)*IF('Assessment Framework'!AW80=\"Y\",1,0)","v":0},{"$f":"IF($G80=\"Yes\",1,0)*IF('Assessment Framework'!AX80=\"Y\",1,0)","v":0},{"$f":"IF($G80=\"Yes\",1,0)*IF('Assessment Framework'!AY80=\"Y\",1,0)","v":0},{"$f":"IF($G80=\"Yes\",1,0)*IF('Assessment Framework'!AZ80=\"Y\",1,0)","v":0},{"$f":"IF($G80=\"Yes\",1,0)*IF('Assessment Framework'!BA80=\"Y\",1,0)","v":0},{"$f":"IF($G80=\"Yes\",1,0)*IF('Assessment Framework'!BB80=\"Y\",1,0)","v":0},{"$f":"IF($G80=\"Yes\",1,0)*IF('Assessment Framework'!BC80=\"Y\",1,0)","v":0},{"$f":"IF($G80=\"Yes\",1,0)*IF('Assessment Framework'!BD80=\"Y\",1,0)","v":0},{"$f":"IF($G80=\"Yes\",1,0)*IF('Assessment Framework'!BE80=\"Y\",1,0)","v":0},{"$f":"IF($G80=\"Yes\",1,0)*IF('Assessment Framework'!BF80=\"Y\",1,0)","v":0},{"$f":"IF($G80=\"Yes\",1,0)*IF('Assessment Framework'!BG80=\"Y\",1,0)","v":0},{"$f":"IF($G80=\"Yes\",1,0)*IF('Assessment Framework'!BH80=\"Y\",1,0)","v":0},{"$f":"IF($G80=\"Yes\",1,0)*IF('Assessment Framework'!BI80=\"Y\",1,0)","v":0},{"$f":"IF($G80=\"Yes\",1,0)*IF('Assessment Framework'!BJ80=\"Y\",1,0)","v":0},{"$f":"IF($G80=\"Yes\",1,0)*IF('Assessment Framework'!BK80=\"Y\",1,0)","v":0},{"$f":"IF($G80=\"Yes\",1,0)*IF('Assessment Framework'!BL80=\"Y\",1,0)","v":0},{"$f":"IF($G80=\"Yes\",1,0)*IF('Assessment Framework'!BM80=\"Y\",1,0)","v":0},{"$f":"IF($G80=\"Yes\",1,0)*IF('Assessment Framework'!BN80=\"Y\",1,0)","v":0},{"$f":"IF($G80=\"Yes\",1,0)*IF('Assessment Framework'!BO80=\"Y\",1,0)","v":0},{"$f":"IF($G80=\"Yes\",1,0)*IF('Assessment Framework'!BP80=\"Y\",1,0)","v":0},{"$f":"IF($G80=\"Yes\",1,0)*IF('Assessment Framework'!BQ80=\"Y\",1,0)","v":0},{"$f":"IF($G80=\"Yes\",1,0)*IF('Assessment Framework'!BR80=\"Y\",1,0)","v":0},{"$f":"IF($G80=\"Yes\",1,0)*IF('Assessment Framework'!BS80=\"Y\",1,0)","v":0},{"$f":"IF($G80=\"Yes\",1,0)*IF('Assessment Framework'!BT80=\"Y\",1,0)","v":0},{"$f":"IF($G80=\"Yes\",1,0)*IF('Assessment Framework'!BU80=\"Y\",1,0)","v":0},{"$f":"IF($G80=\"Yes\",1,0)*IF('Assessment Framework'!BV80=\"Y\",1,0)","v":0},{"$f":"IF($G80=\"Yes\",1,0)*IF('Assessment Framework'!BW80=\"Y\",1,0)","v":0},{"$f":"IF($G80=\"Yes\",1,0)*IF('Assessment Framework'!BX80=\"Y\",1,0)","v":0},{"$f":"IF($G80=\"Yes\",1,0)*IF('Assessment Framework'!BY80=\"Y\",1,0)","v":0},{"$f":"IF($G80=\"Yes\",1,0)*IF('Assessment Framework'!BZ80=\"Y\",1,0)","v":0},{"$f":"IF($G80=\"Yes\",1,0)*IF('Assessment Framework'!CA80=\"Y\",1,0)","v":0},{"$f":"IF($G80=\"Yes\",1,0)*IF('Assessment Framework'!CB80=\"Y\",1,0)","v":0},{"$f":"IF($G80=\"Yes\",1,0)*IF('Assessment Framework'!CC80=\"Y\",1,0)","v":0},{"$f":"IF($G80=\"Yes\",1,0)*IF('Assessment Framework'!CD80=\"Y\",1,0)","v":0},{"$f":"IF($G80=\"Yes\",1,0)*IF('Assessment Framework'!CE80=\"Y\",1,0)","v":0},{"$f":"IF($G80=\"Yes\",1,0)*IF('Assessment Framework'!CF80=\"Y\",1,0)","v":0},{"$f":"IF($G80=\"Yes\",1,0)*IF('Assessment Framework'!CG80=\"Y\",1,0)","v":0},{"$f":"IF($G80=\"Yes\",1,0)*IF('Assessment Framework'!CH80=\"Y\",1,0)","v":0},{"$f":"IF($G80=\"Yes\",1,0)*IF('Assessment Framework'!CI80=\"Y\",1,0)","v":0},{"$f":"IF($G80=\"Yes\",1,0)*IF('Assessment Framework'!CJ80=\"Y\",1,0)","v":0},{"$f":"IF($G80=\"Yes\",1,0)*IF('Assessment Framework'!CK80=\"Y\",1,0)","v":0},{"$f":"IF($G80=\"Yes\",1,0)*IF('Assessment Framework'!CL80=\"Y\",1,0)","v":0},{"$f":"IF($G80=\"Yes\",1,0)*IF('Assessment Framework'!CM80=\"Y\",1,0)","v":0}]
[null,null,null,"Solid waste management data (e.g. collection, disposal)","Data on how solid waste is managed","Y,N",{"$f":"IF('C - Data availability'!C13=\"\",\"\",'C - Data availability'!C13)","v":""},{"$f":"IF($G81=\"Yes\",1,0)*IF('Assessment Framework'!G81=\"Y\",1,0)","v":0},{"$f":"IF($G81=\"Yes\",1,0)*IF('Assessment Framework'!H81=\"Y\",1,0)","v":0},{"$f":"IF($G81=\"Yes\",1,0)*IF('Assessment Framework'!I81=\"Y\",1,0)","v":0},{"$f":"IF($G81=\"Yes\",1,0)*IF('Assessment Framework'!J81=\"Y\",1,0)","v":0},{"$f":"IF($G81=\"Yes\",1,0)*IF('Assessment Framework'!K81=\"Y\",1,0)","v":0},{"$f":"IF($G81=\"Yes\",1,0)*IF('Assessment Framework'!L81=\"Y\",1,0)","v":0},{"$f":"IF($G81=\"Yes\",1,0)*IF('Assessment Framework'!M81=\"Y\",1,0)","v":0},{"$f":"IF($G81=\"Yes\",1,0)*IF('Assessment Framework'!N81=\"Y\",1,0)","v":0},{"$f":"IF($G81=\"Yes\",1,0)*IF('Assessment Framework'!O81=\"Y\",1,0)","v":0},{"$f":"IF($G81=\"Yes\",1,0)*IF('Assessment Framework'!P81=\"Y\",1,0)","v":0},{"$f":"IF($G81=\"Yes\",1,0)*IF('Assessment Framework'!Q81=\"Y\",1,0)","v":0},{"$f":"IF($G81=\"Yes\",1,0)*IF('Assessment Framework'!R81=\"Y\",1,0)","v":0},{"$f":"IF($G81=\"Yes\",1,0)*IF('Assessment Framework'!S81=\"Y\",1,0)","v":0},{"$f":"IF($G81=\"Yes\",1,0)*IF('Assessment Framework'!T81=\"Y\",1,0)","v":0},{"$f":"IF($G81=\"Yes\",1,0)*IF('Assessment Framework'!U81=\"Y\",1,0)","v":0},{"$f":"IF($G81=\"Yes\",1,0)*IF('Assessment Framework'!V81=\"Y\",1,0)","v":0},{"$f":"IF($G81=\"Yes\",1,0)*IF('Assessment Framework'!W81=\"Y\",1,0)","v":0},{"$f":"IF($G81=\"Yes\",1,0)*IF('Assessment Framework'!X81=\"Y\",1,0)","v":0},{"$f":"IF($G81=\"Yes\",1,0)*IF('Assessment Framework'!Y81=\"Y\",1,0)","v":0},{"$f":"IF($G81=\"Yes\",1,0)*IF('Assessment Framework'!Z81=\"Y\",1,0)","v":0},{"$f":"IF($G81=\"Yes\",1,0)*IF('Assessment Framework'!AA81=\"Y\",1,0)","v":0},{"$f":"IF($G81=\"Yes\",1,0)*IF('Assessment Framework'!AB81=\"Y\",1,0)","v":0},{"$f":"IF($G81=\"Yes\",1,0)*IF('Assessment Framework'!AC81=\"Y\",1,0)","v":0},{"$f":"IF($G81=\"Yes\",1,0)*IF('Assessment Framework'!AD81=\"Y\",1,0)","v":0},{"$f":"IF($G81=\"Yes\",1,0)*IF('Assessment Framework'!AE81=\"Y\",1,0)","v":0},{"$f":"IF($G81=\"Yes\",1,0)*IF('Assessment Framework'!AF81=\"Y\",1,0)","v":0},{"$f":"IF($G81=\"Yes\",1,0)*IF('Assessment Framework'!AG81=\"Y\",1,0)","v":0},{"$f":"IF($G81=\"Yes\",1,0)*IF('Assessment Framework'!AH81=\"Y\",1,0)","v":0},{"$f":"IF($G81=\"Yes\",1,0)*IF('Assessment Framework'!AI81=\"Y\",1,0)","v":0},{"$f":"IF($G81=\"Yes\",1,0)*IF('Assessment Framework'!AJ81=\"Y\",1,0)","v":0},{"$f":"IF($G81=\"Yes\",1,0)*IF('Assessment Framework'!AK81=\"Y\",1,0)","v":0},{"$f":"IF($G81=\"Yes\",1,0)*IF('Assessment Framework'!AL81=\"Y\",1,0)","v":0},{"$f":"IF($G81=\"Yes\",1,0)*IF('Assessment Framework'!AM81=\"Y\",1,0)","v":0},{"$f":"IF($G81=\"Yes\",1,0)*IF('Assessment Framework'!AN81=\"Y\",1,0)","v":0},{"$f":"IF($G81=\"Yes\",1,0)*IF('Assessment Framework'!AO81=\"Y\",1,0)","v":0},{"$f":"IF($G81=\"Yes\",1,0)*IF('Assessment Framework'!AP81=\"Y\",1,0)","v":0},{"$f":"IF($G81=\"Yes\",1,0)*IF('Assessment Framework'!AQ81=\"Y\",1,0)","v":0},{"$f":"IF($G81=\"Yes\",1,0)*IF('Assessment Framework'!AR81=\"Y\",1,0)","v":0},{"$f":"IF($G81=\"Yes\",1,0)*IF('Assessment Framework'!AS81=\"Y\",1,0)","v":0},{"$f":"IF($G81=\"Yes\",1,0)*IF('Assessment Framework'!AT81=\"Y\",1,0)","v":0},{"$f":"IF($G81=\"Yes\",1,0)*IF('Assessment Framework'!AU81=\"Y\",1,0)","v":0},{"$f":"IF($G81=\"Yes\",1,0)*IF('Assessment Framework'!AV81=\"Y\",1,0)","v":0},{"$f":"IF($G81=\"Yes\",1,0)*IF('Assessment Framework'!AW81=\"Y\",1,0)","v":0},{"$f":"IF($G81=\"Yes\",1,0)*IF('Assessment Framework'!AX81=\"Y\",1,0)","v":0},{"$f":"IF($G81=\"Yes\",1,0)*IF('Assessment Framework'!AY81=\"Y\",1,0)","v":0},{"$f":"IF($G81=\"Yes\",1,0)*IF('Assessment Framework'!AZ81=\"Y\",1,0)","v":0},{"$f":"IF($G81=\"Yes\",1,0)*IF('Assessment Framework'!BA81=\"Y\",1,0)","v":0},{"$f":"IF($G81=\"Yes\",1,0)*IF('Assessment Framework'!BB81=\"Y\",1,0)","v":0},{"$f":"IF($G81=\"Yes\",1,0)*IF('Assessment Framework'!BC81=\"Y\",1,0)","v":0},{"$f":"IF($G81=\"Yes\",1,0)*IF('Assessment Framework'!BD81=\"Y\",1,0)","v":0},{"$f":"IF($G81=\"Yes\",1,0)*IF('Assessment Framework'!BE81=\"Y\",1,0)","v":0},{"$f":"IF($G81=\"Yes\",1,0)*IF('Assessment Framework'!BF81=\"Y\",1,0)","v":0},{"$f":"IF($G81=\"Yes\",1,0)*IF('Assessment Framework'!BG81=\"Y\",1,0)","v":0},{"$f":"IF($G81=\"Yes\",1,0)*IF('Assessment Framework'!BH81=\"Y\",1,0)","v":0},{"$f":"IF($G81=\"Yes\",1,0)*IF('Assessment Framework'!BI81=\"Y\",1,0)","v":0},{"$f":"IF($G81=\"Yes\",1,0)*IF('Assessment Framework'!BJ81=\"Y\",1,0)","v":0},{"$f":"IF($G81=\"Yes\",1,0)*IF('Assessment Framework'!BK81=\"Y\",1,0)","v":0},{"$f":"IF($G81=\"Yes\",1,0)*IF('Assessment Framework'!BL81=\"Y\",1,0)","v":0},{"$f":"IF($G81=\"Yes\",1,0)*IF('Assessment Framework'!BM81=\"Y\",1,0)","v":0},{"$f":"IF($G81=\"Yes\",1,0)*IF('Assessment Framework'!BN81=\"Y\",1,0)","v":0},{"$f":"IF($G81=\"Yes\",1,0)*IF('Assessment Framework'!BO81=\"Y\",1,0)","v":0},{"$f":"IF($G81=\"Yes\",1,0)*IF('Assessment Framework'!BP81=\"Y\",1,0)","v":0},{"$f":"IF($G81=\"Yes\",1,0)*IF('Assessment Framework'!BQ81=\"Y\",1,0)","v":0},{"$f":"IF($G81=\"Yes\",1,0)*IF('Assessment Framework'!BR81=\"Y\",1,0)","v":0},{"$f":"IF($G81=\"Yes\",1,0)*IF('Assessment Framework'!BS81=\"Y\",1,0)","v":0},{"$f":"IF($G81=\"Yes\",1,0)*IF('Assessment Framework'!BT81=\"Y\",1,0)","v":0},{"$f":"IF($G81=\"Yes\",1,0)*IF('Assessment Framework'!BU81=\"Y\",1,0)","v":0},{"$f":"IF($G81=\"Yes\",1,0)*IF('Assessment Framework'!BV81=\"Y\",1,0)","v":0},{"$f":"IF($G81=\"Yes\",1,0)*IF('Assessment Framework'!BW81=\"Y\",1,0)","v":0},{"$f":"IF($G81=\"Yes\",1,0)*IF('Assessment Framework'!BX81=\"Y\",1,0)","v":0},{"$f":"IF($G81=\"Yes\",1,0)*IF('Assessment Framework'!BY81=\"Y\",1,0)","v":0},{"$f":"IF($G81=\"Yes\",1,0)*IF('Assessment Framework'!BZ81=\"Y\",1,0)","v":0},{"$f":"IF($G81=\"Yes\",1,0)*IF('Assessment Framework'!CA81=\"Y\",1,0)","v":0},{"$f":"IF($G81=\"Yes\",1,0)*IF('Assessment Framework'!CB81=\"Y\",1,0)","v":0},{"$f":"IF($G81=\"Yes\",1,0)*IF('Assessment Framework'!CC81=\"Y\",1,0)","v":0},{"$f":"IF($G81=\"Yes\",1,0)*IF('Assessment Framework'!CD81=\"Y\",1,0)","v":0},{"$f":"IF($G81=\"Yes\",1,0)*IF('Assessment Framework'!CE81=\"Y\",1,0)","v":0},{"$f":"IF($G81=\"Yes\",1,0)*IF('Assessment Framework'!CF81=\"Y\",1,0)","v":0},{"$f":"IF($G81=\"Yes\",1,0)*IF('Assessment Framework'!CG81=\"Y\",1,0)","v":0},{"$f":"IF($G81=\"Yes\",1,0)*IF('Assessment Framework'!CH81=\"Y\",1,0)","v":0},{"$f":"IF($G81=\"Yes\",1,0)*IF('Assessment Framework'!CI81=\"Y\",1,0)","v":0},{"$f":"IF($G81=\"Yes\",1,0)*IF('Assessment Framework'!CJ81=\"Y\",1,0)","v":0},{"$f":"IF($G81=\"Yes\",1,0)*IF('Assessment Framework'!CK81=\"Y\",1,0)","v":0},{"$f":"IF($G81=\"Yes\",1,0)*IF('Assessment Framework'!CL81=\"Y\",1,0)","v":0},{"$f":"IF($G81=\"Yes\",1,0)*IF('Assessment Framework'!CM81=\"Y\",1,0)","v":0}]
[null,null,null,"Survey / clean up data","Data from clean up campaigns and environmental surveys","Y,N",{"$f":"IF('C - Data availability'!C14=\"\",\"\",'C - Data availability'!C14)","v":""},{"$f":"IF($G82=\"Yes\",1,0)*IF('Assessment Framework'!G82=\"Y\",1,0)","v":0},{"$f":"IF($G82=\"Yes\",1,0)*IF('Assessment Framework'!H82=\"Y\",1,0)","v":0},{"$f":"IF($G82=\"Yes\",1,0)*IF('Assessment Framework'!I82=\"Y\",1,0)","v":0},{"$f":"IF($G82=\"Yes\",1,0)*IF('Assessment Framework'!J82=\"Y\",1,0)","v":0},{"$f":"IF($G82=\"Yes\",1,0)*IF('Assessment Framework'!K82=\"Y\",1,0)","v":0},{"$f":"IF($G82=\"Yes\",1,0)*IF('Assessment Framework'!L82=\"Y\",1,0)","v":0},{"$f":"IF($G82=\"Yes\",1,0)*IF('Assessment Framework'!M82=\"Y\",1,0)","v":0},{"$f":"IF($G82=\"Yes\",1,0)*IF('Assessment Framework'!N82=\"Y\",1,0)","v":0},{"$f":"IF($G82=\"Yes\",1,0)*IF('Assessment Framework'!O82=\"Y\",1,0)","v":0},{"$f":"IF($G82=\"Yes\",1,0)*IF('Assessment Framework'!P82=\"Y\",1,0)","v":0},{"$f":"IF($G82=\"Yes\",1,0)*IF('Assessment Framework'!Q82=\"Y\",1,0)","v":0},{"$f":"IF($G82=\"Yes\",1,0)*IF('Assessment Framework'!R82=\"Y\",1,0)","v":0},{"$f":"IF($G82=\"Yes\",1,0)*IF('Assessment Framework'!S82=\"Y\",1,0)","v":0},{"$f":"IF($G82=\"Yes\",1,0)*IF('Assessment Framework'!T82=\"Y\",1,0)","v":0},{"$f":"IF($G82=\"Yes\",1,0)*IF('Assessment Framework'!U82=\"Y\",1,0)","v":0},{"$f":"IF($G82=\"Yes\",1,0)*IF('Assessment Framework'!V82=\"Y\",1,0)","v":0},{"$f":"IF($G82=\"Yes\",1,0)*IF('Assessment Framework'!W82=\"Y\",1,0)","v":0},{"$f":"IF($G82=\"Yes\",1,0)*IF('Assessment Framework'!X82=\"Y\",1,0)","v":0},{"$f":"IF($G82=\"Yes\",1,0)*IF('Assessment Framework'!Y82=\"Y\",1,0)","v":0},{"$f":"IF($G82=\"Yes\",1,0)*IF('Assessment Framework'!Z82=\"Y\",1,0)","v":0},{"$f":"IF($G82=\"Yes\",1,0)*IF('Assessment Framework'!AA82=\"Y\",1,0)","v":0},{"$f":"IF($G82=\"Yes\",1,0)*IF('Assessment Framework'!AB82=\"Y\",1,0)","v":0},{"$f":"IF($G82=\"Yes\",1,0)*IF('Assessment Framework'!AC82=\"Y\",1,0)","v":0},{"$f":"IF($G82=\"Yes\",1,0)*IF('Assessment Framework'!AD82=\"Y\",1,0)","v":0},{"$f":"IF($G82=\"Yes\",1,0)*IF('Assessment Framework'!AE82=\"Y\",1,0)","v":0},{"$f":"IF($G82=\"Yes\",1,0)*IF('Assessment Framework'!AF82=\"Y\",1,0)","v":0},{"$f":"IF($G82=\"Yes\",1,0)*IF('Assessment Framework'!AG82=\"Y\",1,0)","v":0},{"$f":"IF($G82=\"Yes\",1,0)*IF('Assessment Framework'!AH82=\"Y\",1,0)","v":0},{"$f":"IF($G82=\"Yes\",1,0)*IF('Assessment Framework'!AI82=\"Y\",1,0)","v":0},{"$f":"IF($G82=\"Yes\",1,0)*IF('Assessment Framework'!AJ82=\"Y\",1,0)","v":0},{"$f":"IF($G82=\"Yes\",1,0)*IF('Assessment Framework'!AK82=\"Y\",1,0)","v":0},{"$f":"IF($G82=\"Yes\",1,0)*IF('Assessment Framework'!AL82=\"Y\",1,0)","v":0},{"$f":"IF($G82=\"Yes\",1,0)*IF('Assessment Framework'!AM82=\"Y\",1,0)","v":0},{"$f":"IF($G82=\"Yes\",1,0)*IF('Assessment Framework'!AN82=\"Y\",1,0)","v":0},{"$f":"IF($G82=\"Yes\",1,0)*IF('Assessment Framework'!AO82=\"Y\",1,0)","v":0},{"$f":"IF($G82=\"Yes\",1,0)*IF('Assessment Framework'!AP82=\"Y\",1,0)","v":0},{"$f":"IF($G82=\"Yes\",1,0)*IF('Assessment Framework'!AQ82=\"Y\",1,0)","v":0},{"$f":"IF($G82=\"Yes\",1,0)*IF('Assessment Framework'!AR82=\"Y\",1,0)","v":0},{"$f":"IF($G82=\"Yes\",1,0)*IF('Assessment Framework'!AS82=\"Y\",1,0)","v":0},{"$f":"IF($G82=\"Yes\",1,0)*IF('Assessment Framework'!AT82=\"Y\",1,0)","v":0},{"$f":"IF($G82=\"Yes\",1,0)*IF('Assessment Framework'!AU82=\"Y\",1,0)","v":0},{"$f":"IF($G82=\"Yes\",1,0)*IF('Assessment Framework'!AV82=\"Y\",1,0)","v":0},{"$f":"IF($G82=\"Yes\",1,0)*IF('Assessment Framework'!AW82=\"Y\",1,0)","v":0},{"$f":"IF($G82=\"Yes\",1,0)*IF('Assessment Framework'!AX82=\"Y\",1,0)","v":0},{"$f":"IF($G82=\"Yes\",1,0)*IF('Assessment Framework'!AY82=\"Y\",1,0)","v":0},{"$f":"IF($G82=\"Yes\",1,0)*IF('Assessment Framework'!AZ82=\"Y\",1,0)","v":0},{"$f":"IF($G82=\"Yes\",1,0)*IF('Assessment Framework'!BA82=\"Y\",1,0)","v":0},{"$f":"IF($G82=\"Yes\",1,0)*IF('Assessment Framework'!BB82=\"Y\",1,0)","v":0},{"$f":"IF($G82=\"Yes\",1,0)*IF('Assessment Framework'!BC82=\"Y\",1,0)","v":0},{"$f":"IF($G82=\"Yes\",1,0)*IF('Assessment Framework'!BD82=\"Y\",1,0)","v":0},{"$f":"IF($G82=\"Yes\",1,0)*IF('Assessment Framework'!BE82=\"Y\",1,0)","v":0},{"$f":"IF($G82=\"Yes\",1,0)*IF('Assessment Framework'!BF82=\"Y\",1,0)","v":0},{"$f":"IF($G82=\"Yes\",1,0)*IF('Assessment Framework'!BG82=\"Y\",1,0)","v":0},{"$f":"IF($G82=\"Yes\",1,0)*IF('Assessment Framework'!BH82=\"Y\",1,0)","v":0},{"$f":"IF($G82=\"Yes\",1,0)*IF('Assessment Framework'!BI82=\"Y\",1,0)","v":0},{"$f":"IF($G82=\"Yes\",1,0)*IF('Assessment Framework'!BJ82=\"Y\",1,0)","v":0},{"$f":"IF($G82=\"Yes\",1,0)*IF('Assessment Framework'!BK82=\"Y\",1,0)","v":0},{"$f":"IF($G82=\"Yes\",1,0)*IF('Assessment Framework'!BL82=\"Y\",1,0)","v":0},{"$f":"IF($G82=\"Yes\",1,0)*IF('Assessment Framework'!BM82=\"Y\",1,0)","v":0},{"$f":"IF($G82=\"Yes\",1,0)*IF('Assessment Framework'!BN82=\"Y\",1,0)","v":0},{"$f":"IF($G82=\"Yes\",1,0)*IF('Assessment Framework'!BO82=\"Y\",1,0)","v":0},{"$f":"IF($G82=\"Yes\",1,0)*IF('Assessment Framework'!BP82=\"Y\",1,0)","v":0},{"$f":"IF($G82=\"Yes\",1,0)*IF('Assessment Framework'!BQ82=\"Y\",1,0)","v":0},{"$f":"IF($G82=\"Yes\",1,0)*IF('Assessment Framework'!BR82=\"Y\",1,0)","v":0},{"$f":"IF($G82=\"Yes\",1,0)*IF('Assessment Framework'!BS82=\"Y\",1,0)","v":0},{"$f":"IF($G82=\"Yes\",1,0)*IF('Assessment Framework'!BT82=\"Y\",1,0)","v":0},{"$f":"IF($G82=\"Yes\",1,0)*IF('Assessment Framework'!BU82=\"Y\",1,0)","v":0},{"$f":"IF($G82=\"Yes\",1,0)*IF('Assessment Framework'!BV82=\"Y\",1,0)","v":0},{"$f":"IF($G82=\"Yes\",1,0)*IF('Assessment Framework'!BW82=\"Y\",1,0)","v":0},{"$f":"IF($G82=\"Yes\",1,0)*IF('Assessment Framework'!BX82=\"Y\",1,0)","v":0},{"$f":"IF($G82=\"Yes\",1,0)*IF('Assessment Framework'!BY82=\"Y\",1,0)","v":0},{"$f":"IF($G82=\"Yes\",1,0)*IF('Assessment Framework'!BZ82=\"Y\",1,0)","v":0},{"$f":"IF($G82=\"Yes\",1,0)*IF('Assessment Framework'!CA82=\"Y\",1,0)","v":0},{"$f":"IF($G82=\"Yes\",1,0)*IF('Assessment Framework'!CB82=\"Y\",1,0)","v":0},{"$f":"IF($G82=\"Yes\",1,0)*IF('Assessment Framework'!CC82=\"Y\",1,0)","v":0},{"$f":"IF($G82=\"Yes\",1,0)*IF('Assessment Framework'!CD82=\"Y\",1,0)","v":0},{"$f":"IF($G82=\"Yes\",1,0)*IF('Assessment Framework'!CE82=\"Y\",1,0)","v":0},{"$f":"IF($G82=\"Yes\",1,0)*IF('Assessment Framework'!CF82=\"Y\",1,0)","v":0},{"$f":"IF($G82=\"Yes\",1,0)*IF('Assessment Framework'!CG82=\"Y\",1,0)","v":0},{"$f":"IF($G82=\"Yes\",1,0)*IF('Assessment Framework'!CH82=\"Y\",1,0)","v":0},{"$f":"IF($G82=\"Yes\",1,0)*IF('Assessment Framework'!CI82=\"Y\",1,0)","v":0},{"$f":"IF($G82=\"Yes\",1,0)*IF('Assessment Framework'!CJ82=\"Y\",1,0)","v":0},{"$f":"IF($G82=\"Yes\",1,0)*IF('Assessment Framework'!CK82=\"Y\",1,0)","v":0},{"$f":"IF($G82=\"Yes\",1,0)*IF('Assessment Framework'!CL82=\"Y\",1,0)","v":0},{"$f":"IF($G82=\"Yes\",1,0)*IF('Assessment Framework'!CM82=\"Y\",1,0)","v":0}]
[null,null,null,"Hydrological data","Data on hydrological aspects such as precipitation","Y,N",{"$f":"IF('C - Data availability'!C15=\"\",\"\",'C - Data availability'!C15)","v":""},{"$f":"IF($G83=\"Yes\",1,0)*IF('Assessment Framework'!G83=\"Y\",1,0)","v":0},{"$f":"IF($G83=\"Yes\",1,0)*IF('Assessment Framework'!H83=\"Y\",1,0)","v":0},{"$f":"IF($G83=\"Yes\",1,0)*IF('Assessment Framework'!I83=\"Y\",1,0)","v":0},{"$f":"IF($G83=\"Yes\",1,0)*IF('Assessment Framework'!J83=\"Y\",1,0)","v":0},{"$f":"IF($G83=\"Yes\",1,0)*IF('Assessment Framework'!K83=\"Y\",1,0)","v":0},{"$f":"IF($G83=\"Yes\",1,0)*IF('Assessment Framework'!L83=\"Y\",1,0)","v":0},{"$f":"IF($G83=\"Yes\",1,0)*IF('Assessment Framework'!M83=\"Y\",1,0)","v":0},{"$f":"IF($G83=\"Yes\",1,0)*IF('Assessment Framework'!N83=\"Y\",1,0)","v":0},{"$f":"IF($G83=\"Yes\",1,0)*IF('Assessment Framework'!O83=\"Y\",1,0)","v":0},{"$f":"IF($G83=\"Yes\",1,0)*IF('Assessment Framework'!P83=\"Y\",1,0)","v":0},{"$f":"IF($G83=\"Yes\",1,0)*IF('Assessment Framework'!Q83=\"Y\",1,0)","v":0},{"$f":"IF($G83=\"Yes\",1,0)*IF('Assessment Framework'!R83=\"Y\",1,0)","v":0},{"$f":"IF($G83=\"Yes\",1,0)*IF('Assessment Framework'!S83=\"Y\",1,0)","v":0},{"$f":"IF($G83=\"Yes\",1,0)*IF('Assessment Framework'!T83=\"Y\",1,0)","v":0},{"$f":"IF($G83=\"Yes\",1,0)*IF('Assessment Framework'!U83=\"Y\",1,0)","v":0},{"$f":"IF($G83=\"Yes\",1,0)*IF('Assessment Framework'!V83=\"Y\",1,0)","v":0},{"$f":"IF($G83=\"Yes\",1,0)*IF('Assessment Framework'!W83=\"Y\",1,0)","v":0},{"$f":"IF($G83=\"Yes\",1,0)*IF('Assessment Framework'!X83=\"Y\",1,0)","v":0},{"$f":"IF($G83=\"Yes\",1,0)*IF('Assessment Framework'!Y83=\"Y\",1,0)","v":0},{"$f":"IF($G83=\"Yes\",1,0)*IF('Assessment Framework'!Z83=\"Y\",1,0)","v":0},{"$f":"IF($G83=\"Yes\",1,0)*IF('Assessment Framework'!AA83=\"Y\",1,0)","v":0},{"$f":"IF($G83=\"Yes\",1,0)*IF('Assessment Framework'!AB83=\"Y\",1,0)","v":0},{"$f":"IF($G83=\"Yes\",1,0)*IF('Assessment Framework'!AC83=\"Y\",1,0)","v":0},{"$f":"IF($G83=\"Yes\",1,0)*IF('Assessment Framework'!AD83=\"Y\",1,0)","v":0},{"$f":"IF($G83=\"Yes\",1,0)*IF('Assessment Framework'!AE83=\"Y\",1,0)","v":0},{"$f":"IF($G83=\"Yes\",1,0)*IF('Assessment Framework'!AF83=\"Y\",1,0)","v":0},{"$f":"IF($G83=\"Yes\",1,0)*IF('Assessment Framework'!AG83=\"Y\",1,0)","v":0},{"$f":"IF($G83=\"Yes\",1,0)*IF('Assessment Framework'!AH83=\"Y\",1,0)","v":0},{"$f":"IF($G83=\"Yes\",1,0)*IF('Assessment Framework'!AI83=\"Y\",1,0)","v":0},{"$f":"IF($G83=\"Yes\",1,0)*IF('Assessment Framework'!AJ83=\"Y\",1,0)","v":0},{"$f":"IF($G83=\"Yes\",1,0)*IF('Assessment Framework'!AK83=\"Y\",1,0)","v":0},{"$f":"IF($G83=\"Yes\",1,0)*IF('Assessment Framework'!AL83=\"Y\",1,0)","v":0},{"$f":"IF($G83=\"Yes\",1,0)*IF('Assessment Framework'!AM83=\"Y\",1,0)","v":0},{"$f":"IF($G83=\"Yes\",1,0)*IF('Assessment Framework'!AN83=\"Y\",1,0)","v":0},{"$f":"IF($G83=\"Yes\",1,0)*IF('Assessment Framework'!AO83=\"Y\",1,0)","v":0},{"$f":"IF($G83=\"Yes\",1,0)*IF('Assessment Framework'!AP83=\"Y\",1,0)","v":0},{"$f":"IF($G83=\"Yes\",1,0)*IF('Assessment Framework'!AQ83=\"Y\",1,0)","v":0},{"$f":"IF($G83=\"Yes\",1,0)*IF('Assessment Framework'!AR83=\"Y\",1,0)","v":0},{"$f":"IF($G83=\"Yes\",1,0)*IF('Assessment Framework'!AS83=\"Y\",1,0)","v":0},{"$f":"IF($G83=\"Yes\",1,0)*IF('Assessment Framework'!AT83=\"Y\",1,0)","v":0},{"$f":"IF($G83=\"Yes\",1,0)*IF('Assessment Framework'!AU83=\"Y\",1,0)","v":0},{"$f":"IF($G83=\"Yes\",1,0)*IF('Assessment Framework'!AV83=\"Y\",1,0)","v":0},{"$f":"IF($G83=\"Yes\",1,0)*IF('Assessment Framework'!AW83=\"Y\",1,0)","v":0},{"$f":"IF($G83=\"Yes\",1,0)*IF('Assessment Framework'!AX83=\"Y\",1,0)","v":0},{"$f":"IF($G83=\"Yes\",1,0)*IF('Assessment Framework'!AY83=\"Y\",1,0)","v":0},{"$f":"IF($G83=\"Yes\",1,0)*IF('Assessment Framework'!AZ83=\"Y\",1,0)","v":0},{"$f":"IF($G83=\"Yes\",1,0)*IF('Assessment Framework'!BA83=\"Y\",1,0)","v":0},{"$f":"IF($G83=\"Yes\",1,0)*IF('Assessment Framework'!BB83=\"Y\",1,0)","v":0},{"$f":"IF($G83=\"Yes\",1,0)*IF('Assessment Framework'!BC83=\"Y\",1,0)","v":0},{"$f":"IF($G83=\"Yes\",1,0)*IF('Assessment Framework'!BD83=\"Y\",1,0)","v":0},{"$f":"IF($G83=\"Yes\",1,0)*IF('Assessment Framework'!BE83=\"Y\",1,0)","v":0},{"$f":"IF($G83=\"Yes\",1,0)*IF('Assessment Framework'!BF83=\"Y\",1,0)","v":0},{"$f":"IF($G83=\"Yes\",1,0)*IF('Assessment Framework'!BG83=\"Y\",1,0)","v":0},{"$f":"IF($G83=\"Yes\",1,0)*IF('Assessment Framework'!BH83=\"Y\",1,0)","v":0},{"$f":"IF($G83=\"Yes\",1,0)*IF('Assessment Framework'!BI83=\"Y\",1,0)","v":0},{"$f":"IF($G83=\"Yes\",1,0)*IF('Assessment Framework'!BJ83=\"Y\",1,0)","v":0},{"$f":"IF($G83=\"Yes\",1,0)*IF('Assessment Framework'!BK83=\"Y\",1,0)","v":0},{"$f":"IF($G83=\"Yes\",1,0)*IF('Assessment Framework'!BL83=\"Y\",1,0)","v":0},{"$f":"IF($G83=\"Yes\",1,0)*IF('Assessment Framework'!BM83=\"Y\",1,0)","v":0},{"$f":"IF($G83=\"Yes\",1,0)*IF('Assessment Framework'!BN83=\"Y\",1,0)","v":0},{"$f":"IF($G83=\"Yes\",1,0)*IF('Assessment Framework'!BO83=\"Y\",1,0)","v":0},{"$f":"IF($G83=\"Yes\",1,0)*IF('Assessment Framework'!BP83=\"Y\",1,0)","v":0},{"$f":"IF($G83=\"Yes\",1,0)*IF('Assessment Framework'!BQ83=\"Y\",1,0)","v":0},{"$f":"IF($G83=\"Yes\",1,0)*IF('Assessment Framework'!BR83=\"Y\",1,0)","v":0},{"$f":"IF($G83=\"Yes\",1,0)*IF('Assessment Framework'!BS83=\"Y\",1,0)","v":0},{"$f":"IF($G83=\"Yes\",1,0)*IF('Assessment Framework'!BT83=\"Y\",1,0)","v":0},{"$f":"IF($G83=\"Yes\",1,0)*IF('Assessment Framework'!BU83=\"Y\",1,0)","v":0},{"$f":"IF($G83=\"Yes\",1,0)*IF('Assessment Framework'!BV83=\"Y\",1,0)","v":0},{"$f":"IF($G83=\"Yes\",1,0)*IF('Assessment Framework'!BW83=\"Y\",1,0)","v":0},{"$f":"IF($G83=\"Yes\",1,0)*IF('Assessment Framework'!BX83=\"Y\",1,0)","v":0},{"$f":"IF($G83=\"Yes\",1,0)*IF('Assessment Framework'!BY83=\"Y\",1,0)","v":0},{"$f":"IF($G83=\"Yes\",1,0)*IF('Assessment Framework'!BZ83=\"Y\",1,0)","v":0},{"$f":"IF($G83=\"Yes\",1,0)*IF('Assessment Framework'!CA83=\"Y\",1,0)","v":0},{"$f":"IF($G83=\"Yes\",1,0)*IF('Assessment Framework'!CB83=\"Y\",1,0)","v":0},{"$f":"IF($G83=\"Yes\",1,0)*IF('Assessment Framework'!CC83=\"Y\",1,0)","v":0},{"$f":"IF($G83=\"Yes\",1,0)*IF('Assessment Framework'!CD83=\"Y\",1,0)","v":0},{"$f":"IF($G83=\"Yes\",1,0)*IF('Assessment Framework'!CE83=\"Y\",1,0)","v":0},{"$f":"IF($G83=\"Yes\",1,0)*IF('Assessment Framework'!CF83=\"Y\",1,0)","v":0},{"$f":"IF($G83=\"Yes\",1,0)*IF('Assessment Framework'!CG83=\"Y\",1,0)","v":0},{"$f":"IF($G83=\"Yes\",1,0)*IF('Assessment Framework'!CH83=\"Y\",1,0)","v":0},{"$f":"IF($G83=\"Yes\",1,0)*IF('Assessment Framework'!CI83=\"Y\",1,0)","v":0},{"$f":"IF($G83=\"Yes\",1,0)*IF('Assessment Framework'!CJ83=\"Y\",1,0)","v":0},{"$f":"IF($G83=\"Yes\",1,0)*IF('Assessment Framework'!CK83=\"Y\",1,0)","v":0},{"$f":"IF($G83=\"Yes\",1,0)*IF('Assessment Framework'!CL83=\"Y\",1,0)","v":0},{"$f":"IF($G83=\"Yes\",1,0)*IF('Assessment Framework'!CM83=\"Y\",1,0)","v":0}]
[null,null,null,"Remote sensing data","Data via satellite, aircraft, drones or cameras","Y,N",{"$f":"IF('C - Data availability'!C16=\"\",\"\",'C - Data availability'!C16)","v":""},{"$f":"IF($G84=\"Yes\",1,0)*IF('Assessment Framework'!G84=\"Y\",1,0)","v":0},{"$f":"IF($G84=\"Yes\",1,0)*IF('Assessment Framework'!H84=\"Y\",1,0)","v":0},{"$f":"IF($G84=\"Yes\",1,0)*IF('Assessment Framework'!I84=\"Y\",1,0)","v":0},{"$f":"IF($G84=\"Yes\",1,0)*IF('Assessment Framework'!J84=\"Y\",1,0)","v":0},{"$f":"IF($G84=\"Yes\",1,0)*IF('Assessment Framework'!K84=\"Y\",1,0)","v":0},{"$f":"IF($G84=\"Yes\",1,0)*IF('Assessment Framework'!L84=\"Y\",1,0)","v":0},{"$f":"IF($G84=\"Yes\",1,0)*IF('Assessment Framework'!M84=\"Y\",1,0)","v":0},{"$f":"IF($G84=\"Yes\",1,0)*IF('Assessment Framework'!N84=\"Y\",1,0)","v":0},{"$f":"IF($G84=\"Yes\",1,0)*IF('Assessment Framework'!O84=\"Y\",1,0)","v":0},{"$f":"IF($G84=\"Yes\",1,0)*IF('Assessment Framework'!P84=\"Y\",1,0)","v":0},{"$f":"IF($G84=\"Yes\",1,0)*IF('Assessment Framework'!Q84=\"Y\",1,0)","v":0},{"$f":"IF($G84=\"Yes\",1,0)*IF('Assessment Framework'!R84=\"Y\",1,0)","v":0},{"$f":"IF($G84=\"Yes\",1,0)*IF('Assessment Framework'!S84=\"Y\",1,0)","v":0},{"$f":"IF($G84=\"Yes\",1,0)*IF('Assessment Framework'!T84=\"Y\",1,0)","v":0},{"$f":"IF($G84=\"Yes\",1,0)*IF('Assessment Framework'!U84=\"Y\",1,0)","v":0},{"$f":"IF($G84=\"Yes\",1,0)*IF('Assessment Framework'!V84=\"Y\",1,0)","v":0},{"$f":"IF($G84=\"Yes\",1,0)*IF('Assessment Framework'!W84=\"Y\",1,0)","v":0},{"$f":"IF($G84=\"Yes\",1,0)*IF('Assessment Framework'!X84=\"Y\",1,0)","v":0},{"$f":"IF($G84=\"Yes\",1,0)*IF('Assessment Framework'!Y84=\"Y\",1,0)","v":0},{"$f":"IF($G84=\"Yes\",1,0)*IF('Assessment Framework'!Z84=\"Y\",1,0)","v":0},{"$f":"IF($G84=\"Yes\",1,0)*IF('Assessment Framework'!AA84=\"Y\",1,0)","v":0},{"$f":"IF($G84=\"Yes\",1,0)*IF('Assessment Framework'!AB84=\"Y\",1,0)","v":0},{"$f":"IF($G84=\"Yes\",1,0)*IF('Assessment Framework'!AC84=\"Y\",1,0)","v":0},{"$f":"IF($G84=\"Yes\",1,0)*IF('Assessment Framework'!AD84=\"Y\",1,0)","v":0},{"$f":"IF($G84=\"Yes\",1,0)*IF('Assessment Framework'!AE84=\"Y\",1,0)","v":0},{"$f":"IF($G84=\"Yes\",1,0)*IF('Assessment Framework'!AF84=\"Y\",1,0)","v":0},{"$f":"IF($G84=\"Yes\",1,0)*IF('Assessment Framework'!AG84=\"Y\",1,0)","v":0},{"$f":"IF($G84=\"Yes\",1,0)*IF('Assessment Framework'!AH84=\"Y\",1,0)","v":0},{"$f":"IF($G84=\"Yes\",1,0)*IF('Assessment Framework'!AI84=\"Y\",1,0)","v":0},{"$f":"IF($G84=\"Yes\",1,0)*IF('Assessment Framework'!AJ84=\"Y\",1,0)","v":0},{"$f":"IF($G84=\"Yes\",1,0)*IF('Assessment Framework'!AK84=\"Y\",1,0)","v":0},{"$f":"IF($G84=\"Yes\",1,0)*IF('Assessment Framework'!AL84=\"Y\",1,0)","v":0},{"$f":"IF($G84=\"Yes\",1,0)*IF('Assessment Framework'!AM84=\"Y\",1,0)","v":0},{"$f":"IF($G84=\"Yes\",1,0)*IF('Assessment Framework'!AN84=\"Y\",1,0)","v":0},{"$f":"IF($G84=\"Yes\",1,0)*IF('Assessment Framework'!AO84=\"Y\",1,0)","v":0},{"$f":"IF($G84=\"Yes\",1,0)*IF('Assessment Framework'!AP84=\"Y\",1,0)","v":0},{"$f":"IF($G84=\"Yes\",1,0)*IF('Assessment Framework'!AQ84=\"Y\",1,0)","v":0},{"$f":"IF($G84=\"Yes\",1,0)*IF('Assessment Framework'!AR84=\"Y\",1,0)","v":0},{"$f":"IF($G84=\"Yes\",1,0)*IF('Assessment Framework'!AS84=\"Y\",1,0)","v":0},{"$f":"IF($G84=\"Yes\",1,0)*IF('Assessment Framework'!AT84=\"Y\",1,0)","v":0},{"$f":"IF($G84=\"Yes\",1,0)*IF('Assessment Framework'!AU84=\"Y\",1,0)","v":0},{"$f":"IF($G84=\"Yes\",1,0)*IF('Assessment Framework'!AV84=\"Y\",1,0)","v":0},{"$f":"IF($G84=\"Yes\",1,0)*IF('Assessment Framework'!AW84=\"Y\",1,0)","v":0},{"$f":"IF($G84=\"Yes\",1,0)*IF('Assessment Framework'!AX84=\"Y\",1,0)","v":0},{"$f":"IF($G84=\"Yes\",1,0)*IF('Assessment Framework'!AY84=\"Y\",1,0)","v":0},{"$f":"IF($G84=\"Yes\",1,0)*IF('Assessment Framework'!AZ84=\"Y\",1,0)","v":0},{"$f":"IF($G84=\"Yes\",1,0)*IF('Assessment Framework'!BA84=\"Y\",1,0)","v":0},{"$f":"IF($G84=\"Yes\",1,0)*IF('Assessment Framework'!BB84=\"Y\",1,0)","v":0},{"$f":"IF($G84=\"Yes\",1,0)*IF('Assessment Framework'!BC84=\"Y\",1,0)","v":0},{"$f":"IF($G84=\"Yes\",1,0)*IF('Assessment Framework'!BD84=\"Y\",1,0)","v":0},{"$f":"IF($G84=\"Yes\",1,0)*IF('Assessment Framework'!BE84=\"Y\",1,0)","v":0},{"$f":"IF($G84=\"Yes\",1,0)*IF('Assessment Framework'!BF84=\"Y\",1,0)","v":0},{"$f":"IF($G84=\"Yes\",1,0)*IF('Assessment Framework'!BG84=\"Y\",1,0)","v":0},{"$f":"IF($G84=\"Yes\",1,0)*IF('Assessment Framework'!BH84=\"Y\",1,0)","v":0},{"$f":"IF($G84=\"Yes\",1,0)*IF('Assessment Framework'!BI84=\"Y\",1,0)","v":0},{"$f":"IF($G84=\"Yes\",1,0)*IF('Assessment Framework'!BJ84=\"Y\",1,0)","v":0},{"$f":"IF($G84=\"Yes\",1,0)*IF('Assessment Framework'!BK84=\"Y\",1,0)","v":0},{"$f":"IF($G84=\"Yes\",1,0)*IF('Assessment Framework'!BL84=\"Y\",1,0)","v":0},{"$f":"IF($G84=\"Yes\",1,0)*IF('Assessment Framework'!BM84=\"Y\",1,0)","v":0},{"$f":"IF($G84=\"Yes\",1,0)*IF('Assessment Framework'!BN84=\"Y\",1,0)","v":0},{"$f":"IF($G84=\"Yes\",1,0)*IF('Assessment Framework'!BO84=\"Y\",1,0)","v":0},{"$f":"IF($G84=\"Yes\",1,0)*IF('Assessment Framework'!BP84=\"Y\",1,0)","v":0},{"$f":"IF($G84=\"Yes\",1,0)*IF('Assessment Framework'!BQ84=\"Y\",1,0)","v":0},{"$f":"IF($G84=\"Yes\",1,0)*IF('Assessment Framework'!BR84=\"Y\",1,0)","v":0},{"$f":"IF($G84=\"Yes\",1,0)*IF('Assessment Framework'!BS84=\"Y\",1,0)","v":0},{"$f":"IF($G84=\"Yes\",1,0)*IF('Assessment Framework'!BT84=\"Y\",1,0)","v":0},{"$f":"IF($G84=\"Yes\",1,0)*IF('Assessment Framework'!BU84=\"Y\",1,0)","v":0},{"$f":"IF($G84=\"Yes\",1,0)*IF('Assessment Framework'!BV84=\"Y\",1,0)","v":0},{"$f":"IF($G84=\"Yes\",1,0)*IF('Assessment Framework'!BW84=\"Y\",1,0)","v":0},{"$f":"IF($G84=\"Yes\",1,0)*IF('Assessment Framework'!BX84=\"Y\",1,0)","v":0},{"$f":"IF($G84=\"Yes\",1,0)*IF('Assessment Framework'!BY84=\"Y\",1,0)","v":0},{"$f":"IF($G84=\"Yes\",1,0)*IF('Assessment Framework'!BZ84=\"Y\",1,0)","v":0},{"$f":"IF($G84=\"Yes\",1,0)*IF('Assessment Framework'!CA84=\"Y\",1,0)","v":0},{"$f":"IF($G84=\"Yes\",1,0)*IF('Assessment Framework'!CB84=\"Y\",1,0)","v":0},{"$f":"IF($G84=\"Yes\",1,0)*IF('Assessment Framework'!CC84=\"Y\",1,0)","v":0},{"$f":"IF($G84=\"Yes\",1,0)*IF('Assessment Framework'!CD84=\"Y\",1,0)","v":0},{"$f":"IF($G84=\"Yes\",1,0)*IF('Assessment Framework'!CE84=\"Y\",1,0)","v":0},{"$f":"IF($G84=\"Yes\",1,0)*IF('Assessment Framework'!CF84=\"Y\",1,0)","v":0},{"$f":"IF($G84=\"Yes\",1,0)*IF('Assessment Framework'!CG84=\"Y\",1,0)","v":0},{"$f":"IF($G84=\"Yes\",1,0)*IF('Assessment Framework'!CH84=\"Y\",1,0)","v":0},{"$f":"IF($G84=\"Yes\",1,0)*IF('Assessment Framework'!CI84=\"Y\",1,0)","v":0},{"$f":"IF($G84=\"Yes\",1,0)*IF('Assessment Framework'!CJ84=\"Y\",1,0)","v":0},{"$f":"IF($G84=\"Yes\",1,0)*IF('Assessment Framework'!CK84=\"Y\",1,0)","v":0},{"$f":"IF($G84=\"Yes\",1,0)*IF('Assessment Framework'!CL84=\"Y\",1,0)","v":0},{"$f":"IF($G84=\"Yes\",1,0)*IF('Assessment Framework'!CM84=\"Y\",1,0)","v":0}]
[null,null,null,"Socioeconomic data","Data on the social and economic characteristics of the area","Y,N",{"$f":"IF('C - Data availability'!C17=\"\",\"\",'C - Data availability'!C17)","v":""},{"$f":"IF($G85=\"Yes\",1,0)*IF('Assessment Framework'!G85=\"Y\",1,0)","v":0},{"$f":"IF($G85=\"Yes\",1,0)*IF('Assessment Framework'!H85=\"Y\",1,0)","v":0},{"$f":"IF($G85=\"Yes\",1,0)*IF('Assessment Framework'!I85=\"Y\",1,0)","v":0},{"$f":"IF($G85=\"Yes\",1,0)*IF('Assessment Framework'!J85=\"Y\",1,0)","v":0},{"$f":"IF($G85=\"Yes\",1,0)*IF('Assessment Framework'!K85=\"Y\",1,0)","v":0},{"$f":"IF($G85=\"Yes\",1,0)*IF('Assessment Framework'!L85=\"Y\",1,0)","v":0},{"$f":"IF($G85=\"Yes\",1,0)*IF('Assessment Framework'!M85=\"Y\",1,0)","v":0},{"$f":"IF($G85=\"Yes\",1,0)*IF('Assessment Framework'!N85=\"Y\",1,0)","v":0},{"$f":"IF($G85=\"Yes\",1,0)*IF('Assessment Framework'!O85=\"Y\",1,0)","v":0},{"$f":"IF($G85=\"Yes\",1,0)*IF('Assessment Framework'!P85=\"Y\",1,0)","v":0},{"$f":"IF($G85=\"Yes\",1,0)*IF('Assessment Framework'!Q85=\"Y\",1,0)","v":0},{"$f":"IF($G85=\"Yes\",1,0)*IF('Assessment Framework'!R85=\"Y\",1,0)","v":0},{"$f":"IF($G85=\"Yes\",1,0)*IF('Assessment Framework'!S85=\"Y\",1,0)","v":0},{"$f":"IF($G85=\"Yes\",1,0)*IF('Assessment Framework'!T85=\"Y\",1,0)","v":0},{"$f":"IF($G85=\"Yes\",1,0)*IF('Assessment Framework'!U85=\"Y\",1,0)","v":0},{"$f":"IF($G85=\"Yes\",1,0)*IF('Assessment Framework'!V85=\"Y\",1,0)","v":0},{"$f":"IF($G85=\"Yes\",1,0)*IF('Assessment Framework'!W85=\"Y\",1,0)","v":0},{"$f":"IF($G85=\"Yes\",1,0)*IF('Assessment Framework'!X85=\"Y\",1,0)","v":0},{"$f":"IF($G85=\"Yes\",1,0)*IF('Assessment Framework'!Y85=\"Y\",1,0)","v":0},{"$f":"IF($G85=\"Yes\",1,0)*IF('Assessment Framework'!Z85=\"Y\",1,0)","v":0},{"$f":"IF($G85=\"Yes\",1,0)*IF('Assessment Framework'!AA85=\"Y\",1,0)","v":0},{"$f":"IF($G85=\"Yes\",1,0)*IF('Assessment Framework'!AB85=\"Y\",1,0)","v":0},{"$f":"IF($G85=\"Yes\",1,0)*IF('Assessment Framework'!AC85=\"Y\",1,0)","v":0},{"$f":"IF($G85=\"Yes\",1,0)*IF('Assessment Framework'!AD85=\"Y\",1,0)","v":0},{"$f":"IF($G85=\"Yes\",1,0)*IF('Assessment Framework'!AE85=\"Y\",1,0)","v":0},{"$f":"IF($G85=\"Yes\",1,0)*IF('Assessment Framework'!AF85=\"Y\",1,0)","v":0},{"$f":"IF($G85=\"Yes\",1,0)*IF('Assessment Framework'!AG85=\"Y\",1,0)","v":0},{"$f":"IF($G85=\"Yes\",1,0)*IF('Assessment Framework'!AH85=\"Y\",1,0)","v":0},{"$f":"IF($G85=\"Yes\",1,0)*IF('Assessment Framework'!AI85=\"Y\",1,0)","v":0},{"$f":"IF($G85=\"Yes\",1,0)*IF('Assessment Framework'!AJ85=\"Y\",1,0)","v":0},{"$f":"IF($G85=\"Yes\",1,0)*IF('Assessment Framework'!AK85=\"Y\",1,0)","v":0},{"$f":"IF($G85=\"Yes\",1,0)*IF('Assessment Framework'!AL85=\"Y\",1,0)","v":0},{"$f":"IF($G85=\"Yes\",1,0)*IF('Assessment Framework'!AM85=\"Y\",1,0)","v":0},{"$f":"IF($G85=\"Yes\",1,0)*IF('Assessment Framework'!AN85=\"Y\",1,0)","v":0},{"$f":"IF($G85=\"Yes\",1,0)*IF('Assessment Framework'!AO85=\"Y\",1,0)","v":0},{"$f":"IF($G85=\"Yes\",1,0)*IF('Assessment Framework'!AP85=\"Y\",1,0)","v":0},{"$f":"IF($G85=\"Yes\",1,0)*IF('Assessment Framework'!AQ85=\"Y\",1,0)","v":0},{"$f":"IF($G85=\"Yes\",1,0)*IF('Assessment Framework'!AR85=\"Y\",1,0)","v":0},{"$f":"IF($G85=\"Yes\",1,0)*IF('Assessment Framework'!AS85=\"Y\",1,0)","v":0},{"$f":"IF($G85=\"Yes\",1,0)*IF('Assessment Framework'!AT85=\"Y\",1,0)","v":0},{"$f":"IF($G85=\"Yes\",1,0)*IF('Assessment Framework'!AU85=\"Y\",1,0)","v":0},{"$f":"IF($G85=\"Yes\",1,0)*IF('Assessment Framework'!AV85=\"Y\",1,0)","v":0},{"$f":"IF($G85=\"Yes\",1,0)*IF('Assessment Framework'!AW85=\"Y\",1,0)","v":0},{"$f":"IF($G85=\"Yes\",1,0)*IF('Assessment Framework'!AX85=\"Y\",1,0)","v":0},{"$f":"IF($G85=\"Yes\",1,0)*IF('Assessment Framework'!AY85=\"Y\",1,0)","v":0},{"$f":"IF($G85=\"Yes\",1,0)*IF('Assessment Framework'!AZ85=\"Y\",1,0)","v":0},{"$f":"IF($G85=\"Yes\",1,0)*IF('Assessment Framework'!BA85=\"Y\",1,0)","v":0},{"$f":"IF($G85=\"Yes\",1,0)*IF('Assessment Framework'!BB85=\"Y\",1,0)","v":0},{"$f":"IF($G85=\"Yes\",1,0)*IF('Assessment Framework'!BC85=\"Y\",1,0)","v":0},{"$f":"IF($G85=\"Yes\",1,0)*IF('Assessment Framework'!BD85=\"Y\",1,0)","v":0},{"$f":"IF($G85=\"Yes\",1,0)*IF('Assessment Framework'!BE85=\"Y\",1,0)","v":0},{"$f":"IF($G85=\"Yes\",1,0)*IF('Assessment Framework'!BF85=\"Y\",1,0)","v":0},{"$f":"IF($G85=\"Yes\",1,0)*IF('Assessment Framework'!BG85=\"Y\",1,0)","v":0},{"$f":"IF($G85=\"Yes\",1,0)*IF('Assessment Framework'!BH85=\"Y\",1,0)","v":0},{"$f":"IF($G85=\"Yes\",1,0)*IF('Assessment Framework'!BI85=\"Y\",1,0)","v":0},{"$f":"IF($G85=\"Yes\",1,0)*IF('Assessment Framework'!BJ85=\"Y\",1,0)","v":0},{"$f":"IF($G85=\"Yes\",1,0)*IF('Assessment Framework'!BK85=\"Y\",1,0)","v":0},{"$f":"IF($G85=\"Yes\",1,0)*IF('Assessment Framework'!BL85=\"Y\",1,0)","v":0},{"$f":"IF($G85=\"Yes\",1,0)*IF('Assessment Framework'!BM85=\"Y\",1,0)","v":0},{"$f":"IF($G85=\"Yes\",1,0)*IF('Assessment Framework'!BN85=\"Y\",1,0)","v":0},{"$f":"IF($G85=\"Yes\",1,0)*IF('Assessment Framework'!BO85=\"Y\",1,0)","v":0},{"$f":"IF($G85=\"Yes\",1,0)*IF('Assessment Framework'!BP85=\"Y\",1,0)","v":0},{"$f":"IF($G85=\"Yes\",1,0)*IF('Assessment Framework'!BQ85=\"Y\",1,0)","v":0},{"$f":"IF($G85=\"Yes\",1,0)*IF('Assessment Framework'!BR85=\"Y\",1,0)","v":0},{"$f":"IF($G85=\"Yes\",1,0)*IF('Assessment Framework'!BS85=\"Y\",1,0)","v":0},{"$f":"IF($G85=\"Yes\",1,0)*IF('Assessment Framework'!BT85=\"Y\",1,0)","v":0},{"$f":"IF($G85=\"Yes\",1,0)*IF('Assessment Framework'!BU85=\"Y\",1,0)","v":0},{"$f":"IF($G85=\"Yes\",1,0)*IF('Assessment Framework'!BV85=\"Y\",1,0)","v":0},{"$f":"IF($G85=\"Yes\",1,0)*IF('Assessment Framework'!BW85=\"Y\",1,0)","v":0},{"$f":"IF($G85=\"Yes\",1,0)*IF('Assessment Framework'!BX85=\"Y\",1,0)","v":0},{"$f":"IF($G85=\"Yes\",1,0)*IF('Assessment Framework'!BY85=\"Y\",1,0)","v":0},{"$f":"IF($G85=\"Yes\",1,0)*IF('Assessment Framework'!BZ85=\"Y\",1,0)","v":0},{"$f":"IF($G85=\"Yes\",1,0)*IF('Assessment Framework'!CA85=\"Y\",1,0)","v":0},{"$f":"IF($G85=\"Yes\",1,0)*IF('Assessment Framework'!CB85=\"Y\",1,0)","v":0},{"$f":"IF($G85=\"Yes\",1,0)*IF('Assessment Framework'!CC85=\"Y\",1,0)","v":0},{"$f":"IF($G85=\"Yes\",1,0)*IF('Assessment Framework'!CD85=\"Y\",1,0)","v":0},{"$f":"IF($G85=\"Yes\",1,0)*IF('Assessment Framework'!CE85=\"Y\",1,0)","v":0},{"$f":"IF($G85=\"Yes\",1,0)*IF('Assessment Framework'!CF85=\"Y\",1,0)","v":0},{"$f":"IF($G85=\"Yes\",1,0)*IF('Assessment Framework'!CG85=\"Y\",1,0)","v":0},{"$f":"IF($G85=\"Yes\",1,0)*IF('Assessment Framework'!CH85=\"Y\",1,0)","v":0},{"$f":"IF($G85=\"Yes\",1,0)*IF('Assessment Framework'!CI85=\"Y\",1,0)","v":0},{"$f":"IF($G85=\"Yes\",1,0)*IF('Assessment Framework'!CJ85=\"Y\",1,0)","v":0},{"$f":"IF($G85=\"Yes\",1,0)*IF('Assessment Framework'!CK85=\"Y\",1,0)","v":0},{"$f":"IF($G85=\"Yes\",1,0)*IF('Assessment Framework'!CL85=\"Y\",1,0)","v":0},{"$f":"IF($G85=\"Yes\",1,0)*IF('Assessment Framework'!CM85=\"Y\",1,0)","v":0}]
[null,null,null,"GIS data","Spatial data","Y,N",{"$f":"IF('C - Data availability'!C18=\"\",\"\",'C - Data availability'!C18)","v":""},{"$f":"IF($G86=\"Yes\",1,0)*IF('Assessment Framework'!G86=\"Y\",1,0)","v":0},{"$f":"IF($G86=\"Yes\",1,0)*IF('Assessment Framework'!H86=\"Y\",1,0)","v":0},{"$f":"IF($G86=\"Yes\",1,0)*IF('Assessment Framework'!I86=\"Y\",1,0)","v":0},{"$f":"IF($G86=\"Yes\",1,0)*IF('Assessment Framework'!J86=\"Y\",1,0)","v":0},{"$f":"IF($G86=\"Yes\",1,0)*IF('Assessment Framework'!K86=\"Y\",1,0)","v":0},{"$f":"IF($G86=\"Yes\",1,0)*IF('Assessment Framework'!L86=\"Y\",1,0)","v":0},{"$f":"IF($G86=\"Yes\",1,0)*IF('Assessment Framework'!M86=\"Y\",1,0)","v":0},{"$f":"IF($G86=\"Yes\",1,0)*IF('Assessment Framework'!N86=\"Y\",1,0)","v":0},{"$f":"IF($G86=\"Yes\",1,0)*IF('Assessment Framework'!O86=\"Y\",1,0)","v":0},{"$f":"IF($G86=\"Yes\",1,0)*IF('Assessment Framework'!P86=\"Y\",1,0)","v":0},{"$f":"IF($G86=\"Yes\",1,0)*IF('Assessment Framework'!Q86=\"Y\",1,0)","v":0},{"$f":"IF($G86=\"Yes\",1,0)*IF('Assessment Framework'!R86=\"Y\",1,0)","v":0},{"$f":"IF($G86=\"Yes\",1,0)*IF('Assessment Framework'!S86=\"Y\",1,0)","v":0},{"$f":"IF($G86=\"Yes\",1,0)*IF('Assessment Framework'!T86=\"Y\",1,0)","v":0},{"$f":"IF($G86=\"Yes\",1,0)*IF('Assessment Framework'!U86=\"Y\",1,0)","v":0},{"$f":"IF($G86=\"Yes\",1,0)*IF('Assessment Framework'!V86=\"Y\",1,0)","v":0},{"$f":"IF($G86=\"Yes\",1,0)*IF('Assessment Framework'!W86=\"Y\",1,0)","v":0},{"$f":"IF($G86=\"Yes\",1,0)*IF('Assessment Framework'!X86=\"Y\",1,0)","v":0},{"$f":"IF($G86=\"Yes\",1,0)*IF('Assessment Framework'!Y86=\"Y\",1,0)","v":0},{"$f":"IF($G86=\"Yes\",1,0)*IF('Assessment Framework'!Z86=\"Y\",1,0)","v":0},{"$f":"IF($G86=\"Yes\",1,0)*IF('Assessment Framework'!AA86=\"Y\",1,0)","v":0},{"$f":"IF($G86=\"Yes\",1,0)*IF('Assessment Framework'!AB86=\"Y\",1,0)","v":0},{"$f":"IF($G86=\"Yes\",1,0)*IF('Assessment Framework'!AC86=\"Y\",1,0)","v":0},{"$f":"IF($G86=\"Yes\",1,0)*IF('Assessment Framework'!AD86=\"Y\",1,0)","v":0},{"$f":"IF($G86=\"Yes\",1,0)*IF('Assessment Framework'!AE86=\"Y\",1,0)","v":0},{"$f":"IF($G86=\"Yes\",1,0)*IF('Assessment Framework'!AF86=\"Y\",1,0)","v":0},{"$f":"IF($G86=\"Yes\",1,0)*IF('Assessment Framework'!AG86=\"Y\",1,0)","v":0},{"$f":"IF($G86=\"Yes\",1,0)*IF('Assessment Framework'!AH86=\"Y\",1,0)","v":0},{"$f":"IF($G86=\"Yes\",1,0)*IF('Assessment Framework'!AI86=\"Y\",1,0)","v":0},{"$f":"IF($G86=\"Yes\",1,0)*IF('Assessment Framework'!AJ86=\"Y\",1,0)","v":0},{"$f":"IF($G86=\"Yes\",1,0)*IF('Assessment Framework'!AK86=\"Y\",1,0)","v":0},{"$f":"IF($G86=\"Yes\",1,0)*IF('Assessment Framework'!AL86=\"Y\",1,0)","v":0},{"$f":"IF($G86=\"Yes\",1,0)*IF('Assessment Framework'!AM86=\"Y\",1,0)","v":0},{"$f":"IF($G86=\"Yes\",1,0)*IF('Assessment Framework'!AN86=\"Y\",1,0)","v":0},{"$f":"IF($G86=\"Yes\",1,0)*IF('Assessment Framework'!AO86=\"Y\",1,0)","v":0},{"$f":"IF($G86=\"Yes\",1,0)*IF('Assessment Framework'!AP86=\"Y\",1,0)","v":0},{"$f":"IF($G86=\"Yes\",1,0)*IF('Assessment Framework'!AQ86=\"Y\",1,0)","v":0},{"$f":"IF($G86=\"Yes\",1,0)*IF('Assessment Framework'!AR86=\"Y\",1,0)","v":0},{"$f":"IF($G86=\"Yes\",1,0)*IF('Assessment Framework'!AS86=\"Y\",1,0)","v":0},{"$f":"IF($G86=\"Yes\",1,0)*IF('Assessment Framework'!AT86=\"Y\",1,0)","v":0},{"$f":"IF($G86=\"Yes\",1,0)*IF('Assessment Framework'!AU86=\"Y\",1,0)","v":0},{"$f":"IF($G86=\"Yes\",1,0)*IF('Assessment Framework'!AV86=\"Y\",1,0)","v":0},{"$f":"IF($G86=\"Yes\",1,0)*IF('Assessment Framework'!AW86=\"Y\",1,0)","v":0},{"$f":"IF($G86=\"Yes\",1,0)*IF('Assessment Framework'!AX86=\"Y\",1,0)","v":0},{"$f":"IF($G86=\"Yes\",1,0)*IF('Assessment Framework'!AY86=\"Y\",1,0)","v":0},{"$f":"IF($G86=\"Yes\",1,0)*IF('Assessment Framework'!AZ86=\"Y\",1,0)","v":0},{"$f":"IF($G86=\"Yes\",1,0)*IF('Assessment Framework'!BA86=\"Y\",1,0)","v":0},{"$f":"IF($G86=\"Yes\",1,0)*IF('Assessment Framework'!BB86=\"Y\",1,0)","v":0},{"$f":"IF($G86=\"Yes\",1,0)*IF('Assessment Framework'!BC86=\"Y\",1,0)","v":0},{"$f":"IF($G86=\"Yes\",1,0)*IF('Assessment Framework'!BD86=\"Y\",1,0)","v":0},{"$f":"IF($G86=\"Yes\",1,0)*IF('Assessment Framework'!BE86=\"Y\",1,0)","v":0},{"$f":"IF($G86=\"Yes\",1,0)*IF('Assessment Framework'!BF86=\"Y\",1,0)","v":0},{"$f":"IF($G86=\"Yes\",1,0)*IF('Assessment Framework'!BG86=\"Y\",1,0)","v":0},{"$f":"IF($G86=\"Yes\",1,0)*IF('Assessment Framework'!BH86=\"Y\",1,0)","v":0},{"$f":"IF($G86=\"Yes\",1,0)*IF('Assessment Framework'!BI86=\"Y\",1,0)","v":0},{"$f":"IF($G86=\"Yes\",1,0)*IF('Assessment Framework'!BJ86=\"Y\",1,0)","v":0},{"$f":"IF($G86=\"Yes\",1,0)*IF('Assessment Framework'!BK86=\"Y\",1,0)","v":0},{"$f":"IF($G86=\"Yes\",1,0)*IF('Assessment Framework'!BL86=\"Y\",1,0)","v":0},{"$f":"IF($G86=\"Yes\",1,0)*IF('Assessment Framework'!BM86=\"Y\",1,0)","v":0},{"$f":"IF($G86=\"Yes\",1,0)*IF('Assessment Framework'!BN86=\"Y\",1,0)","v":0},{"$f":"IF($G86=\"Yes\",1,0)*IF('Assessment Framework'!BO86=\"Y\",1,0)","v":0},{"$f":"IF($G86=\"Yes\",1,0)*IF('Assessment Framework'!BP86=\"Y\",1,0)","v":0},{"$f":"IF($G86=\"Yes\",1,0)*IF('Assessment Framework'!BQ86=\"Y\",1,0)","v":0},{"$f":"IF($G86=\"Yes\",1,0)*IF('Assessment Framework'!BR86=\"Y\",1,0)","v":0},{"$f":"IF($G86=\"Yes\",1,0)*IF('Assessment Framework'!BS86=\"Y\",1,0)","v":0},{"$f":"IF($G86=\"Yes\",1,0)*IF('Assessment Framework'!BT86=\"Y\",1,0)","v":0},{"$f":"IF($G86=\"Yes\",1,0)*IF('Assessment Framework'!BU86=\"Y\",1,0)","v":0},{"$f":"IF($G86=\"Yes\",1,0)*IF('Assessment Framework'!BV86=\"Y\",1,0)","v":0},{"$f":"IF($G86=\"Yes\",1,0)*IF('Assessment Framework'!BW86=\"Y\",1,0)","v":0},{"$f":"IF($G86=\"Yes\",1,0)*IF('Assessment Framework'!BX86=\"Y\",1,0)","v":0},{"$f":"IF($G86=\"Yes\",1,0)*IF('Assessment Framework'!BY86=\"Y\",1,0)","v":0},{"$f":"IF($G86=\"Yes\",1,0)*IF('Assessment Framework'!BZ86=\"Y\",1,0)","v":0},{"$f":"IF($G86=\"Yes\",1,0)*IF('Assessment Framework'!CA86=\"Y\",1,0)","v":0},{"$f":"IF($G86=\"Yes\",1,0)*IF('Assessment Framework'!CB86=\"Y\",1,0)","v":0},{"$f":"IF($G86=\"Yes\",1,0)*IF('Assessment Framework'!CC86=\"Y\",1,0)","v":0},{"$f":"IF($G86=\"Yes\",1,0)*IF('Assessment Framework'!CD86=\"Y\",1,0)","v":0},{"$f":"IF($G86=\"Yes\",1,0)*IF('Assessment Framework'!CE86=\"Y\",1,0)","v":0},{"$f":"IF($G86=\"Yes\",1,0)*IF('Assessment Framework'!CF86=\"Y\",1,0)","v":0},{"$f":"IF($G86=\"Yes\",1,0)*IF('Assessment Framework'!CG86=\"Y\",1,0)","v":0},{"$f":"IF($G86=\"Yes\",1,0)*IF('Assessment Framework'!CH86=\"Y\",1,0)","v":0},{"$f":"IF($G86=\"Yes\",1,0)*IF('Assessment Framework'!CI86=\"Y\",1,0)","v":0},{"$f":"IF($G86=\"Yes\",1,0)*IF('Assessment Framework'!CJ86=\"Y\",1,0)","v":0},{"$f":"IF($G86=\"Yes\",1,0)*IF('Assessment Framework'!CK86=\"Y\",1,0)","v":0},{"$f":"IF($G86=\"Yes\",1,0)*IF('Assessment Framework'!CL86=\"Y\",1,0)","v":0},{"$f":"IF($G86=\"Yes\",1,0)*IF('Assessment Framework'!CM86=\"Y\",1,0)","v":0}]
[null,"Proxy data","Proxy / default data relates to the ability of the methodology to substitute missing data with a generic value. Although accuracy may be comprised, this can assist in simplifying data collection if large data gaps exist.","Ability to use proxy / default data / secondary data sources","Ability to use default values or more readily accessible data to estimate required input data","Y.N, Some inputs or regions",{"$f":"IF('C - Data availability'!C21=\"\",\"Non-essential\",'C - Data availability'!C21)","v":"Non-essential"},{"$f":"IF($G87=\"Non-essential\",0,1)*IF(OR('Assessment Framework'!G87=\"Y\",'Assessment Framework'!G87=\"Some inputs or regions\"),1,0)","v":0},{"$f":"IF($G87=\"Non-essential\",0,1)*IF(OR('Assessment Framework'!H87=\"Y\",'Assessment Framework'!H87=\"Some inputs or regions\"),1,0)","v":0},{"$f":"IF($G87=\"Non-essential\",0,1)*IF(OR('Assessment Framework'!I87=\"Y\",'Assessment Framework'!I87=\"Some inputs or regions\"),1,0)","v":0},{"$f":"IF($G87=\"Non-essential\",0,1)*IF(OR('Assessment Framework'!J87=\"Y\",'Assessment Framework'!J87=\"Some inputs or regions\"),1,0)","v":0},{"$f":"IF($G87=\"Non-essential\",0,1)*IF(OR('Assessment Framework'!K87=\"Y\",'Assessment Framework'!K87=\"Some inputs or regions\"),1,0)","v":0},{"$f":"IF($G87=\"Non-essential\",0,1)*IF(OR('Assessment Framework'!L87=\"Y\",'Assessment Framework'!L87=\"Some inputs or regions\"),1,0)","v":0},{"$f":"IF($G87=\"Non-essential\",0,1)*IF(OR('Assessment Framework'!M87=\"Y\",'Assessment Framework'!M87=\"Some inputs or regions\"),1,0)","v":0},{"$f":"IF($G87=\"Non-essential\",0,1)*IF(OR('Assessment Framework'!N87=\"Y\",'Assessment Framework'!N87=\"Some inputs or regions\"),1,0)","v":0},{"$f":"IF($G87=\"Non-essential\",0,1)*IF(OR('Assessment Framework'!O87=\"Y\",'Assessment Framework'!O87=\"Some inputs or regions\"),1,0)","v":0},{"$f":"IF($G87=\"Non-essential\",0,1)*IF(OR('Assessment Framework'!P87=\"Y\",'Assessment Framework'!P87=\"Some inputs or regions\"),1,0)","v":0},{"$f":"IF($G87=\"Non-essential\",0,1)*IF(OR('Assessment Framework'!Q87=\"Y\",'Assessment Framework'!Q87=\"Some inputs or regions\"),1,0)","v":0},{"$f":"IF($G87=\"Non-essential\",0,1)*IF(OR('Assessment Framework'!R87=\"Y\",'Assessment Framework'!R87=\"Some inputs or regions\"),1,0)","v":0},{"$f":"IF($G87=\"Non-essential\",0,1)*IF(OR('Assessment Framework'!S87=\"Y\",'Assessment Framework'!S87=\"Some inputs or regions\"),1,0)","v":0},{"$f":"IF($G87=\"Non-essential\",0,1)*IF(OR('Assessment Framework'!T87=\"Y\",'Assessment Framework'!T87=\"Some inputs or regions\"),1,0)","v":0},{"$f":"IF($G87=\"Non-essential\",0,1)*IF(OR('Assessment Framework'!U87=\"Y\",'Assessment Framework'!U87=\"Some inputs or regions\"),1,0)","v":0},{"$f":"IF($G87=\"Non-essential\",0,1)*IF(OR('Assessment Framework'!V87=\"Y\",'Assessment Framework'!V87=\"Some inputs or regions\"),1,0)","v":0},{"$f":"IF($G87=\"Non-essential\",0,1)*IF(OR('Assessment Framework'!W87=\"Y\",'Assessment Framework'!W87=\"Some inputs or regions\"),1,0)","v":0},{"$f":"IF($G87=\"Non-essential\",0,1)*IF(OR('Assessment Framework'!X87=\"Y\",'Assessment Framework'!X87=\"Some inputs or regions\"),1,0)","v":0},{"$f":"IF($G87=\"Non-essential\",0,1)*IF(OR('Assessment Framework'!Y87=\"Y\",'Assessment Framework'!Y87=\"Some inputs or regions\"),1,0)","v":0},{"$f":"IF($G87=\"Non-essential\",0,1)*IF(OR('Assessment Framework'!Z87=\"Y\",'Assessment Framework'!Z87=\"Some inputs or regions\"),1,0)","v":0},{"$f":"IF($G87=\"Non-essential\",0,1)*IF(OR('Assessment Framework'!AA87=\"Y\",'Assessment Framework'!AA87=\"Some inputs or regions\"),1,0)","v":0},{"$f":"IF($G87=\"Non-essential\",0,1)*IF(OR('Assessment Framework'!AB87=\"Y\",'Assessment Framework'!AB87=\"Some inputs or regions\"),1,0)","v":0},{"$f":"IF($G87=\"Non-essential\",0,1)*IF(OR('Assessment Framework'!AC87=\"Y\",'Assessment Framework'!AC87=\"Some inputs or regions\"),1,0)","v":0},{"$f":"IF($G87=\"Non-essential\",0,1)*IF(OR('Assessment Framework'!AD87=\"Y\",'Assessment Framework'!AD87=\"Some inputs or regions\"),1,0)","v":0},{"$f":"IF($G87=\"Non-essential\",0,1)*IF(OR('Assessment Framework'!AE87=\"Y\",'Assessment Framework'!AE87=\"Some inputs or regions\"),1,0)","v":0},{"$f":"IF($G87=\"Non-essential\",0,1)*IF(OR('Assessment Framework'!AF87=\"Y\",'Assessment Framework'!AF87=\"Some inputs or regions\"),1,0)","v":0},{"$f":"IF($G87=\"Non-essential\",0,1)*IF(OR('Assessment Framework'!AG87=\"Y\",'Assessment Framework'!AG87=\"Some inputs or regions\"),1,0)","v":0},{"$f":"IF($G87=\"Non-essential\",0,1)*IF(OR('Assessment Framework'!AH87=\"Y\",'Assessment Framework'!AH87=\"Some inputs or regions\"),1,0)","v":0},{"$f":"IF($G87=\"Non-essential\",0,1)*IF(OR('Assessment Framework'!AI87=\"Y\",'Assessment Framework'!AI87=\"Some inputs or regions\"),1,0)","v":0},{"$f":"IF($G87=\"Non-essential\",0,1)*IF(OR('Assessment Framework'!AJ87=\"Y\",'Assessment Framework'!AJ87=\"Some inputs or regions\"),1,0)","v":0},{"$f":"IF($G87=\"Non-essential\",0,1)*IF(OR('Assessment Framework'!AK87=\"Y\",'Assessment Framework'!AK87=\"Some inputs or regions\"),1,0)","v":0},{"$f":"IF($G87=\"Non-essential\",0,1)*IF(OR('Assessment Framework'!AL87=\"Y\",'Assessment Framework'!AL87=\"Some inputs or regions\"),1,0)","v":0},{"$f":"IF($G87=\"Non-essential\",0,1)*IF(OR('Assessment Framework'!AM87=\"Y\",'Assessment Framework'!AM87=\"Some inputs or regions\"),1,0)","v":0},{"$f":"IF($G87=\"Non-essential\",0,1)*IF(OR('Assessment Framework'!AN87=\"Y\",'Assessment Framework'!AN87=\"Some inputs or regions\"),1,0)","v":0},{"$f":"IF($G87=\"Non-essential\",0,1)*IF(OR('Assessment Framework'!AO87=\"Y\",'Assessment Framework'!AO87=\"Some inputs or regions\"),1,0)","v":0},{"$f":"IF($G87=\"Non-essential\",0,1)*IF(OR('Assessment Framework'!AP87=\"Y\",'Assessment Framework'!AP87=\"Some inputs or regions\"),1,0)","v":0},{"$f":"IF($G87=\"Non-essential\",0,1)*IF(OR('Assessment Framework'!AQ87=\"Y\",'Assessment Framework'!AQ87=\"Some inputs or regions\"),1,0)","v":0},{"$f":"IF($G87=\"Non-essential\",0,1)*IF(OR('Assessment Framework'!AR87=\"Y\",'Assessment Framework'!AR87=\"Some inputs or regions\"),1,0)","v":0},{"$f":"IF($G87=\"Non-essential\",0,1)*IF(OR('Assessment Framework'!AS87=\"Y\",'Assessment Framework'!AS87=\"Some inputs or regions\"),1,0)","v":0},{"$f":"IF($G87=\"Non-essential\",0,1)*IF(OR('Assessment Framework'!AT87=\"Y\",'Assessment Framework'!AT87=\"Some inputs or regions\"),1,0)","v":0},{"$f":"IF($G87=\"Non-essential\",0,1)*IF(OR('Assessment Framework'!AU87=\"Y\",'Assessment Framework'!AU87=\"Some inputs or regions\"),1,0)","v":0},{"$f":"IF($G87=\"Non-essential\",0,1)*IF(OR('Assessment Framework'!AV87=\"Y\",'Assessment Framework'!AV87=\"Some inputs or regions\"),1,0)","v":0},{"$f":"IF($G87=\"Non-essential\",0,1)*IF(OR('Assessment Framework'!AW87=\"Y\",'Assessment Framework'!AW87=\"Some inputs or regions\"),1,0)","v":0},{"$f":"IF($G87=\"Non-essential\",0,1)*IF(OR('Assessment Framework'!AX87=\"Y\",'Assessment Framework'!AX87=\"Some inputs or regions\"),1,0)","v":0},{"$f":"IF($G87=\"Non-essential\",0,1)*IF(OR('Assessment Framework'!AY87=\"Y\",'Assessment Framework'!AY87=\"Some inputs or regions\"),1,0)","v":0},{"$f":"IF($G87=\"Non-essential\",0,1)*IF(OR('Assessment Framework'!AZ87=\"Y\",'Assessment Framework'!AZ87=\"Some inputs or regions\"),1,0)","v":0},{"$f":"IF($G87=\"Non-essential\",0,1)*IF(OR('Assessment Framework'!BA87=\"Y\",'Assessment Framework'!BA87=\"Some inputs or regions\"),1,0)","v":0},{"$f":"IF($G87=\"Non-essential\",0,1)*IF(OR('Assessment Framework'!BB87=\"Y\",'Assessment Framework'!BB87=\"Some inputs or regions\"),1,0)","v":0},{"$f":"IF($G87=\"Non-essential\",0,1)*IF(OR('Assessment Framework'!BC87=\"Y\",'Assessment Framework'!BC87=\"Some inputs or regions\"),1,0)","v":0},{"$f":"IF($G87=\"Non-essential\",0,1)*IF(OR('Assessment Framework'!BD87=\"Y\",'Assessment Framework'!BD87=\"Some inputs or regions\"),1,0)","v":0},{"$f":"IF($G87=\"Non-essential\",0,1)*IF(OR('Assessment Framework'!BE87=\"Y\",'Assessment Framework'!BE87=\"Some inputs or regions\"),1,0)","v":0},{"$f":"IF($G87=\"Non-essential\",0,1)*IF(OR('Assessment Framework'!BF87=\"Y\",'Assessment Framework'!BF87=\"Some inputs or regions\"),1,0)","v":0},{"$f":"IF($G87=\"Non-essential\",0,1)*IF(OR('Assessment Framework'!BG87=\"Y\",'Assessment Framework'!BG87=\"Some inputs or regions\"),1,0)","v":0},{"$f":"IF($G87=\"Non-essential\",0,1)*IF(OR('Assessment Framework'!BH87=\"Y\",'Assessment Framework'!BH87=\"Some inputs or regions\"),1,0)","v":0},{"$f":"IF($G87=\"Non-essential\",0,1)*IF(OR('Assessment Framework'!BI87=\"Y\",'Assessment Framework'!BI87=\"Some inputs or regions\"),1,0)","v":0},{"$f":"IF($G87=\"Non-essential\",0,1)*IF(OR('Assessment Framework'!BJ87=\"Y\",'Assessment Framework'!BJ87=\"Some inputs or regions\"),1,0)","v":0},{"$f":"IF($G87=\"Non-essential\",0,1)*IF(OR('Assessment Framework'!BK87=\"Y\",'Assessment Framework'!BK87=\"Some inputs or regions\"),1,0)","v":0},{"$f":"IF($G87=\"Non-essential\",0,1)*IF(OR('Assessment Framework'!BL87=\"Y\",'Assessment Framework'!BL87=\"Some inputs or regions\"),1,0)","v":0},{"$f":"IF($G87=\"Non-essential\",0,1)*IF(OR('Assessment Framework'!BM87=\"Y\",'Assessment Framework'!BM87=\"Some inputs or regions\"),1,0)","v":0},{"$f":"IF($G87=\"Non-essential\",0,1)*IF(OR('Assessment Framework'!BN87=\"Y\",'Assessment Framework'!BN87=\"Some inputs or regions\"),1,0)","v":0},{"$f":"IF($G87=\"Non-essential\",0,1)*IF(OR('Assessment Framework'!BO87=\"Y\",'Assessment Framework'!BO87=\"Some inputs or regions\"),1,0)","v":0},{"$f":"IF($G87=\"Non-essential\",0,1)*IF(OR('Assessment Framework'!BP87=\"Y\",'Assessment Framework'!BP87=\"Some inputs or regions\"),1,0)","v":0},{"$f":"IF($G87=\"Non-essential\",0,1)*IF(OR('Assessment Framework'!BQ87=\"Y\",'Assessment Framework'!BQ87=\"Some inputs or regions\"),1,0)","v":0},{"$f":"IF($G87=\"Non-essential\",0,1)*IF(OR('Assessment Framework'!BR87=\"Y\",'Assessment Framework'!BR87=\"Some inputs or regions\"),1,0)","v":0},{"$f":"IF($G87=\"Non-essential\",0,1)*IF(OR('Assessment Framework'!BS87=\"Y\",'Assessment Framework'!BS87=\"Some inputs or regions\"),1,0)","v":0},{"$f":"IF($G87=\"Non-essential\",0,1)*IF(OR('Assessment Framework'!BT87=\"Y\",'Assessment Framework'!BT87=\"Some inputs or regions\"),1,0)","v":0},{"$f":"IF($G87=\"Non-essential\",0,1)*IF(OR('Assessment Framework'!BU87=\"Y\",'Assessment Framework'!BU87=\"Some inputs or regions\"),1,0)","v":0},{"$f":"IF($G87=\"Non-essential\",0,1)*IF(OR('Assessment Framework'!BV87=\"Y\",'Assessment Framework'!BV87=\"Some inputs or regions\"),1,0)","v":0},{"$f":"IF($G87=\"Non-essential\",0,1)*IF(OR('Assessment Framework'!BW87=\"Y\",'Assessment Framework'!BW87=\"Some inputs or regions\"),1,0)","v":0},{"$f":"IF($G87=\"Non-essential\",0,1)*IF(OR('Assessment Framework'!BX87=\"Y\",'Assessment Framework'!BX87=\"Some inputs or regions\"),1,0)","v":0},{"$f":"IF($G87=\"Non-essential\",0,1)*IF(OR('Assessment Framework'!BY87=\"Y\",'Assessment Framework'!BY87=\"Some inputs or regions\"),1,0)","v":0},{"$f":"IF($G87=\"Non-essential\",0,1)*IF(OR('Assessment Framework'!BZ87=\"Y\",'Assessment Framework'!BZ87=\"Some inputs or regions\"),1,0)","v":0},{"$f":"IF($G87=\"Non-essential\",0,1)*IF(OR('Assessment Framework'!CA87=\"Y\",'Assessment Framework'!CA87=\"Some inputs or regions\"),1,0)","v":0},{"$f":"IF($G87=\"Non-essential\",0,1)*IF(OR('Assessment Framework'!CB87=\"Y\",'Assessment Framework'!CB87=\"Some inputs or regions\"),1,0)","v":0},{"$f":"IF($G87=\"Non-essential\",0,1)*IF(OR('Assessment Framework'!CC87=\"Y\",'Assessment Framework'!CC87=\"Some inputs or regions\"),1,0)","v":0},{"$f":"IF($G87=\"Non-essential\",0,1)*IF(OR('Assessment Framework'!CD87=\"Y\",'Assessment Framework'!CD87=\"Some inputs or regions\"),1,0)","v":0},{"$f":"IF($G87=\"Non-essential\",0,1)*IF(OR('Assessment Framework'!CE87=\"Y\",'Assessment Framework'!CE87=\"Some inputs or regions\"),1,0)","v":0},{"$f":"IF($G87=\"Non-essential\",0,1)*IF(OR('Assessment Framework'!CF87=\"Y\",'Assessment Framework'!CF87=\"Some inputs or regions\"),1,0)","v":0},{"$f":"IF($G87=\"Non-essential\",0,1)*IF(OR('Assessment Framework'!CG87=\"Y\",'Assessment Framework'!CG87=\"Some inputs or regions\"),1,0)","v":0},{"$f":"IF($G87=\"Non-essential\",0,1)*IF(OR('Assessment Framework'!CH87=\"Y\",'Assessment Framework'!CH87=\"Some inputs or regions\"),1,0)","v":0},{"$f":"IF($G87=\"Non-essential\",0,1)*IF(OR('Assessment Framework'!CI87=\"Y\",'Assessment Framework'!CI87=\"Some inputs or regions\"),1,0)","v":0},{"$f":"IF($G87=\"Non-essential\",0,1)*IF(OR('Assessment Framework'!CJ87=\"Y\",'Assessment Framework'!CJ87=\"Some inputs or regions\"),1,0)","v":0},{"$f":"IF($G87=\"Non-essential\",0,1)*IF(OR('Assessment Framework'!CK87=\"Y\",'Assessment Framework'!CK87=\"Some inputs or regions\"),1,0)","v":0},{"$f":"IF($G87=\"Non-essential\",0,1)*IF(OR('Assessment Framework'!CL87=\"Y\",'Assessment Framework'!CL87=\"Some inputs or regions\"),1,0)","v":0},{"$f":"IF($G87=\"Non-essential\",0,1)*IF(OR('Assessment Framework'!CM87=\"Y\",'Assessment Framework'!CM87=\"Some inputs or regions\"),1,0)","v":0}]
[]
[]
[null,null,null,null,null,null,"Weighting factor for Part A questions",2]
[]
[null,null,null,null,null,null,"Essential components",{"$f":"(COUNTIF($G$13:$G$26,\"Essential\")+COUNTIF($G$9:$G$12,\"Yes\"))*$H$90+COUNTIF($G$31:$G$87,\"Essential\")","v":0},0,0,{"$f":"(COUNTIF($G$13:$G$26,\"Essential\")+COUNTIF($G$9:$G$12,\"Yes\"))*$H$90+COUNTIF($G$31:$G$87,\"Essential\")","v":0},0,0,0,0,0,0,0,0,0,0,0,0,0,0,0,0,0,0,0,0,0,0,0,0,0,0,0,0,0,0,0,0,0,0,0,0,0,0,0,0,0,0,0,0,0,0,0,0,0,0,0,0,0,0,0,0,0,0,0,0,{"$f":"(COUNTIF($G$13:$G$26,\"Essential\")+COUNTIF($G$9:$G$12,\"Yes\"))*$H$90+COUNTIF($G$31:$G$87,\"Essential\")","v":0},0,0,0,0,0,0,0,0,0,0,0,0,0,0,0,0,0,0,0,0]
[null,null,null,null,null,null,"Essential components matched (#)",{"$f":"(COUNTIFS($G$9:$G$12,\"Yes\",H$9:H$12,\"<>0\")+COUNTIFS($G$13:$G$26,\"Essential\",H$13:H$26,\"<>0\"))*$H$90+COUNTIFS($G$31:$G$87,\"Essential\",H$31:H$87,\"<>0\")","v":0},0,0,{"$f":"(COUNTIFS($G$9:$G$12,\"Yes\",K$9:K$12,\"<>0\")+COUNTIFS($G$13:$G$26,\"Essential\",K$13:K$26,\"<>0\"))*$H$90+COUNTIFS($G$31:$G$87,\"Essential\",K$31:K$87,\"<>0\")","v":0},0,0,0,0,0,0,0,0,0,0,0,0,0,0,0,0,0,0,0,0,0,0,0,0,0,0,0,0,0,0,0,0,0,0,0,0,0,0,0,0,0,0,0,0,0,0,0,0,0,0,0,0,0,0,0,0,0,0,0,0,{"$f":"(COUNTIFS($G$9:$G$12,\"Yes\",BT$9:BT$12,\"<>0\")+COUNTIFS($G$13:$G$26,\"Essential\",BT$13:BT$26,\"<>0\"))*$H$90+COUNTIFS($G$31:$G$87,\"Essential\",BT$31:BT$87,\"<>0\")","v":0},0,0,0,0,0,0,0,0,0,0,0,0,0,0,0,0,0,0,0,0]
[null,null,null,null,null,null,"Essential components matched (%)",{"$f":"IF(H92=0,0,H93/H92)","v":0},{"$f":"IF(I92=0,0,I93/I92)","v":0},{"$f":"IF(J92=0,0,J93/J92)","v":0},{"$f":"IF(K92=0,0,K93/K92)","v":0},0,{"$f":"IF(M92=0,0,M93/M92)","v":0},0,0,0,0,0,0,0,0,0,0,0,0,0,0,0,0,0,0,0,0,0,0,0,0,0,0,0,0,0,0,0,0,0,0,0,0,0,0,0,0,0,0,0,0,{"$f":"IF(BF92=0,0,BF93/BF92)","v":0},0,0,0,0,0,0,0,0,0,0,0,0,0,0,0,0,0,0,0,0,0,0,0,0,0,0,0,0,0,0,0,0,0,0]
[null,null,null,null,null,null,"Can be considered for selection",{"$f":"IF(OR(H94=1,H92=0),\"Yes\",\"No\")","v":"Yes"},{"$f":"IF(OR(I94=1,I92=0),\"Yes\",\"No\")","v":"Yes"},"Yes","Yes","Yes","Yes","Yes","Yes","Yes","Yes","Yes","Yes",{"$f":"IF(OR(T94=1,T92=0),\"Yes\",\"No\")","v":"Yes"},"Yes","Yes","Yes","Yes","Yes","Yes","Yes","Yes","Yes","Yes","Yes","Yes","Yes","Yes","Yes","Yes","Yes","Yes","Yes","Yes","Yes","Yes","Yes","Yes","Yes","Yes","Yes","Yes","Yes","Yes","Yes","Yes","Yes","Yes","Yes","Yes","Yes",{"$f":"IF(OR(BF94=1,BF92=0),\"Yes\",\"No\")","v":"Yes"},"Yes","Yes","Yes","Yes","Yes","Yes","Yes","Yes","Yes","Yes","Yes","Yes","Yes","Yes","Yes","Yes","Yes","Yes","Yes","Yes","Yes","Yes","Yes","Yes","Yes","Yes","Yes","Yes","Yes","Yes","Yes","Yes","Yes","Yes"]
[null,null,null,null,null,null,"Rank on essential components",{"$f":"RANK(H94,$H$94:$CN$94)","v":1},1,1,1,1,1,1,1,1,1,1,1,1,1,1,1,1,1,1,1,1,1,1,1,1,1,1,1,1,1,1,1,{"$f":"RANK(AN94,$H$94:$CN$94)","v":1},1,1,1,1,1,1,1,1,1,1,1,1,1,1,1,1,1,1,1,1,1,1,1,1,1,1,1,1,1,1,1,{"$f":"RANK(BT94,$H$94:$CN$94)","v":1},1,1,1,1,1,1,1,1,1,1,1,1,1,1,1,1,1,1,1,1]
[]
[null,null,null,null,null,null,"Important components",{"$f":"(COUNTIF($G$13:$G$26,\"Important\")+(3-COUNTBLANK($G$27:$G$29))+IF($G$30<>\"\",1,0))*$H$90+COUNTIF($G$31:$G$87,\"Important\")","v":0},{"$f":"(COUNTIF($G$13:$G$26,\"Important\")+(3-COUNTBLANK($G$27:$G$29))+IF($G$30<>\"\",1,0))*$H$90+COUNTIF($G$31:$G$87,\"Important\")","v":0},0,0,0,0,0,0,0,0,0,0,{"$f":"(COUNTIF($G$13:$G$26,\"Important\")+(3-COUNTBLANK($G$27:$G$29))+IF($G$30<>\"\",1,0))*$H$90+COUNTIF($G$31:$G$87,\"Important\")","v":0},0,0,0,0,0,0,0,0,0,0,0,0,0,{"$f":"(COUNTIF($G$13:$G$26,\"Important\")+(3-COUNTBLANK($G$27:$G$29))+IF($G$30<>\"\",1,0))*$H$90+COUNTIF($G$31:$G$87,\"Important\")","v":0},0,{"$f":"(COUNTIF($G$13:$G$26,\"Important\")+(3-COUNTBLANK($G$27:$G$29))+IF($G$30<>\"\",1,0))*$H$90+COUNTIF($G$31:$G$87,\"Important\")","v":0},0,0,0,0,0,0,0,0,0,0,0,0,0,0,0,0,0,0,0,0,0,0,0,0,0,0,0,0,0,0,0,0,0,0,0,{"$f":"(COUNTIF($G$13:$G$26,\"Important\")+(3-COUNTBLANK($G$27:$G$29))+IF($G$30<>\"\",1,0))*$H$90+COUNTIF($G$31:$G$87,\"Important\")","v":0},0,0,0,0,0,0,0,0,0,0,0,0,0,0,0,0,0,0,0,0]
[null,null,null,null,null,null,"Important components matched (#)",{"$f":"(COUNTIFS($G$13:$G$26,\"Important\",H$13:H$26,\"<>0\")+SUM(H$27:H$30))*$H$90+COUNTIFS($G$31:$G$87,\"Important\",H$31:H$87,\"<>0\")","v":0},{"$f":"(COUNTIFS($G$13:$G$26,\"Important\",I$13:I$26,\"<>0\")+SUM(I$27:I$30))*$H$90+COUNTIFS($G$31:$G$87,\"Important\",I$31:I$87,\"<>0\")","v":0},0,0,0,0,0,0,0,0,0,0,{"$f":"(COUNTIFS($G$13:$G$26,\"Important\",T$13:T$26,\"<>0\")+SUM(T$27:T$30))*$H$90+COUNTIFS($G$31:$G$87,\"Important\",T$31:T$87,\"<>0\")","v":0},{"$f":"(COUNTIFS($G$13:$G$26,\"Important\",U$13:U$26,\"<>0\")+SUM(U$27:U$30))*$H$90+COUNTIFS($G$31:$G$87,\"Important\",U$31:U$87,\"<>0\")","v":0},{"$f":"(COUNTIFS($G$13:$G$26,\"Important\",V$13:V$26,\"<>0\")+SUM(V$27:V$30))*$H$90+COUNTIFS($G$31:$G$87,\"Important\",V$31:V$87,\"<>0\")","v":0},0,0,0,0,0,0,0,0,0,0,0,{"$f":"(COUNTIFS($G$13:$G$26,\"Important\",AH$13:AH$26,\"<>0\")+SUM(AH$27:AH$30))*$H$90+COUNTIFS($G$31:$G$87,\"Important\",AH$31:AH$87,\"<>0\")","v":0},0,{"$f":"(COUNTIFS($G$13:$G$26,\"Important\",AJ$13:AJ$26,\"<>0\")+SUM(AJ$27:AJ$30))*$H$90+COUNTIFS($G$31:$G$87,\"Important\",AJ$31:AJ$87,\"<>0\")","v":0},0,0,0,0,0,0,0,0,0,0,0,0,0,0,0,0,0,0,0,0,0,0,0,0,0,0,0,0,0,0,0,0,0,0,0,0,0,0,0,0,0,0,0,0,0,0,0,0,0,{"$f":"(COUNTIFS($G$13:$G$26,\"Important\",CH$13:CH$26,\"<>0\")+SUM(CH$27:CH$30))*$H$90+COUNTIFS($G$31:$G$87,\"Important\",CH$31:CH$87,\"<>0\")","v":0},0,0,0,0,0,0]
[null,null,null,null,null,null,"Important components matched (%)",{"$f":"IF(H98=0,0,H99/H98)*IF(H95=\"Yes\",1,0)","v":0},0,0,0,0,0,0,0,0,0,0,0,0,0,0,0,0,0,0,0,0,0,0,0,0,0,0,0,0,0,0,0,{"$f":"IF(AN98=0,0,AN99/AN98)*IF(AN95=\"Yes\",1,0)","v":0},0,0,0,0,0,0,0,0,0,0,0,0,0,0,0,0,0,0,0,0,0,0,0,0,0,0,0,0,0,0,0,{"$f":"IF(BT98=0,0,BT99/BT98)*IF(BT95=\"Yes\",1,0)","v":0},0,0,0,0,0,0,0,0,0,0,0,0,0,0,0,0,0,0,0,0]
[null,null,null,null,null,null,"Rank on important components",{"$f":"RANK(H100,$H$100:$CN$100)","v":1},1,1,1,1,1,1,1,1,1,1,1,1,1,1,1,1,1,1,1,1,1,1,1,1,1,1,1,1,1,1,1,{"$f":"RANK(AN100,$H$100:$CN$100)","v":1},1,1,1,1,1,1,1,1,1,1,1,1,1,1,1,1,1,1,1,1,1,1,1,1,1,1,1,1,1,1,1,{"$f":"RANK(BT100,$H$100:$CN$100)","v":1},1,1,1,1,1,1,1,1,1,1,1,1,1,1,1,1,1,1,1,1]
[]
[null,null,null,null,null,null,"Preferred components",{"$f":"COUNTIF($G$13:$G$26,\"Preferred\")*$H$90+COUNTIF($G$31:$G$87,\"Preferred\")","v":0},{"$f":"COUNTIF($G$13:$G$26,\"Preferred\")*$H$90+COUNTIF($G$31:$G$87,\"Preferred\")","v":0},0,0,0,0,0,0,0,0,0,0,0,0,0,0,0,0,0,0,0,0,0,0,0,0,0,0,0,0,0,0,0,0,0,0,0,0,0,0,0,0,0,0,0,0,0,0,0,0,0,{"$f":"COUNTIF($G$13:$G$26,\"Preferred\")*$H$90+COUNTIF($G$31:$G$87,\"Preferred\")","v":0},0,0,0,0,0,0,0,0,0,0,0,0,0,0,0,0,0,0,0,0,0,0,0,0,0,0,0,0,0,0,0,0,0]
[null,null,null,null,null,null,"Preferred components matched (#)",{"$f":"COUNTIFS($G$13:$G$26,\"Preferred\",H$13:H$26,\"<>0\")*$H$90+COUNTIFS($G$31:$G$87,\"Preferred\",H$31:H$87,\"<>0\")","v":0},{"$f":"COUNTIFS($G$13:$G$26,\"Preferred\",I$13:I$26,\"<>0\")*$H$90+COUNTIFS($G$31:$G$87,\"Preferred\",I$31:I$87,\"<>0\")","v":0},0,0,0,0,0,0,0,0,0,0,0,0,0,0,0,0,0,0,0,0,0,0,{"$f":"COUNTIFS($G$13:$G$26,\"Preferred\",AF$13:AF$26,\"<>0\")*$H$90+COUNTIFS($G$31:$G$87,\"Preferred\",AF$31:AF$87,\"<>0\")","v":0},0,0,0,0,0,0,0,0,0,0,0,0,0,0,0,0,0,0,0,0,0,0,0,0,0,{"$f":"COUNTIFS($G$13:$G$26,\"Preferred\",BF$13:BF$26,\"<>0\")*$H$90+COUNTIFS($G$31:$G$87,\"Preferred\",BF$31:BF$87,\"<>0\")","v":0},0,0,0,0,0,0,0,0,0,0,0,0,0,0,0,0,0,0,0,0,0,0,0,0,0,0,0,0,0,0,0,0,0,0]
[null,null,null,null,null,null,"Preferred components matched (%)",{"$f":"IF(H103=0,0,H104/H103)*IF(H95=\"Yes\",1,0)","v":0},{"$f":"IF(I103=0,0,I104/I103)*IF(I95=\"Yes\",1,0)","v":0},0,0,0,0,0,0,0,0,0,0,0,0,0,0,0,0,0,0,0,0,0,0,{"$f":"IF(AF103=0,0,AF104/AF103)*IF(AF95=\"Yes\",1,0)","v":0},0,0,0,0,0,0,0,0,0,0,0,0,0,0,0,0,0,0,0,0,0,0,0,0,0,{"$f":"IF(BF103=0,0,BF104/BF103)*IF(BF95=\"Yes\",1,0)","v":0},0,0,0,0,0,0,0,0,0,0,0,0,0,0,0,0,0,0,0,0,0,0,0,0,0,0,0,0,0,0,0,{"$f":"IF(CL103=0,0,CL104/CL103)*IF(CL95=\"Yes\",1,0)","v":0},{"$f":"IF(CM103=0,0,CM104/CM103)*IF(CM95=\"Yes\",1,0)","v":0},{"$f":"IF(CN103=0,0,CN104/CN103)*IF(CN95=\"Yes\",1,0)","v":0}]
[null,null,null,null,null,null,"Rank on preferred components",{"$f":"RANK(H105,$H$105:$CN$105)","v":1},1,1,1,1,1,1,1,1,1,1,1,1,1,1,1,1,1,1,1,1,1,1,1,1,1,1,1,1,1,1,1,{"$f":"RANK(AN105,$H$105:$CN$105)","v":1},1,1,1,1,1,1,1,1,1,1,1,1,1,1,1,1,1,1,1,1,1,1,1,1,1,1,1,1,1,1,1,{"$f":"RANK(BT105,$H$105:$CN$105)","v":1},1,1,1,1,1,1,1,1,1,1,1,1,1,1,1,1,1,1,1,1]
[]
[null,null,null,null,null,null,"Matches general data requirements",{"$f":"IF(H30=1,\"Yes\",\"No\")","v":"No"},{"$f":"IF(I30=1,\"Yes\",\"No\")","v":"No"},"No","No","No","No","No","No","No","No","No","No","No","No","No","No","No","No","No","No","No","No","No","No",{"$f":"IF(AF30=1,\"Yes\",\"No\")","v":"No"},"No","No","No","No","No","No","No","No","No","No","No","No","No","No","No","No","No","No","No","No","No","No","No","No","No",{"$f":"IF(BF30=1,\"Yes\",\"No\")","v":"No"},"No","No","No","No","No","No","No","No","No","No","No","No","No","No","No","No","No","No","No","No","No","No","No","No","No","No","No","No","No","No","No","No","No","No"]
[null,null,null,null,null,null,"Data requirements count",{"$f":"COUNTIF('Assessment Framework'!G75:G86,\"Y\")","v":3},{"$f":"COUNTIF('Assessment Framework'!H75:H86,\"Y\")","v":3},{"$f":"COUNTIF('Assessment Framework'!I75:I86,\"Y\")","v":2},{"$f":"COUNTIF('Assessment Framework'!J75:J86,\"Y\")","v":3},{"$f":"COUNTIF('Assessment Framework'!K75:K86,\"Y\")","v":1},{"$f":"COUNTIF('Assessment Framework'!L75:L86,\"Y\")","v":10},{"$f":"COUNTIF('Assessment Framework'!M75:M86,\"Y\")","v":7},{"$f":"COUNTIF('Assessment Framework'!N75:N86,\"Y\")","v":5},{"$f":"COUNTIF('Assessment Framework'!O75:O86,\"Y\")","v":5},{"$f":"COUNTIF('Assessment Framework'!P75:P86,\"Y\")","v":5},{"$f":"COUNTIF('Assessment Framework'!Q75:Q86,\"Y\")","v":4},{"$f":"COUNTIF('Assessment Framework'!R75:R86,\"Y\")","v":2},{"$f":"COUNTIF('Assessment Framework'!S75:S86,\"Y\")","v":5},{"$f":"COUNTIF('Assessment Framework'!T75:T86,\"Y\")","v":3},{"$f":"COUNTIF('Assessment Framework'!U75:U86,\"Y\")","v":8},{"$f":"COUNTIF('Assessment Framework'!V75:V86,\"Y\")","v":2},{"$f":"COUNTIF('Assessment Framework'!W75:W86,\"Y\")","v":8},{"$f":"COUNTIF('Assessment Framework'!X75:X86,\"Y\")","v":8},{"$f":"COUNTIF('Assessment Framework'!Y75:Y86,\"Y\")","v":7},{"$f":"COUNTIF('Assessment Framework'!Z75:Z86,\"Y\")","v":7},{"$f":"COUNTIF('Assessment Framework'!AA75:AA86,\"Y\")","v":5},{"$f":"COUNTIF('Assessment Framework'!AB75:AB86,\"Y\")","v":7},{"$f":"COUNTIF('Assessment Framework'!AC75:AC86,\"Y\")","v":8},{"$f":"COUNTIF('Assessment Framework'!AD75:AD86,\"Y\")","v":3},{"$f":"COUNTIF('Assessment Framework'!AE75:AE86,\"Y\")","v":2},{"$f":"COUNTIF('Assessment Framework'!AF75:AF86,\"Y\")","v":5},{"$f":"COUNTIF('Assessment Framework'!AG75:AG86,\"Y\")","v":4},{"$f":"COUNTIF('Assessment Framework'!AH75:AH86,\"Y\")","v":5},{"$f":"COUNTIF('Assessment Framework'!AI75:AI86,\"Y\")","v":1},{"$f":"COUNTIF('Assessment Framework'!AJ75:AJ86,\"Y\")","v":3},{"$f":"COUNTIF('Assessment Framework'!AK75:AK86,\"Y\")","v":3},{"$f":"COUNTIF('Assessment Framework'!AL75:AL86,\"Y\")","v":0},{"$f":"COUNTIF('Assessment Framework'!AM75:AM86,\"Y\")","v":0},{"$f":"COUNTIF('Assessment Framework'!AN75:AN86,\"Y\")","v":0},{"$f":"COUNTIF('Assessment Framework'!AO75:AO86,\"Y\")","v":0},{"$f":"COUNTIF('Assessment Framework'!AP75:AP86,\"Y\")","v":0},{"$f":"COUNTIF('Assessment Framework'!AQ75:AQ86,\"Y\")","v":0},{"$f":"COUNTIF('Assessment Framework'!AR75:AR86,\"Y\")","v":0},{"$f":"COUNTIF('Assessment Framework'!AS75:AS86,\"Y\")","v":0},{"$f":"COUNTIF('Assessment Framework'!AT75:AT86,\"Y\")","v":0},{"$f":"COUNTIF('Assessment Framework'!AU75:AU86,\"Y\")","v":0},{"$f":"COUNTIF('Assessment Framework'!AV75:AV86,\"Y\")","v":0},{"$f":"COUNTIF('Assessment Framework'!AW75:AW86,\"Y\")","v":0},{"$f":"COUNTIF('Assessment Framework'!AX75:AX86,\"Y\")","v":0},{"$f":"COUNTIF('Assessment Framework'!AY75:AY86,\"Y\")","v":0},{"$f":"COUNTIF('Assessment Framework'!AZ75:AZ86,\"Y\")","v":0},{"$f":"COUNTIF('Assessment Framework'!BA75:BA86,\"Y\")","v":0},{"$f":"COUNTIF('Assessment Framework'!BB75:BB86,\"Y\")","v":0},{"$f":"COUNTIF('Assessment Framework'!BC75:BC86,\"Y\")","v":0},{"$f":"COUNTIF('Assessment Framework'!BD75:BD86,\"Y\")","v":0},{"$f":"COUNTIF('Assessment Framework'!BE75:BE86,\"Y\")","v":0},{"$f":"COUNTIF('Assessment Framework'!BF75:BF86,\"Y\")","v":0},{"$f":"COUNTIF('Assessment Framework'!BG75:BG86,\"Y\")","v":0},{"$f":"COUNTIF('Assessment Framework'!BH75:BH86,\"Y\")","v":0},{"$f":"COUNTIF('Assessment Framework'!BI75:BI86,\"Y\")","v":0},{"$f":"COUNTIF('Assessment Framework'!BJ75:BJ86,\"Y\")","v":0},{"$f":"COUNTIF('Assessment Framework'!BK75:BK86,\"Y\")","v":0},{"$f":"COUNTIF('Assessment Framework'!BL75:BL86,\"Y\")","v":0},{"$f":"COUNTIF('Assessment Framework'!BM75:BM86,\"Y\")","v":0},{"$f":"COUNTIF('Assessment Framework'!BN75:BN86,\"Y\")","v":0},{"$f":"COUNTIF('Assessment Framework'!BO75:BO86,\"Y\")","v":0},{"$f":"COUNTIF('Assessment Framework'!BP75:BP86,\"Y\")","v":0},{"$f":"COUNTIF('Assessment Framework'!BQ75:BQ86,\"Y\")","v":0},{"$f":"COUNTIF('Assessment Framework'!BR75:BR86,\"Y\")","v":0},{"$f":"COUNTIF('Assessment Framework'!BS75:BS86,\"Y\")","v":0},{"$f":"COUNTIF('Assessment Framework'!BT75:BT86,\"Y\")","v":0},{"$f":"COUNTIF('Assessment Framework'!BU75:BU86,\"Y\")","v":0},{"$f":"COUNTIF('Assessment Framework'!BV75:BV86,\"Y\")","v":0},{"$f":"COUNTIF('Assessment Framework'!BW75:BW86,\"Y\")","v":0},{"$f":"COUNTIF('Assessment Framework'!BX75:BX86,\"Y\")","v":0},{"$f":"COUNTIF('Assessment Framework'!BY75:BY86,\"Y\")","v":0},{"$f":"COUNTIF('Assessment Framework'!BZ75:BZ86,\"Y\")","v":0},{"$f":"COUNTIF('Assessment Framework'!CA75:CA86,\"Y\")","v":0},{"$f":"COUNTIF('Assessment Framework'!CB75:CB86,\"Y\")","v":0},{"$f":"COUNTIF('Assessment Framework'!CC75:CC86,\"Y\")","v":0},{"$f":"COUNTIF('Assessment Framework'!CD75:CD86,\"Y\")","v":0},{"$f":"COUNTIF('Assessment Framework'!CE75:CE86,\"Y\")","v":0},{"$f":"COUNTIF('Assessment Framework'!CF75:CF86,\"Y\")","v":0},{"$f":"COUNTIF('Assessment Framework'!CG75:CG86,\"Y\")","v":0},{"$f":"COUNTIF('Assessment Framework'!CH75:CH86,\"Y\")","v":0},{"$f":"COUNTIF('Assessment Framework'!CI75:CI86,\"Y\")","v":0},{"$f":"COUNTIF('Assessment Framework'!CJ75:CJ86,\"Y\")","v":0},{"$f":"COUNTIF('Assessment Framework'!CK75:CK86,\"Y\")","v":0},{"$f":"COUNTIF('Assessment Framework'!CL75:CL86,\"Y\")","v":0},{"$f":"COUNTIF('Assessment Framework'!CM75:CM86,\"Y\")","v":0}]
[null,null,null,null,null,null,"Data requirements matched (#)",{"$f":"SUM(H75:H86)","v":0},{"$f":"SUM(I75:I86)","v":0},0,0,0,0,0,0,0,0,0,0,0,0,0,0,0,0,0,0,0,0,0,0,0,0,0,0,0,0,0,0,0,0,0,0,0,0,0,0,0,0,0,0,0,0,0,0,0,0,0,0,0,0,0,0,0,0,0,0,0,0,0,0,0,{"$f":"SUM(BU75:BU86)","v":0},0,0,0,0,0,0,0,0,0,0,0,0,0,0,0,0,0,0,0]
[null,null,null,null,null,null,"Data requirements matched (%)",{"$f":"IF(H109=0,0,H110/H109)*IF(H95=\"Yes\",1,0)","v":0},{"$f":"IF(I109=0,0,I110/I109)*IF(I95=\"Yes\",1,0)","v":0},0,0,0,0,0,0,0,0,0,0,0,0,0,0,0,0,0,0,0,0,0,0,{"$f":"IF(AF109=0,0,AF110/AF109)*IF(AF95=\"Yes\",1,0)","v":0},{"$f":"IF(AG109=0,0,AG110/AG109)*IF(AG95=\"Yes\",1,0)","v":0},{"$f":"IF(AH109=0,0,AH110/AH109)*IF(AH95=\"Yes\",1,0)","v":0},{"$f":"IF(AI109=0,0,AI110/AI109)*IF(AI95=\"Yes\",1,0)","v":0},{"$f":"IF(AJ109=0,0,AJ110/AJ109)*IF(AJ95=\"Yes\",1,0)","v":0},0,0,0,0,0,0,0,0,0,0,0,0,0,0,0,0,0,0,0,0,0,0,0,0,0,0,0,0,0,0,0,0,0,0,0,0,0,0,0,0,0,0,0,0,0,0,0,0,0,0,0,0,0,0,0,0]
[null,null,null,null,null,null,"Rank on data requirements",{"$f":"RANK(H111,$H$111:$CN$111)","v":1},1,1,1,1,1,1,1,1,1,1,1,1,1,1,1,1,1,1,1,1,1,1,1,1,1,1,1,1,1,1,1,{"$f":"RANK(AN111,$H$111:$CN$111)","v":1},1,1,1,1,1,1,1,1,1,1,1,1,1,1,1,1,1,1,1,1,1,1,1,1,1,1,1,1,1,1,1,{"$f":"RANK(BT111,$H$111:$CN$111)","v":1},1,1,1,1,1,1,1,1,1,1,1,1,1,1,1,1,1,1,1,1]
[]
[]
[]
[]
[null,null,null,null,null,null,"OVERALL RANK",{"$f":"(COUNTIFS($H$95:$CN$95,\"Yes\",$H$100:$CN$100,\">\"&H100)+COUNTIFS($H$95:$CN$95,\"Yes\",$H$100:$CN$100,\"=\"&H100,$H$105:$CN$105,\">\"&H105)+COUNTIFS($H$95:$CN$95,\"Yes\",$H$100:$CN$100,\"=\"&H100,$H$105:$CN$105,\"=\"&H105,$H$111:$CN$111,\">\"&H111)+1)*IF(H95=\"Yes\",1,0)","v":1},1,{"$f":"(COUNTIFS($H$95:$CN$95,\"Yes\",$H$100:$CN$100,\">\"&J100)+COUNTIFS($H$95:$CN$95,\"Yes\",$H$100:$CN$100,\"=\"&J100,$H$105:$CN$105,\">\"&J105)+COUNTIFS($H$95:$CN$95,\"Yes\",$H$100:$CN$100,\"=\"&J100,$H$105:$CN$105,\"=\"&J105,$H$111:$CN$111,\">\"&J111)+1)*IF(J95=\"Yes\",1,0)","v":1},1,1,1,1,1,1,1,1,1,1,1,1,1,1,1,1,1,1,1,1,1,1,1,1,1,1,1,1,1,{"$f":"(COUNTIFS($H$95:$CN$95,\"Yes\",$H$100:$CN$100,\">\"&AN100)+COUNTIFS($H$95:$CN$95,\"Yes\",$H$100:$CN$100,\"=\"&AN100,$H$105:$CN$105,\">\"&AN105)+COUNTIFS($H$95:$CN$95,\"Yes\",$H$100:$CN$100,\"=\"&AN100,$H$105:$CN$105,\"=\"&AN105,$H$111:$CN$111,\">\"&AN111)+1)*IF(AN95=\"Yes\",1,0)","v":1},1,1,1,1,1,1,1,1,1,1,1,1,1,1,1,1,1,1,1,1,1,1,1,1,1,1,1,1,1,1,1,{"$f":"(COUNTIFS($H$95:$CN$95,\"Yes\",$H$100:$CN$100,\">\"&BT100)+COUNTIFS($H$95:$CN$95,\"Yes\",$H$100:$CN$100,\"=\"&BT100,$H$105:$CN$105,\">\"&BT105)+COUNTIFS($H$95:$CN$95,\"Yes\",$H$100:$CN$100,\"=\"&BT100,$H$105:$CN$105,\"=\"&BT105,$H$111:$CN$111,\">\"&BT111)+1)*IF(BT95=\"Yes\",1,0)","v":1},1,1,1,1,1,1,1,1,1,1,1,1,1,1,1,1,1,1,1,1]
[null,null,null,null,null,null,"ADJUSTED RANK",{"$f":"IF(H95=\"No\",0,H117)","v":1},{"$f":"IF(I95=\"No\",0,COUNTIF(H117,I117)+I117)","v":2},{"$f":"IF(J95=\"No\",0,COUNTIF($H$117:I117,J117)+J117)","v":3},{"$f":"IF(K95=\"No\",0,COUNTIF($H$117:J117,K117)+K117)","v":4},{"$f":"IF(L95=\"No\",0,COUNTIF($H$117:K117,L117)+L117)","v":5},{"$f":"IF(M95=\"No\",0,COUNTIF($H$117:L117,M117)+M117)","v":6},{"$f":"IF(N95=\"No\",0,COUNTIF($H$117:M117,N117)+N117)","v":7},{"$f":"IF(O95=\"No\",0,COUNTIF($H$117:N117,O117)+O117)","v":8},{"$f":"IF(P95=\"No\",0,COUNTIF($H$117:O117,P117)+P117)","v":9},{"$f":"IF(Q95=\"No\",0,COUNTIF($H$117:P117,Q117)+Q117)","v":10},{"$f":"IF(R95=\"No\",0,COUNTIF($H$117:Q117,R117)+R117)","v":11},{"$f":"IF(S95=\"No\",0,COUNTIF($H$117:R117,S117)+S117)","v":12},{"$f":"IF(T95=\"No\",0,COUNTIF($H$117:S117,T117)+T117)","v":13},{"$f":"IF(U95=\"No\",0,COUNTIF($H$117:T117,U117)+U117)","v":14},{"$f":"IF(V95=\"No\",0,COUNTIF($H$117:U117,V117)+V117)","v":15},{"$f":"IF(W95=\"No\",0,COUNTIF($H$117:V117,W117)+W117)","v":16},{"$f":"IF(X95=\"No\",0,COUNTIF($H$117:W117,X117)+X117)","v":17},{"$f":"IF(Y95=\"No\",0,COUNTIF($H$117:X117,Y117)+Y117)","v":18},{"$f":"IF(Z95=\"No\",0,COUNTIF($H$117:Y117,Z117)+Z117)","v":19},{"$f":"IF(AA95=\"No\",0,COUNTIF($H$117:Z117,AA117)+AA117)","v":20},{"$f":"IF(AB95=\"No\",0,COUNTIF($H$117:AA117,AB117)+AB117)","v":21},{"$f":"IF(AC95=\"No\",0,COUNTIF($H$117:AB117,AC117)+AC117)","v":22},{"$f":"IF(AD95=\"No\",0,COUNTIF($H$117:AC117,AD117)+AD117)","v":23},{"$f":"IF(AE95=\"No\",0,COUNTIF($H$117:AD117,AE117)+AE117)","v":24},{"$f":"IF(AF95=\"No\",0,COUNTIF($H$117:AE117,AF117)+AF117)","v":25},{"$f":"IF(AG95=\"No\",0,COUNTIF($H$117:AF117,AG117)+AG117)","v":26},{"$f":"IF(AH95=\"No\",0,COUNTIF($H$117:AG117,AH117)+AH117)","v":27},{"$f":"IF(AI95=\"No\",0,COUNTIF($H$117:AH117,AI117)+AI117)","v":28},{"$f":"IF(AJ95=\"No\",0,COUNTIF($H$117:AI117,AJ117)+AJ117)","v":29},{"$f":"IF(AK95=\"No\",0,COUNTIF($H$117:AJ117,AK117)+AK117)","v":30},{"$f":"IF(AL95=\"No\",0,COUNTIF($H$117:AK117,AL117)+AL117)","v":31},{"$f":"IF(AM95=\"No\",0,COUNTIF($H$117:AL117,AM117)+AM117)","v":32},{"$f":"IF(AN95=\"No\",0,COUNTIF($H$117:AM117,AN117)+AN117)","v":33},{"$f":"IF(AO95=\"No\",0,COUNTIF($H$117:AN117,AO117)+AO117)","v":34},{"$f":"IF(AP95=\"No\",0,COUNTIF($H$117:AO117,AP117)+AP117)","v":35},{"$f":"IF(AQ95=\"No\",0,COUNTIF($H$117:AP117,AQ117)+AQ117)","v":36},{"$f":"IF(AR95=\"No\",0,COUNTIF($H$117:AQ117,AR117)+AR117)","v":37},{"$f":"IF(AS95=\"No\",0,COUNTIF($H$117:AR117,AS117)+AS117)","v":38},{"$f":"IF(AT95=\"No\",0,COUNTIF($H$117:AS117,AT117)+AT117)","v":39},{"$f":"IF(AU95=\"No\",0,COUNTIF($H$117:AT117,AU117)+AU117)","v":40},{"$f":"IF(AV95=\"No\",0,COUNTIF($H$117:AU117,AV117)+AV117)","v":41},{"$f":"IF(AW95=\"No\",0,COUNTIF($H$117:AV117,AW117)+AW117)","v":42},{"$f":"IF(AX95=\"No\",0,COUNTIF($H$117:AW117,AX117)+AX117)","v":43},{"$f":"IF(AY95=\"No\",0,COUNTIF($H$117:AX117,AY117)+AY117)","v":44},{"$f":"IF(AZ95=\"No\",0,COUNTIF($H$117:AY117,AZ117)+AZ117)","v":45},{"$f":"IF(BA95=\"No\",0,COUNTIF($H$117:AZ117,BA117)+BA117)","v":46},{"$f":"IF(BB95=\"No\",0,COUNTIF($H$117:BA117,BB117)+BB117)","v":47},{"$f":"IF(BC95=\"No\",0,COUNTIF($H$117:BB117,BC117)+BC117)","v":48},{"$f":"IF(BD95=\"No\",0,COUNTIF($H$117:BC117,BD117)+BD117)","v":49},{"$f":"IF(BE95=\"No\",0,COUNTIF($H$117:BD117,BE117)+BE117)","v":50},{"$f":"IF(BF95=\"No\",0,COUNTIF($H$117:BE117,BF117)+BF117)","v":51},{"$f":"IF(BG95=\"No\",0,COUNTIF($H$117:BF117,BG117)+BG117)","v":52},{"$f":"IF(BH95=\"No\",0,COUNTIF($H$117:BG117,BH117)+BH117)","v":53},{"$f":"IF(BI95=\"No\",0,COUNTIF($H$117:BH117,BI117)+BI117)","v":54},{"$f":"IF(BJ95=\"No\",0,COUNTIF($H$117:BI117,BJ117)+BJ117)","v":55},{"$f":"IF(BK95=\"No\",0,COUNTIF($H$117:BJ117,BK117)+BK117)","v":56},{"$f":"IF(BL95=\"No\",0,COUNTIF($H$117:BK117,BL117)+BL117)","v":57},{"$f":"IF(BM95=\"No\",0,COUNTIF($H$117:BL117,BM117)+BM117)","v":58},{"$f":"IF(BN95=\"No\",0,COUNTIF($H$117:BM117,BN117)+BN117)","v":59},{"$f":"IF(BO95=\"No\",0,COUNTIF($H$117:BN117,BO117)+BO117)","v":60},{"$f":"IF(BP95=\"No\",0,COUNTIF($H$117:BO117,BP117)+BP117)","v":61},{"$f":"IF(BQ95=\"No\",0,COUNTIF($H$117:BP117,BQ117)+BQ117)","v":62},{"$f":"IF(BR95=\"No\",0,COUNTIF($H$117:BQ117,BR117)+BR117)","v":63},{"$f":"IF(BS95=\"No\",0,COUNTIF($H$117:BR117,BS117)+BS117)","v":64},{"$f":"IF(BT95=\"No\",0,COUNTIF($H$117:BS117,BT117)+BT117)","v":65},{"$f":"IF(BU95=\"No\",0,COUNTIF($H$117:BT117,BU117)+BU117)","v":66},{"$f":"IF(BV95=\"No\",0,COUNTIF($H$117:BU117,BV117)+BV117)","v":67},{"$f":"IF(BW95=\"No\",0,COUNTIF($H$117:BV117,BW117)+BW117)","v":68},{"$f":"IF(BX95=\"No\",0,COUNTIF($H$117:BW117,BX117)+BX117)","v":69},{"$f":"IF(BY95=\"No\",0,COUNTIF($H$117:BX117,BY117)+BY117)","v":70},{"$f":"IF(BZ95=\"No\",0,COUNTIF($H$117:BY117,BZ117)+BZ117)","v":71},{"$f":"IF(CA95=\"No\",0,COUNTIF($H$117:BZ117,CA117)+CA117)","v":72},{"$f":"IF(CB95=\"No\",0,COUNTIF($H$117:CA117,CB117)+CB117)","v":73},{"$f":"IF(CC95=\"No\",0,COUNTIF($H$117:CB117,CC117)+CC117)","v":74},{"$f":"IF(CD95=\"No\",0,COUNTIF($H$117:CC117,CD117)+CD117)","v":75},{"$f":"IF(CE95=\"No\",0,COUNTIF($H$117:CD117,CE117)+CE117)","v":76},{"$f":"IF(CF95=\"No\",0,COUNTIF($H$117:CE117,CF117)+CF117)","v":77},{"$f":"IF(CG95=\"No\",0,COUNTIF($H$117:CF117,CG117)+CG117)","v":78},{"$f":"IF(CH95=\"No\",0,COUNTIF($H$117:CG117,CH117)+CH117)","v":79},{"$f":"IF(CI95=\"No\",0,COUNTIF($H$117:CH117,CI117)+CI117)","v":80},{"$f":"IF(CJ95=\"No\",0,COUNTIF($H$117:CI117,CJ117)+CJ117)","v":81},{"$f":"IF(CK95=\"No\",0,COUNTIF($H$117:CJ117,CK117)+CK117)","v":82},{"$f":"IF(CL95=\"No\",0,COUNTIF($H$117:CK117,CL117)+CL117)","v":83},{"$f":"IF(CM95=\"No\",0,COUNTIF($H$117:CL117,CM117)+CM117)","v":84},{"$f":"IF(CN95=\"No\",0,COUNTIF($H$117:CM117,CN117)+CN117)","v":85}]
[null,null,null,null,null,null,"OVERALL RANK WITH EQUALS",{"$f":"IF(COUNTIF($H$117:$CN$117,H117)>1,\"=\"&H117,H117)","v":"=1"},"=1","=1","=1","=1","=1","=1","=1","=1","=1","=1","=1","=1","=1","=1","=1","=1","=1","=1","=1","=1","=1","=1","=1","=1","=1","=1","=1","=1","=1","=1","=1",{"$f":"IF(COUNTIF($H$117:$CN$117,AN117)>1,\"=\"&AN117,AN117)","v":"=1"},"=1","=1","=1","=1","=1","=1","=1","=1","=1","=1","=1","=1","=1","=1","=1","=1","=1","=1","=1","=1","=1","=1","=1","=1","=1","=1","=1","=1","=1","=1","=1",{"$f":"IF(COUNTIF($H$117:$CN$117,BT117)>1,\"=\"&BT117,BT117)","v":"=1"},"=1","=1","=1","=1","=1","=1","=1","=1","=1","=1","=1","=1","=1","=1","=1","=1","=1","=1","=1","=1"]
[]
[null,null,null,null,null,null,"Count of methodologies ranked in top 3",{"$f":"COUNTIF($H$117:$CN$117,1)+COUNTIF($H$117:$CN$117,2)+COUNTIF($H$117:$CN$117,3)","v":85}]
[]
[]
[]
[null,null,null,null,null,null,"Radar Data"]
[null,null,null,null,null,null,"Part A",{"$f":"IF(SUM(H9:H30)=0,0,SUM(H9:H30)/$H$131)","v":0},{"$f":"IF(SUM(I9:I30)=0,0,SUM(I9:I30)/$H$131)","v":0},0,0,0,0,0,0,0,0,0,0,0,0,0,0,0,0,0,0,0,0,0,0,0,0,0,0,0,0,0,0,0,0,0,0,0,0,0,0,0,0,0,0,0,0,0,0,0,0,0,0,0,0,0,0,0,0,0,0,0,0,0,0,0,{"$f":"IF(SUM(BU9:BU30)=0,0,SUM(BU9:BU30)/$H$131)","v":0},0,0,0,0,0,0,0,0,0,0,0,0,0,0,0,0,0,0,0]
[null,null,null,null,null,null,"Part B",{"$f":"IF(SUM(H31:H74)=0,0,SUM(H31:H74)/$H$132)","v":0},{"$f":"IF(SUM(I31:I74)=0,0,SUM(I31:I74)/$H$132)","v":0},0,0,0,0,0,0,0,0,0,0,0,0,0,0,0,0,0,0,0,0,0,0,0,0,0,0,0,0,0,0,0,0,0,0,0,0,0,0,0,0,0,0,0,0,0,0,0,0,0,0,0,0,0,0,0,0,0,0,0,0,0,0,0,{"$f":"IF(SUM(BU31:BU74)=0,0,SUM(BU31:BU74)/$H$132)","v":0},0,0,0,0,0,0,0,0,0,0,0,0,0,0,0,0,0,0,0]
[null,null,null,null,null,null,"Part C",{"$f":"H111","v":0},{"$f":"I111","v":0},0,0,0,0,0,0,0,0,0,0,0,0,0,0,0,0,0,0,0,0,0,0,0,0,0,{"$f":"AI111","v":0},0,0,0,0,0,0,0,0,0,0,0,0,0,0,0,0,0,0,0,0,0,0,0,0,0,0,0,0,0,0,0,0,0,0,0,0,0,{"$f":"BU111","v":0},0,0,0,0,0,0,0,0,0,0,0,0,0,0,0,0,0,0,0]
[]
[null,null,null,null,null,null,"Radar Scale Data"]
[null,null,null,null,null,null,"Part A",{"$f":"COUNTA(G9:G30)-COUNTIF(G9:G26,\"Non-essential\")-COUNTIF(G9:G12,\"No\")","v":4}]
[null,null,null,null,null,null,"Part B",{"$f":"COUNTA(G31:G74)-COUNTIF(G31:G74,\"Non-essential\")","v":0}]

{"sheet":"Results to print","index":9,"n_rows":154,"n_cols":7,"rows_kept":154,"cut":false,"hidden":true,"merged":[[153,1,157,10],[121,1,121,10],[122,1,122,10],[123,1,123,10],[124,1,124,10],[116,1,116,10],[117,1,117,10],[118,1,118,10],[119,1,119,10],[120,1,120,10],[111,1,111,10],[112,1,112,10],[113,1,113,10],[114,1,114,10],[115,1,115,10],[106,1,106,10],[107,1,107,10],[108,1,108,10],[109,1,109,10],[110,1,110,10],[104,1,104,10],[105,1,105,10],[47,2,47,10],[76,2,76,10],[77,2,77,10],[48,2,48,10],[82,2,86,10],[79,0,79,1],[80,0,80,1],[81,0,81,1],[82,0,82,1],[53,2,57,10],[59,2,63,10],[65,2,69,10],[71,2,72,10],[88,0,88,1],[76,0,76,1],[75,0,75,1],[22,0,22,1],[23,0,23,1],[24,0,24,1],[25,0,25,1],[47,0,47,1],[48,0,48,1],[59,0,59,1],[65,0,65,1],[2,0,3,10],[8,2,8,9],[10,2,10,9],[12,2,12,9],[14,2,14,9],[43,2,44,10],[31,2,35,10],[37,2,41,10],[18,0,18,1],[19,2,19,10],[20,2,20,10],[19,0,19,1],[20,0,20,1],[21,0,21,1],[94,0,94,1],[100,2,101,10],[94,2,98,10],[88,2,92,10],[24,2,24,10],[25,2,29,10],[46,0,46,1],[77,0,77,1],[78,0,78,1],[49,0,49,1],[50,0,50,1],[51,0,51,1],[52,0,52,1],[53,0,53,1],[31,0,31,1],[37,0,37,1]]}
[]
[]
["Results"]
[]
[]
["Approach suitability"]
[null,null,"Relative suitability"]
[]
[null,"Transfer coefficient ",{"$f":"'Methodological Approaches'!C50","v":0}]
[]
[null,"Material Flow Analysis",{"$f":"'Methodological Approaches'!D50","v":0}]
[]
[null,"Statistical / trend analysis",{"$f":"'Methodological Approaches'!E50","v":0}]
[]
[null,"Hydrological / transport modelling",{"$f":"'Methodological Approaches'!F50","v":0}]
[]
["Suggested methodologies"]
[]
["Ranking:",null,{"$f":"'C - Data availability'!H37","v":""}]
["Assessment Name:",null,{"$f":"'C - Data availability'!J38","v":""}]
["Organisation(s) / Author(s): ",null,{"$f":"'C - Data availability'!J39","v":""}]
["Important components provided:",null,{"$f":"'C - Data availability'!J40","v":0},{"$f":"'C - Data availability'!K40","v":0},{"$f":"'C - Data availability'!L40","v":0},{"$f":"'C - Data availability'!M40","v":0},{"$f":"'C - Data availability'!N40","v":0}]
["Preferred components provided:",null,{"$f":"'C - Data availability'!J41","v":0},{"$f":"'C - Data availability'!K41","v":0},{"$f":"'C - Data availability'!L41","v":0},{"$f":"'C - Data availability'!M41","v":0},{"$f":"'C - Data availability'!N41","v":0}]
["Matching data requirements",null,{"$f":"'C - Data availability'!J42","v":0},{"$f":"'C - Data availability'!K42","v":0},{"$f":"'C - Data availability'!L42","v":0},{"$f":"'C - Data availability'!M42","v":0},{"$f":"'C - Data availability'!N42","v":0}]
["Approximate level of resources required:",null,{"$f":"'C - Data availability'!J43","v":""}]
["Objective:",null,{"$f":"'C - Data availability'!J46","v":""}]
[]
[]
[]
[]
[]
["Methodology:",null,{"$f":"'C - Data availability'!J48","v":""}]
[]
[]
[]
[]
[]
["Key outputs:",null,{"$f":"'C - Data availability'!J50","v":""}]
[]
[]
[]
[]
[]
["URL:",null,{"$f":"IF(C19=\"\",\"\",INDEX('Multicriteria Decision Analysis'!$H$4:$CN$4,MATCH(1,'Multicriteria Decision Analysis'!$H$118:$CN$118,0)))","v":""}]
[]
[]
["Ranking:",null,{"$f":"'C - Data availability'!H52","v":""}]
["Assessment Name:",null,{"$f":"'C - Data availability'!J53","v":""}]
["Organisation(s) / Author(s): ",null,{"$f":"'C - Data availability'!J54","v":""}]
["Important components provided:",null,{"$f":"'C - Data availability'!J55","v":0},{"$f":"'C - Data availability'!K55","v":0},{"$f":"'C - Data availability'!L55","v":0},{"$f":"'C - Data availability'!M55","v":0},{"$f":"'C - Data availability'!N55","v":0}]
["Preferred components provided:",null,{"$f":"'C - Data availability'!J56","v":0},{"$f":"'C - Data availability'!K56","v":0},{"$f":"'C - Data availability'!L56","v":0},{"$f":"'C - Data availability'!M56","v":0},{"$f":"'C - Data availability'!N56","v":0}]
["Matching data requirements",null,{"$f":"'C - Data availability'!J57","v":0},{"$f":"'C - Data availability'!K57","v":0},{"$f":"'C - Data availability'!L57","v":0},{"$f":"'C - Data availability'!M57","v":0},{"$f":"'C - Data availability'!N57","v":0}]
["Approximate level of resources required:",null,{"$f":"'C - Data availability'!J58","v":""}]
["Objective:",null,{"$f":"'C - Data availability'!J61","v":""}]
[]
[]
[]
[]
[]
["Methodology:",null,{"$f":"'C - Data availability'!J63","v":""}]
[]
[]
[]
[]
[]
["Key outputs:",null,{"$f":"'C - Data availability'!J65","v":""}]
[]
[]
[]
[]
[]
["URL:",null,{"$f":"IF(C47=\"\",\"\",INDEX('Multicriteria Decision Analysis'!$H$4:$CN$4,MATCH(2,'Multicriteria Decision Analysis'!$H$118:$CN$118,0)))","v":""}]
[]
[]
[]
["Ranking:",null,{"$f":"'C - Data availability'!H67","v":""}]
["Assessment Name:",null,{"$f":"'C - Data availability'!J68","v":""}]
["Organisation(s) / Author(s): ",null,{"$f":"'C - Data availability'!J69","v":""}]
["Important components provided:",null,{"$f":"'C - Data availability'!J70","v":0},{"$f":"'C - Data availability'!K70","v":0},{"$f":"'C - Data availability'!L70","v":0},{"$f":"'C - Data availability'!M70","v":0},{"$f":"'C - Data availability'!N70","v":0}]
["Preferred components provided:",null,{"$f":"'C - Data availability'!J71","v":0},{"$f":"'C - Data availability'!K71","v":0},{"$f":"'C - Data availability'!L71","v":0},{"$f":"'C - Data availability'!M71","v":0},{"$f":"'C - Data availability'!N71","v":0}]
["Matching data requirements",null,{"$f":"'C - Data availability'!J72","v":0},{"$f":"'C - Data availability'!K72","v":0},{"$f":"'C - Data availability'!L72","v":0},{"$f":"'C - Data availability'!M72","v":0},{"$f":"'C - Data availability'!N72","v":0}]
["Approximate level of resources required:",null,{"$f":"'C - Data availability'!J73","v":""}]
["Objective:",null,{"$f":"'C - Data availability'!J76","v":""}]
[]
[]
[]
[]
[]
["Methodology:",null,{"$f":"'C - Data availability'!J78","v":""}]
[]
[]
[]
[]
[]
["Key outputs:",null,{"$f":"'C - Data availability'!J80","v":""}]
[]
[]
[]
[]
[]
["URL:",null,{"$f":"IF(C76=\"\",\"\",INDEX('Multicriteria Decision Analysis'!$H$4:$CN$4,MATCH(3,'Multicriteria Decision Analysis'!$H$118:$CN$118,0)))","v":""}]
[]
["Other equally ranked methodologies"]
[{"$f":"IF((COUNTA('A - Policy objectives'!$C$7:$C$35)+COUNTA('B - Technical objectives'!$C$7:$C$82)+COUNTA('C - Data availability'!$C$7:$C$21)-COUNTIF('A - Policy objectives'!$C$7:$C$35,\"Non-essential\")-COUNTIF('B - Technical objectives'!$C$7:$C$82,\"Non-essential\")-COUNTIF('C - Data availability'!$C$21,\"Non-essential\"))>3,IF('Multicriteria Decision Analysis'!H121>3,\"Equally ranked methodologies not shown above (in alphabetical order):\",\"\"),\"\")","v":""}]
[{"$f":"'A - Policy objectives'!H85","v":""},{"$f":"IFERROR(IF((COUNTA('A - Policy objectives'!$C$7:$C$35)+COUNTA('B - Technical objectives'!$C$7:$C$82)+COUNTA('C - Data availability'!$C$7:$C$21)-COUNTIF('A - Policy objectives'!$C$7:$C$35,\"Non-essential\")-COUNTIF('B - Technical objectives'!$C$7:$C$82,\"Non-essential\")-COUNTIF('C - Data availability'!$C$21,\"Non-essential\"))>3,INDEX('Multicriteria Decision Analysis'!$H$2:$CN$2,MATCH('A - Policy objectives'!I85,'Multicriteria Decision Analysis'!$H$118:$CN$118,0))),\"\")","v":false}]
[{"$f":"'A - Policy objectives'!H86","v":""},{"$f":"IFERROR(IF((COUNTA('A - Policy objectives'!$C$7:$C$35)+COUNTA('B - Technical objectives'!$C$7:$C$82)+COUNTA('C - Data availability'!$C$7:$C$21)-COUNTIF('A - Policy objectives'!$C$7:$C$35,\"Non-essential\")-COUNTIF('B - Technical objectives'!$C$7:$C$82,\"Non-essential\")-COUNTIF('C - Data availability'!$C$21,\"Non-essential\"))>3,INDEX('Multicriteria Decision Analysis'!$H$2:$CN$2,MATCH('A - Policy objectives'!I86,'Multicriteria Decision Analysis'!$H$118:$CN$118,0))),\"\")","v":false}]
[{"$f":"'A - Policy objectives'!H87","v":""},{"$f":"IFERROR(IF((COUNTA('A - Policy objectives'!$C$7:$C$35)+COUNTA('B - Technical objectives'!$C$7:$C$82)+COUNTA('C - Data availability'!$C$7:$C$21)-COUNTIF('A - Policy objectives'!$C$7:$C$35,\"Non-essential\")-COUNTIF('B - Technical objectives'!$C$7:$C$82,\"Non-essential\")-COUNTIF('C - Data availability'!$C$21,\"Non-essential\"))>3,INDEX('Multicriteria Decision Analysis'!$H$2:$CN$2,MATCH('A - Policy objectives'!I87,'Multicriteria Decision Analysis'!$H$118:$CN$118,0))),\"\")","v":false}]
[{"$f":"'A - Policy objectives'!H88","v":""},{"$f":"IFERROR(IF((COUNTA('A - Policy objectives'!$C$7:$C$35)+COUNTA('B - Technical objectives'!$C$7:$C$82)+COUNTA('C - Data availability'!$C$7:$C$21)-COUNTIF('A - Policy objectives'!$C$7:$C$35,\"Non-essential\")-COUNTIF('B - Technical objectives'!$C$7:$C$82,\"Non-essential\")-COUNTIF('C - Data availability'!$C$21,\"Non-essential\"))>3,INDEX('Multicriteria Decision Analysis'!$H$2:$CN$2,MATCH('A - Policy objectives'!I88,'Multicriteria Decision Analysis'!$H$118:$CN$118,0))),\"\")","v":false}]
[{"$f":"'A - Policy objectives'!H89","v":""},{"$f":"IFERROR(IF((COUNTA('A - Policy objectives'!$C$7:$C$35)+COUNTA('B - Technical objectives'!$C$7:$C$82)+COUNTA('C - Data availability'!$C$7:$C$21)-COUNTIF('A - Policy objectives'!$C$7:$C$35,\"Non-essential\")-COUNTIF('B - Technical objectives'!$C$7:$C$82,\"Non-essential\")-COUNTIF('C - Data availability'!$C$21,\"Non-essential\"))>3,INDEX('Multicriteria Decision Analysis'!$H$2:$CN$2,MATCH('A - Policy objectives'!I89,'Multicriteria Decision Analysis'!$H$118:$CN$118,0))),\"\")","v":false}]
[{"$f":"'A - Policy objectives'!H90","v":""},{"$f":"IFERROR(IF((COUNTA('A - Policy objectives'!$C$7:$C$35)+COUNTA('B - Technical objectives'!$C$7:$C$82)+COUNTA('C - Data availability'!$C$7:$C$21)-COUNTIF('A - Policy objectives'!$C$7:$C$35,\"Non-essential\")-COUNTIF('B - Technical objectives'!$C$7:$C$82,\"Non-essential\")-COUNTIF('C - Data availability'!$C$21,\"Non-essential\"))>3,INDEX('Multicriteria Decision Analysis'!$H$2:$CN$2,MATCH('A - Policy objectives'!I90,'Multicriteria Decision Analysis'!$H$118:$CN$118,0))),\"\")","v":false}]
[{"$f":"'A - Policy objectives'!H91","v":""},{"$f":"IFERROR(IF((COUNTA('A - Policy objectives'!$C$7:$C$35)+COUNTA('B - Technical objectives'!$C$7:$C$82)+COUNTA('C - Data availability'!$C$7:$C$21)-COUNTIF('A - Policy objectives'!$C$7:$C$35,\"Non-essential\")-COUNTIF('B - Technical objectives'!$C$7:$C$82,\"Non-essential\")-COUNTIF('C - Data availability'!$C$21,\"Non-essential\"))>3,INDEX('Multicriteria Decision Analysis'!$H$2:$CN$2,MATCH('A - Policy objectives'!I91,'Multicriteria Decision Analysis'!$H$118:$CN$118,0))),\"\")","v":false}]
[{"$f":"'A - Policy objectives'!H92","v":""},{"$f":"IFERROR(IF((COUNTA('A - Policy objectives'!$C$7:$C$35)+COUNTA('B - Technical objectives'!$C$7:$C$82)+COUNTA('C - Data availability'!$C$7:$C$21)-COUNTIF('A - Policy objectives'!$C$7:$C$35,\"Non-essential\")-COUNTIF('B - Technical objectives'!$C$7:$C$82,\"Non-essential\")-COUNTIF('C - Data availability'!$C$21,\"Non-essential\"))>3,INDEX('Multicriteria Decision Analysis'!$H$2:$CN$2,MATCH('A - Policy objectives'!I92,'Multicriteria Decision Analysis'!$H$118:$CN$118,0))),\"\")","v":false}]
[{"$f":"'A - Policy objectives'!H93","v":""},{"$f":"IFERROR(IF((COUNTA('A - Policy objectives'!$C$7:$C$35)+COUNTA('B - Technical objectives'!$C$7:$C$82)+COUNTA('C - Data availability'!$C$7:$C$21)-COUNTIF('A - Policy objectives'!$C$7:$C$35,\"Non-essential\")-COUNTIF('B - Technical objectives'!$C$7:$C$82,\"Non-essential\")-COUNTIF('C - Data availability'!$C$21,\"Non-essential\"))>3,INDEX('Multicriteria Decision Analysis'!$H$2:$CN$2,MATCH('A - Policy objectives'!I93,'Multicriteria Decision Analysis'!$H$118:$CN$118,0))),\"\")","v":false}]
[{"$f":"'A - Policy objectives'!H94","v":""},{"$f":"IFERROR(IF((COUNTA('A - Policy objectives'!$C$7:$C$35)+COUNTA('B - Technical objectives'!$C$7:$C$82)+COUNTA('C - Data availability'!$C$7:$C$21)-COUNTIF('A - Policy objectives'!$C$7:$C$35,\"Non-essential\")-COUNTIF('B - Technical objectives'!$C$7:$C$82,\"Non-essential\")-COUNTIF('C - Data availability'!$C$21,\"Non-essential\"))>3,INDEX('Multicriteria Decision Analysis'!$H$2:$CN$2,MATCH('A - Policy objectives'!I94,'Multicriteria Decision Analysis'!$H$118:$CN$118,0))),\"\")","v":false}]
[{"$f":"'A - Policy objectives'!H95","v":""},{"$f":"IFERROR(IF((COUNTA('A - Policy objectives'!$C$7:$C$35)+COUNTA('B - Technical objectives'!$C$7:$C$82)+COUNTA('C - Data availability'!$C$7:$C$21)-COUNTIF('A - Policy objectives'!$C$7:$C$35,\"Non-essential\")-COUNTIF('B - Technical objectives'!$C$7:$C$82,\"Non-essential\")-COUNTIF('C - Data availability'!$C$21,\"Non-essential\"))>3,INDEX('Multicriteria Decision Analysis'!$H$2:$CN$2,MATCH('A - Policy objectives'!I95,'Multicriteria Decision Analysis'!$H$118:$CN$118,0))),\"\")","v":false}]
[{"$f":"'A - Policy objectives'!H96","v":""},{"$f":"IFERROR(IF((COUNTA('A - Policy objectives'!$C$7:$C$35)+COUNTA('B - Technical objectives'!$C$7:$C$82)+COUNTA('C - Data availability'!$C$7:$C$21)-COUNTIF('A - Policy objectives'!$C$7:$C$35,\"Non-essential\")-COUNTIF('B - Technical objectives'!$C$7:$C$82,\"Non-essential\")-COUNTIF('C - Data availability'!$C$21,\"Non-essential\"))>3,INDEX('Multicriteria Decision Analysis'!$H$2:$CN$2,MATCH('A - Policy objectives'!I96,'Multicriteria Decision Analysis'!$H$118:$CN$118,0))),\"\")","v":false}]
[{"$f":"'A - Policy objectives'!H97","v":""},{"$f":"IFERROR(IF((COUNTA('A - Policy objectives'!$C$7:$C$35)+COUNTA('B - Technical objectives'!$C$7:$C$82)+COUNTA('C - Data availability'!$C$7:$C$21)-COUNTIF('A - Policy objectives'!$C$7:$C$35,\"Non-essential\")-COUNTIF('B - Technical objectives'!$C$7:$C$82,\"Non-essential\")-COUNTIF('C - Data availability'!$C$21,\"Non-essential\"))>3,INDEX('Multicriteria Decision Analysis'!$H$2:$CN$2,MATCH('A - Policy objectives'!I97,'Multicriteria Decision Analysis'!$H$118:$CN$118,0))),\"\")","v":false}]
[{"$f":"'A - Policy objectives'!H98","v":""},{"$f":"IFERROR(IF((COUNTA('A - Policy objectives'!$C$7:$C$35)+COUNTA('B - Technical objectives'!$C$7:$C$82)+COUNTA('C - Data availability'!$C$7:$C$21)-COUNTIF('A - Policy objectives'!$C$7:$C$35,\"Non-essential\")-COUNTIF('B - Technical objectives'!$C$7:$C$82,\"Non-essential\")-COUNTIF('C - Data availability'!$C$21,\"Non-essential\"))>3,INDEX('Multicriteria Decision Analysis'!$H$2:$CN$2,MATCH('A - Policy objectives'!I98,'Multicriteria Decision Analysis'!$H$118:$CN$118,0))),\"\")","v":false}]
[{"$f":"'A - Policy objectives'!H99","v":""},{"$f":"IFERROR(IF((COUNTA('A - Policy objectives'!$C$7:$C$35)+COUNTA('B - Technical objectives'!$C$7:$C$82)+COUNTA('C - Data availability'!$C$7:$C$21)-COUNTIF('A - Policy objectives'!$C$7:$C$35,\"Non-essential\")-COUNTIF('B - Technical objectives'!$C$7:$C$82,\"Non-essential\")-COUNTIF('C - Data availability'!$C$21,\"Non-essential\"))>3,INDEX('Multicriteria Decision Analysis'!$H$2:$CN$2,MATCH('A - Policy objectives'!I99,'Multicriteria Decision Analysis'!$H$118:$CN$118,0))),\"\")","v":false}]
[{"$f":"'A - Policy objectives'!H100","v":""},{"$f":"IFERROR(IF((COUNTA('A - Policy objectives'!$C$7:$C$35)+COUNTA('B - Technical objectives'!$C$7:$C$82)+COUNTA('C - Data availability'!$C$7:$C$21)-COUNTIF('A - Policy objectives'!$C$7:$C$35,\"Non-essential\")-COUNTIF('B - Technical objectives'!$C$7:$C$82,\"Non-essential\")-COUNTIF('C - Data availability'!$C$21,\"Non-essential\"))>3,INDEX('Multicriteria Decision Analysis'!$H$2:$CN$2,MATCH('A - Policy objectives'!I100,'Multicriteria Decision Analysis'!$H$118:$CN$118,0))),\"\")","v":false}]
[{"$f":"'A - Policy objectives'!H101","v":""},{"$f":"IFERROR(IF((COUNTA('A - Policy objectives'!$C$7:$C$35)+COUNTA('B - Technical objectives'!$C$7:$C$82)+COUNTA('C - Data availability'!$C$7:$C$21)-COUNTIF('A - Policy objectives'!$C$7:$C$35,\"Non-essential\")-COUNTIF('B - Technical objectives'!$C$7:$C$82,\"Non-essential\")-COUNTIF('C - Data availability'!$C$21,\"Non-essential\"))>3,INDEX('Multicriteria Decision Analysis'!$H$2:$CN$2,MATCH('A - Policy objectives'!I101,'Multicriteria Decision Analysis'!$H$118:$CN$118,0))),\"\")","v":false}]
[{"$f":"'A - Policy objectives'!H102","v":""},{"$f":"IFERROR(IF((COUNTA('A - Policy objectives'!$C$7:$C$35)+COUNTA('B - Technical objectives'!$C$7:$C$82)+COUNTA('C - Data availability'!$C$7:$C$21)-COUNTIF('A - Policy objectives'!$C$7:$C$35,\"Non-essential\")-COUNTIF('B - Technical objectives'!$C$7:$C$82,\"Non-essential\")-COUNTIF('C - Data availability'!$C$21,\"Non-essential\"))>3,INDEX('Multicriteria Decision Analysis'!$H$2:$CN$2,MATCH('A - Policy objectives'!I102,'Multicriteria Decision Analysis'!$H$118:$CN$118,0))),\"\")","v":false}]
[{"$f":"'A - Policy objectives'!H103","v":""},{"$f":"IFERROR(IF((COUNTA('A - Policy objectives'!$C$7:$C$35)+COUNTA('B - Technical objectives'!$C$7:$C$82)+COUNTA('C - Data availability'!$C$7:$C$21)-COUNTIF('A - Policy objectives'!$C$7:$C$35,\"Non-essential\")-COUNTIF('B - Technical objectives'!$C$7:$C$82,\"Non-essential\")-COUNTIF('C - Data availability'!$C$21,\"Non-essential\"))>3,INDEX('Multicriteria Decision Analysis'!$H$2:$CN$2,MATCH('A - Policy objectives'!I103,'Multicriteria Decision Analysis'!$H$118:$CN$118,0))),\"\")","v":false}]
[{"$f":"'A - Policy objectives'!H104","v":""},{"$f":"IFERROR(IF((COUNTA('A - Policy objectives'!$C$7:$C$35)+COUNTA('B - Technical objectives'!$C$7:$C$82)+COUNTA('C - Data availability'!$C$7:$C$21)-COUNTIF('A - Policy objectives'!$C$7:$C$35,\"Non-essential\")-COUNTIF('B - Technical objectives'!$C$7:$C$82,\"Non-essential\")-COUNTIF('C - Data availability'!$C$21,\"Non-essential\"))>3,INDEX('Multicriteria Decision Analysis'!$H$2:$CN$2,MATCH('A - Policy objectives'!I104,'Multicriteria Decision Analysis'!$H$118:$CN$118,0))),\"\")","v":false}]
[{"$f":"'A - Policy objectives'!H105","v":""},{"$f":"IFERROR(IF((COUNTA('A - Policy objectives'!$C$7:$C$35)+COUNTA('B - Technical objectives'!$C$7:$C$82)+COUNTA('C - Data availability'!$C$7:$C$21)-COUNTIF('A - Policy objectives'!$C$7:$C$35,\"Non-essential\")-COUNTIF('B - Technical objectives'!$C$7:$C$82,\"Non-essential\")-COUNTIF('C - Data availability'!$C$21,\"Non-essential\"))>3,INDEX('Multicriteria Decision Analysis'!$H$2:$CN$2,MATCH('A - Policy objectives'!I105,'Multicriteria Decision Analysis'!$H$118:$CN$118,0))),\"\")","v":false}]
[]
["Radar Diagram"]
[]
[]
[]
[]
[]
[]
[]
[]
[]
[]
[]
[]
[]
[]
[]
[]
[]
[]
[]
[]
[]
[]
[]
[]
[]
[]
[null,{"$f":"'Help text'!B9","v":"The radar diagram displays a simplistic comparison of the top 3 ranked methodologies against the user specified policy objectives, technical objectives and data requirements. Each axis is scored out of 100% whereby a value of 100 represents a methodology that satisfies all of the user’s objectives for that part. Although the importance specified by the user (e.g. essential, important or preferred) when answering a question is incorporated into the assessment suitability scoring, no weighting is taken into account in this radar diagram."}]

{"sheet":"Help text","index":10,"n_rows":19,"n_cols":2,"rows_kept":19,"cut":false,"hidden":true,"merged":[]}
["Help Icon (i) text"]
["Approach suitability"]
["Approach suitability results show how the four broad methodological approaches are suited based on a user’s overall objectives, policies and generalized resources (Part A objectives)."]
[]
["Suggested methodologies "]
["Assessment of a methodologies suitability is based on the scoring criteria only. No indication is given to the methodologies scientific rigour, accuracy of results or track record. As such, the results presented here should be used as a guide only. Furthermore, although the level of resources and data requirements are included in the scoring criteria, it should be acknowledged that the quality of the results will likely reflect the level of resources allocated and primary data collection is encouraged."]
[]
["Comparison"]
["Preliminary results based on the questions answered so far can be viewed at any stage after completing Part A. Please complete all questions that are relevant to your objectives in Part A, B and C to obtain the final results.","The radar diagram displays a simplistic comparison of the top 3 ranked methodologies against the user specified policy objectives, technical objectives and data requirements. Each axis is scored out of 100% whereby a value of 100 represents a methodology that satisfies all of the user’s objectives for that part. Although the importance specified by the user (e.g. essential, important or preferred) when answering a question is incorporated into the assessment suitability scoring, no weighting is taken into account in this radar diagram."]
[]
["Part A-C button text"]
["Part A button"]
["Part A questions aim to understand a user’s policy related objectives such as the need for conducting a plastic pollution assessment methodology, the scope of this, and the resources available. It is recommended this is completed by a high-level user with strategic oversight."]
[]
["Part B button"]
["Part B questions aim to understand the technical requirements of the user related to the format of the outputs required. It is recommended this is completed by a technical user who understands plastic pollution assessment methodology terminology."]
[]
["Part C button"]
["Part C questions aim to understand the data available (or willing to collect) by a user in implementing the plastic pollution assessment methodology. It is recommended this is completed by a technical user who has oversight of data availability and common data collection procedures."]

{"sheet":"Assets","index":11,"n_rows":96,"n_cols":26,"rows_kept":96,"cut":false,"hidden":true,"merged":[]}
[null,null,null,null,null,null,null,null,null,null,null,null,null,null,null,null,"Screen dimensions",null,3440,"x",1440]
[null,null,null,null,null,null,null,null,null,null,null,null,null,null,null,null,"Design dimensions:",null,1900,"x",1030]
[null,null,null,null,null,null,null,null,null,null,null,null,null,null,null,null,"Points per pixel:","X:",0.75,"Y:",0.75,null,null,"Links:"]
[null,null,null,null,null,null,null,null,null,null,null,null,null,null,null,null,"Item","Left","Width","Top","Height","Text base","Top px","Name","Link","Height pts"]
[null,null,null,null,null,null,null,null,null,null,null,null,null,null,null,null,"Frame borders",null,{"$f":"S6-S7","v":16},null,{"$f":"U6-U7","v":39},null,null,"WB URL","https://www.worldbank.org"]
[null,null,null,null,null,null,null,null,null,null,null,null,null,null,null,null,"Application",null,1916,null,1069,null,null,"WB Email","pubrights@worldbank.org"]
[null,null,null,null,null,null,null,null,null,null,null,null,null,null,null,null,"Viewport",null,1900,null,1030,null,null,"FAQ","http://documents.worldbank.org/curated/en/099070224004525413/P1772251c961d607619cf31ec2652393601"]
[null,null,null,null,null,null,null,null,null,null,null,null,null,null,null,null,"Font sizer label",null,400,null,null,null,null,"Support","c.velis@leeds.ac.uk"]
[null,null,null,null,null,null,null,null,null,null,null,null,null,null,null,null,"Left text margin",54,null,null,null,null,null,"User manual","http://documents.worldbank.org/curated/en/099070224004539876/P1772251b2c9c905a18b4d10312e943ac9d"]
[null,null,null,null,null,null,null,null,null,null,null,null,null,null,null,null,"Left asset margin",40,null,null,{"$f":"IF(ISBLANK(T10),\"\",T10*$T$3*$T$8)","v":""},null,null,"Video","https://www.worldbank.org/en/news/video/2024/06/27/plastic-pollution-assessment-methodologies-suitability-toolkit-plast-user-training-video",{"$f":"IF(ISBLANK(Y10),\"\",Y10*$V$3*$Y$8)","v":{"$error":"#VALUE!"}}]
[null,null,null,null,null,null,null,null,null,null,null,null,null,null,null,null,"Part buttons",{"$f":"R10","v":40},1157,20]
[null,null,null,null,null,null,null,null,null,null,null,null,null,null,null,null,"Part button spacing",20,372]
[null,null,null,null,null,null,null,null,null,null,null,null,null,null,null,null,"QUESTIONS"]
[null,null,null,null,null,null,null,null,null,null,null,null,null,null,null,null,"qSet button 1",{"$f":"R10","v":40},220,115,92]
[null,null,null,null,null,null,null,null,null,null,null,null,null,null,null,null,"qSet button spacing",10,140,null,155]
[null,null,null,null,null,null,null,null,null,null,null,null,null,null,null,null,"Q set title",55,800,260,70]
[null,null,null,null,null,null,null,null,null,null,null,null,null,null,null,null,"Q text top row",null,null,340,32]
[null,null,null,null,null,null,null,null,null,null,null,null,null,null,null,null,"Q text row spacing",null,null,38,42]
[null,null,null,null,null,null,null,null,null,null,null,null,null,null,null,null,"Top choice button set",365,130,340,30]
[null,null,null,null,null,null,null,null,null,null,null,null,null,null,null,null,"Choices spacing",null,10,null,42]
[null,null,null,null,null,null,null,null,null,null,null,null,null,null,null,null,"Choice bar 2 choices",645,267]
[null,null,null,null,null,null,null,null,null,null,null,null,null,null,null,null,"Choice bar 3 choices",505,407]
[null,null,null,null,null,null,null,null,null,null,null,null,null,null,null,null,"Choice bar 4 choices",365,547]
[null,null,null,null,null,null,null,null,null,null,null,null,null,null,null,null,"Overall resources bar",505,407]
[null,null,null,null,null,null,null,null,null,null,null,null,null,null,null,null,"Essential warning",null,null,970]
[null,null,null,null,null,null,null,null,null,null,null,null,null,null,null,null,"Infor box"]
[null,null,null,null,null,null,null,null,null,null,null,null,null,null,null,null,"RESULTS"]
[null,null,null,null,null,null,null,null,null,null,null,null,null,null,null,null,"suitability bar",1325,530,310,30]
[null,null,null,null,null,null,null,null,null,null,null,null,null,null,null,null,"suitability spacing",null,null,44]
[null,null,null,null,null,null,null,null,null,null,null,null,null,null,null,null,"suitability max width",null,284]
[null,null,null,null,null,null,null,null,null,null,null,null,null,null,null,null,"Ranking box",990,864,620,null,null,600]
[null,null,null,null,null,null,null,null,null,null,null,null,null,null,null,null,"Result # text",1082,60,657,null,657,637]
[null,null,null,null,null,null,null,null,null,null,null,null,null,null,null,null,"Ranking # text",1380,35,657,null,657,638]
[null,null,null,null,null,null,null,null,null,null,null,null,null,null,null,null,"Compare button",1578,130,635,null,null,615]
[null,null,null,null,null,null,null,null,null,null,null,null,null,null,null,null,"Methodology name",990,865,710,35]
[null,null,null,null,null,null,null,null,null,null,null,null,null,null,null,null,"Release year",1130,100,750,35]
[null,null,null,null,null,null,null,null,null,null,null,null,null,null,null,null,"Authors",990,495,820,35]
[null,null,null,null,null,null,null,null,null,null,null,null,null,null,null,null,"Important stars",1290,150,860]
[null,null,null,null,null,null,null,null,null,null,null,null,null,null,null,null,"Prefferred stars",1290,160,910]
[null,null,null,null,null,null,null,null,null,null,null,null,null,null,null,null,"Data match stars",{"$f":"R38","v":1290},170,960]
[null,null,null,null,null,null,null,null,null,null,null,null,null,null,null,null,"OMKC box",1505,350,760,230]
[null,null,null,null,null,null,null,null,null,null,null,null,null,null,null,null,"OMKC text",1510,320,786,202]
[null,null,null,null,null,null,null,null,null,null,null,null,null,null,null,null,"FAQ",1248,40,20,40]
[null,null,null,null,null,null,null,null,null,null,null,null,null,null,null,null,"SPLASH SCREEN"]
[null,null,null,null,null,null,null,null,null,null,null,null,null,null,null,null,"Start button",1522,200,440,50]
[null,null,null,null,null,null,null,null,null,null,null,null,null,null,null,null,"DNA logo",1070,140,770,70]
[null,null,null,null,null,null,null,null,null,null,null,null,null,null,null,null,"Funded logo",190,188,765]
[null,null,null,null,null,null,null,null,null,null,null,null,null,null,null,null,"ABOUT SCREEN"]
[null,null,null,null,null,null,null,null,null,null,null,null,null,null,null,null,"Manual link",1095,100,433,24]
[null,null,null,null,null,null,null,null,null,null,null,null,null,null,null,null,"Video link",995,390,558,216]
[null,null,null,null,null,null,null,null,null,null,null,null,null,null,null,null,"Read more"]
[null,null,null,null,null,null,null,null,null,null,null,null,null,null,null,null,"Reset",1338,40,20,40]
[null,null,null,null,null,null,null,null,null,null,null,null,"dataBg",null,null,null,"Support link",285,120,886,20]
[null,null,null,null,null,null,null,null,null,null,null,null,null,null,null,null,"Next",1720,130,915,40]
[null,null,null,null,null,null,null,null,null,null,null,null,null,null,null,null,"To questions",1688,130,1003,30]
[null,null,null,null,null,null,null,null,null,null,null,null,null,null,null,null,"Confirm button",990,24,830]
[null,null,null,null,null,null,null,null,null,null,null,null,null,null,null,null,"OMKC text offset",null,{"$f":"IF(ISBLANK(R57),\"\",R57*$T$3*$T$8)","v":""},null,{"$f":"IF(ISBLANK(T57),\"\",T57*$T$3*$T$8)","v":""},4]
[null,null,null,null,null,null,null,null,null,null,null,null,null,null,null,null,"OMKC button O",1505,{"$f":"(R59-R58)-10","v":80},760,25]
[null,null,null,null,null,null,null,null,null,null,null,null,null,null,null,null,"OMKC button M",1595,{"$f":"(R60-R59)-10","v":85}]
[null,null,null,null,null,null,null,null,null,null,null,null,null,null,null,null,"OMKC button K",1690,{"$f":"(R61-R60)-10","v":85}]
[null,null,null,null,null,null,null,null,null,null,null,null,null,null,null,null,"OMKC button C",1785,60]
[null,null,null,null,null,null,null,null,null,null,null,null,null,null,null,null,"View All button",1560,250,510,35,null,null,{"$f":"IF(ISBLANK(W62),\"\",W62*$V$3*$Y$8)","v":""},null,{"$f":"IF(ISBLANK(Y62),\"\",Y62*$V$3*$Y$8)","v":""}]
[null,null,null,null,null,null,null,null,null,null,null,null,null,null,null,null,"Prev result button",1000,30,610,20,null,620,{"$error":"#VALUE!"},null,""]
[null,null,null,null,null,null,null,null,null,null,null,null,null,null,null,null,"Next result button",1143,30,610,20,null,620,{"$error":"#VALUE!"},null,""]
[null,null,null,null,null,null,null,null,null,null,null,null,null,null,null,null,null,null,null,null,null,null,null,"",null,""]
[null,null,null,null,null,null,null,null,null,null,null,null,null,null,null,null,"Browse button",1740,130,10,50,null,null,"",null,""]
[null,null,null,null,null,null,null,null,null,null,null,null,null,null,null,null,"Browse scrollbar",60,null,210,64,null,null,"",null,""]
[null,null,null,null,null,null,null,null,null,null,null,null,null,null,null,null,"Browse previous",90,20,225,null,null,null,"",null,""]
[null,null,null,null,null,null,null,null,null,null,null,null,null,null,null,null,"Browse next",1800,20,225,null,null,null,"",null,""]
[null,null,null,null,null,null,null,null,null,null,null,null,null,null,null,null,"Browse title",60,1500,105,36,null,null,"",null,""]
[null,null,null,null,null,null,null,null,null,null,null,null,null,null,null,null,"Browse year label",60,300,320,null,null,null,"",null,""]
[null,null,null,null,null,null,null,null,null,null,null,null,null,null,null,null,"Browse org label",60,300,380,null,null,null,"",null,""]
[null,null,null,null,null,null,null,null,null,null,null,null,null,null,null,null,"Browse label spacing",null,null,null,100,null,null,"",null,""]
["Part Buttons",null,null,null,null,null,null,null,null,null,null,null,null,null,null,null,null,null,null,null,null,null,null,"",null,""]
[null,null,null,null,null,null,null,null,null,null,null,null,null,null,null,null,"Qinfo",884,25,264,25,null,null,"",null,""]
[null,null,null,null,null,null,null,null,null,null,null,null,null,null,null,null,"Approach info",1829,25,264,25,null,null,"",null,""]
[null,null,null,null,null,null,null,null,null,null,null,null,null,null,null,null,"Suggestions info",1829,25,515,25]
[null,null,null,null,null,null,null,null,null,null,null,null,null,null,null,null,"Total matches text",990,864,560,45]
[null,null,null,null,null,null,null,null,null,null,null,null,null,null,null,null,"Resources box",40,870]
[null,null,null,null,null,null,null,null,null,null,null,null,null,null,null,null,"Resources text",54,840]
[null,null,null,null,null,null,null,null,null,null,null,null,null,null,null,null,"Essential warning",54,856]
[null,null,null,null,null,null,null,null,null,null,null,null,null,null,null,null,"Explanatory text box",40,870,815,160]
[null,null,null,null,null,null,null,null,null,null,null,null,null,null,null,null,"Explanatory text",85,820,840,140]
[null,null,null,null,null,null,null,null,null,null,null,null,null,null,null,null,"Disclaimer URL",132,260,395,24]
[null,null,null,null,null,null,null,null,null,null,null,null,null,null,null,null,"Disclaimer pubrights",1060,240,490,24]
[null,null,null,null,null,null,null,null,null,null,null,null,null,null,null,null,"Disclaimer OK label",1490,null,932]
[]
[null,null,null,null,null,null,null,null,null,null,null,null,null,null,null,null,"OK button",null,{"$f":"130*3/4","v":97.5},null,30]
[null,null,null,null,null,null,null,null,null,null,null,null,null,null,null,null,"FAQ browser",0,null,176]
[null,null,null,null,null,null,null,null,null,null,null,null,null,null,null,null,"Disclaimer email",140,220,780,24]
[]
[null,null,null,null,null,null,null,null,null,null,null,null,null,null,null,null,"OMKC scroller"]
["Set buttons",null,null,null,null,null,null,null,null,null,null,null,null,null,null,null,"OMKC scroll top"]
["A1 buttons",null,null,null,null,null,null,null,null,null,null,null,null,null,null,null,"OMKC scroll up"]
[null,null,null,null,null,null,null,null,null,null,null,null,null,null,null,null,"OMKC scroll down"]
[null,null,null,null,null,null,null,null,null,null,null,null,null,null,null,null,"OMKC scroll bottom"]

{"sheet":"Styles","index":12,"n_rows":19,"n_cols":5,"rows_kept":19,"cut":false,"hidden":true,"merged":[]}
[null,"Name","Size (pts)","Weight"]
["Base font","Arial",13]
[]
["Standard",null,{"$f":"C2","v":13},400]
["Heading",null,{"$f":"C2+1","v":14},600]
["Small text",null,{"$f":"C2-2","v":11},400]
["Popup text",null,10,400]
["Disclaimer text"]
["OMKC text",null,8,400]
["Explanatory text",null,{"$f":"C7-1.5","v":8.5},400]
[]
[]
[]
[]
[]
[null,"Red","Green","Blue"]
["Popup border color",255,255,255,"white"]
["Popup background color",1,47,83,"navy"]
["Popup text color",255,255,255,"white"]

{"sheet":"AppSettings","index":13,"n_rows":15,"n_cols":3,"rows_kept":15,"cut":false,"hidden":true,"merged":[]}
["Selected Part (A, B, or C)","A"]
["Selected Part A question set",1]
["Selected Part B question set",1]
["Selected Part C question set",1]
["Part A highest visited question set",1]
["Part B highest visited question set",1]
["Part C highest visited question set",1,{"$f":"SUM(B5:B7)","v":3}]
[]
[]
[]
[]
[]
["Results message, paragraph1","You can now review preliminary results by clicking the Compare (PDF) button. Please complete all questions that are relevant to your objectives in Part A, B and C to obtain the final results."]
[]
["Not all question sets visited message","Please note, you have not assessed all the available questions and therefore the results shown here may be incomplete. We recommend you consider all questions in Part A, B and C to obtain the final results."]

{"sheet":"Temp","index":14,"n_rows":0,"n_cols":0,"rows_kept":0,"cut":false,"hidden":true,"merged":[]}